Report for POE-1.367

Back
From: metabase:user:838e5b0a-2bb6-1016-a696-43a2537fa0c6
Subject: PASS POE-1.367 v5.22.0 Windows (Cygwin)
Date: 2015-08-18T03:49:01Z

This distribution has been tested as part of the CPAN Testers
project, supporting the Perl programming language.  See
http://wiki.cpantesters.org/ for more information or email
questions to cpan-testers-discuss@perl.org


--
Dear Rocco Caputo,

This is a computer-generated report for POE-1.367
on perl 5.22.0, created by CPAN-Reporter-1.2014.

Thank you for uploading your work to CPAN.  Congratulations!
All tests were successful.

Sections of this report:

    * Tester comments
    * Program output
    * Prerequisites
    * Environment and other context

------------------------------
TESTER COMMENTS
------------------------------

Additional comments from tester:

none provided

------------------------------
PROGRAM OUTPUT
------------------------------

Output from '/usr/bin/make test':

"/usr/bin/perl.exe" mylib/gen-tests.perl lib/POE.pm
PERL_DL_NONLAZY=1 "/usr/bin/perl.exe" "-MExtUtils::Command::MM" "-MTest::Harness" "-e" "undef *Test::Harness::Switches; test_harness(0, 'blib/lib', 'blib/arch')" t/*.t t/*/*.t t/*/*/*.t
# Testing POE 1.367, POE::Test::Loops 1.360, Perl 5.022000, /usr/bin/perl on cygwin
# pogomips: 34985298
t/00_info.t ........................................ ok
t/10_units/01_pod/01_pod.t ......................... skipped: enable by setting RELEASE_TESTING
t/10_units/01_pod/02_pod_coverage.t ................ skipped: enable by setting RELEASE_TESTING
t/10_units/01_pod/03_pod_no404s.t .................. skipped: enable by setting RELEASE_TESTING
t/10_units/01_pod/04_pod_linkcheck.t ............... skipped: enable by setting RELEASE_TESTING
t/10_units/02_pipes/01_base.t ...................... skipped: not implemented yet
t/10_units/02_pipes/02_oneway.t .................... ok
t/10_units/02_pipes/03_twoway.t .................... ok
t/10_units/03_base/01_poe.t ........................ ok
t/10_units/03_base/03_component.t .................. ok
t/10_units/03_base/04_driver.t ..................... ok
t/10_units/03_base/05_filter.t ..................... ok
t/10_units/03_base/06_loop.t ....................... ok
t/10_units/03_base/07_queue.t ...................... ok
t/10_units/03_base/08_resource.t ................... ok
t/10_units/03_base/09_resources.t .................. ok
t/10_units/03_base/10_wheel.t ...................... ok
t/10_units/03_base/11_assert_usage.t ............... ok
t/10_units/03_base/12_assert_retval.t .............. ok
t/10_units/03_base/13_assert_data.t ................ ok
t/10_units/03_base/14_kernel.t ..................... ok
t/10_units/03_base/15_kernel_internal.t ............ ok
t/10_units/03_base/16_nfa_usage.t .................. ok
t/10_units/03_base/17_detach_start.t ............... ok
t/10_units/04_drivers/01_sysrw.t ................... ok
t/10_units/05_filters/01_block.t ................... ok
t/10_units/05_filters/02_grep.t .................... ok
Downgrading wide characters in HTTP header. Consider installing Email::MIME::RFC2047::Encoder at /home/Davidlou/.cpan/build/POE-1.367-nqT_WU/blib/lib/POE/Filter/HTTPD.pm line 73.
	POE::Filter::HTTPD::__ANON__("En \x{e9}t\x{e9}") called at /home/Davidlou/.cpan/build/POE-1.367-nqT_WU/blib/lib/POE/Filter/HTTPD.pm line 449
	POE::Filter::HTTPD::headers_as_strings(POE::Filter::HTTPD=ARRAY(0x6007239a0), HTTP::Headers=HASH(0x600721af0), "\x{d}\x{a}") called at /home/Davidlou/.cpan/build/POE-1.367-nqT_WU/blib/lib/POE/Filter/HTTPD.pm line 411
	POE::Filter::HTTPD::put(POE::Filter::HTTPD=ARRAY(0x6007239a0), ARRAY(0x600723d00)) called at t/10_units/05_filters/03_http.t line 426
t/10_units/05_filters/03_http.t .................... ok
t/10_units/05_filters/04_line.t .................... ok
t/10_units/05_filters/05_map.t ..................... ok
t/10_units/05_filters/06_recordblock.t ............. ok
t/10_units/05_filters/07_reference.t ............... ok
t/10_units/05_filters/08_stream.t .................. ok
t/10_units/05_filters/50_stackable.t ............... ok
t/10_units/05_filters/51_reference_die.t ........... ok
t/10_units/05_filters/99_filterchange.t ............ ok
t/10_units/06_queues/01_array.t .................... ok
t/10_units/07_exceptions/01_normal.t ............... ok
t/10_units/07_exceptions/02_turn_off.t ............. ok
t/10_units/07_exceptions/03_not_handled.t .......... ok
t/10_units/08_loops/01_explicit_loop.t ............. ok
t/10_units/08_loops/02_explicit_loop_fail.t ........ ok
t/10_units/08_loops/03_explicit_loop_poll.t ........ ok
t/10_units/08_loops/04_explicit_loop_envvar.t ...... ok
t/10_units/08_loops/05_kernel_loop.t ............... ok
t/10_units/08_loops/06_kernel_loop_poll.t .......... ok
t/10_units/08_loops/07_kernel_loop_fail.t .......... ok
t/10_units/08_loops/08_kernel_loop_search_poll.t ... ok
t/10_units/08_loops/09_naive_loop_load.t ........... ok
t/10_units/08_loops/10_naive_loop_load_poll.t ...... ok
t/10_units/08_loops/11_double_loop.t ............... ok
t/20_resources/10_perl/aliases.t ................... ok
t/20_resources/10_perl/caller_state.t .............. ok
t/20_resources/10_perl/events.t .................... ok
t/20_resources/10_perl/extrefs.t ................... ok
t/20_resources/10_perl/extrefs_gc.t ................ ok
t/20_resources/10_perl/filehandles.t ............... ok
t/20_resources/10_perl/sessions.t .................. ok
t/20_resources/10_perl/sids.t ...................... ok
t/20_resources/10_perl/signals.t ................... ok
# Testing POE 1.367, POE::Test::Loops 1.360, Using Loop(POE::Loop::IO_Poll), Perl 5.022000, /usr/bin/perl on cygwin
t/30_loops/io_poll/00_info.t ....................... ok
t/30_loops/io_poll/all_errors.t .................... skipped: most of these should move into other test files
t/30_loops/io_poll/comp_tcp.t ...................... ok
# You might see a 'disconnect' error during this test.
# It may be ignored.
t/30_loops/io_poll/comp_tcp_concurrent.t ........... ok
t/30_loops/io_poll/connect_errors.t ................ ok
t/30_loops/io_poll/k_alarms.t ...................... ok
t/30_loops/io_poll/k_aliases.t ..................... ok
t/30_loops/io_poll/k_detach.t ...................... ok
t/30_loops/io_poll/k_run_returns.t ................. ok
t/30_loops/io_poll/k_selects.t ..................... ok
t/30_loops/io_poll/k_sig_child.t ................... ok
t/30_loops/io_poll/k_signals.t ..................... ok
t/30_loops/io_poll/k_signals_rerun.t ............... ok
t/30_loops/io_poll/sbk_signal_init.t ............... ok
t/30_loops/io_poll/ses_nfa.t ....................... ok
# This test generates some STDERR during trace testing.
=== 280080 === 23 -> _start (from /home/Davidlou/.cpan/build/POE-1.367-nqT_WU/blib/lib/POE/Kernel.pm at 1497)
=== 280080 === 23 -> woot (from /home/Davidlou/perl5/lib/perl5/POE/Test/Loops/ses_session.pm at 691)
=== 280080 === 23 -> narf (from /home/Davidlou/perl5/lib/perl5/POE/Test/Loops/ses_session.pm at 692)
=== 280080 === 23 -> _stop (from /home/Davidlou/.cpan/build/POE-1.367-nqT_WU/blib/lib/POE/Resource/Sessions.pm at 571)
t/30_loops/io_poll/ses_session.t ................... ok
t/30_loops/io_poll/wheel_accept.t .................. ok
t/30_loops/io_poll/wheel_curses.t .................. skipped: IO::Pty not available
t/30_loops/io_poll/wheel_readline.t ................ skipped: This test requires Term::ReadKey
t/30_loops/io_poll/wheel_readwrite.t ............... ok
t/30_loops/io_poll/wheel_run.t ..................... ok
t/30_loops/io_poll/wheel_run_size.t ................ skipped: This test requires Term::Size
t/30_loops/io_poll/wheel_sf_ipv6.t ................. skipped: Socket::GetAddrInfo is needed for IPv6 tests
t/30_loops/io_poll/wheel_sf_tcp.t .................. ok
t/30_loops/io_poll/wheel_sf_udp.t .................. ok
t/30_loops/io_poll/wheel_sf_unix.t ................. skipped: UNIX sockets on cygwin always block
t/30_loops/io_poll/wheel_tail.t .................... ok
t/30_loops/io_poll/z_kogman_sig_order.t ............ ok
t/30_loops/io_poll/z_leolo_wheel_run.t ............. ok
# Using '/bin/true' as our thing to run under system()
t/30_loops/io_poll/z_merijn_sigchld_system.t ....... ok
t/30_loops/io_poll/z_rt39872_sigchld.t ............. ok
# Parent 279852 waiting 3sec for slow systems to settle.
# sending sigusr1
# sent sigusr1
t/30_loops/io_poll/z_rt39872_sigchld_stop.t ........ ok
t/30_loops/io_poll/z_rt53302_fh_watchers.t ......... ok
t/30_loops/io_poll/z_rt54319_bazerka_followtail.t .. ok
t/30_loops/io_poll/z_steinert_signal_integrity.t ... ok
# Testing POE 1.367, POE::Test::Loops 1.360, Using Loop(POE::Loop::Select), Perl 5.022000, /usr/bin/perl on cygwin
t/30_loops/select/00_info.t ........................ ok
t/30_loops/select/all_errors.t ..................... skipped: most of these should move into other test files
t/30_loops/select/comp_tcp.t ....................... ok
# You might see a 'disconnect' error during this test.
# It may be ignored.
t/30_loops/select/comp_tcp_concurrent.t ............ ok
t/30_loops/select/connect_errors.t ................. ok
t/30_loops/select/k_alarms.t ....................... ok
t/30_loops/select/k_aliases.t ...................... ok
t/30_loops/select/k_detach.t ....................... ok
t/30_loops/select/k_run_returns.t .................. ok
t/30_loops/select/k_selects.t ...................... ok
t/30_loops/select/k_sig_child.t .................... ok
t/30_loops/select/k_signals.t ...................... ok
t/30_loops/select/k_signals_rerun.t ................ ok
t/30_loops/select/sbk_signal_init.t ................ ok
t/30_loops/select/ses_nfa.t ........................ ok
# This test generates some STDERR during trace testing.
=== 280928 === 23 -> _start (from /home/Davidlou/.cpan/build/POE-1.367-nqT_WU/blib/lib/POE/Kernel.pm at 1497)
=== 280928 === 23 -> woot (from /home/Davidlou/perl5/lib/perl5/POE/Test/Loops/ses_session.pm at 691)
=== 280928 === 23 -> narf (from /home/Davidlou/perl5/lib/perl5/POE/Test/Loops/ses_session.pm at 692)
=== 280928 === 23 -> _stop (from /home/Davidlou/.cpan/build/POE-1.367-nqT_WU/blib/lib/POE/Resource/Sessions.pm at 571)
t/30_loops/select/ses_session.t .................... ok
t/30_loops/select/wheel_accept.t ................... ok
t/30_loops/select/wheel_curses.t ................... skipped: IO::Pty not available
t/30_loops/select/wheel_readline.t ................. skipped: This test requires Term::ReadKey
t/30_loops/select/wheel_readwrite.t ................ ok
t/30_loops/select/wheel_run.t ...................... ok
t/30_loops/select/wheel_run_size.t ................. skipped: This test requires Term::Size
t/30_loops/select/wheel_sf_ipv6.t .................. skipped: Socket::GetAddrInfo is needed for IPv6 tests
t/30_loops/select/wheel_sf_tcp.t ................... ok
t/30_loops/select/wheel_sf_udp.t ................... ok
t/30_loops/select/wheel_sf_unix.t .................. skipped: UNIX sockets on cygwin always block
t/30_loops/select/wheel_tail.t ..................... ok
t/30_loops/select/z_kogman_sig_order.t ............. ok
t/30_loops/select/z_leolo_wheel_run.t .............. ok
# Using '/bin/true' as our thing to run under system()
t/30_loops/select/z_merijn_sigchld_system.t ........ ok
t/30_loops/select/z_rt39872_sigchld.t .............. ok
# Parent 280776 waiting 3sec for slow systems to settle.
# sending sigusr1
# sent sigusr1
t/30_loops/select/z_rt39872_sigchld_stop.t ......... ok
t/30_loops/select/z_rt53302_fh_watchers.t .......... ok
t/30_loops/select/z_rt54319_bazerka_followtail.t ... ok
t/30_loops/select/z_steinert_signal_integrity.t .... ok
t/90_regression/agaran-filter-httpd.t .............. ok
t/90_regression/averell-callback-ret.t ............. ok
t/90_regression/bingos-followtail.t ................ ok
t/90_regression/broeren-win32-nbio.t ............... skipped: This test examines ActiveState Perl behavior.
t/90_regression/cfedde-filter-httpd.t .............. ok
t/90_regression/ferrari-server-unix.t .............. ok
t/90_regression/grinnz-die-in-die.t ................ ok
Died at t/90_regression/hinrik-wheel-run-die.t line 21.
t/90_regression/hinrik-wheel-run-die.t ............. ok
# This test can take up to 10 seconds
t/90_regression/kjeldahl-stop-start-polling.t ...... ok
# This test can take up to 10 seconds
t/90_regression/kjeldahl-stop-start-sig-nopipe.t ... ok
# This test can take up to 10 seconds
t/90_regression/kjeldahl-stop-start-sig-pipe.t ..... ok
t/90_regression/leolo-sig-die.t .................... ok
t/90_regression/meh-startstop-return.t ............. ok
t/90_regression/neyuki_detach.t .................... ok
t/90_regression/pipe-followtail.t .................. ok
t/90_regression/prumike-win32-stat.t ............... skipped: This test examines Strawberry/ActiveState Perl behavior.
t/90_regression/rt14444-arg1.t ..................... ok
t/90_regression/rt1648-tied-stderr.t ............... ok
t/90_regression/rt19908-merlyn-stop.t .............. ok
t/90_regression/rt23181-sigchld-rc.t ............... ok
t/90_regression/rt47966-sigchld.t .................. skipped: enable by setting RELEASE_TESTING
t/90_regression/rt56417-wheel-run.t ................ ok
t/90_regression/rt65460-forking.t .................. skipped: enable by setting (AUTOMATED|RELEASE)_TESTING
t/90_regression/socketfactory-timeout.t ............ ok
t/90_regression/somni-poco-server-tcp.t ............ ok
t/90_regression/steinert-passed-wheel.t ............ ok
t/90_regression/suzman_windows.t ................... ok
t/90_regression/ton-stop-corruption.t .............. ok
t/90_regression/tracing-sane-exit.t ................ ok
t/90_regression/whelan-dieprop.t ................... ok
t/90_regression/whjackson-followtail.t ............. ok
All tests successful.
Files=161, Tests=4185, 112 wallclock secs ( 0.58 usr  0.23 sys + 24.45 cusr 27.07 csys = 52.33 CPU)
Result: PASS

------------------------------
PREREQUISITES
------------------------------

Prerequisite modules loaded:

requires:

    Module           Need  Have  
    ---------------- ----- ------
    Carp             0     1.36  
    Errno            1.09  1.23  
    Exporter         0     5.72  
    File::Spec       0.87  3.56  
    IO               1.24  1.35  
    IO::Handle       1.27  1.35  
    IO::Pipely       0.005 0.005 
    POE::Test::Loops 1.360 1.360 
    POSIX            1.02  1.53  
    Socket           1.7   2.020 
    Storable         2.16  2.53  
    Test::Harness    2.26  3.35  
    Time::HiRes      1.59  1.9726

build_requires:

    Module           Need  Have  
    ---------------- ----- ------
    POE::Test::Loops 1.360 1.360 

configure_requires:

    Module           Need  Have  
    ---------------- ----- ------
    POE::Test::Loops 1.360 1.360 


------------------------------
ENVIRONMENT AND OTHER CONTEXT
------------------------------

Environment variables:

    COMSPEC = C:\Windows\system32\cmd.exe
    LANG = en_US.UTF-8
    NUMBER_OF_PROCESSORS = 4
    PATH = /home/Davidlou/perl5/bin:/usr/local/bin:/usr/bin:/cygdrive/c/ProgramData/Oracle/Java/javapath:/cygdrive/c/Program Files/Common Files/Microsoft Shared/Windows Live:/cygdrive/c/Program Files (x86)/Common Files/Microsoft Shared/Windows Live:/cygdrive/c/Program Files (x86)/Intel/iCLS Client:/cygdrive/c/Program Files/Intel/iCLS Client:/cygdrive/c/Windows/system32:/cygdrive/c/Windows:/cygdrive/c/Windows/System32/Wbem:/cygdrive/c/Windows/System32/WindowsPowerShell/v1.0:/cygdrive/c/Program Files/Intel/WiFi/bin:/cygdrive/c/Program Files/Common Files/Intel/WirelessCommon:/cygdrive/c/Program Files/ThinkPad/Bluetooth Software:/cygdrive/c/Program Files/ThinkPad/Bluetooth Software/syswow64:/cygdrive/c/Program Files/Intel/Intel(R) Management Engine Components/DAL:/cygdrive/c/Program Files/Intel/Intel(R) Management Engine Components/IPT:/cygdrive/c/Program Files (x86)/Intel/Intel(R) Management Engine Components/DAL:/cygdrive/c/Program Files (x86)/Intel/Intel(R) Management Engine Components/IPT:/cygdrive/c/Program Files (x86)/Intel/OpenCL SDK/2.0/bin/x86:/cygdrive/c/Program Files (x86)/Intel/OpenCL SDK/2.0/bin/x64:/cygdrive/c/Program Files/Common Files/Lenovo:/cygdrive/c/Program Files (x86)/Common Files/Ulead Systems/MPEG:/cygdrive/c/Program Files (x86)/Windows Live/Shared:/cygdrive/c/SWTOOLS/ReadyApps:/cygdrive/c/Program Files (x86)/Symantec/VIP Access Client:/cygdrive/c/Program Files (x86)/Common Files/Lenovo:/cygdrive/c/strawberry/c/bin:/cygdrive/c/strawberry/perl/site/bin:/cygdrive/c/strawberry/perl/bin:/cygdrive/c/Program Files (x86)/GNU/GnuPG/pub:/cygdrive/c/Program Files (x86)/MiKTeX 2.9/miktex/bin:/cygdrive/c/Program Files/Microsoft SQL Server/110/Tools/Binn:/cygdrive/c/Program Files/TortoiseSVN/bin:/cygdrive/c/Program Files (x86)/Windows Kits/8.1/Windows Performance Toolkit:/cygdrive/c/Program Files (x86)/Microsoft SDKs/TypeScript/1.0:/cygdrive/c/Program Files/Microsoft SQL Server/120/Tools/Binn:/cygdrive/c/Program Files (x86)/GNU/clisp/2.49
    PERL5LIB = /home/Davidlou/.cpan/build/Cpanel-JSON-XS-3.0115-ZdB9SE/blib/arch:/home/Davidlou/.cpan/build/Cpanel-JSON-XS-3.0115-ZdB9SE/blib/lib:/home/Davidlou/.cpan/build/JSON-MaybeXS-1.003005-1BdcCI/blib/arch:/home/Davidlou/.cpan/build/JSON-MaybeXS-1.003005-1BdcCI/blib/lib:/home/Davidlou/.cpan/build/Test-Without-Module-0.18-BRa1_w/blib/arch:/home/Davidlou/.cpan/build/Test-Without-Module-0.18-BRa1_w/blib/lib:/home/Davidlou/.cpan/build/YAML-Tiny-1.69-gCPDn9/blib/arch:/home/Davidlou/.cpan/build/YAML-Tiny-1.69-gCPDn9/blib/lib:/home/Davidlou/perl5/lib/perl5
    PERL5OPT = 
    PERL5_CPANPLUS_IS_RUNNING = 44596
    PERL5_CPAN_IS_RUNNING = 44596
    PERL_LOCAL_LIB_ROOT = /home/Davidlou/perl5
    PERL_MB_OPT = --install_base "/home/Davidlou/perl5"
    PERL_MM_OPT = INSTALL_BASE=/home/Davidlou/perl5
    PROCESSOR_IDENTIFIER = Intel64 Family 6 Model 58 Stepping 9, GenuineIntel
    SHELL = /bin/bash
    TEMP = /tmp
    TERM = xterm

Perl special variables (and OS-specific diagnostics, for MSWin32):

    $^X = /usr/bin/perl
    $UID/$EUID = 1049687 / 1049687
    $GID = 1049089 1049089 555 545 4 66049 11 15 4095 66048 1050228 1049707 1049726 1050221 1050187 401408
    $EGID = 1049089 1049089 555 545 4 66049 11 15 4095 66048 1050228 1049707 1049726 1050221 1050187 401408

Perl module toolchain versions installed:

    Module              Have    
    ------------------- --------
    CPAN                2.11    
    CPAN::Meta          2.150001
    Cwd                 3.56    
    ExtUtils::CBuilder  0.280221
    ExtUtils::Command   1.20    
    ExtUtils::Install   2.04    
    ExtUtils::MakeMaker 7.04_01 
    ExtUtils::Manifest  1.70    
    ExtUtils::ParseXS   3.28    
    File::Spec          3.56    
    JSON                2.90    
    JSON::PP            2.27300 
    Module::Build       0.4214  
    Module::Signature   n/a     
    Parse::CPAN::Meta   1.4414  
    Test::Harness       3.35    
    Test::More          1.001014
    YAML                1.15    
    YAML::Syck          n/a     
    version             0.9909  


--

Summary of my perl5 (revision 5 version 22 subversion 0) configuration:
   
  Platform:
    osname=cygwin, osvers=2.0.4(0.28753), archname=cygwin-thread-multi
    uname='cygwin_nt-6.3 cygwin 2.0.4(0.28753) 2015-06-09 12:22 x86_64 cygwin '
    config_args='-d -e -Dprefix=/usr -Dmksymlinks -Darchname=x86_64-cygwin-threads -Dlibperl=cygperl5_22.dll -Dcc=gcc -Dld=g++ -Accflags=-ggdb -O2 -pipe -Wimplicit-function-declaration -fdebug-prefix-map=/mnt/share/maint/perl.x86_64/build=/usr/src/debug/perl-5.22.0-1 -fdebug-prefix-map=/mnt/share/maint/perl.x86_64/src/perl-5.22.0=/usr/src/debug/perl-5.22.0-1 -fwrapv'
    hint=recommended, useposix=true, d_sigaction=define
    useithreads=define, usemultiplicity=define
    use64bitint=define, use64bitall=define, uselongdouble=undef
    usemymalloc=n, bincompat5005=undef
  Compiler:
    cc='gcc', ccflags ='-DPERL_USE_SAFE_PUTENV -U__STRICT_ANSI__ -ggdb -O2 -pipe -Wimplicit-function-declaration -fdebug-prefix-map=/mnt/share/maint/perl.x86_64/build=/usr/src/debug/perl-5.22.0-1 -fdebug-prefix-map=/mnt/share/maint/perl.x86_64/src/perl-5.22.0=/usr/src/debug/perl-5.22.0-1 -fwrapv -fno-strict-aliasing -fstack-protector-strong -D_FORTIFY_SOURCE=2',
    optimize='-O3',
    cppflags='-DPERL_USE_SAFE_PUTENV -U__STRICT_ANSI__ -ggdb -O2 -pipe -Wimplicit-function-declaration -fdebug-prefix-map=/mnt/share/maint/perl.x86_64/build=/usr/src/debug/perl-5.22.0-1 -fdebug-prefix-map=/mnt/share/maint/perl.x86_64/src/perl-5.22.0=/usr/src/debug/perl-5.22.0-1 -fwrapv -fno-strict-aliasing -fstack-protector-strong'
    ccversion='', gccversion='4.9.3', gccosandvers=''
    intsize=4, longsize=8, ptrsize=8, doublesize=8, byteorder=12345678, doublekind=3
    d_longlong=define, longlongsize=8, d_longdbl=define, longdblsize=16, longdblkind=3
    ivtype='long', ivsize=8, nvtype='double', nvsize=8, Off_t='off_t', lseeksize=8
    alignbytes=8, prototype=define
  Linker and Libraries:
    ld='g++', ldflags =' -Wl,--enable-auto-import -Wl,--export-all-symbols -Wl,--enable-auto-image-base -fstack-protector-strong -L/usr/local/lib'
    libpth=/usr/lib/gcc/x86_64-pc-cygwin/4.9.3/include-fixed /usr/lib /usr/lib/gcc/x86_64-pc-cygwin/4.9.3/../../../../lib/../include/w32api /usr/local/lib /lib
    libs=-lpthread -ldb -ldl -lcrypt
    perllibs=-lpthread -ldl -lcrypt
    libc=/usr/lib/libc.a, so=dll, useshrplib=true, libperl=cygperl5_22.dll
    gnulibc_version=''
  Dynamic Linking:
    dlsrc=dl_dlopen.xs, dlext=dll, d_dlsymun=undef, ccdlflags=' '
    cccdlflags=' ', lddlflags=' --shared  -Wl,--enable-auto-import -Wl,--export-all-symbols -Wl,--enable-auto-image-base -L/usr/local/lib -fstack-protector-strong'


Characteristics of this binary (from libperl): 
  Compile-time options: HAS_TIMES MULTIPLICITY PERLIO_LAYERS
                        PERL_DONT_CREATE_GVSV
                        PERL_HASH_FUNC_ONE_AT_A_TIME_HARD
                        PERL_IMPLICIT_CONTEXT PERL_NEW_COPY_ON_WRITE
                        PERL_PRESERVE_IVUV PERL_USE_SAFE_PUTENV
                        USE_64_BIT_ALL USE_64_BIT_INT USE_ITHREADS
                        USE_LARGE_FILES USE_LOCALE USE_LOCALE_COLLATE
                        USE_LOCALE_CTYPE USE_LOCALE_NUMERIC USE_LOCALE_TIME
                        USE_PERLIO USE_PERL_ATOF USE_REENTRANT_API
  Built under cygwin
  Compiled at Jul 12 2015 18:24:40
  %ENV:
    PERL5LIB="/home/Davidlou/.cpan/build/Cpanel-JSON-XS-3.0115-ZdB9SE/blib/arch:/home/Davidlou/.cpan/build/Cpanel-JSON-XS-3.0115-ZdB9SE/blib/lib:/home/Davidlou/.cpan/build/JSON-MaybeXS-1.003005-1BdcCI/blib/arch:/home/Davidlou/.cpan/build/JSON-MaybeXS-1.003005-1BdcCI/blib/lib:/home/Davidlou/.cpan/build/Test-Without-Module-0.18-BRa1_w/blib/arch:/home/Davidlou/.cpan/build/Test-Without-Module-0.18-BRa1_w/blib/lib:/home/Davidlou/.cpan/build/YAML-Tiny-1.69-gCPDn9/blib/arch:/home/Davidlou/.cpan/build/YAML-Tiny-1.69-gCPDn9/blib/lib:/home/Davidlou/perl5/lib/perl5"
    PERL5OPT=""
    PERL5_CPANPLUS_IS_RUNNING="44596"
    PERL5_CPAN_IS_RUNNING="44596"
    PERL_LOCAL_LIB_ROOT="/home/Davidlou/perl5"
    PERL_MB_OPT="--install_base "/home/Davidlou/perl5""
    PERL_MM_OPT="INSTALL_BASE=/home/Davidlou/perl5"
  @INC:
    /home/Davidlou/.cpan/build/Cpanel-JSON-XS-3.0115-ZdB9SE/blib/arch
    /home/Davidlou/.cpan/build/Cpanel-JSON-XS-3.0115-ZdB9SE/blib/lib
    /home/Davidlou/.cpan/build/JSON-MaybeXS-1.003005-1BdcCI/blib/arch
    /home/Davidlou/.cpan/build/JSON-MaybeXS-1.003005-1BdcCI/blib/lib
    /home/Davidlou/.cpan/build/Test-Without-Module-0.18-BRa1_w/blib/arch
    /home/Davidlou/.cpan/build/Test-Without-Module-0.18-BRa1_w/blib/lib
    /home/Davidlou/.cpan/build/YAML-Tiny-1.69-gCPDn9/blib/arch
    /home/Davidlou/.cpan/build/YAML-Tiny-1.69-gCPDn9/blib/lib
    /home/Davidlou/perl5/lib/perl5/cygwin-thread-multi
    /home/Davidlou/perl5/lib/perl5
    /usr/lib/perl5/site_perl/5.22/x86_64-cygwin-threads
    /usr/lib/perl5/site_perl/5.22
    /usr/lib/perl5/vendor_perl/5.22/x86_64-cygwin-threads
    /usr/lib/perl5/vendor_perl/5.22
    /usr/lib/perl5/5.22/x86_64-cygwin-threads
    /usr/lib/perl5/5.22
    .