IO-Socket-SSL v2.085 Perl 5 v5.39.9 OpenBSD.amd64-openbsd-thread-multi
- Status
- Pass
- From
- Carlos Guevara
- Dist
-
IO-Socket-SSL v2.085
- Platform
- Perl 5 v5.39.9 OpenBSD.amd64-openbsd-thread-multi
- Date
- 2024-03-03 19:33:57
- ID
- fa519c40-d994-11ee-93c3-0f85d4ca8fc6
This distribution has been tested as part of the CPAN Testers
project, supporting the Perl programming language. See
http://wiki.cpantesters.org/ for more information or email
questions to cpan-testers-discuss@perl.org
--
Dear Steffen Ullrich,
This is a computer-generated report for IO-Socket-SSL-2.085
on perl 5.39.9, created by CPAN-Reporter-1.2019.
Thank you for uploading your work to CPAN. Congratulations!
All tests were successful.
Sections of this report:
* Tester comments
* Program output
* Prerequisites
* Environment and other context
------------------------------
TESTER COMMENTS
------------------------------
Additional comments from tester:
this report is from an automated smoke testing program
and was not reviewed by a human for accuracy
------------------------------
PROGRAM OUTPUT
------------------------------
Output from '/usr/bin/make test':
PERL_DL_NONLAZY=1 "/home/cpan/bin/perl/bin/perl5.39.9" "-MExtUtils::Command::MM" "-MTest::Harness" "-e" "undef *Test::Harness::Switches; test_harness(0, 'blib/lib', 'blib/arch')" t/*.t
# openssl version compiled=0x20000000 linked=0x20000000 -- LibreSSL 3.8.2
# Net::SSLeay version=1.94
# parent IO::Socket::IP version=0.42
t/01loadmodule.t .................. ok
t/acceptSSL-timeout.t ............. ok
t/alpn.t .......................... ok
t/auto_verify_hostname.t .......... ok
t/cert_formats.t .................. ok
t/cert_no_file.t .................. ok
t/compatibility.t ................. ok
t/connectSSL-timeout.t ............ ok
t/core.t .......................... ok
t/dhe.t ........................... ok
t/ecdhe.t ......................... ok
t/io-socket-inet6.t ............... ok
t/io-socket-ip.t .................. ok
t/memleak_bad_handshake.t ......... ok
t/mitm.t .......................... ok
t/multiple-cert-rsa-ecc.t ......... ok
t/nonblock.t ...................... ok
t/npn.t ........................... skipped: NPN not available in Net::SSLeay
# -- test: newINET start_SSL stop_SSL start_SSL
# server accepted new client
# wait for initial data from client
# got 0x666f6f from client
# server: got plain data at start of connection
# server: TLS upgrade
# server: TLS downgrade
# server: TLS upgrade#2
# -- test: newSSL stop_SSL connect_SSL
# server accepted new client
# wait for initial data from client
# got 0x160303 from client
# server: TLS upgrade
# server: TLS downgrade
# server: TLS upgrade#2
# -- test: newSSL:0 connect_SSL stop_SSL connect_SSL
# server accepted new client
# wait for initial data from client
# got 0x666f6f from client
# server: got plain data at start of connection
# server: TLS upgrade
# server: TLS downgrade
# server: TLS upgrade#2
# -- test: newSSL:0 start_SSL stop_SSL connect_SSL
# server accepted new client
# wait for initial data from client
# got 0x666f6f from client
# server: got plain data at start of connection
# server: TLS upgrade
# server: TLS downgrade
# server: TLS upgrade#2
# server accepted new client
# wait for initial data from client
# got 0x656e64 from client
# client requested end of tests
t/plain_upgrade_downgrade.t ....... ok
# looks like OpenSSL was compiled without SSLv3 support
# looks like OpenSSL was compiled without TLSv1 support
# looks like OpenSSL was compiled without TLSv1_1 support
t/protocol_version.t .............. ok
perl5.39.9:/home/cpan/bin/perl/lib/site_perl/5.39.9/OpenBSD.amd64-openbsd-thread-multi/auto/Net/IDN/Punycode/Punycode.so: undefined symbol 'uvuni_to_utf8_flags'
t/public_suffix_lib_encode_idn.t .. ok
t/public_suffix_lib_libidn.t ...... ok
t/public_suffix_lib_uri.t ......... ok
t/public_suffix_ssl.t ............. ok
t/readline.t ...................... ok
t/session_cache.t ................. ok
# listen at 127.0.0.1:44565
# listen at 127.0.0.1:25034
# connect to 0: success reuse=0 version=TLSv1_2
# connect to 0: success reuse=1 version=TLSv1_2
# connect to 1: success reuse=1 version=TLSv1_2
# connect to 1: success reuse=0 version=TLSv1_2
# connect to 0: success reuse=0 version=TLSv1_2
# connect to 0: success reuse=1 version=TLSv1_2
t/session_ticket.t ................ ok
t/sessions.t ...................... ok
t/set_curves.t .................... ok
t/signal-readline.t ............... ok
t/sni.t ........................... ok
t/sni_verify.t .................... ok
t/start-stopssl.t ................. ok
t/startssl-failed.t ............... ok
t/startssl.t ...................... ok
t/sysread_write.t ................. ok
t/verify_fingerprint.t ............ ok
perl5.39.9:/home/cpan/bin/perl/lib/site_perl/5.39.9/OpenBSD.amd64-openbsd-thread-multi/auto/Net/IDN/Punycode/Punycode.so: undefined symbol 'uvuni_to_utf8_flags'
t/verify_hostname.t ............... ok
failure during X509V3_EXT_conf_nid() for nid=85
6672195172544:error:22FFF077:X509 V3 routines:CRYPTO_internal:bad object:/usr/src/lib/libcrypto/x509/x509_alt.c:689:name=DNS value='::6.7.8.9'
failure during X509V3_EXT_conf_nid() for nid=85
6672195172544:error:22FFF077:X509 V3 routines:CRYPTO_internal:bad object:/usr/src/lib/libcrypto/x509/x509_alt.c:689:name=DNS value='nocolonallowed:example'
t/verify_hostname_standalone.t .... ok
t/verify_partial_chain.t .......... ok
All tests successful.
Files=40, Tests=779, 48 wallclock secs ( 0.14 usr 0.09 sys + 7.89 cusr 2.06 csys = 10.18 CPU)
Result: PASS
------------------------------
PREREQUISITES
------------------------------
Prerequisite modules loaded:
requires:
Module Need Have
------------------- ---- ----
Net::SSLeay 1.46 1.94
Scalar::Util 0 1.63
build_requires:
Module Need Have
------------------- ---- ----
ExtUtils::MakeMaker 0 7.70
configure_requires:
Module Need Have
------------------- ---- ----
ExtUtils::MakeMaker 0 7.70
Net::SSLeay 1.46 1.94
------------------------------
ENVIRONMENT AND OTHER CONTEXT
------------------------------
Environment variables:
AUTOMATED_TESTING = 1
DATE_MANIP_TEST_DM5 = 1
LC_ALL = C
NONINTERACTIVE_TESTING = 1
NO_NETWORK_TESTING = 1
PATH = /home/cpan/bin/perl/bin:/home/cpan/bin:/home/cpan/bin:/bin:/sbin:/usr/bin:/usr/sbin:/usr/X11R6/bin:/usr/local/bin:/usr/local/sbin
PERL5LIB = /home/cpan/.cpan/build/version-0.9930-0/blib/arch:/home/cpan/.cpan/build/version-0.9930-0/blib/lib:/home/cpan/.cpan/build/ExtUtils-MakeMaker-7.70-3/blib/arch:/home/cpan/.cpan/build/ExtUtils-MakeMaker-7.70-3/blib/lib:/home/cpan/.cpan/build/I18N-Collate-1.02-0/blib/arch:/home/cpan/.cpan/build/I18N-Collate-1.02-0/blib/lib:/home/cpan/.cpan/build/IO-Compress-2.207-2/blib/arch:/home/cpan/.cpan/build/IO-Compress-2.207-2/blib/lib:/home/cpan/.cpan/build/Test2-Suite-0.000159-2/blib/arch:/home/cpan/.cpan/build/Test2-Suite-0.000159-2/blib/lib:/home/cpan/.cpan/build/Test-Simple-1.302198-2/blib/arch:/home/cpan/.cpan/build/Test-Simple-1.302198-2/blib/lib:/home/cpan/.cpan/build/Test-Harness-3.48-2/blib/arch:/home/cpan/.cpan/build/Test-Harness-3.48-2/blib/lib
PERL5OPT =
PERL5_CPANPLUS_IS_RUNNING = 30697
PERL5_CPAN_IS_RUNNING = 30697
PERL_MM_USE_DEFAULT = 1
PERL_USE_UNSAFE_INC = 1
SHELL = /usr/local/bin/bash
TERM = screen
TMPDIR = /home/cpan/tmp
Perl special variables (and OS-specific diagnostics, for MSWin32):
$^X = /home/cpan/bin/perl/bin/perl5.39.9
$UID/$EUID = 1001 / 1001
$GID = 1001 1001
$EGID = 1001 1001
Perl module toolchain versions installed:
Module Have
------------------- --------
CPAN 2.36
CPAN::Meta 2.150010
Cwd 3.90
ExtUtils::CBuilder 0.280240
ExtUtils::Command 7.70
ExtUtils::Install 2.22
ExtUtils::MakeMaker 7.70
ExtUtils::Manifest 1.75
ExtUtils::ParseXS 3.51
File::Spec 3.90
JSON 4.10
JSON::PP 4.16
Module::Build 0.4234
Module::Signature 0.88
Parse::CPAN::Meta 2.150010
Test2 1.302198
Test::Harness 3.48
Test::More 1.302198
YAML 1.31
YAML::Syck 1.34
version 0.9930
--
Summary of my perl5 (revision 5 version 39 subversion 9) configuration:
Commit id: c3bb8a84722517e40199c1594a9340b86103e837
Platform:
osname=openbsd
osvers=7.4
archname=OpenBSD.amd64-openbsd-thread-multi
uname='openbsd cjg-openbsd7 7.4 generic#3 amd64 '
config_args='-des -Dprefix=/home/cpan/bin/perl -Dscriptdir=/home/cpan/bin/perl/bin -Dusedevel -Duse64bitall -Duseithreads'
hint=recommended
useposix=true
d_sigaction=define
useithreads=define
usemultiplicity=define
use64bitint=define
use64bitall=define
uselongdouble=undef
usemymalloc=n
default_inc_excludes_dot=define
Compiler:
cc='cc'
ccflags ='-pthread -DNO_LOCALE_NUMERIC -DNO_LOCALE_COLLATE -DNO_LOCALE_MONETARY -DNO_LOCALE_TIME -DNO_LOCALE_MESSAGES -DLIBC_HANDLES_MISMATCHED_CTYPE -fno-strict-aliasing -pipe -fstack-protector-strong -I/usr/local/include'
optimize='-O2'
cppflags='-pthread -DNO_LOCALE_NUMERIC -DNO_LOCALE_COLLATE -DNO_LOCALE_MONETARY -DNO_LOCALE_TIME -DNO_LOCALE_MESSAGES -DLIBC_HANDLES_MISMATCHED_CTYPE -fno-strict-aliasing -pipe -fstack-protector-strong -I/usr/local/include'
ccversion=''
gccversion='OpenBSD Clang 13.0.0'
gccosandvers=''
intsize=4
longsize=8
ptrsize=8
doublesize=8
byteorder=12345678
doublekind=3
d_longlong=define
longlongsize=8
d_longdbl=define
longdblsize=16
longdblkind=3
ivtype='long'
ivsize=8
nvtype='double'
nvsize=8
Off_t='off_t'
lseeksize=8
alignbytes=8
prototype=define
Linker and Libraries:
ld='cc'
ldflags ='-pthread -Wl,-E -fstack-protector-strong -L/usr/local/lib'
libpth=/usr/lib/clang/13.0.0/lib /usr/lib /usr/local/lib
libs=-lpthread -lm -lutil -lc
perllibs=-lpthread -lm -lutil -lc
libc=/usr/lib/libc.so.97.1
so=so
useshrplib=false
libperl=libperl.a
gnulibc_version=''
Dynamic Linking:
dlsrc=dl_dlopen.xs
dlext=so
d_dlsymun=undef
ccdlflags=' '
cccdlflags='-DPIC -fPIC '
lddlflags='-shared -fPIC -L/usr/local/lib -fstack-protector-strong'
Characteristics of this binary (from libperl):
Compile-time options:
HAS_LONG_DOUBLE
HAS_STRTOLD
HAS_TIMES
MULTIPLICITY
PERLIO_LAYERS
PERL_COPY_ON_WRITE
PERL_DONT_CREATE_GVSV
PERL_HASH_FUNC_SIPHASH13
PERL_HASH_USE_SBOX32
PERL_MALLOC_WRAP
PERL_OP_PARENT
PERL_PRESERVE_IVUV
PERL_USE_DEVEL
PERL_USE_SAFE_PUTENV
USE_64_BIT_ALL
USE_64_BIT_INT
USE_ITHREADS
USE_LARGE_FILES
USE_LOCALE
USE_LOCALE_CTYPE
USE_PERLIO
USE_PERL_ATOF
USE_REENTRANT_API
USE_THREAD_SAFE_LOCALE
Built under openbsd
Compiled at Mar 3 2024 02:59:57
%ENV:
PERL5LIB="/home/cpan/.cpan/build/version-0.9930-0/blib/arch:/home/cpan/.cpan/build/version-0.9930-0/blib/lib:/home/cpan/.cpan/build/ExtUtils-MakeMaker-7.70-3/blib/arch:/home/cpan/.cpan/build/ExtUtils-MakeMaker-7.70-3/blib/lib:/home/cpan/.cpan/build/I18N-Collate-1.02-0/blib/arch:/home/cpan/.cpan/build/I18N-Collate-1.02-0/blib/lib:/home/cpan/.cpan/build/IO-Compress-2.207-2/blib/arch:/home/cpan/.cpan/build/IO-Compress-2.207-2/blib/lib:/home/cpan/.cpan/build/Test2-Suite-0.000159-2/blib/arch:/home/cpan/.cpan/build/Test2-Suite-0.000159-2/blib/lib:/home/cpan/.cpan/build/Test-Simple-1.302198-2/blib/arch:/home/cpan/.cpan/build/Test-Simple-1.302198-2/blib/lib:/home/cpan/.cpan/build/Test-Harness-3.48-2/blib/arch:/home/cpan/.cpan/build/Test-Harness-3.48-2/blib/lib"
PERL5OPT=""
PERL5_CPANPLUS_IS_RUNNING="30697"
PERL5_CPAN_IS_RUNNING="30697"
PERL_MM_USE_DEFAULT="1"
PERL_USE_UNSAFE_INC="1"
@INC:
/home/cpan/.cpan/build/version-0.9930-0/blib/arch
/home/cpan/.cpan/build/version-0.9930-0/blib/lib
/home/cpan/.cpan/build/ExtUtils-MakeMaker-7.70-3/blib/arch
/home/cpan/.cpan/build/ExtUtils-MakeMaker-7.70-3/blib/lib
/home/cpan/.cpan/build/I18N-Collate-1.02-0/blib/arch
/home/cpan/.cpan/build/I18N-Collate-1.02-0/blib/lib
/home/cpan/.cpan/build/IO-Compress-2.207-2/blib/arch
/home/cpan/.cpan/build/IO-Compress-2.207-2/blib/lib
/home/cpan/.cpan/build/Test2-Suite-0.000159-2/blib/arch
/home/cpan/.cpan/build/Test2-Suite-0.000159-2/blib/lib
/home/cpan/.cpan/build/Test-Simple-1.302198-2/blib/arch
/home/cpan/.cpan/build/Test-Simple-1.302198-2/blib/lib
/home/cpan/.cpan/build/Test-Harness-3.48-2/blib/arch
/home/cpan/.cpan/build/Test-Harness-3.48-2/blib/lib
/home/cpan/bin/perl/lib/site_perl/5.39.9/OpenBSD.amd64-openbsd-thread-multi
/home/cpan/bin/perl/lib/site_perl/5.39.9
/home/cpan/bin/perl/lib/5.39.9/OpenBSD.amd64-openbsd-thread-multi
/home/cpan/bin/perl/lib/5.39.9
.