Catalyst-Devel v1.42 Perl 5 v5.28.0 x86_64-linux
- Status
- Pass
- From
- Dist
-
Catalyst-Devel v1.42
- Platform
- Perl 5 v5.28.0 x86_64-linux
- Date
- 2022-05-03 13:57:32
- ID
- fa362a3a-cae8-11ec-a90b-e23561c2c219
This distribution has been tested as part of the CPAN Testers
project, supporting the Perl programming language. See
http://wiki.cpantesters.org/ for more information or email
questions to cpan-testers-discuss@perl.org
--
Dear HAARG,
This is a computer-generated report for Catalyst-Devel-1.42
on perl 5.28.0, created by App::cpanminus::reporter 0.17 (1.7044).
Thank you for uploading your work to CPAN. Congratulations!
All tests were successful.
Sections of this report:
* Tester comments
* Program output
* Prerequisites
* Environment and other context
------------------------------
TESTER COMMENTS
------------------------------
Additional comments from tester:
none provided
------------------------------
PROGRAM OUTPUT
------------------------------
Output from '':
Building and testing Catalyst-Devel-1.42
cp share/myapp.conf.tt blib/lib/auto/share/dist/Catalyst-Devel/myapp.conf.tt
cp share/root/static/images/btn_88x31_powered.png.bin blib/lib/auto/share/dist/Catalyst-Devel/root/static/images/btn_88x31_powered.png.bin
cp share/script/myapp_test.pl.tt blib/lib/auto/share/dist/Catalyst-Devel/script/myapp_test.pl.tt
cp share/script/myapp_server.pl.tt blib/lib/auto/share/dist/Catalyst-Devel/script/myapp_server.pl.tt
cp share/t/01app.t.tt blib/lib/auto/share/dist/Catalyst-Devel/t/01app.t.tt
cp share/root/static/images/btn_120x50_built_shadow.png.bin blib/lib/auto/share/dist/Catalyst-Devel/root/static/images/btn_120x50_built_shadow.png.bin
cp share/root/static/images/btn_88x31_built.png.bin blib/lib/auto/share/dist/Catalyst-Devel/root/static/images/btn_88x31_built.png.bin
cp share/lib/Helper/compclass.pm.tt blib/lib/auto/share/dist/Catalyst-Devel/lib/Helper/compclass.pm.tt
cp share/script/myapp_create.pl.tt blib/lib/auto/share/dist/Catalyst-Devel/script/myapp_create.pl.tt
cp share/myapp.psgi.tt blib/lib/auto/share/dist/Catalyst-Devel/myapp.psgi.tt
cp share/root/favicon.ico.bin blib/lib/auto/share/dist/Catalyst-Devel/root/favicon.ico.bin
cp share/root/static/images/btn_120x50_powered.png.bin blib/lib/auto/share/dist/Catalyst-Devel/root/static/images/btn_120x50_powered.png.bin
cp share/script/myapp_fastcgi.pl.tt blib/lib/auto/share/dist/Catalyst-Devel/script/myapp_fastcgi.pl.tt
cp share/script/myapp_cgi.pl.tt blib/lib/auto/share/dist/Catalyst-Devel/script/myapp_cgi.pl.tt
cp share/lib/MyApp.pm.tt blib/lib/auto/share/dist/Catalyst-Devel/lib/MyApp.pm.tt
cp share/root/static/images/catalyst_logo.png.bin blib/lib/auto/share/dist/Catalyst-Devel/root/static/images/catalyst_logo.png.bin
cp share/lib/MyApp/Controller/Root.pm.tt blib/lib/auto/share/dist/Catalyst-Devel/lib/MyApp/Controller/Root.pm.tt
cp share/root/static/images/btn_88x31_powered_shadow.png.bin blib/lib/auto/share/dist/Catalyst-Devel/root/static/images/btn_88x31_powered_shadow.png.bin
cp share/Makefile.PL.tt blib/lib/auto/share/dist/Catalyst-Devel/Makefile.PL.tt
cp share/root/static/images/btn_120x50_powered_shadow.png.bin blib/lib/auto/share/dist/Catalyst-Devel/root/static/images/btn_120x50_powered_shadow.png.bin
cp share/root/static/images/btn_120x50_built.png.bin blib/lib/auto/share/dist/Catalyst-Devel/root/static/images/btn_120x50_built.png.bin
cp share/README.tt blib/lib/auto/share/dist/Catalyst-Devel/README.tt
cp share/Changes.tt blib/lib/auto/share/dist/Catalyst-Devel/Changes.tt
cp share/root/static/images/btn_88x31_built_shadow.png.bin blib/lib/auto/share/dist/Catalyst-Devel/root/static/images/btn_88x31_built_shadow.png.bin
cp share/t/02pod.t.tt blib/lib/auto/share/dist/Catalyst-Devel/t/02pod.t.tt
cp share/t/03podcoverage.t.tt blib/lib/auto/share/dist/Catalyst-Devel/t/03podcoverage.t.tt
cp share/t/comptest.tt blib/lib/auto/share/dist/Catalyst-Devel/t/comptest.tt
cp lib/Catalyst/Restarter/Win32.pm blib/lib/Catalyst/Restarter/Win32.pm
cp lib/Catalyst/Helper.pm blib/lib/Catalyst/Helper.pm
cp lib/Catalyst/Restarter/Forking.pm blib/lib/Catalyst/Restarter/Forking.pm
cp lib/Catalyst/Restarter.pm blib/lib/Catalyst/Restarter.pm
cp lib/Catalyst/Devel.pm blib/lib/Catalyst/Devel.pm
cp lib/Module/Install/Catalyst.pm blib/lib/Module/Install/Catalyst.pm
Manifying 6 pod documents
Skip blib/lib/auto/share/dist/Catalyst-Devel/Makefile.PL.tt (unchanged)
Skip blib/lib/auto/share/dist/Catalyst-Devel/root/favicon.ico.bin (unchanged)
Skip blib/lib/auto/share/dist/Catalyst-Devel/script/myapp_create.pl.tt (unchanged)
Skip blib/lib/auto/share/dist/Catalyst-Devel/README.tt (unchanged)
Skip blib/lib/auto/share/dist/Catalyst-Devel/myapp.psgi.tt (unchanged)
Skip blib/lib/auto/share/dist/Catalyst-Devel/script/myapp_server.pl.tt (unchanged)
Skip blib/lib/auto/share/dist/Catalyst-Devel/root/static/images/btn_88x31_powered.png.bin (unchanged)
Skip blib/lib/auto/share/dist/Catalyst-Devel/lib/MyApp/Controller/Root.pm.tt (unchanged)
Skip blib/lib/auto/share/dist/Catalyst-Devel/root/static/images/btn_120x50_powered_shadow.png.bin (unchanged)
Skip blib/lib/auto/share/dist/Catalyst-Devel/myapp.conf.tt (unchanged)
Skip blib/lib/auto/share/dist/Catalyst-Devel/root/static/images/btn_120x50_powered.png.bin (unchanged)
Skip blib/lib/auto/share/dist/Catalyst-Devel/root/static/images/btn_120x50_built_shadow.png.bin (unchanged)
Skip blib/lib/auto/share/dist/Catalyst-Devel/root/static/images/btn_88x31_powered_shadow.png.bin (unchanged)
Skip blib/lib/auto/share/dist/Catalyst-Devel/lib/Helper/compclass.pm.tt (unchanged)
Skip blib/lib/auto/share/dist/Catalyst-Devel/lib/MyApp.pm.tt (unchanged)
Skip blib/lib/auto/share/dist/Catalyst-Devel/root/static/images/btn_88x31_built_shadow.png.bin (unchanged)
Skip blib/lib/auto/share/dist/Catalyst-Devel/root/static/images/btn_120x50_built.png.bin (unchanged)
Skip blib/lib/auto/share/dist/Catalyst-Devel/script/myapp_cgi.pl.tt (unchanged)
Skip blib/lib/auto/share/dist/Catalyst-Devel/script/myapp_test.pl.tt (unchanged)
Skip blib/lib/auto/share/dist/Catalyst-Devel/t/01app.t.tt (unchanged)
Skip blib/lib/auto/share/dist/Catalyst-Devel/script/myapp_fastcgi.pl.tt (unchanged)
Skip blib/lib/auto/share/dist/Catalyst-Devel/root/static/images/btn_88x31_built.png.bin (unchanged)
Skip blib/lib/auto/share/dist/Catalyst-Devel/Changes.tt (unchanged)
Skip blib/lib/auto/share/dist/Catalyst-Devel/root/static/images/catalyst_logo.png.bin (unchanged)
Skip blib/lib/auto/share/dist/Catalyst-Devel/t/03podcoverage.t.tt (unchanged)
Skip blib/lib/auto/share/dist/Catalyst-Devel/t/comptest.tt (unchanged)
Skip blib/lib/auto/share/dist/Catalyst-Devel/t/02pod.t.tt (unchanged)
PERL_DL_NONLAZY=1 "/home/simbabque/perl5/perlbrew/perls/perl-5.28.0/bin/perl" "-MExtUtils::Command::MM" "-MTest::Harness" "-e" "undef *Test::Harness::Switches; test_harness(0, 'blib/lib', 'blib/arch')" t/*.t
t/01use.t ......................... ok
t/back_compat.t ................... ok
t/generated_app.t ................. ok
t/get_sharedir_file.t ............. ok
t/optional_http-server-restart.t .. skipped: set TEST_HTTP to enable this test
t/render_file_contents.t .......... ok
t/render_share_dir_file.t ......... ok
All tests successful.
Files=7, Tests=91, 5 wallclock secs ( 0.03 usr 0.01 sys + 4.33 cusr 0.46 csys = 4.83 CPU)
Result: PASS
------------------------------
PREREQUISITES
------------------------------
Prerequisite modules loaded:
No requirements found
------------------------------
ENVIRONMENT AND OTHER CONTEXT
------------------------------
Environment variables:
LANG = en_GB.UTF-8
LANGUAGE = en_GB
PATH = /home/simbabque/.nvm/versions/node/v10.16.3/bin:/home/simbabque/.raku/bin:/opt/rakudo-pkg/bin:/opt/rakudo-pkg/share/perl6/site/bin:/home/simbabque/.raku/bin:/home/simbabque/perl5/perlbrew/bin:/home/simbabque/perl5/perlbrew/perls/perl-5.28.0/bin:/usr/local/sbin:/usr/local/bin:/usr/sbin:/usr/bin:/sbin:/bin:/usr/games:/usr/local/games:/snap/bin
PERLBREW_HOME = /home/simbabque/.perlbrew
PERLBREW_MANPATH = /home/simbabque/perl5/perlbrew/perls/perl-5.28.0/man
PERLBREW_PATH = /home/simbabque/perl5/perlbrew/bin:/home/simbabque/perl5/perlbrew/perls/perl-5.28.0/bin
PERLBREW_PERL = perl-5.28.0
PERLBREW_ROOT = /home/simbabque/perl5/perlbrew
PERLBREW_SHELLRC_VERSION = 0.84
PERLBREW_VERSION = 0.84
SHELL = /usr/bin/zsh
TERM = xterm-256color
Perl special variables (and OS-specific diagnostics, for MSWin32):
EGID = 1000 4 24 27 30 46 118 126 127 1000
EUID = 1000
EXECUTABLE_NAME = /home/simbabque/perl5/perlbrew/perls/perl-5.28.0/bin/perl
GID = 1000 4 24 27 30 46 118 126 127 1000
UID = 1000
Perl module toolchain versions installed:
Module Have
------------------- --------
CPAN 2.20
CPAN::Meta 2.150010
Cwd 3.75
ExtUtils::CBuilder 0.280230
ExtUtils::Command 7.64
ExtUtils::Install 2.14
ExtUtils::MakeMaker 7.64
ExtUtils::Manifest 1.70
ExtUtils::ParseXS 3.39
File::Spec 3.75
JSON 2.97001
JSON::PP 2.97001
Module::Build 0.4224
Module::Signature n/a
Parse::CPAN::Meta 2.150010
Test::Harness 3.42
Test::More 1.302190
YAML 1.26
YAML::Syck n/a
version 0.9923
--
Summary of my perl5 (revision 5 version 28 subversion 0) configuration:
Platform:
osname=linux
osvers=4.15.0-30-generic
archname=x86_64-linux
uname='linux horst 4.15.0-30-generic #32-ubuntu smp thu jul 26 17:42:43 utc 2018 x86_64 x86_64 x86_64 gnulinux '
config_args='-de -Dprefix=/home/simbabque/perl5/perlbrew/perls/perl-5.28.0 -Aeval:scriptdir=/home/simbabque/perl5/perlbrew/perls/perl-5.28.0/bin'
hint=recommended
useposix=true
d_sigaction=define
useithreads=undef
usemultiplicity=undef
use64bitint=define
use64bitall=define
uselongdouble=undef
usemymalloc=n
default_inc_excludes_dot=define
bincompat5005=undef
Compiler:
cc='cc'
ccflags ='-fwrapv -fno-strict-aliasing -pipe -fstack-protector-strong -I/usr/local/include -D_LARGEFILE_SOURCE -D_FILE_OFFSET_BITS=64'
optimize='-O2'
cppflags='-fwrapv -fno-strict-aliasing -pipe -fstack-protector-strong -I/usr/local/include'
ccversion=''
gccversion='7.3.0'
gccosandvers=''
intsize=4
longsize=8
ptrsize=8
doublesize=8
byteorder=12345678
doublekind=3
d_longlong=define
longlongsize=8
d_longdbl=define
longdblsize=16
longdblkind=3
ivtype='long'
ivsize=8
nvtype='double'
nvsize=8
Off_t='off_t'
lseeksize=8
alignbytes=8
prototype=define
Linker and Libraries:
ld='cc'
ldflags =' -fstack-protector-strong -L/usr/local/lib'
libpth=/usr/local/lib /usr/lib/gcc/x86_64-linux-gnu/7/include-fixed /usr/include/x86_64-linux-gnu /usr/lib /lib/x86_64-linux-gnu /lib/../lib /usr/lib/x86_64-linux-gnu /usr/lib/../lib /lib
libs=-lpthread -lnsl -ldl -lm -lcrypt -lutil -lc
perllibs=-lpthread -lnsl -ldl -lm -lcrypt -lutil -lc
libc=libc-2.27.so
so=so
useshrplib=false
libperl=libperl.a
gnulibc_version='2.27'
Dynamic Linking:
dlsrc=dl_dlopen.xs
dlext=so
d_dlsymun=undef
ccdlflags='-Wl,-E'
cccdlflags='-fPIC'
lddlflags='-shared -O2 -L/usr/local/lib -fstack-protector-strong'
Characteristics of this binary (from libperl):
Compile-time options:
HAS_TIMES
PERLIO_LAYERS
PERL_COPY_ON_WRITE
PERL_DONT_CREATE_GVSV
PERL_MALLOC_WRAP
PERL_OP_PARENT
PERL_PRESERVE_IVUV
USE_64_BIT_ALL
USE_64_BIT_INT
USE_LARGE_FILES
USE_LOCALE
USE_LOCALE_COLLATE
USE_LOCALE_CTYPE
USE_LOCALE_NUMERIC
USE_LOCALE_TIME
USE_PERLIO
USE_PERL_ATOF
Locally applied patches:
Devel::PatchPerl 1.52
Built under linux
Compiled at Aug 10 2018 23:40:21
%ENV:
PERLBREW_HOME="/home/simbabque/.perlbrew"
PERLBREW_MANPATH="/home/simbabque/perl5/perlbrew/perls/perl-5.28.0/man"
PERLBREW_PATH="/home/simbabque/perl5/perlbrew/bin:/home/simbabque/perl5/perlbrew/perls/perl-5.28.0/bin"
PERLBREW_PERL="perl-5.28.0"
PERLBREW_ROOT="/home/simbabque/perl5/perlbrew"
PERLBREW_SHELLRC_VERSION="0.84"
PERLBREW_VERSION="0.84"
@INC:
/home/simbabque/perl5/perlbrew/perls/perl-5.28.0/lib/site_perl/5.28.0/x86_64-linux
/home/simbabque/perl5/perlbrew/perls/perl-5.28.0/lib/site_perl/5.28.0
/home/simbabque/perl5/perlbrew/perls/perl-5.28.0/lib/5.28.0/x86_64-linux
/home/simbabque/perl5/perlbrew/perls/perl-5.28.0/lib/5.28.0