PerlPowerTools v1.041 Perl 5 v5.39.6 darwin-2level

Status
Pass
From
David Cantrell (DCANTRELL)
Dist
PerlPowerTools v1.041
Platform
Perl 5 v5.39.6 darwin-2level
Date
2023-11-25 03:23:18
ID
fa18c90c-8b41-11ee-a3e0-cf73a13c5505
This distribution has been tested as part of the CPAN Testers
project, supporting the Perl programming language.  See
http://wiki.cpantesters.org/ for more information or email
questions to cpan-testers-discuss@perl.org


--
Dear brian d foy,

This is a computer-generated report for PerlPowerTools-1.041
on perl 5.39.6, created by CPAN-Reporter-1.2019.

Thank you for uploading your work to CPAN.  Congratulations!
All tests were successful.

Sections of this report:

    * Tester comments
    * Program output
    * Prerequisites
    * Environment and other context

------------------------------
TESTER COMMENTS
------------------------------

Additional comments from tester:

this report is from an automated smoke testing program
and was not reviewed by a human for accuracy

------------------------------
PROGRAM OUTPUT
------------------------------

Output from '/usr/bin/make test':

PERL_DL_NONLAZY=1 "/Users/cpantesting/cpantesting/perl-blead/bin/perl5.39.6" "-MExtUtils::Command::MM" "-MTest::Harness" "-e" "undef *Test::Harness::Switches; test_harness(0, 'blib/lib', 'blib/arch')" t/*.t t/*/*.t
    # Found bin/mimedecode specific override file
    # Found bin/robots specific override file
t/000.basic.t ................ ok
t/910.meta.t ................. ok
t/990.pod.t .................. ok
# Perl sqrt(2) is <1.4142135623731>
"/tmp/9MpIrjwdey", line 2: Illegal division by zero at bc.y line 866, <IN> line 2.

"/tmp/3UAf_9qnRM", line 2: Illegal modulus zero at bc.y line 868, <IN> line 2.

"/tmp/wgErDGZ4D2", line 2: Illegal modulus zero at bc.y line 868, <IN> line 2.

t/bc/input.t ................. ok
t/cat/cat.t .................. ok
t/cp/gh-115-copy-into-dir.t .. ok
t/date/date.t ................ ok
t/echo/echo.t ................ ok
t/factor/factor.t ............ ok
t/false/false.t .............. ok
# find2perl is at </Users/cpantesting/cpantesting/perl-blead/bin/find2perl>
t/find/find.t ................ ok
t/mimedecode/000.basic.t ..... ok
t/nl/nl.t .................... ok
t/rev/rev.t .................. ok
Duplicate specification "r" for option "r"
Duplicate specification "r" for option "r"
Duplicate specification "r" for option "r"
Duplicate specification "r" for option "r"
Duplicate specification "r" for option "r"
Duplicate specification "r" for option "r"
Duplicate specification "r" for option "r"
Duplicate specification "r" for option "r"
Duplicate specification "r" for option "r"
Duplicate specification "r" for option "r"
t/rm/process_options.t ....... ok
# Missing file error text is <No such file or directory>
Duplicate specification "r" for option "r"
Duplicate specification "r" for option "r"
Duplicate specification "r" for option "r"
Duplicate specification "r" for option "r"
Duplicate specification "r" for option "r"
Duplicate specification "r" for option "r"
Duplicate specification "r" for option "r"
Duplicate specification "r" for option "r"
Duplicate specification "r" for option "r"
Duplicate specification "r" for option "r"
t/rm/run.t ................... ok
t/robots/000.basic.t ......... ok
t/rot13/rot13.t .............. ok
t/seq/seq.t .................. ok
t/sort/sort.t ................ ok
t/true/true.t ................ ok
t/units/units.t .............. ok
t/uudecode/uudecode.t ........ ok
All tests successful.
Files=23, Tests=337, 15 wallclock secs ( 0.30 usr  0.09 sys + 10.76 cusr  2.88 csys = 14.03 CPU)
Result: PASS

------------------------------
PREREQUISITES
------------------------------

Prerequisite modules loaded:

requires:

    Module                Need  Have    
    --------------------- ----- --------
    App::a2p              0     1.013   
    App::find2perl        0     1.005   
    MIME::Parser          0     5.510   
    perl                  5.008 5.039006

build_requires:

    Module                Need  Have    
    --------------------- ----- --------
    IPC::Run3             0     0.048   
    Test::More            1     1.302195
    Test::Pod             0     1.52    
    Test::Warnings        0     0.032   

configure_requires:

    Module                Need  Have    
    --------------------- ----- --------
    ExtUtils::MakeMaker   6.64  7.70    
    File::Spec::Functions 0     3.91    


------------------------------
ENVIRONMENT AND OTHER CONTEXT
------------------------------

Environment variables:

    AUTOMATED_TESTING = 1
    NONINTERACTIVE_TESTING = 1
    PATH = /Users/cpantesting/perl5/perlbrew/bin:/Users/cpantesting/perl5/perlbrew/perls/perl-5.32.0/bin:/usr/local/bin:/System/Cryptexes/App/usr/bin:/usr/bin:/bin:/usr/sbin:/sbin:/Library/Apple/usr/bin:/Users/cpantesting/.cargo/bin
    PERL = blead
    PERL5LIB = 
    PERL5OPT = 
    PERL5_CPANPLUS_IS_RUNNING = 22311
    PERL5_CPAN_IS_RUNNING = 22311
    PERLBREW_HOME = /Users/cpantesting/.perlbrew
    PERLBREW_MANPATH = /Users/cpantesting/perl5/perlbrew/perls/perl-5.32.0/man
    PERLBREW_PATH = /Users/cpantesting/perl5/perlbrew/bin:/Users/cpantesting/perl5/perlbrew/perls/perl-5.32.0/bin
    PERLBREW_PERL = perl-5.32.0
    PERLBREW_ROOT = /Users/cpantesting/perl5/perlbrew
    PERLBREW_SHELLRC_VERSION = 0.94
    PERLBREW_VERSION = 0.94
    PERLVER = blead
    PERL_INLINE_DIRECTORY = /Users/cpantesting/.Inline-blead
    PERL_MM_USE_DEFAULT = 1
    PERL_USE_UNSAFE_INC = 0
    SHELL = /bin/bash
    TERM = screen

Perl special variables (and OS-specific diagnostics, for MSWin32):

    $^X = /Users/cpantesting/cpantesting/perl-blead/bin/perl5.39.6
    $UID/$EUID = 503 / 503
    $GID = 20 20 12 61 703 702 701 100
    $EGID = 20 20 12 61 703 702 701 100

Perl module toolchain versions installed:

    Module              Have    
    ------------------- --------
    CPAN                2.36    
    CPAN::Meta          2.150010
    Cwd                 3.90    
    ExtUtils::CBuilder  0.280240
    ExtUtils::Command   7.70    
    ExtUtils::Install   2.22    
    ExtUtils::MakeMaker 7.70    
    ExtUtils::Manifest  1.75    
    ExtUtils::ParseXS   3.51    
    File::Spec          3.90    
    JSON                n/a     
    JSON::PP            4.16    
    Module::Build       0.4234  
    Module::Signature   n/a     
    Parse::CPAN::Meta   2.150010
    Test2               1.302195
    Test::Harness       3.48    
    Test::More          1.302195
    YAML                n/a     
    YAML::Syck          n/a     
    version             0.9930  


--

Summary of my perl5 (revision 5 version 39 subversion 6) configuration:
  Commit id: b39dd1437776f3287197693df0c88a7a0bba3913
  Platform:
    osname=darwin
    osvers=22.3.0
    archname=darwin-2level
    uname='darwin harrow.local 22.3.0 darwin kernel version 22.3.0: mon jan 30 20:42:11 pst 2023; root:xnu-8792.81.3~2release_x86_64 x86_64 '
    config_args='-de -Dprefix=/Users/cpantesting/cpantesting/perl-blead -Dusedevel'
    hint=recommended
    useposix=true
    d_sigaction=define
    useithreads=undef
    usemultiplicity=undef
    use64bitint=define
    use64bitall=define
    uselongdouble=undef
    usemymalloc=n
    default_inc_excludes_dot=define
  Compiler:
    cc='cc'
    ccflags ='-fno-common -DPERL_DARWIN -mmacosx-version-min=13.2 -DNO_THREAD_SAFE_QUERYLOCALE -DNO_POSIX_2008_LOCALE -fno-strict-aliasing -pipe -fstack-protector-strong -I/usr/local/include'
    optimize='-O3'
    cppflags='-fno-common -DPERL_DARWIN -mmacosx-version-min=13.2 -DNO_THREAD_SAFE_QUERYLOCALE -DNO_POSIX_2008_LOCALE -fno-strict-aliasing -pipe -fstack-protector-strong -I/usr/local/include'
    ccversion=''
    gccversion='Apple LLVM 14.0.0 (clang-1400.0.29.202)'
    gccosandvers=''
    intsize=4
    longsize=8
    ptrsize=8
    doublesize=8
    byteorder=12345678
    doublekind=3
    d_longlong=define
    longlongsize=8
    d_longdbl=define
    longdblsize=16
    longdblkind=3
    ivtype='long'
    ivsize=8
    nvtype='double'
    nvsize=8
    Off_t='off_t'
    lseeksize=8
    alignbytes=8
    prototype=define
  Linker and Libraries:
    ld='cc'
    ldflags =' -mmacosx-version-min=13.2 -fstack-protector-strong -L/usr/local/lib'
    libpth=/usr/local/lib /Applications/Xcode.app/Contents/Developer/Toolchains/XcodeDefault.xctoolchain/usr/lib/clang/14.0.0/lib /Applications/Xcode.app/Contents/Developer/Platforms/MacOSX.platform/Developer/SDKs/MacOSX.sdk/usr/lib /Applications/Xcode.app/Contents/Developer/Toolchains/XcodeDefault.xctoolchain/usr/lib /usr/lib
    libs=-lgdbm
    perllibs=
    libc=
    so=dylib
    useshrplib=false
    libperl=libperl.a
    gnulibc_version=''
  Dynamic Linking:
    dlsrc=dl_dlopen.xs
    dlext=bundle
    d_dlsymun=undef
    ccdlflags=' '
    cccdlflags=' '
    lddlflags=' -mmacosx-version-min=13.2 -bundle -undefined dynamic_lookup -L/usr/local/lib -fstack-protector-strong'


Characteristics of this binary (from libperl): 
  Compile-time options:
    HAS_LONG_DOUBLE
    HAS_STRTOLD
    HAS_TIMES
    PERLIO_LAYERS
    PERL_COPY_ON_WRITE
    PERL_DONT_CREATE_GVSV
    PERL_HASH_FUNC_SIPHASH13
    PERL_HASH_USE_SBOX32
    PERL_MALLOC_WRAP
    PERL_OP_PARENT
    PERL_PRESERVE_IVUV
    PERL_USE_DEVEL
    PERL_USE_SAFE_PUTENV
    USE_64_BIT_ALL
    USE_64_BIT_INT
    USE_LARGE_FILES
    USE_LOCALE
    USE_LOCALE_COLLATE
    USE_LOCALE_CTYPE
    USE_LOCALE_NUMERIC
    USE_LOCALE_TIME
    USE_PERLIO
    USE_PERL_ATOF
  Built under darwin
  Compiled at Nov 24 2023 12:52:29
  %ENV:
    PERL="blead"
    PERL5LIB=""
    PERL5OPT=""
    PERL5_CPANPLUS_IS_RUNNING="22311"
    PERL5_CPAN_IS_RUNNING="22311"
    PERLBREW_HOME="/Users/cpantesting/.perlbrew"
    PERLBREW_MANPATH="/Users/cpantesting/perl5/perlbrew/perls/perl-5.32.0/man"
    PERLBREW_PATH="/Users/cpantesting/perl5/perlbrew/bin:/Users/cpantesting/perl5/perlbrew/perls/perl-5.32.0/bin"
    PERLBREW_PERL="perl-5.32.0"
    PERLBREW_ROOT="/Users/cpantesting/perl5/perlbrew"
    PERLBREW_SHELLRC_VERSION="0.94"
    PERLBREW_VERSION="0.94"
    PERLVER="blead"
    PERL_INLINE_DIRECTORY="/Users/cpantesting/.Inline-blead"
    PERL_MM_USE_DEFAULT="1"
    PERL_USE_UNSAFE_INC="0"
  @INC:
    /Users/cpantesting/cpantesting/perl-blead/lib/site_perl/5.39.6/darwin-2level
    /Users/cpantesting/cpantesting/perl-blead/lib/site_perl/5.39.6
    /Users/cpantesting/cpantesting/perl-blead/lib/5.39.6/darwin-2level
    /Users/cpantesting/cpantesting/perl-blead/lib/5.39.6