CatalystX-OAuth2 v0.001009 Perl 5 v5.18.2 amd64-freebsd

Status
Pass
From
Slaven Rezić (SREZIC)
Dist
CatalystX-OAuth2 v0.001009
Platform
Perl 5 v5.18.2 amd64-freebsd
Date
2017-12-13 02:26:07
ID
f9d2fb08-dfac-11e7-af94-f6dc632777ce
This distribution has been tested as part of the CPAN Testers
project, supporting the Perl programming language.  See
http://wiki.cpantesters.org/ for more information or email
questions to cpan-testers-discuss@perl.org


--
Dear John Napiorkowski,

This is a computer-generated report for CatalystX-OAuth2-0.001009
on perl 5.18.2, created by CPAN-Reporter-1.2018.

Thank you for uploading your work to CPAN.  Congratulations!
All tests were successful.

Sections of this report:

    * Tester comments
    * Program output
    * Prerequisites
    * Environment and other context

------------------------------
TESTER COMMENTS
------------------------------

Additional comments from tester:

none provided

------------------------------
PROGRAM OUTPUT
------------------------------

Output from '/usr/bin/make test':

PERL_DL_NONLAZY=1 "/usr/perl5.18.2/bin/perl" "-MExtUtils::Command::MM" "-MTest::Harness" "-e" "undef *Test::Harness::Switches; test_harness(0, 'blib/lib', 'blib/arch')" t/*.t t/integration/*.t t/unit/*.t
t/00-compile.t ........................................ ok
t/author-pod-syntax.t ................................. skipped: these tests are for testing by the author
t/author-synopsis.t ................................... skipped: these tests are for testing by the author
Cookie::Baker::XS 0.08 is require. fallback to PP version at /usr/perl5.18.2/lib/site_perl/5.18.2/Cookie/Baker.pm line 17.
t/integration/100-client-access-protected-resource.t .. ok
Cookie::Baker::XS 0.08 is require. fallback to PP version at /usr/perl5.18.2/lib/site_perl/5.18.2/Cookie/Baker.pm line 17.
[error] Attribute (client_id) is required at /usr/perl5.18.2/lib/site_perl/5.18.2/amd64-freebsd/Moose/Object.pm line 24
	Moose::Object::new('CatalystX::OAuth2::Request::RequestAuth') called at /usr/home/eserte/.cpan/build/2017121303/CatalystX-OAuth2-0.001009-0/blib/lib/Catalyst/ActionRole/OAuth2/RequestAuth.pm line 21
	Catalyst::ActionRole::OAuth2::RequestAuth::try {...}  at /usr/perl5.18.2/lib/site_perl/5.18.2/Try/Tiny.pm line 103
	eval {...} at /usr/perl5.18.2/lib/site_perl/5.18.2/Try/Tiny.pm line 94
	Try::Tiny::try('CODE(0x4c180c18)', 'Try::Tiny::Catch=REF(0x4c17b810)') called at /usr/home/eserte/.cpan/build/2017121303/CatalystX-OAuth2-0.001009-0/blib/lib/Catalyst/ActionRole/OAuth2/RequestAuth.pm line 31
	Catalyst::ActionRole::OAuth2::RequestAuth::build_oauth2_request('Moose::Meta::Class::__ANON__::SERIAL::11=HASH(0x4be9d960)', 'AuthServer::Controller::OAuth2::Provider=HASH(0x4bd051e0)', 'AuthServer=HASH(0x4c0c19c0)') called at /usr/home/eserte/.cpan/build/2017121303/CatalystX-OAuth2-0.001009-0/blib/lib/CatalystX/OAuth2/ActionRole/RequestInjector.pm line 17
	Class::MOP::Class:::before('Moose::Meta::Class::__ANON__::SERIAL::11=HASH(0x4be9d960)', 'AuthServer::Controller::OAuth2::Provider=HASH(0x4bd051e0)', 'AuthServer=HASH(0x4c0c19c0)') called at /usr/perl5.18.2/lib/site_perl/5.18.2/amd64-freebsd/Class/MOP/Method/Wrapped.pm line 27
	Moose::Meta::Class::__ANON__::SERIAL::11::_wrapped_execute('Moose::Meta::Class::__ANON__::SERIAL::11=HASH(0x4be9d960)', 'AuthServer::Controller::OAuth2::Provider=HASH(0x4bd051e0)', 'AuthServer=HASH(0x4c0c19c0)') called at /usr/perl5.18.2/lib/site_perl/5.18.2/amd64-freebsd/Class/MOP/Method/Wrapped.pm line 95
	Moose::Meta::Class::__ANON__::SERIAL::11::execute('Moose::Meta::Class::__ANON__::SERIAL::11=HASH(0x4be9d960)', 'AuthServer::Controller::OAuth2::Provider=HASH(0x4bd051e0)', 'AuthServer=HASH(0x4c0c19c0)') called at /usr/perl5.18.2/lib/site_perl/5.18.2/Catalyst.pm line 2052
	eval {...} at /usr/perl5.18.2/lib/site_perl/5.18.2/Catalyst.pm line 2052
	Catalyst::execute('AuthServer=HASH(0x4c0c19c0)', 'AuthServer::Controller::OAuth2::Provider', 'Moose::Meta::Class::__ANON__::SERIAL::11=HASH(0x4be9d960)') called at /usr/perl5.18.2/lib/site_perl/5.18.2/Catalyst/Action.pm line 353
	Catalyst::Action::dispatch('Moose::Meta::Class::__ANON__::SERIAL::11=HASH(0x4be9d960)', 'AuthServer=HASH(0x4c0c19c0)') called at /usr/perl5.18.2/lib/site_perl/5.18.2/Catalyst/ActionChain.pm line 46
	Catalyst::ActionChain::dispatch('Catalyst::ActionChain=HASH(0x4c17d6f0)', 'AuthServer=HASH(0x4c0c19c0)') called at /usr/perl5.18.2/lib/site_perl/5.18.2/Catalyst/Controller.pm line 171
	Catalyst::Controller::_ACTION('AuthServer::Controller::OAuth2::Provider=HASH(0x4bd051e0)', 'AuthServer=HASH(0x4c0c19c0)') called at /usr/perl5.18.2/lib/site_perl/5.18.2/Catalyst/Action.pm line 358
	Catalyst::Action::execute('Catalyst::Action=HASH(0x4bd273f0)', 'AuthServer::Controller::OAuth2::Provider=HASH(0x4bd051e0)', 'AuthServer=HASH(0x4c0c19c0)') called at /usr/perl5.18.2/lib/site_perl/5.18.2/Catalyst.pm line 2052
	eval {...} at /usr/perl5.18.2/lib/site_perl/5.18.2/Catalyst.pm line 2052
	Catalyst::execute('AuthServer=HASH(0x4c0c19c0)', 'AuthServer::Controller::OAuth2::Provider', 'Catalyst::Action=HASH(0x4bd273f0)') called at /usr/perl5.18.2/lib/site_perl/5.18.2/Catalyst/Action.pm line 353
	Catalyst::Action::dispatch('Catalyst::Action=HASH(0x4bd273f0)', 'AuthServer=HASH(0x4c0c19c0)') called at /usr/perl5.18.2/lib/site_perl/5.18.2/Catalyst/Dispatcher.pm line 262
	Catalyst::Dispatcher::_do_forward('Catalyst::Dispatcher=HASH(0x4792a9d8)', 'forward', 'AuthServer=HASH(0x4c0c19c0)', '_ACTION') called at /usr/perl5.18.2/lib/site_perl/5.18.2/Catalyst/Dispatcher.pm line 242
	Catalyst::Dispatcher::forward('Catalyst::Dispatcher=HASH(0x4792a9d8)', 'AuthServer=HASH(0x4c0c19c0)', '_ACTION') called at /usr/perl5.18.2/lib/site_perl/5.18.2/Catalyst.pm line 477
	Catalyst::forward('AuthServer=HASH(0x4c0c19c0)', '_ACTION') called at /usr/perl5.18.2/lib/site_perl/5.18.2/Catalyst/Controller.pm line 135
	Catalyst::Controller::_DISPATCH('AuthServer::Controller::OAuth2::Provider=HASH(0x4bd051e0)', 'AuthServer=HASH(0x4c0c19c0)') called at /usr/perl5.18.2/lib/site_perl/5.18.2/Catalyst/Action.pm line 358
	Catalyst::Action::execute('Catalyst::Action=HASH(0x4bdb9a50)', 'AuthServer::Controller::OAuth2::Provider=HASH(0x4bd051e0)', 'AuthServer=HASH(0x4c0c19c0)') called at /usr/perl5.18.2/lib/site_perl/5.18.2/Catalyst.pm line 2052
	eval {...} at /usr/perl5.18.2/lib/site_perl/5.18.2/Catalyst.pm line 2052
	Catalyst::execute('AuthServer=HASH(0x4c0c19c0)', 'AuthServer::Controller::OAuth2::Provider', 'Catalyst::Action=HASH(0x4bdb9a50)') called at /usr/perl5.18.2/lib/site_perl/5.18.2/Catalyst/Action.pm line 353
	Catalyst::Action::dispatch('Catalyst::Action=HASH(0x4bdb9a50)', 'AuthServer=HASH(0x4c0c19c0)') called at /usr/perl5.18.2/lib/site_perl/5.18.2/Catalyst/Dispatcher.pm line 262
	Catalyst::Dispatcher::_do_forward('Catalyst::Dispatcher=HASH(0x4792a9d8)', 'forward', 'AuthServer=HASH(0x4c0c19c0)', '/oauth2/provider/_DISPATCH') called at /usr/perl5.18.2/lib/site_perl/5.18.2/Catalyst/Dispatcher.pm line 242
	Catalyst::Dispatcher::forward('Catalyst::Dispatcher=HASH(0x4792a9d8)', 'AuthServer=HASH(0x4c0c19c0)', '/oauth2/provider/_DISPATCH') called at /usr/perl5.18.2/lib/site_perl/5.18.2/Catalyst.pm line 477
	Catalyst::forward('AuthServer=HASH(0x4c0c19c0)', '/oauth2/provider/_DISPATCH') called at /usr/perl5.18.2/lib/site_perl/5.18.2/Catalyst/Dispatcher.pm line 107
	Catalyst::Dispatcher::dispatch('Catalyst::Dispatcher=HASH(0x4792a9d8)', 'AuthServer=HASH(0x4c0c19c0)') called at /usr/perl5.18.2/lib/site_perl/5.18.2/Catalyst.pm line 1998
	Catalyst::dispatch('AuthServer=HASH(0x4c0c19c0)') called at /usr/perl5.18.2/lib/site_perl/5.18.2/amd64-freebsd/Class/MOP/Method/Wrapped.pm line 50
	AuthServer::_wrapped_dispatch('AuthServer=HASH(0x4c0c19c0)') called at /usr/perl5.18.2/lib/site_perl/5.18.2/amd64-freebsd/Class/MOP/Method/Wrapped.pm line 95
	AuthServer::dispatch('AuthServer=HASH(0x4c0c19c0)') called at /usr/perl5.18.2/lib/site_perl/5.18.2/Catalyst.pm line 2393
	Catalyst::try {...}  at /usr/perl5.18.2/lib/site_perl/5.18.2/Try/Tiny.pm line 103
	eval {...} at /usr/perl5.18.2/lib/site_perl/5.18.2/Try/Tiny.pm line 94
	Try::Tiny::try('CODE(0x4c179240)', 'Try::Tiny::Catch=REF(0x4c1791b0)') called at /usr/perl5.18.2/lib/site_perl/5.18.2/Catalyst.pm line 2402
	Catalyst::handle_request('AuthServer', 'env', 'HASH(0x4b8e1d08)', 'response_cb', 'CODE(0x4c179270)') called at /usr/perl5.18.2/lib/site_perl/5.18.2/Catalyst/Engine.pm line 800
	Catalyst::Engine::__ANON__('CODE(0x4c179270)') called at /usr/perl5.18.2/lib/site_perl/5.18.2/Plack/Middleware/HTTPExceptions.pm line 32
	Plack::Middleware::HTTPExceptions::try {...}  at /usr/perl5.18.2/lib/site_perl/5.18.2/Try/Tiny.pm line 103
	eval {...} at /usr/perl5.18.2/lib/site_perl/5.18.2/Try/Tiny.pm line 94
	Try::Tiny::try('CODE(0x4c175fa8)', 'Try::Tiny::Catch=REF(0x4ae60fc0)') called at /usr/perl5.18.2/lib/site_perl/5.18.2/Plack/Middleware/HTTPExceptions.pm line 41
	Plack::Middleware::HTTPExceptions::__ANON__('CODE(0x4c175ea0)') called at /usr/perl5.18.2/lib/site_perl/5.18.2/Plack/Util.pm line 339
	Plack::Util::__ANON__('CODE(0x4c175d98)') called at /usr/perl5.18.2/lib/site_perl/5.18.2/Plack/Util.pm line 339
	Plack::Util::__ANON__('CODE(0x4c175c90)') called at /usr/perl5.18.2/lib/site_perl/5.18.2/Plack/Util.pm line 339
	Plack::Util::__ANON__('CODE(0x4c175c18)') called at /usr/perl5.18.2/lib/site_perl/5.18.2/HTTP/Message/PSGI.pm line 100
	HTTP::Message::PSGI::res_from_psgi('CODE(0x4bc22b58)') called at /usr/perl5.18.2/lib/site_perl/5.18.2/HTTP/Message/PSGI.pm line 156
	HTTP::Response::from_psgi('HTTP::Response', 'CODE(0x4bc22b58)') called at /usr/perl5.18.2/lib/site_perl/5.18.2/Plack/Test/MockHTTP.pm line 24
	Plack::Test::MockHTTP::try {...}  at /usr/perl5.18.2/lib/site_perl/5.18.2/Try/Tiny.pm line 98
	eval {...} at /usr/perl5.18.2/lib/site_perl/5.18.2/Try/Tiny.pm line 94
	Try::Tiny::try('CODE(0x4add2090)', 'Try::Tiny::Catch=REF(0x4c0c2798)') called at /usr/perl5.18.2/lib/site_perl/5.18.2/Plack/Test/MockHTTP.pm line 27
	Plack::Test::MockHTTP::request('Plack::Test::MockHTTP=HASH(0x4c0c82e8)', 'HTTP::Request=HASH(0x4c0c5e28)') called at /usr/perl5.18.2/lib/site_perl/5.18.2/Plack/Test.pm line 38
	Plack::Test::__ANON__('HTTP::Request=HASH(0x4c0c5e28)') called at /usr/perl5.18.2/lib/site_perl/5.18.2/Catalyst/Test.pm line 281
	Catalyst::Test::__ANON__('CODE(0x4c0c8150)') called at /usr/perl5.18.2/lib/site_perl/5.18.2/Plack/Test.pm line 38
	Plack::Test::test_psgi('app', 'CODE(0x4c0c2cf0)', 'mangle_response', 'CODE(0x4c0a3f60)', 'app', 'CODE(0x4c0c5f60)', 'client', 'CODE(0x4c0c8030)') called at /usr/perl5.18.2/lib/site_perl/5.18.2/Catalyst/Test.pm line 284
	Catalyst::Test::_request('HASH(0x4bd137c8)', '/request') called at /usr/perl5.18.2/lib/site_perl/5.18.2/Catalyst/Test.pm line 327
	Catalyst::Test::_local_request('AuthServer', '/request') called at /usr/perl5.18.2/lib/site_perl/5.18.2/Catalyst/Test.pm line 32
	Catalyst::Test::__ANON__('/request') called at /usr/perl5.18.2/lib/site_perl/5.18.2/Catalyst/Test.pm line 72
	Catalyst::Test::__ANON__('/request') called at t/unit/100-controller-role-provider.t line 30
bless( {
  "Plugin::ConfigLoader" => {},
  action => bless( {
    args_constraints => [],
    attributes => {
      Args => [
        0,
      ],
      Chained => [
        "/oauth2/provider/base",
      ],
      Does => [
        "Catalyst::ActionRole::OAuth2::RequestAuth",
      ],
      PathPart => [
        bless( do{\(my $o = "request")}, 'URI::_generic' ),
      ],
    },
    chain => [
      bless( {
        attributes => {
          CaptureArgs => [
            0,
          ],
          Chained => [
            "/",
          ],
          PathPart => [
            bless( do{\(my $o = "")}, 'URI::_generic' ),
          ],
        },
        class => "AuthServer::Controller::OAuth2::Provider",
        code => sub {
            package AuthServer::Controller::OAuth2::Provider;
            use warnings;
            use strict;
            
        },
        name => "base",
        namespace => "oauth2/provider",
        number_of_captures => 0,
        reverse => "oauth2/provider/base",
      }, 'Catalyst::Action' ),
      bless( {
        args_constraints => $VAR1->{action}{args_constraints},
        attributes => $VAR1->{action}{attributes},
        class => "AuthServer::Controller::OAuth2::Provider",
        code => sub {
            package AuthServer::Controller::OAuth2::Provider;
            use warnings;
            use strict;
            
        },
        enable_client_secret => 0,
        name => "request",
        namespace => "oauth2/provider",
        number_of_args => 0,
        reverse => "oauth2/provider/request",
      }, 'Moose::Meta::Class::__ANON__::SERIAL::11' ),
    ],
    class => "AuthServer::Controller::OAuth2::Provider",
    code => $VAR1->{action}{chain}[1]{code},
    enable_client_secret => 0,
    name => "request",
    namespace => "oauth2/provider",
    number_of_args => 0,
    reverse => "oauth2/provider/request",
  }, 'Catalyst::ActionChain' ),
  counter => {},
  home => "/usr/home/eserte/.cpan/build/2017121303/CatalystX-OAuth2-0.001009-0/t/lib/AuthServer",
  namespace => "oauth2/provider",
  request => bless( {
    _body => 0,
    _log => bless( {
      _body => undef,
      _psgi_errors => *::STDERR,
      abort => undef,
      autoflush => 1,
      level => 31,
    }, 'Catalyst::Log' ),
    _path => "request",
    _read_length => 0,
    _read_position => 0,
    _use_hash_multivalue => 0,
    action => "/oauth2/provider/request",
    address => "127.0.0.1",
    arguments => [],
    base => bless( do{\(my $o = "http://localhost/")}, 'URI::http' ),
    body_parameters => {},
    captures => [],
    cookies => {},
    data_handlers => {
      "application/json" => sub {
          package Catalyst;
          use warnings;
          use strict;
          my($fh, $req) = @_;
          my $parser = Class::Load::load_first_existing_class('JSON::MaybeXS', 'JSON');
          my $slurped;
          return eval {
              do {
                  local $/;
                  $slurped = $fh->getline;
                  $parser->can('decode_json')->($slurped)
              }
          } || 'Catalyst::Exception'->throw(sprintf(q[Error Parsing POST '%s', Error: %s], defined $slurped ? $slurped : 'undef', $@));
      },
      "application/x-www-form-urlencoded" => sub {
          package Catalyst;
          use warnings;
          use strict;
          my($fh, $req) = @_;
          my $params = $req->_use_hash_multivalue ? $req->body_parameters->mixed : $req->body_parameters;
          Class::Load::load_first_existing_class('CGI::Struct::XS', 'CGI::Struct')->can('build_cgi_struct')->($params);
      },
    },
    env => {
      CONTENT_LENGTH => 0,
      "Catalyst.Stash.v2" => sub {
          package Catalyst::Middleware::Stash;
          use warnings;
          use strict;
          if (@_) {
              my $new_stash = @_ > 1 ? {@_} : $_[0];
              croak('stash takes a hash or hashref') unless ref $new_stash;
              foreach my $key (keys %$new_stash) {
                  $$stash{$key} = $$new_stash{$key};
              }
          }
          $stash;
      },
      HTTP_HOST => "localhost",
      PATH_INFO => "/request",
      QUERY_STRING => "",
      REMOTE_ADDR => "127.0.0.1",
      REMOTE_HOST => "localhost",
      REMOTE_PORT => 35605,
      REQUEST_METHOD => "GET",
      REQUEST_URI => "/request",
      SCRIPT_NAME => "",
      SERVER_NAME => "localhost",
      SERVER_PORT => 80,
      SERVER_PROTOCOL => "HTTP/1.1",
      "plack.original_request_method" => "GET",
      "psgi.errors" => *::STDERR,
      "psgi.input" => \*{"HTTP::Message::PSGI::\$input"},
      "psgi.multiprocess" => "",
      "psgi.multithread" => "",
      "psgi.nonblocking" => "",
      "psgi.run_once" => 1,
      "psgi.streaming" => 1,
      "psgi.url_scheme" => "http",
      "psgi.version" => [
        1,
        1,
      ],
    },
    headers => bless( {
      "::std_case" => {
        cookie => "Cookie",
      },
      "content-length" => 0,
      host => "localhost",
    }, 'HTTP::Headers' ),
    hostname => "localhost",
    match => "/oauth2/provider/request",
    method => "GET",
    parameters => {},
    protocol => "HTTP/1.1",
    query_keywords => "",
    query_parameters => {},
    remote_user => undef,
    secure => 0,
    uploads => {},
    uri => bless( do{\(my $o = "http://localhost/request")}, 'URI::http' ),
  }, 'Catalyst::Request' ),
  response => bless( {
    _context => $VAR1,
    _log => $VAR1->{request}{_log},
    body => "warning: response_type/client_id invalid or missing",
    cookies => {},
    encodable_content_type => qr/text|xml$|javascript$/,
    encoding => bless( {
      Name => "utf-8-strict",
      strict_utf8 => 1,
    }, 'Encode::utf8' ),
    finalized_headers => 1,
    headers => bless( {}, 'HTTP::Headers' ),
    status => 200,
  }, 'Catalyst::Response' ),
  root => bless( {
    dirs => [
      "",
      "usr",
      "home",
      "eserte",
      ".cpan",
      "build",
      "2017121303",
      "CatalystX-OAuth2-0.001009-0",
      "t",
      "lib",
      "AuthServer",
      "root",
    ],
    file_spec_class => undef,
    volume => "",
  }, 'Path::Class::Dir' ),
  stack => [],
  stash => {},
  state => 1,
  stats => bless( {
    enable => 0,
    tree => bless( {
      _children => [],
      _depth => -1,
      _height => 1,
      _node => {
        t => [
          "1513131904",
          833729,
        ],
      },
      _parent => "root",
      _uid => "0x4c179cc0",
      _width => 1,
    }, 'Tree::Simple' ),
  }, 'Catalyst::Stats' ),
}, 'AuthServer' )
t/unit/100-controller-role-provider.t ................. ok
Cookie::Baker::XS 0.08 is require. fallback to PP version at /usr/perl5.18.2/lib/site_perl/5.18.2/Cookie/Baker.pm line 17.
[error] Attribute (response_type) is required at /usr/perl5.18.2/lib/site_perl/5.18.2/amd64-freebsd/Moose/Object.pm line 24
	Moose::Object::new('CatalystX::OAuth2::Request::RequestAuth') called at /usr/home/eserte/.cpan/build/2017121303/CatalystX-OAuth2-0.001009-0/blib/lib/Catalyst/ActionRole/OAuth2/RequestAuth.pm line 21
	Catalyst::ActionRole::OAuth2::RequestAuth::try {...}  at /usr/perl5.18.2/lib/site_perl/5.18.2/Try/Tiny.pm line 103
	eval {...} at /usr/perl5.18.2/lib/site_perl/5.18.2/Try/Tiny.pm line 94
	Try::Tiny::try('CODE(0x4c0f0780)', 'Try::Tiny::Catch=REF(0x4c0ea348)') called at /usr/home/eserte/.cpan/build/2017121303/CatalystX-OAuth2-0.001009-0/blib/lib/Catalyst/ActionRole/OAuth2/RequestAuth.pm line 31
	Catalyst::ActionRole::OAuth2::RequestAuth::build_oauth2_request('Moose::Meta::Class::__ANON__::SERIAL::11=HASH(0x4be30b28)', 'AuthServer::Controller::OAuth2::Provider=HASH(0x4bd17e58)', 'AuthServer=HASH(0x4c0c3888)') called at /usr/home/eserte/.cpan/build/2017121303/CatalystX-OAuth2-0.001009-0/blib/lib/CatalystX/OAuth2/ActionRole/RequestInjector.pm line 17
	Class::MOP::Class:::before('Moose::Meta::Class::__ANON__::SERIAL::11=HASH(0x4be30b28)', 'AuthServer::Controller::OAuth2::Provider=HASH(0x4bd17e58)', 'AuthServer=HASH(0x4c0c3888)') called at /usr/perl5.18.2/lib/site_perl/5.18.2/amd64-freebsd/Class/MOP/Method/Wrapped.pm line 27
	Moose::Meta::Class::__ANON__::SERIAL::11::_wrapped_execute('Moose::Meta::Class::__ANON__::SERIAL::11=HASH(0x4be30b28)', 'AuthServer::Controller::OAuth2::Provider=HASH(0x4bd17e58)', 'AuthServer=HASH(0x4c0c3888)') called at /usr/perl5.18.2/lib/site_perl/5.18.2/amd64-freebsd/Class/MOP/Method/Wrapped.pm line 95
	Moose::Meta::Class::__ANON__::SERIAL::11::execute('Moose::Meta::Class::__ANON__::SERIAL::11=HASH(0x4be30b28)', 'AuthServer::Controller::OAuth2::Provider=HASH(0x4bd17e58)', 'AuthServer=HASH(0x4c0c3888)') called at /usr/perl5.18.2/lib/site_perl/5.18.2/Catalyst.pm line 2052
	eval {...} at /usr/perl5.18.2/lib/site_perl/5.18.2/Catalyst.pm line 2052
	Catalyst::execute('AuthServer=HASH(0x4c0c3888)', 'AuthServer::Controller::OAuth2::Provider', 'Moose::Meta::Class::__ANON__::SERIAL::11=HASH(0x4be30b28)') called at /usr/perl5.18.2/lib/site_perl/5.18.2/Catalyst/Action.pm line 353
	Catalyst::Action::dispatch('Moose::Meta::Class::__ANON__::SERIAL::11=HASH(0x4be30b28)', 'AuthServer=HASH(0x4c0c3888)') called at /usr/perl5.18.2/lib/site_perl/5.18.2/Catalyst/ActionChain.pm line 46
	Catalyst::ActionChain::dispatch('Catalyst::ActionChain=HASH(0x4c0ec228)', 'AuthServer=HASH(0x4c0c3888)') called at /usr/perl5.18.2/lib/site_perl/5.18.2/Catalyst/Controller.pm line 171
	Catalyst::Controller::_ACTION('AuthServer::Controller::OAuth2::Provider=HASH(0x4bd17e58)', 'AuthServer=HASH(0x4c0c3888)') called at /usr/perl5.18.2/lib/site_perl/5.18.2/Catalyst/Action.pm line 358
	Catalyst::Action::execute('Catalyst::Action=HASH(0x4bd971f8)', 'AuthServer::Controller::OAuth2::Provider=HASH(0x4bd17e58)', 'AuthServer=HASH(0x4c0c3888)') called at /usr/perl5.18.2/lib/site_perl/5.18.2/Catalyst.pm line 2052
	eval {...} at /usr/perl5.18.2/lib/site_perl/5.18.2/Catalyst.pm line 2052
	Catalyst::execute('AuthServer=HASH(0x4c0c3888)', 'AuthServer::Controller::OAuth2::Provider', 'Catalyst::Action=HASH(0x4bd971f8)') called at /usr/perl5.18.2/lib/site_perl/5.18.2/Catalyst/Action.pm line 353
	Catalyst::Action::dispatch('Catalyst::Action=HASH(0x4bd971f8)', 'AuthServer=HASH(0x4c0c3888)') called at /usr/perl5.18.2/lib/site_perl/5.18.2/Catalyst/Dispatcher.pm line 262
	Catalyst::Dispatcher::_do_forward('Catalyst::Dispatcher=HASH(0x47937810)', 'forward', 'AuthServer=HASH(0x4c0c3888)', '_ACTION') called at /usr/perl5.18.2/lib/site_perl/5.18.2/Catalyst/Dispatcher.pm line 242
	Catalyst::Dispatcher::forward('Catalyst::Dispatcher=HASH(0x47937810)', 'AuthServer=HASH(0x4c0c3888)', '_ACTION') called at /usr/perl5.18.2/lib/site_perl/5.18.2/Catalyst.pm line 477
	Catalyst::forward('AuthServer=HASH(0x4c0c3888)', '_ACTION') called at /usr/perl5.18.2/lib/site_perl/5.18.2/Catalyst/Controller.pm line 135
	Catalyst::Controller::_DISPATCH('AuthServer::Controller::OAuth2::Provider=HASH(0x4bd17e58)', 'AuthServer=HASH(0x4c0c3888)') called at /usr/perl5.18.2/lib/site_perl/5.18.2/Catalyst/Action.pm line 358
	Catalyst::Action::execute('Catalyst::Action=HASH(0x4bd809d8)', 'AuthServer::Controller::OAuth2::Provider=HASH(0x4bd17e58)', 'AuthServer=HASH(0x4c0c3888)') called at /usr/perl5.18.2/lib/site_perl/5.18.2/Catalyst.pm line 2052
	eval {...} at /usr/perl5.18.2/lib/site_perl/5.18.2/Catalyst.pm line 2052
	Catalyst::execute('AuthServer=HASH(0x4c0c3888)', 'AuthServer::Controller::OAuth2::Provider', 'Catalyst::Action=HASH(0x4bd809d8)') called at /usr/perl5.18.2/lib/site_perl/5.18.2/Catalyst/Action.pm line 353
	Catalyst::Action::dispatch('Catalyst::Action=HASH(0x4bd809d8)', 'AuthServer=HASH(0x4c0c3888)') called at /usr/perl5.18.2/lib/site_perl/5.18.2/Catalyst/Dispatcher.pm line 262
	Catalyst::Dispatcher::_do_forward('Catalyst::Dispatcher=HASH(0x47937810)', 'forward', 'AuthServer=HASH(0x4c0c3888)', '/oauth2/provider/_DISPATCH') called at /usr/perl5.18.2/lib/site_perl/5.18.2/Catalyst/Dispatcher.pm line 242
	Catalyst::Dispatcher::forward('Catalyst::Dispatcher=HASH(0x47937810)', 'AuthServer=HASH(0x4c0c3888)', '/oauth2/provider/_DISPATCH') called at /usr/perl5.18.2/lib/site_perl/5.18.2/Catalyst.pm line 477
	Catalyst::forward('AuthServer=HASH(0x4c0c3888)', '/oauth2/provider/_DISPATCH') called at /usr/perl5.18.2/lib/site_perl/5.18.2/Catalyst/Dispatcher.pm line 107
	Catalyst::Dispatcher::dispatch('Catalyst::Dispatcher=HASH(0x47937810)', 'AuthServer=HASH(0x4c0c3888)') called at /usr/perl5.18.2/lib/site_perl/5.18.2/Catalyst.pm line 1998
	Catalyst::dispatch('AuthServer=HASH(0x4c0c3888)') called at /usr/perl5.18.2/lib/site_perl/5.18.2/amd64-freebsd/Class/MOP/Method/Wrapped.pm line 50
	AuthServer::_wrapped_dispatch('AuthServer=HASH(0x4c0c3888)') called at /usr/perl5.18.2/lib/site_perl/5.18.2/amd64-freebsd/Class/MOP/Method/Wrapped.pm line 95
	AuthServer::dispatch('AuthServer=HASH(0x4c0c3888)') called at /usr/perl5.18.2/lib/site_perl/5.18.2/Catalyst.pm line 2393
	Catalyst::try {...}  at /usr/perl5.18.2/lib/site_perl/5.18.2/Try/Tiny.pm line 103
	eval {...} at /usr/perl5.18.2/lib/site_perl/5.18.2/Try/Tiny.pm line 94
	Try::Tiny::try('CODE(0x4c0e7d50)', 'Try::Tiny::Catch=REF(0x4c0e7cc0)') called at /usr/perl5.18.2/lib/site_perl/5.18.2/Catalyst.pm line 2402
	Catalyst::handle_request('AuthServer', 'env', 'HASH(0x4aed56a8)', 'response_cb', 'CODE(0x4c0e7d80)') called at /usr/perl5.18.2/lib/site_perl/5.18.2/Catalyst/Engine.pm line 800
	Catalyst::Engine::__ANON__('CODE(0x4c0e7d80)') called at /usr/perl5.18.2/lib/site_perl/5.18.2/Plack/Middleware/HTTPExceptions.pm line 32
	Plack::Middleware::HTTPExceptions::try {...}  at /usr/perl5.18.2/lib/site_perl/5.18.2/Try/Tiny.pm line 103
	eval {...} at /usr/perl5.18.2/lib/site_perl/5.18.2/Try/Tiny.pm line 94
	Try::Tiny::try('CODE(0x4c0e7ae0)', 'Try::Tiny::Catch=REF(0x4bd20768)') called at /usr/perl5.18.2/lib/site_perl/5.18.2/Plack/Middleware/HTTPExceptions.pm line 41
	Plack::Middleware::HTTPExceptions::__ANON__('CODE(0x4c0e79d8)') called at /usr/perl5.18.2/lib/site_perl/5.18.2/Plack/Util.pm line 339
	Plack::Util::__ANON__('CODE(0x4c0e78d0)') called at /usr/perl5.18.2/lib/site_perl/5.18.2/Plack/Util.pm line 339
	Plack::Util::__ANON__('CODE(0x4c0e77c8)') called at /usr/perl5.18.2/lib/site_perl/5.18.2/Plack/Util.pm line 339
	Plack::Util::__ANON__('CODE(0x4c0e7750)') called at /usr/perl5.18.2/lib/site_perl/5.18.2/HTTP/Message/PSGI.pm line 100
	HTTP::Message::PSGI::res_from_psgi('CODE(0x4bb656d8)') called at /usr/perl5.18.2/lib/site_perl/5.18.2/HTTP/Message/PSGI.pm line 156
	HTTP::Response::from_psgi('HTTP::Response', 'CODE(0x4bb656d8)') called at /usr/perl5.18.2/lib/site_perl/5.18.2/Plack/Test/MockHTTP.pm line 24
	Plack::Test::MockHTTP::try {...}  at /usr/perl5.18.2/lib/site_perl/5.18.2/Try/Tiny.pm line 98
	eval {...} at /usr/perl5.18.2/lib/site_perl/5.18.2/Try/Tiny.pm line 94
	Try::Tiny::try('CODE(0x4c0cae70)', 'Try::Tiny::Catch=REF(0x4c0c6168)') called at /usr/perl5.18.2/lib/site_perl/5.18.2/Plack/Test/MockHTTP.pm line 27
	Plack::Test::MockHTTP::request('Plack::Test::MockHTTP=HASH(0x4c0caca8)', 'HTTP::Request=HASH(0x4c0ca7f8)') called at /usr/perl5.18.2/lib/site_perl/5.18.2/Plack/Test.pm line 38
	Plack::Test::__ANON__('HTTP::Request=HASH(0x4c0ca7f8)') called at /usr/perl5.18.2/lib/site_perl/5.18.2/Catalyst/Test.pm line 281
	Catalyst::Test::__ANON__('CODE(0x4c0caaf8)') called at /usr/perl5.18.2/lib/site_perl/5.18.2/Plack/Test.pm line 38
	Plack::Test::test_psgi('app', 'CODE(0x4c0c66c0)', 'mangle_response', 'CODE(0x456eef00)', 'app', 'CODE(0x4c0ca930)', 'client', 'CODE(0x4c0ca9d8)') called at /usr/perl5.18.2/lib/site_perl/5.18.2/Catalyst/Test.pm line 284
	Catalyst::Test::_request('HASH(0x4bda45d0)', '/request') called at /usr/perl5.18.2/lib/site_perl/5.18.2/Catalyst/Test.pm line 327
	Catalyst::Test::_local_request('AuthServer', '/request') called at /usr/perl5.18.2/lib/site_perl/5.18.2/Catalyst/Test.pm line 32
	Catalyst::Test::__ANON__('/request') called at /usr/perl5.18.2/lib/site_perl/5.18.2/Catalyst/Test.pm line 72
	Catalyst::Test::__ANON__('/request') called at t/unit/200-actionrole-request-auth.t line 15
[error] Attribute (client_id) is required at /usr/perl5.18.2/lib/site_perl/5.18.2/amd64-freebsd/Moose/Object.pm line 24
	Moose::Object::new('CatalystX::OAuth2::Request::RequestAuth') called at /usr/home/eserte/.cpan/build/2017121303/CatalystX-OAuth2-0.001009-0/blib/lib/Catalyst/ActionRole/OAuth2/RequestAuth.pm line 21
	Catalyst::ActionRole::OAuth2::RequestAuth::try {...}  at /usr/perl5.18.2/lib/site_perl/5.18.2/Try/Tiny.pm line 103
	eval {...} at /usr/perl5.18.2/lib/site_perl/5.18.2/Try/Tiny.pm line 94
	Try::Tiny::try('CODE(0x4c0f0768)', 'Try::Tiny::Catch=REF(0x4c1ae9c0)') called at /usr/home/eserte/.cpan/build/2017121303/CatalystX-OAuth2-0.001009-0/blib/lib/Catalyst/ActionRole/OAuth2/RequestAuth.pm line 31
	Catalyst::ActionRole::OAuth2::RequestAuth::build_oauth2_request('Moose::Meta::Class::__ANON__::SERIAL::11=HASH(0x4be30b28)', 'AuthServer::Controller::OAuth2::Provider=HASH(0x4bd17e58)', 'AuthServer=HASH(0x4c0c3888)') called at /usr/home/eserte/.cpan/build/2017121303/CatalystX-OAuth2-0.001009-0/blib/lib/CatalystX/OAuth2/ActionRole/RequestInjector.pm line 17
	Class::MOP::Class:::before('Moose::Meta::Class::__ANON__::SERIAL::11=HASH(0x4be30b28)', 'AuthServer::Controller::OAuth2::Provider=HASH(0x4bd17e58)', 'AuthServer=HASH(0x4c0c3888)') called at /usr/perl5.18.2/lib/site_perl/5.18.2/amd64-freebsd/Class/MOP/Method/Wrapped.pm line 27
	Moose::Meta::Class::__ANON__::SERIAL::11::_wrapped_execute('Moose::Meta::Class::__ANON__::SERIAL::11=HASH(0x4be30b28)', 'AuthServer::Controller::OAuth2::Provider=HASH(0x4bd17e58)', 'AuthServer=HASH(0x4c0c3888)') called at /usr/perl5.18.2/lib/site_perl/5.18.2/amd64-freebsd/Class/MOP/Method/Wrapped.pm line 95
	Moose::Meta::Class::__ANON__::SERIAL::11::execute('Moose::Meta::Class::__ANON__::SERIAL::11=HASH(0x4be30b28)', 'AuthServer::Controller::OAuth2::Provider=HASH(0x4bd17e58)', 'AuthServer=HASH(0x4c0c3888)') called at /usr/perl5.18.2/lib/site_perl/5.18.2/Catalyst.pm line 2052
	eval {...} at /usr/perl5.18.2/lib/site_perl/5.18.2/Catalyst.pm line 2052
	Catalyst::execute('AuthServer=HASH(0x4c0c3888)', 'AuthServer::Controller::OAuth2::Provider', 'Moose::Meta::Class::__ANON__::SERIAL::11=HASH(0x4be30b28)') called at /usr/perl5.18.2/lib/site_perl/5.18.2/Catalyst/Action.pm line 353
	Catalyst::Action::dispatch('Moose::Meta::Class::__ANON__::SERIAL::11=HASH(0x4be30b28)', 'AuthServer=HASH(0x4c0c3888)') called at /usr/perl5.18.2/lib/site_perl/5.18.2/Catalyst/ActionChain.pm line 46
	Catalyst::ActionChain::dispatch('Catalyst::ActionChain=HASH(0x4c0ec228)', 'AuthServer=HASH(0x4c0c3888)') called at /usr/perl5.18.2/lib/site_perl/5.18.2/Catalyst/Controller.pm line 171
	Catalyst::Controller::_ACTION('AuthServer::Controller::OAuth2::Provider=HASH(0x4bd17e58)', 'AuthServer=HASH(0x4c0c3888)') called at /usr/perl5.18.2/lib/site_perl/5.18.2/Catalyst/Action.pm line 358
	Catalyst::Action::execute('Catalyst::Action=HASH(0x4bd971f8)', 'AuthServer::Controller::OAuth2::Provider=HASH(0x4bd17e58)', 'AuthServer=HASH(0x4c0c3888)') called at /usr/perl5.18.2/lib/site_perl/5.18.2/Catalyst.pm line 2052
	eval {...} at /usr/perl5.18.2/lib/site_perl/5.18.2/Catalyst.pm line 2052
	Catalyst::execute('AuthServer=HASH(0x4c0c3888)', 'AuthServer::Controller::OAuth2::Provider', 'Catalyst::Action=HASH(0x4bd971f8)') called at /usr/perl5.18.2/lib/site_perl/5.18.2/Catalyst/Action.pm line 353
	Catalyst::Action::dispatch('Catalyst::Action=HASH(0x4bd971f8)', 'AuthServer=HASH(0x4c0c3888)') called at /usr/perl5.18.2/lib/site_perl/5.18.2/Catalyst/Dispatcher.pm line 262
	Catalyst::Dispatcher::_do_forward('Catalyst::Dispatcher=HASH(0x47937810)', 'forward', 'AuthServer=HASH(0x4c0c3888)', '_ACTION') called at /usr/perl5.18.2/lib/site_perl/5.18.2/Catalyst/Dispatcher.pm line 242
	Catalyst::Dispatcher::forward('Catalyst::Dispatcher=HASH(0x47937810)', 'AuthServer=HASH(0x4c0c3888)', '_ACTION') called at /usr/perl5.18.2/lib/site_perl/5.18.2/Catalyst.pm line 477
	Catalyst::forward('AuthServer=HASH(0x4c0c3888)', '_ACTION') called at /usr/perl5.18.2/lib/site_perl/5.18.2/Catalyst/Controller.pm line 135
	Catalyst::Controller::_DISPATCH('AuthServer::Controller::OAuth2::Provider=HASH(0x4bd17e58)', 'AuthServer=HASH(0x4c0c3888)') called at /usr/perl5.18.2/lib/site_perl/5.18.2/Catalyst/Action.pm line 358
	Catalyst::Action::execute('Catalyst::Action=HASH(0x4bd809d8)', 'AuthServer::Controller::OAuth2::Provider=HASH(0x4bd17e58)', 'AuthServer=HASH(0x4c0c3888)') called at /usr/perl5.18.2/lib/site_perl/5.18.2/Catalyst.pm line 2052
	eval {...} at /usr/perl5.18.2/lib/site_perl/5.18.2/Catalyst.pm line 2052
	Catalyst::execute('AuthServer=HASH(0x4c0c3888)', 'AuthServer::Controller::OAuth2::Provider', 'Catalyst::Action=HASH(0x4bd809d8)') called at /usr/perl5.18.2/lib/site_perl/5.18.2/Catalyst/Action.pm line 353
	Catalyst::Action::dispatch('Catalyst::Action=HASH(0x4bd809d8)', 'AuthServer=HASH(0x4c0c3888)') called at /usr/perl5.18.2/lib/site_perl/5.18.2/Catalyst/Dispatcher.pm line 262
	Catalyst::Dispatcher::_do_forward('Catalyst::Dispatcher=HASH(0x47937810)', 'forward', 'AuthServer=HASH(0x4c0c3888)', '/oauth2/provider/_DISPATCH') called at /usr/perl5.18.2/lib/site_perl/5.18.2/Catalyst/Dispatcher.pm line 242
	Catalyst::Dispatcher::forward('Catalyst::Dispatcher=HASH(0x47937810)', 'AuthServer=HASH(0x4c0c3888)', '/oauth2/provider/_DISPATCH') called at /usr/perl5.18.2/lib/site_perl/5.18.2/Catalyst.pm line 477
	Catalyst::forward('AuthServer=HASH(0x4c0c3888)', '/oauth2/provider/_DISPATCH') called at /usr/perl5.18.2/lib/site_perl/5.18.2/Catalyst/Dispatcher.pm line 107
	Catalyst::Dispatcher::dispatch('Catalyst::Dispatcher=HASH(0x47937810)', 'AuthServer=HASH(0x4c0c3888)') called at /usr/perl5.18.2/lib/site_perl/5.18.2/Catalyst.pm line 1998
	Catalyst::dispatch('AuthServer=HASH(0x4c0c3888)') called at /usr/perl5.18.2/lib/site_perl/5.18.2/amd64-freebsd/Class/MOP/Method/Wrapped.pm line 50
	AuthServer::_wrapped_dispatch('AuthServer=HASH(0x4c0c3888)') called at /usr/perl5.18.2/lib/site_perl/5.18.2/amd64-freebsd/Class/MOP/Method/Wrapped.pm line 95
	AuthServer::dispatch('AuthServer=HASH(0x4c0c3888)') called at t/unit/200-actionrole-request-auth.t line 19
[warn] Useless setting a header value after finalize_headers and the response callback has been called. Since we don't support tail headers this will not work as you might expect.
[warn] Useless setting a header value after finalize_headers and the response callback has been called. Since we don't support tail headers this will not work as you might expect.
t/unit/200-actionrole-request-auth.t .................. ok
Cookie::Baker::XS 0.08 is require. fallback to PP version at /usr/perl5.18.2/lib/site_perl/5.18.2/Cookie/Baker.pm line 17.
[warn] Useless setting a header value after finalize_headers and the response callback has been called. Since we don't support tail headers this will not work as you might expect.
[warn] Useless setting a header value after finalize_headers and the response callback has been called. Since we don't support tail headers this will not work as you might expect.
[warn] Useless setting a header value after finalize_headers and the response callback has been called. Since we don't support tail headers this will not work as you might expect.
t/unit/300-actionrole-grant-auth.t .................... ok
Cookie::Baker::XS 0.08 is require. fallback to PP version at /usr/perl5.18.2/lib/site_perl/5.18.2/Cookie/Baker.pm line 17.
t/unit/400-actionrole-auth-token-via-auth-grant.t ..... ok
Cookie::Baker::XS 0.08 is require. fallback to PP version at /usr/perl5.18.2/lib/site_perl/5.18.2/Cookie/Baker.pm line 17.
t/unit/500-actionrole-auth-token-via-refresh-token.t .. ok
Cookie::Baker::XS 0.08 is require. fallback to PP version at /usr/perl5.18.2/lib/site_perl/5.18.2/Cookie/Baker.pm line 17.
[warn] Useless setting a header value after finalize_headers and the response callback has been called. Since we don't support tail headers this will not work as you might expect.
t/unit/600-actionrole-protected-resource.t ............ ok
Cookie::Baker::XS 0.08 is require. fallback to PP version at /usr/perl5.18.2/lib/site_perl/5.18.2/Cookie/Baker.pm line 17.
[error] No default action defined
[warn] Useless setting a header value after finalize_headers and the response callback has been called. Since we don't support tail headers this will not work as you might expect.
[error] No default action defined
t/unit/700-client.t ................................... ok
All tests successful.
Files=11, Tests=153, 136 wallclock secs ( 0.01 usr  0.09 sys + 11.85 cusr  1.27 csys = 13.22 CPU)
Result: PASS

------------------------------
PREREQUISITES
------------------------------

Prerequisite modules loaded:

requires:

    Module                                   Need    Have      
    ---------------------------------------- ------- ----------
    base                                     0       2.23      
    Class::Load                              0       0.23      
    DBIx::Class                              0       0.082840  
    DBIx::Class::ResultSet                   0       0         
    DBIx::Class::Schema                      0       0         
    HTTP::Request::Common                    0       6.13      
    JSON::Any                                0       1.39      
    LWP::UserAgent                           0       6.31      
    Moose                                    0       2.2009    
    Moose::Role                              0       2.2009    
    Moose::Util                              0       2.2009    
    Moose::Util::TypeConstraints             0       2.2009    
    MooseX::NonMoose                         0       0.26      
    MooseX::SetOnce                          0       0.200002  
    MooseX::Types::Common::String            0       0.001013  
    parent                                   0       0.236     
    perl                                     5.006   5.018002  
    Scalar::Util                             0       1.49      
    strict                                   0       1.07      
    Try::Tiny                                0       0.28      
    URI                                      0       1.72      
    warnings                                 0       1.18      

build_requires:

    Module                                   Need    Have      
    ---------------------------------------- ------- ----------
    blib                                     1.01    1.06      
    Catalyst                                 0       5.90115   
    Catalyst::Controller                     0       0         
    Catalyst::Controller::ActionRole         0       0.17      
    Catalyst::Model::DBIC::Schema            0       0.65      
    Catalyst::Plugin::Authentication         0       0.10023   
    Catalyst::Plugin::ConfigLoader           0       0.34      
    Catalyst::Plugin::Session                0       0.40      
    Catalyst::Plugin::Session::State::Cookie 0       0.17      
    Catalyst::Test                           0       0         
    Devel::Dwarn                             0       0         
    ExtUtils::MakeMaker                      0       7.24      
    File::Spec                               0       3.62      
    HTTP::Request                            0       6.13      
    IO::Handle                               0       1.34      
    IPC::Open3                               0       1.13      
    lib                                      0       0.63      
    namespace::autoclean                     0       0.28      
    Plack::Builder                           0       0         
    Plack::Test                              0       0         
    SQL::Translator                          0.11006 0.11021   
    strictures                               1       2.000003  
    Test::Exception                          0       0.43      
    Test::MockObject                         0       1.20161202
    Test::More                               0       1.302120  
    Test::WWW::Mechanize::PSGI               0       0.36      

configure_requires:

    Module                                   Need    Have      
    ---------------------------------------- ------- ----------
    ExtUtils::MakeMaker                      0       7.24      


------------------------------
ENVIRONMENT AND OTHER CONTEXT
------------------------------

Environment variables:

    LC_ALL = de_DE.ISO8859-1
    PATH = /usr/local/bin:/usr/bin:/bin:/usr/local/sbin:/usr/sbin:/sbin:/home/cpansand/bin/freebsd9.3:/home/cpansand/bin/sh:/home/cpansand/bin:/usr/games:/home/cpansand/devel:/usr/home/eserte/src/srezic-misc/scripts
    PERL5LIB = 
    PERL5OPT = 
    PERL5_CPANPLUS_IS_RUNNING = 12295
    PERL5_CPAN_IS_RUNNING = 12295
    PERL5_CPAN_IS_RUNNING_IN_RECURSION = 12241,12295
    PERLDOC = -MPod::Perldoc::ToTextOverstrike
    PERL_BATCH = yes
    PERL_CANARY_STABILITY_NOPROMPT = 1
    PERL_CPAN_REPORTER_CONFIG = /var/tmp/cpansmoker-1023/2017121303/cpanreporter_000_config.ini
    PERL_EXTUTILS_AUTOINSTALL = --defaultdeps
    SHELL = /usr/local/bin/zsh
    TERM = screen
    TMPDIR = /var/tmp/cpansmoker-1023/2017121303

Perl special variables (and OS-specific diagnostics, for MSWin32):

    $^X = /usr/perl5.18.2/bin/perl
    $UID/$EUID = 1023 / 1023
    $GID = 1023 1023
    $EGID = 1023 1023

Perl module toolchain versions installed:

    Module              Have    
    ------------------- --------
    CPAN                2.16    
    CPAN::Meta          2.150010
    Cwd                 3.62    
    ExtUtils::CBuilder  0.280230
    ExtUtils::Command   7.24    
    ExtUtils::Install   2.14    
    ExtUtils::MakeMaker 7.24    
    ExtUtils::Manifest  1.70    
    ExtUtils::ParseXS   3.35    
    File::Spec          3.62    
    JSON                2.97000 
    JSON::PP            2.97000 
    Module::Build       0.4224  
    Module::Signature   0.81    
    Parse::CPAN::Meta   2.150010
    Test::Harness       3.39    
    Test::More          1.302120
    YAML                1.24    
    YAML::Syck          1.30    
    version             0.9918  


--

Summary of my perl5 (revision 5 version 18 subversion 2) configuration:
   
  Platform:
    osname=freebsd, osvers=9.2-release-p4, archname=amd64-freebsd
    uname='freebsd cvrsnica-freebsd-92 9.2-release-p4 freebsd 9.2-release-p4 #0: tue apr 8 18:08:22 utc 2014 root@amd64-builder.daemonology.net:usrobjusrsrcsysgeneric amd64 '
    config_args='-ds -e -Dprefix=/usr/perl5.18.2'
    hint=recommended, useposix=true, d_sigaction=define
    useithreads=undef, usemultiplicity=undef
    useperlio=define, d_sfio=undef, uselargefiles=define, usesocks=undef
    use64bitint=define, use64bitall=define, uselongdouble=undef
    usemymalloc=n, bincompat5005=undef
  Compiler:
    cc='cc', ccflags ='-DHAS_FPSETMASK -DHAS_FLOATINGPOINT_H -fno-strict-aliasing -pipe -fstack-protector -I/usr/local/include',
    optimize='-O',
    cppflags='-DHAS_FPSETMASK -DHAS_FLOATINGPOINT_H -fno-strict-aliasing -pipe -fstack-protector -I/usr/local/include'
    ccversion='', gccversion='4.2.1 20070831 patched [FreeBSD]', gccosandvers=''
    intsize=4, longsize=8, ptrsize=8, doublesize=8, byteorder=12345678
    d_longlong=define, longlongsize=8, d_longdbl=define, longdblsize=16
    ivtype='long', ivsize=8, nvtype='double', nvsize=8, Off_t='off_t', lseeksize=8
    alignbytes=8, prototype=define
  Linker and Libraries:
    ld='cc', ldflags ='-Wl,-E  -fstack-protector -L/usr/local/lib'
    libpth=/usr/lib /usr/local/lib
    libs=-lgdbm -lm -lcrypt -lutil -lc
    perllibs=-lm -lcrypt -lutil -lc
    libc=, so=so, useshrplib=false, libperl=libperl.a
    gnulibc_version=''
  Dynamic Linking:
    dlsrc=dl_dlopen.xs, dlext=so, d_dlsymun=undef, ccdlflags=' '
    cccdlflags='-DPIC -fPIC', lddlflags='-shared  -L/usr/local/lib -fstack-protector'


Characteristics of this binary (from libperl): 
  Compile-time options: HAS_TIMES PERLIO_LAYERS PERL_DONT_CREATE_GVSV
                        PERL_HASH_FUNC_ONE_AT_A_TIME_HARD PERL_MALLOC_WRAP
                        PERL_PRESERVE_IVUV PERL_SAWAMPERSAND USE_64_BIT_ALL
                        USE_64_BIT_INT USE_LARGE_FILES USE_LOCALE
                        USE_LOCALE_COLLATE USE_LOCALE_CTYPE
                        USE_LOCALE_NUMERIC USE_PERLIO USE_PERL_ATOF
  Built under freebsd
  Compiled at May 16 2014 01:27:28
  %ENV:
    PERL5LIB=""
    PERL5OPT=""
    PERL5_CPANPLUS_IS_RUNNING="12295"
    PERL5_CPAN_IS_RUNNING="12295"
    PERL5_CPAN_IS_RUNNING_IN_RECURSION="12241,12295"
    PERLDOC="-MPod::Perldoc::ToTextOverstrike"
    PERL_BATCH="yes"
    PERL_CANARY_STABILITY_NOPROMPT="1"
    PERL_CPAN_REPORTER_CONFIG="/var/tmp/cpansmoker-1023/2017121303/cpanreporter_000_config.ini"
    PERL_EXTUTILS_AUTOINSTALL="--defaultdeps"
  @INC:
    /usr/perl5.18.2/lib/site_perl/5.18.2/amd64-freebsd
    /usr/perl5.18.2/lib/site_perl/5.18.2
    /usr/perl5.18.2/lib/5.18.2/amd64-freebsd
    /usr/perl5.18.2/lib/5.18.2
    .