Report for Net-Hadoop-Oozie-0.107

Back
From: metabase:user:314402c4-2aae-11df-837a-5e0a49663a4f
Subject: PASS Net-Hadoop-Oozie-0.107 v5.18.4 FreeBSD
Date: 2016-11-21T16:53:06Z

This distribution has been tested as part of the CPAN Testers
project, supporting the Perl programming language.  See
http://wiki.cpantesters.org/ for more information or email
questions to cpan-testers-discuss@perl.org


--
Dear Burak Gursoy,

This is a computer-generated report for Net-Hadoop-Oozie-0.107
on perl 5.18.4, created by CPAN-Reporter-1.2018.

Thank you for uploading your work to CPAN.  Congratulations!
All tests were successful.

Sections of this report:

    * Tester comments
    * Program output
    * Prerequisites
    * Environment and other context

------------------------------
TESTER COMMENTS
------------------------------

Additional comments from tester:

none provided

------------------------------
PROGRAM OUTPUT
------------------------------

Output from '/usr/bin/make test':

PERL_DL_NONLAZY=1 "/usr/perl5.18.4p/bin/perl5.18.4" "-MExtUtils::Command::MM" "-MTest::Harness" "-e" "undef *Test::Harness::Switches; test_harness(0, 'blib/lib', 'blib/arch')" t/*.t
t/00-compile.t .................... ok
# 
# Versions for all modules listed in MYMETA.json (including optional ones):
# 
# === Configure Requires ===
# 
#     Module              Want Have
#     ------------------- ---- ----
#     ExtUtils::MakeMaker  any 7.24
# 
# === Build Requires ===
# 
#     Module              Want Have
#     ------------------- ---- ----
#     ExtUtils::MakeMaker  any 7.24
# 
# === Test Requires ===
# 
#     Module              Want     Have
#     ------------------- ---- --------
#     ExtUtils::MakeMaker  any     7.24
#     File::Spec           any     3.60
#     IO::Handle           any     1.34
#     IPC::Open3           any     1.13
#     Test::More           any 1.302062
#     blib                1.01     1.06
# 
# === Test Recommends ===
# 
#     Module         Want     Have
#     ---------- -------- --------
#     CPAN::Meta 2.120900 2.150010
# 
# === Runtime Requires ===
# 
#     Module                           Want       Have
#     -------------------------------- ---- ----------
#     CHI                               any       0.60
#     Carp                              any       1.38
#     Clone                             any       0.38
#     Constant::FromGlobal              any       0.07
#     Data::Dumper                      any      2.161
#     Date::Format                      any       2.24
#     Date::Parse                       any       2.30
#     Exporter                          any       5.72
#     Hash::Flatten                     any       1.19
#     JSON::XS                          any       3.03
#     LWP::UserAgent                    any       6.15
#     Moo                               any   2.002005
#     Moo::Role                         any   2.002005
#     Net::Hadoop::YARN                 any      0.100
#     Net::Hadoop::YARN::Roles::Common  any      0.100
#     Ref::Util                         any      0.020
#     Regexp::Common                    any 2016060201
#     Scalar::Util                      any       1.46
#     URI                               any       1.71
#     XML::Simple                       any       2.22
#     XML::Twig                         any       3.49
#     constant                          any       1.33
#     parent                            any      0.236
#     strict                            any       1.07
#     warnings                          any       1.18
# 
t/00-report-prereqs.t ............. ok
t/01-api.t ........................ ok
t/02-schedule-test-coordinator.t .. ok
t/03-job-information.t ............ ok
t/04-suspend.t .................... ok
t/05-standalone-wf.t .............. ok
t/06-rerun.t ...................... ok
t/07-kill.t ....................... ok
t/08-sla.t ........................ ok
t/09-judge.t ...................... ok
t/author-pod-coverage.t ........... skipped: these tests are for testing by the author
t/author-pod-syntax.t ............. skipped: these tests are for testing by the author
t/release-distmeta.t .............. skipped: these tests are for release candidate testing
All tests successful.
Files=14, Tests=26,  4 wallclock secs ( 0.03 usr  0.05 sys +  2.62 cusr  0.44 csys =  3.14 CPU)
Result: PASS

------------------------------
PREREQUISITES
------------------------------

Prerequisite modules loaded:

requires:

    Module                           Need  Have      
    -------------------------------- ----- ----------
    Carp                             0     1.38      
    CHI                              0     0.60      
    Clone                            0     0.38      
    constant                         0     1.33      
    Constant::FromGlobal             0     0.07      
    Data::Dumper                     0     2.161     
    Date::Format                     0     2.24      
    Date::Parse                      0     2.30      
    Exporter                         0     5.72      
    Hash::Flatten                    0     1.19      
    JSON::XS                         0     3.03      
    LWP::UserAgent                   0     6.15      
    Moo                              0     2.002005  
    Moo::Role                        0     2.002005  
    Net::Hadoop::YARN                0     0.100     
    Net::Hadoop::YARN::Roles::Common 0     0.100     
    parent                           0     0.236     
    perl                             5.010 5.018004  
    Ref::Util                        0     0.020     
    Regexp::Common                   0     2016060201
    Scalar::Util                     0     1.46      
    strict                           0     1.07      
    URI                              0     1.71      
    warnings                         0     1.18      
    XML::Simple                      0     2.22      
    XML::Twig                        0     3.49      

build_requires:

    Module                           Need  Have      
    -------------------------------- ----- ----------
    blib                             1.01  1.06      
    ExtUtils::MakeMaker              0     7.24      
    File::Spec                       0     3.60      
    IO::Handle                       0     1.34      
    IPC::Open3                       0     1.13      
    Test::More                       0     1.302062  

configure_requires:

    Module                           Need  Have      
    -------------------------------- ----- ----------
    ExtUtils::MakeMaker              0     7.24      


------------------------------
ENVIRONMENT AND OTHER CONTEXT
------------------------------

Environment variables:

    LC_ALL = de_DE.ISO8859-1
    PATH = /usr/local/bin:/usr/bin:/bin:/usr/local/sbin:/usr/sbin:/sbin:/home/cpansand/bin/freebsd10.1:/home/cpansand/bin/sh:/home/cpansand/bin:/usr/games:/home/cpansand/devel:/home/eserte/src/srezic-misc/scripts
    PERL5LIB = 
    PERL5OPT = 
    PERL5_CPANPLUS_IS_RUNNING = 99068
    PERL5_CPAN_IS_RUNNING = 99068
    PERL5_CPAN_IS_RUNNING_IN_RECURSION = 99033,99068
    PERLDOC = -MPod::Perldoc::ToTextOverstrike
    PERL_BATCH = yes
    PERL_CANARY_STABILITY_NOPROMPT = 1
    PERL_CPAN_REPORTER_CONFIG = /var/tmp/cpansmoker-1023/2016112115/cpanreporter_000_config.ini
    PERL_EXTUTILS_AUTOINSTALL = --defaultdeps
    SHELL = /usr/local/bin/zsh
    TERM = screen
    TMPDIR = /var/tmp/cpansmoker-1023/2016112115

Perl special variables (and OS-specific diagnostics, for MSWin32):

    $^X = /usr/perl5.18.4p/bin/perl5.18.4
    $UID/$EUID = 1023 / 1023
    $GID = 1023 1023
    $EGID = 1023 1023

Perl module toolchain versions installed:

    Module              Have    
    ------------------- --------
    CPAN                2.10    
    CPAN::Meta          2.150010
    Cwd                 3.60    
    ExtUtils::CBuilder  0.280224
    ExtUtils::Command   7.24    
    ExtUtils::Install   1.59    
    ExtUtils::MakeMaker 7.24    
    ExtUtils::Manifest  1.70    
    ExtUtils::ParseXS   3.24    
    File::Spec          3.60    
    JSON                2.90    
    JSON::PP            2.27300 
    Module::Build       0.4220  
    Module::Signature   0.79    
    Parse::CPAN::Meta   2.150010
    Test::Harness       3.35    
    Test::More          1.302062
    YAML                1.19    
    YAML::Syck          1.29    
    version             0.9917  


--

Summary of my perl5 (revision 5 version 18 subversion 4) configuration:
   
  Platform:
    osname=freebsd, osvers=10.1-release, archname=amd64-freebsd
    uname='freebsd cvrsnica-freebsd-101.herceg.de 10.1-release freebsd 10.1-release #0 r274401: tue nov 11 21:02:49 utc 2014 root@releng1.nyi.freebsd.org:usrobjusrsrcsysgeneric amd64 '
    config_args='-ds -e -Dprefix=/usr/perl5.18.4p'
    hint=recommended, useposix=true, d_sigaction=define
    useithreads=undef, usemultiplicity=undef
    useperlio=define, d_sfio=undef, uselargefiles=define, usesocks=undef
    use64bitint=define, use64bitall=define, uselongdouble=undef
    usemymalloc=n, bincompat5005=undef
  Compiler:
    cc='cc', ccflags ='-DHAS_FPSETMASK -DHAS_FLOATINGPOINT_H -fno-strict-aliasing -pipe -fstack-protector -I/usr/local/include',
    optimize='-O',
    cppflags='-DHAS_FPSETMASK -DHAS_FLOATINGPOINT_H -fno-strict-aliasing -pipe -fstack-protector -I/usr/local/include'
    ccversion='', gccversion='4.2.1 Compatible FreeBSD Clang 3.4.1 (tags/RELEASE_34/dot1-final 208032)', gccosandvers=''
    intsize=4, longsize=8, ptrsize=8, doublesize=8, byteorder=12345678
    d_longlong=define, longlongsize=8, d_longdbl=define, longdblsize=16
    ivtype='long', ivsize=8, nvtype='double', nvsize=8, Off_t='off_t', lseeksize=8
    alignbytes=8, prototype=define
  Linker and Libraries:
    ld='cc', ldflags ='-pthread -Wl,-E  -fstack-protector -L/usr/local/lib'
    libpth=/usr/lib /usr/local/lib
    libs=-lgdbm -lm -lcrypt -lutil -lc
    perllibs=-lm -lcrypt -lutil -lc
    libc=, so=so, useshrplib=false, libperl=libperl.a
    gnulibc_version=''
  Dynamic Linking:
    dlsrc=dl_dlopen.xs, dlext=so, d_dlsymun=undef, ccdlflags=' '
    cccdlflags='-DPIC -fPIC', lddlflags='-shared  -L/usr/local/lib -fstack-protector'


Characteristics of this binary (from libperl): 
  Compile-time options: HAS_TIMES PERLIO_LAYERS PERL_DONT_CREATE_GVSV
                        PERL_HASH_FUNC_ONE_AT_A_TIME_HARD PERL_MALLOC_WRAP
                        PERL_PRESERVE_IVUV PERL_SAWAMPERSAND USE_64_BIT_ALL
                        USE_64_BIT_INT USE_LARGE_FILES USE_LOCALE
                        USE_LOCALE_COLLATE USE_LOCALE_CTYPE
                        USE_LOCALE_NUMERIC USE_PERLIO USE_PERL_ATOF
  Built under freebsd
  Compiled at Apr  4 2015 13:03:15
  %ENV:
    PERL5LIB=""
    PERL5OPT=""
    PERL5_CPANPLUS_IS_RUNNING="99068"
    PERL5_CPAN_IS_RUNNING="99068"
    PERL5_CPAN_IS_RUNNING_IN_RECURSION="99033,99068"
    PERLDOC="-MPod::Perldoc::ToTextOverstrike"
    PERL_BATCH="yes"
    PERL_CANARY_STABILITY_NOPROMPT="1"
    PERL_CPAN_REPORTER_CONFIG="/var/tmp/cpansmoker-1023/2016112115/cpanreporter_000_config.ini"
    PERL_EXTUTILS_AUTOINSTALL="--defaultdeps"
  @INC:
    /usr/perl5.18.4p/lib/site_perl/5.18.4/amd64-freebsd
    /usr/perl5.18.4p/lib/site_perl/5.18.4
    /usr/perl5.18.4p/lib/5.18.4/amd64-freebsd
    /usr/perl5.18.4p/lib/5.18.4
    .