Text-MacroScript v2.14 Perl 5 v5.36.0 x86_64-linux

Status
Pass
From
Slaven Rezić
Dist
Text-MacroScript v2.14
Platform
Perl 5 v5.36.0 x86_64-linux
Date
2023-05-19 04:23:58
ID
f9a1f00a-f5fc-11ed-a813-47526e8775ea
This distribution has been tested as part of the CPAN Testers
project, supporting the Perl programming language.  See
http://wiki.cpantesters.org/ for more information or email
questions to cpan-testers-discuss@perl.org


--
Dear Paulo Custodio,

This is a computer-generated report for Text-MacroScript-2.14
on perl 5.36.0, created by CPAN-Reporter-1.2018.

Thank you for uploading your work to CPAN.  Congratulations!
All tests were successful.

Sections of this report:

    * Tester comments
    * Program output
    * Prerequisites
    * Environment and other context

------------------------------
TESTER COMMENTS
------------------------------

Additional comments from tester:

none provided

------------------------------
PROGRAM OUTPUT
------------------------------

Output from '/usr/bin/make test':

PERL_DL_NONLAZY=1 "/bbbike/opt/perl-5.36.0/bin/perl" "-MExtUtils::Command::MM" "-MTest::Harness" "-e" "undef *Test::Harness::Switches; test_harness(0, 'blib/lib', 'blib/arch')" t/*.t
	(in cleanup) Error at file test~ line unknown: Unbalanced open structure at end of file
	(in cleanup) Error at file test~ line unknown: Unbalanced open structure at end of file
	(in cleanup) Error at file test~ line unknown: Unbalanced open structure at end of file
	(in cleanup) Error at file test~ line unknown: Unbalanced open structure at end of file
Use of uninitialized value in die at /home/cpansand/.cpan/build/2023051904/Text-MacroScript-2.14-1/blib/lib/Text/MacroScript.pm line 172 during global destruction.
	(in cleanup) Error at file  line unknown: Unbalanced open structure at end of file
	(in cleanup) Error at file test~ line unknown: Unbalanced open structure at end of file
	(in cleanup) Error at file test~ line 3: Unbalanced open structure at end of file
	(in cleanup) Error at file test~ line unknown: Unbalanced open structure at end of file
t/expand_file.t ................ ok
t/fix_002.t .................... ok
t/fix_003.t .................... ok
t/fix_004.t .................... ok
t/fix_007.t .................... ok
t/fix_027.t .................... ok
t/fix_028_037.t ................ ok
t/fix_038.t .................... ok
t/fix_039.t .................... ok
t/fix_040.t .................... ok
t/fix_041.t .................... ok
t/fix_046.t .................... ok
t/fix_048.t .................... ok
t/fix_049.t .................... ok
t/fix_063.t .................... ok
# Issue #10: macrodir always in embedded mode, ignoring -p option
# Issue #10: macrodir always in embedded mode, ignoring -p option
# Issue #10: macrodir always in embedded mode, ignoring -p option
# Issue #10: macrodir always in embedded mode, ignoring -p option
# Issue #10: macrodir always in embedded mode, ignoring -p option
# Issue #10: macrodir always in embedded mode, ignoring -p option
# Issue #10: macrodir always in embedded mode, ignoring -p option
# Issue #10: macrodir always in embedded mode, ignoring -p option
# Issue #10: macrodir always in embedded mode, ignoring -p option
# Issue #9: macrodir -d: does not replicate source tree in target directory
# Issue #10: macrodir always in embedded mode, ignoring -p option
# Issue #10: macrodir always in embedded mode, ignoring -p option
# Issue #10: macrodir always in embedded mode, ignoring -p option
# Issue #10: macrodir always in embedded mode, ignoring -p option
# Issue #10: macrodir always in embedded mode, ignoring -p option
# Issue #10: macrodir always in embedded mode, ignoring -p option
# Issue #10: macrodir always in embedded mode, ignoring -p option
# Issue #10: macrodir always in embedded mode, ignoring -p option
# Issue #10: macrodir always in embedded mode, ignoring -p option
# Issue #10: macrodir always in embedded mode, ignoring -p option
t/macrodir.t ................... ok
# Issue #23: macropp: report errors on syntax error
# Issue #23: macropp: report errors on syntax error
t/macropp.t .................... ok
# Issue #1: expansion depends on size of macro name
# Issue #1: expansion depends on size of macro name
t/macros.t ..................... ok
t/macroscript.t ................ ok
t/new.t ........................ ok
	(in cleanup) Error at file - line unknown: Unbalanced open structure at end of file
t/new_case.t ................... ok
t/new_comment.t ................ ok
	(in cleanup) Error at file - line unknown: Unbalanced open structure at end of file
	(in cleanup) Error at file - line unknown: Unbalanced open structure at end of file
t/new_define_macro.t ........... ok
	(in cleanup) Error at file - line unknown: Unbalanced open structure at end of file
	(in cleanup) Error at file - line unknown: Unbalanced open structure at end of file
t/new_define_script.t .......... ok
	(in cleanup) Error at file - line unknown: Unbalanced open structure at end of file
t/new_define_variable.t ........ ok
t/new_embedded.t ............... ok
t/new_escapes.t ................ ok
t/new_expand_file.t ............ ok
t/new_list_macro.t ............. ok
t/new_list_script.t ............ ok
t/new_list_variable.t .......... ok
t/new_load_file.t .............. ok
t/new_require.t ................ ok
t/new_undefine_all_macro.t ..... ok
t/new_undefine_all_script.t .... ok
t/new_undefine_all_variable.t .. ok
t/new_undefine_macro.t ......... ok
t/new_undefine_script.t ........ ok
t/new_undefine_variable.t ...... ok
# Issue #7: expansion depends on size of script name
t/scripts.t .................... ok
t/variables.t .................. ok
All tests successful.
Files=41, Tests=1128,  9 wallclock secs ( 0.09 usr  0.11 sys +  3.34 cusr  0.92 csys =  4.46 CPU)
Result: PASS

------------------------------
PREREQUISITES
------------------------------

Prerequisite modules loaded:

requires:

    Module              Need     Have    
    ------------------- -------- --------
    Algorithm::Diff     1.201    1.201   
    Capture::Tiny       0.22     0.48    
    enum                1.1      1.12    
    Object::Tiny::RW    1.07     1.07    
    Path::Tiny          0.068    0.122   
    perl                5.010    5.036000
    Test::Differences   0.61     0.69    
    Test::More          1.001014 1.302190

build_requires:

    Module              Need     Have    
    ------------------- -------- --------
    ExtUtils::MakeMaker 0        7.64    

configure_requires:

    Module              Need     Have    
    ------------------- -------- --------
    ExtUtils::MakeMaker 0        7.64    


------------------------------
ENVIRONMENT AND OTHER CONTEXT
------------------------------

Environment variables:

    LANG = C
    PATH = /usr/local/bin:/usr/bin:/bin:/usr/local/sbin:/usr/sbin:/sbin:/home/cpansand/bin/linux-gnu:/home/cpansand/bin/sh:/home/cpansand/bin:/usr/games:/home/cpansand/devel:/home/eserte/src/srezic-misc/scripts
    PERL5LIB = /home/cpansand/.cpan/build/2023051904/enum-1.12-1/blib/arch:/home/cpansand/.cpan/build/2023051904/enum-1.12-1/blib/lib:/home/cpansand/.cpan/build/2023051904/Object-Tiny-RW-1.07-1/blib/arch:/home/cpansand/.cpan/build/2023051904/Object-Tiny-RW-1.07-1/blib/lib
    PERL5OPT = 
    PERL5_CPANPLUS_IS_RUNNING = 1919245
    PERL5_CPAN_IS_RUNNING = 1919245
    PERL5_CPAN_IS_RUNNING_IN_RECURSION = 1778368,1919245
    PERLDOC = -MPod::Perldoc::ToTextOverstrike
    PERL_BATCH = yes
    PERL_CANARY_STABILITY_NOPROMPT = 1
    PERL_CPAN_REPORTER_CONFIG = /var/tmp/cpansmoker-1023/2023051902/cpanreporter_000_config.ini
    PERL_EXTUTILS_AUTOINSTALL = --defaultdeps
    PERL_USE_UNSAFE_INC = 1
    SHELL = /usr/bin/zsh
    TERM = screen
    TMPDIR = /var/tmp/cpansmoker-1023/2023051902

Perl special variables (and OS-specific diagnostics, for MSWin32):

    $^X = /bbbike/opt/perl-5.36.0/bin/perl
    $UID/$EUID = 1023 / 1023
    $GID = 1023 1023
    $EGID = 1023 1023

Perl module toolchain versions installed:

    Module              Have    
    ------------------- --------
    CPAN                2.33    
    CPAN::Meta          2.150010
    Cwd                 3.84    
    ExtUtils::CBuilder  0.280236
    ExtUtils::Command   7.64    
    ExtUtils::Install   2.20    
    ExtUtils::MakeMaker 7.64    
    ExtUtils::Manifest  1.73    
    ExtUtils::ParseXS   3.45    
    File::Spec          3.84    
    JSON                4.06    
    JSON::PP            4.07    
    Module::Build       0.4231  
    Module::Signature   n/a     
    Parse::CPAN::Meta   2.150010
    Test::Harness       3.44    
    Test::More          1.302190
    YAML                1.30    
    YAML::Syck          1.34    
    version             0.9929  


--

Summary of my perl5 (revision 5 version 36 subversion 0) configuration:
   
  Platform:
    osname=linux
    osvers=5.10.0-13-amd64
    archname=x86_64-linux
    uname='linux eserte 5.10.0-13-amd64 #1 smp debian 5.10.106-1 (2022-03-17) x86_64 gnulinux '
    config_args='-ds -e -Dprefix=/opt/perl-5.36.0 -Dcf_email=srezic@cpan.org'
    hint=recommended
    useposix=true
    d_sigaction=define
    useithreads=undef
    usemultiplicity=undef
    use64bitint=define
    use64bitall=define
    uselongdouble=undef
    usemymalloc=n
    default_inc_excludes_dot=define
  Compiler:
    cc='cc'
    ccflags ='-fwrapv -fno-strict-aliasing -pipe -fstack-protector-strong -I/usr/local/include -D_LARGEFILE_SOURCE -D_FILE_OFFSET_BITS=64 -D_FORTIFY_SOURCE=2'
    optimize='-O2'
    cppflags='-fwrapv -fno-strict-aliasing -pipe -fstack-protector-strong -I/usr/local/include'
    ccversion=''
    gccversion='10.2.1 20210110'
    gccosandvers=''
    intsize=4
    longsize=8
    ptrsize=8
    doublesize=8
    byteorder=12345678
    doublekind=3
    d_longlong=define
    longlongsize=8
    d_longdbl=define
    longdblsize=16
    longdblkind=3
    ivtype='long'
    ivsize=8
    nvtype='double'
    nvsize=8
    Off_t='off_t'
    lseeksize=8
    alignbytes=8
    prototype=define
  Linker and Libraries:
    ld='cc'
    ldflags =' -fstack-protector-strong -L/usr/local/lib'
    libpth=/usr/local/lib /usr/lib/x86_64-linux-gnu /usr/lib /lib/x86_64-linux-gnu /lib
    libs=-lpthread -lnsl -lgdbm -ldb -ldl -lm -lcrypt -lutil -lc
    perllibs=-lpthread -lnsl -ldl -lm -lcrypt -lutil -lc
    libc=libc-2.31.so
    so=so
    useshrplib=false
    libperl=libperl.a
    gnulibc_version='2.31'
  Dynamic Linking:
    dlsrc=dl_dlopen.xs
    dlext=so
    d_dlsymun=undef
    ccdlflags='-Wl,-E'
    cccdlflags='-fPIC'
    lddlflags='-shared -O2 -L/usr/local/lib -fstack-protector-strong'


Characteristics of this binary (from libperl): 
  Compile-time options:
    HAS_TIMES
    PERLIO_LAYERS
    PERL_COPY_ON_WRITE
    PERL_DONT_CREATE_GVSV
    PERL_MALLOC_WRAP
    PERL_OP_PARENT
    PERL_PRESERVE_IVUV
    USE_64_BIT_ALL
    USE_64_BIT_INT
    USE_LARGE_FILES
    USE_LOCALE
    USE_LOCALE_COLLATE
    USE_LOCALE_CTYPE
    USE_LOCALE_NUMERIC
    USE_LOCALE_TIME
    USE_PERLIO
    USE_PERL_ATOF
  Built under linux
  Compiled at May 30 2022 18:42:58
  %ENV:
    PERL5LIB="/home/cpansand/.cpan/build/2023051904/enum-1.12-1/blib/arch:/home/cpansand/.cpan/build/2023051904/enum-1.12-1/blib/lib:/home/cpansand/.cpan/build/2023051904/Object-Tiny-RW-1.07-1/blib/arch:/home/cpansand/.cpan/build/2023051904/Object-Tiny-RW-1.07-1/blib/lib"
    PERL5OPT=""
    PERL5_CPANPLUS_IS_RUNNING="1919245"
    PERL5_CPAN_IS_RUNNING="1919245"
    PERL5_CPAN_IS_RUNNING_IN_RECURSION="1778368,1919245"
    PERLDOC="-MPod::Perldoc::ToTextOverstrike"
    PERL_BATCH="yes"
    PERL_CANARY_STABILITY_NOPROMPT="1"
    PERL_CPAN_REPORTER_CONFIG="/var/tmp/cpansmoker-1023/2023051902/cpanreporter_000_config.ini"
    PERL_EXTUTILS_AUTOINSTALL="--defaultdeps"
    PERL_USE_UNSAFE_INC="1"
  @INC:
    /home/cpansand/.cpan/build/2023051904/enum-1.12-1/blib/arch
    /home/cpansand/.cpan/build/2023051904/enum-1.12-1/blib/lib
    /home/cpansand/.cpan/build/2023051904/Object-Tiny-RW-1.07-1/blib/arch
    /home/cpansand/.cpan/build/2023051904/Object-Tiny-RW-1.07-1/blib/lib
    /opt/perl-5.36.0/lib/site_perl/5.36.0/x86_64-linux
    /opt/perl-5.36.0/lib/site_perl/5.36.0
    /opt/perl-5.36.0/lib/5.36.0/x86_64-linux
    /opt/perl-5.36.0/lib/5.36.0
    .