Dist-Zilla-Plugin-CopyFilesFromBuild v0.170880 Perl 5 v5.26.1 i686-linux

Status
Pass
From
Dist
Dist-Zilla-Plugin-CopyFilesFromBuild v0.170880
Platform
Perl 5 v5.26.1 i686-linux
Date
2020-04-22 20:36:42
ID
f97c77e6-84d8-11ea-a56a-bc7571efd501
This distribution has been tested as part of the CPAN Testers
project, supporting the Perl programming language.  See
http://wiki.cpantesters.org/ for more information or email
questions to cpan-testers-discuss@perl.org


--
Dear Ryan C. Thompson,

This is a computer-generated report for Dist-Zilla-Plugin-CopyFilesFromBuild-0.170880
on perl 5.26.1, created by CPAN-Reporter-1.2018.

Thank you for uploading your work to CPAN.  Congratulations!
All tests were successful.

Sections of this report:

    * Tester comments
    * Program output
    * Prerequisites
    * Environment and other context

------------------------------
TESTER COMMENTS
------------------------------

Additional comments from tester:

none provided

------------------------------
PROGRAM OUTPUT
------------------------------

Output from '/usr/bin/make test':

PERL_DL_NONLAZY=1 "/home/ct/opt/perl/5.26.1/bin/perl5.26.1" "-MExtUtils::Command::MM" "-MTest::Harness" "-e" "undef *Test::Harness::Switches; test_harness(0, 'blib/lib', 'blib/arch')" t/*.t
t/00-compile.t ........... ok
# Testing with Perl 5.026001, /home/ct/opt/perl/5.26.1/bin/perl5.26.1
#     Carp version is 1.42
#     Dist::Zilla::Plugin::ReadmeAnyFromPod version is 0.163250
#     Dist::Zilla::Role::AfterBuild version is 6.014
#     ExtUtils::MakeMaker version is 7.44
#     File::Copy version is 2.32
#     File::Spec version is 3.67
#     IO::File version is 1.16
#     IO::Handle version is 1.36
#     IPC::Open3 version is 1.20
#     List::Util version is 1.4602
#     Moose version is 2.2012
#     MooseX::Has::Sugar version is 1.000006
#     Path::Tiny version is 0.112
#     Scalar::Util version is 1.4602
#     Set::Scalar version is 1.29
#     Test::DZil version is 6.014
#     Test::Exception version is 0.43
#     Test::More version is 1.302175
#     Test::Most version is 0.37
#     autodie version is 2.29
#     blib version is 1.06
#     strict version is 1.11
#     utf8 version is 1.19
#     warnings version is 1.37
t/000-report-versions.t .. ok
t/author-critic.t ........ skipped: these tests are for testing by the author
t/author-pod-coverage.t .. skipped: these tests are for testing by the author
t/author-pod-syntax.t .... skipped: these tests are for testing by the author
t/basic.t ................ ok
t/release-has-version.t .. skipped: these tests are for release candidate testing
t/release-kwalitee.t ..... skipped: these tests are for release candidate testing
t/release-portability.t .. skipped: these tests are for release candidate testing
t/release-unused-vars.t .. skipped: these tests are for release candidate testing
All tests successful.
Files=10, Tests=34,  1 wallclock secs ( 0.02 usr  0.00 sys +  0.99 cusr  0.10 csys =  1.11 CPU)
Result: PASS

------------------------------
PREREQUISITES
------------------------------

Prerequisite modules loaded:

requires:

    Module                                Need  Have    
    ------------------------------------- ----- --------
    Dist::Zilla::Role::AfterBuild         0     6.014   
    File::Copy                            0     2.32    
    IO::File                              0     1.16    
    List::Util                            1.33  1.46_02 
    Moose                                 0     2.2012  
    MooseX::Has::Sugar                    0     1.000006
    Path::Tiny                            0     0.112   
    perl                                  5.008 5.026001
    Set::Scalar                           0     1.29    
    strict                                0     1.11    
    utf8                                  0     1.19    
    warnings                              0     1.37    

build_requires:

    Module                                Need  Have    
    ------------------------------------- ----- --------
    autodie                               0     2.29    
    blib                                  1.01  1.06    
    Carp                                  0     1.42    
    Dist::Zilla::Plugin::ReadmeAnyFromPod 0     0.163250
    ExtUtils::MakeMaker                   0     7.44    
    File::Spec                            0     3.67    
    IO::Handle                            0     1.36    
    IPC::Open3                            0     1.20    
    Scalar::Util                          0     1.46_02 
    Test::DZil                            0     6.014   
    Test::Exception                       0     0.43    
    Test::More                            0.94  1.302175
    Test::Most                            0     0.37    

configure_requires:

    Module                                Need  Have    
    ------------------------------------- ----- --------
    ExtUtils::MakeMaker                   0     7.44    
    perl                                  5.008 5.026001


------------------------------
ENVIRONMENT AND OTHER CONTEXT
------------------------------

Environment variables:

    LANG = en_US.UTF-8
    LC_COLLATE = C
    NONINTERACTIVE_TESTING = 1
    PATH = /home/ct/opt/perl/5.26.1/bin:/ct/bin:/usr/local/bin:/usr/bin:/bin:/usr/games
    PERL5LIB = 
    PERL5OPT = 
    PERL5_CPANPLUS_IS_RUNNING = 10006
    PERL5_CPAN_IS_RUNNING = 10006
    PERL_MM_USE_DEFAULT = 1
    PERL_USE_UNSAFE_INC = 1
    SHELL = /bin/tcsh
    TERM = screen.xterm-256color

Perl special variables (and OS-specific diagnostics, for MSWin32):

    $^X = /home/ct/opt/perl/5.26.1/bin/perl5.26.1
    $UID/$EUID = 1001 / 1001
    $GID = 1001 1001
    $EGID = 1001 1001

Perl module toolchain versions installed:

    Module              Have      
    ------------------- ----------
    CPAN                2.18      
    CPAN::Meta          2.150010  
    Cwd                 3.67      
    ExtUtils::CBuilder  0.280234  
    ExtUtils::Command   7.44      
    ExtUtils::Install   2.06      
    ExtUtils::MakeMaker 7.44      
    ExtUtils::Manifest  1.70      
    ExtUtils::ParseXS   3.35      
    File::Spec          3.67      
    JSON                4.02      
    JSON::PP            2.27400_02
    Module::Build       0.4231    
    Module::Signature   n/a       
    Parse::CPAN::Meta   2.150010  
    Test::Harness       3.38      
    Test::More          1.302175  
    YAML                1.30      
    YAML::Syck          n/a       
    version             0.9917    


--

Summary of my perl5 (revision 5 version 26 subversion 1) configuration:
   
  Platform:
    osname=linux
    osvers=4.19.0-8-686-pae
    archname=i686-linux
    uname='linux ct-debian-i386-01 4.19.0-8-686-pae #1 smp debian 4.19.98-1 (2020-01-26) i686 gnulinux '
    config_args='-Dprefix=/home/ct/opt/perl/5.26.1 -de -Dcc=clang -Dusedevel -Dman1dir=none -Dman3dir=none -A'eval:scriptdir=/home/ct/opt/perl/5.26.1/bin''
    hint=recommended
    useposix=true
    d_sigaction=define
    useithreads=undef
    usemultiplicity=undef
    use64bitint=undef
    use64bitall=undef
    uselongdouble=undef
    usemymalloc=n
    default_inc_excludes_dot=define
    bincompat5005=undef
  Compiler:
    cc='clang'
    ccflags ='-fno-strict-aliasing -pipe -fstack-protector-strong -I/usr/local/include -D_LARGEFILE_SOURCE -D_FILE_OFFSET_BITS=64 -D_FORTIFY_SOURCE=2'
    optimize='-O2'
    cppflags='-fno-strict-aliasing -pipe -fstack-protector-strong -I/usr/local/include'
    ccversion=''
    gccversion='4.2.1 Compatible Clang 7.0.1 (tags/RELEASE_701/final)'
    gccosandvers=''
    intsize=4
    longsize=4
    ptrsize=4
    doublesize=8
    byteorder=1234
    doublekind=3
    d_longlong=define
    longlongsize=8
    d_longdbl=define
    longdblsize=12
    longdblkind=3
    ivtype='long'
    ivsize=4
    nvtype='double'
    nvsize=8
    Off_t='off_t'
    lseeksize=8
    alignbytes=4
    prototype=define
  Linker and Libraries:
    ld='clang'
    ldflags =' -fstack-protector-strong -L/usr/local/lib'
    libpth=/usr/local/lib /usr/lib/llvm-7/lib/clang/7.0.1/lib /usr/include/i386-linux-gnu /usr/lib /lib/i386-linux-gnu /lib/../lib /usr/lib/i386-linux-gnu /usr/lib/../lib /lib /lib64 /usr/lib64
    libs=-lpthread -lnsl -ldl -lm -lcrypt -lutil -lc
    perllibs=-lpthread -lnsl -ldl -lm -lcrypt -lutil -lc
    libc=libc-2.28.so
    so=so
    useshrplib=false
    libperl=libperl.a
    gnulibc_version='2.28'
  Dynamic Linking:
    dlsrc=dl_dlopen.xs
    dlext=so
    d_dlsymun=undef
    ccdlflags='-Wl,-E'
    cccdlflags='-fPIC'
    lddlflags='-shared -O2 -L/usr/local/lib -fstack-protector-strong'


Characteristics of this binary (from libperl): 
  Compile-time options:
    HAS_TIMES
    PERLIO_LAYERS
    PERL_COPY_ON_WRITE
    PERL_DONT_CREATE_GVSV
    PERL_HASH_FUNC_ONE_AT_A_TIME_HARD
    PERL_MALLOC_WRAP
    PERL_OP_PARENT
    PERL_PRESERVE_IVUV
    PERL_USE_DEVEL
    USE_LARGE_FILES
    USE_LOCALE
    USE_LOCALE_COLLATE
    USE_LOCALE_CTYPE
    USE_LOCALE_NUMERIC
    USE_LOCALE_TIME
    USE_PERLIO
    USE_PERL_ATOF
  Locally applied patches:
    Devel::PatchPerl 1.64
  Built under linux
  Compiled at Apr 21 2020 23:17:45
  %ENV:
    PERL5LIB=""
    PERL5OPT=""
    PERL5_CPANPLUS_IS_RUNNING="10006"
    PERL5_CPAN_IS_RUNNING="10006"
    PERL_MM_USE_DEFAULT="1"
    PERL_USE_UNSAFE_INC="1"
  @INC:
    /home/ct/opt/perl/5.26.1/lib/site_perl/5.26.1/i686-linux
    /home/ct/opt/perl/5.26.1/lib/site_perl/5.26.1
    /home/ct/opt/perl/5.26.1/lib/5.26.1/i686-linux
    /home/ct/opt/perl/5.26.1/lib/5.26.1
    .