Sniffer-HTTP v0.28 Perl 5 v5.41.8 x86_64-linux-thread-multi
- Status
- Pass
- From
- Andreas J. König (ANDK)
- Dist
-
Sniffer-HTTP v0.28
- Platform
- Perl 5 v5.41.8 x86_64-linux-thread-multi
- Date
- 2025-02-23 13:13:29
- ID
- f9706d80-f1e7-11ef-af8a-ca502b8b256a
This distribution has been tested as part of the CPAN Testers
project, supporting the Perl programming language. See
http://wiki.cpantesters.org/ for more information or email
questions to cpan-testers-discuss@perl.org
--
Dear Max Maischein,
This is a computer-generated report for Sniffer-HTTP-0.28
on perl 5.41.8, created by CPAN-Reporter-1.2020.
Thank you for uploading your work to CPAN. Congratulations!
All tests were successful.
Sections of this report:
* Tester comments
* Program output
* Prerequisites
* Environment and other context
------------------------------
TESTER COMMENTS
------------------------------
Additional comments from tester:
this report is from an automated smoke testing program
and was not reviewed by a human for accuracy
------------------------------
PROGRAM OUTPUT
------------------------------
Output from '/usr/bin/make test':
PERL_DL_NONLAZY=1 "/tmp/basesmoker-reloperl-ZTI9/bin/perl" "-MExtUtils::Command::MM" "-MTest::Harness" "-e" "undef *Test::Harness::Switches; test_harness(0, 'blib/lib', 'blib/arch')" t/01-find_device.t t/01-use.t t/02-chunked.t t/03-libpcap_dump.t t/04-other_port.t t/05-capture_to_file.t
# Pcap lib_version is libpcap version 1.10.1 (with TPACKET_V3)
# You're not running the tests as root - they might fail
Can't exec "netstat": No such file or directory at /tmp/loop_over_bdir-1510771-59TLvk/Sniffer-HTTP-0.28-0/blib/lib/Net/Pcap/FindDevice.pm line 105.
Use of uninitialized value $device_ip in exists at /tmp/loop_over_bdir-1510771-59TLvk/Sniffer-HTTP-0.28-0/blib/lib/Net/Pcap/FindDevice.pm line 120.
Use of uninitialized value $ip in split at /tmp/loop_over_bdir-1510771-59TLvk/Sniffer-HTTP-0.28-0/blib/lib/Net/Pcap/FindDevice.pm line 159.
Use of apostrophe as package separator was deprecated in Perl 5.37.9,
and will be removed in Perl 5.42.0. You should change code that uses
Test::More::isn't() to use Test::More::isnt() as a replacement at t/01-find_device.t line 33
Can't exec "netstat": No such file or directory at /tmp/loop_over_bdir-1510771-59TLvk/Sniffer-HTTP-0.28-0/blib/lib/Net/Pcap/FindDevice.pm line 105.
Use of uninitialized value $device_ip in exists at /tmp/loop_over_bdir-1510771-59TLvk/Sniffer-HTTP-0.28-0/blib/lib/Net/Pcap/FindDevice.pm line 120.
Use of uninitialized value $ip in split at /tmp/loop_over_bdir-1510771-59TLvk/Sniffer-HTTP-0.28-0/blib/lib/Net/Pcap/FindDevice.pm line 159.
Can't exec "netstat": No such file or directory at /tmp/loop_over_bdir-1510771-59TLvk/Sniffer-HTTP-0.28-0/blib/lib/Net/Pcap/FindDevice.pm line 105.
Use of uninitialized value $device_ip in exists at /tmp/loop_over_bdir-1510771-59TLvk/Sniffer-HTTP-0.28-0/blib/lib/Net/Pcap/FindDevice.pm line 120.
Use of uninitialized value $ip in split at /tmp/loop_over_bdir-1510771-59TLvk/Sniffer-HTTP-0.28-0/blib/lib/Net/Pcap/FindDevice.pm line 159.
Use of apostrophe as package separator was deprecated in Perl 5.37.9,
and will be removed in Perl 5.42.0. You should change code that uses
Test::More::isn't() to use Test::More::isnt() as a replacement at t/01-find_device.t line 39
Can't exec "netstat": No such file or directory at /tmp/loop_over_bdir-1510771-59TLvk/Sniffer-HTTP-0.28-0/blib/lib/Net/Pcap/FindDevice.pm line 105.
Use of uninitialized value $device_ip in exists at /tmp/loop_over_bdir-1510771-59TLvk/Sniffer-HTTP-0.28-0/blib/lib/Net/Pcap/FindDevice.pm line 120.
Use of uninitialized value $ip in split at /tmp/loop_over_bdir-1510771-59TLvk/Sniffer-HTTP-0.28-0/blib/lib/Net/Pcap/FindDevice.pm line 159.
Use of apostrophe as package separator was deprecated in Perl 5.37.9,
and will be removed in Perl 5.42.0. You should change code that uses
Test::More::isn't() to use Test::More::isnt() as a replacement at t/01-find_device.t line 43
Use of uninitialized value in subroutine entry at t/01-find_device.t line 46.
Use of uninitialized value $name in concatenation (.) or string at t/01-find_device.t line 46.
Use of uninitialized value $address in pack at t/01-find_device.t line 47.
Use of uninitialized value $name in concatenation (.) or string at t/01-find_device.t line 48.
Use of apostrophe as package separator was deprecated in Perl 5.37.9,
and will be removed in Perl 5.42.0. You should change code that uses
Test::More::isn't() to use Test::More::isnt() as a replacement at t/01-find_device.t line 55
t/01-find_device.t ...... ok
t/01-use.t .............. ok
# You're not running the tests as root - they might fail
Can't exec "netstat": No such file or directory at /tmp/loop_over_bdir-1510771-59TLvk/Sniffer-HTTP-0.28-0/blib/lib/Net/Pcap/FindDevice.pm line 105.
Use of uninitialized value $device_ip in exists at /tmp/loop_over_bdir-1510771-59TLvk/Sniffer-HTTP-0.28-0/blib/lib/Net/Pcap/FindDevice.pm line 120.
Use of uninitialized value $ip in split at /tmp/loop_over_bdir-1510771-59TLvk/Sniffer-HTTP-0.28-0/blib/lib/Net/Pcap/FindDevice.pm line 159.
# Creating connection 2537:80, sequence start at 779081851
# Got header
# Request header and content are ready (0 bytes)
# Got chunksize 0, reporting response
# Removing 2537:80
t/02-chunked.t .......... ok
# You're not running the tests as root - they might fail
Can't exec "netstat": No such file or directory at /tmp/loop_over_bdir-1510771-59TLvk/Sniffer-HTTP-0.28-0/blib/lib/Net/Pcap/FindDevice.pm line 105.
Use of uninitialized value $device_ip in exists at /tmp/loop_over_bdir-1510771-59TLvk/Sniffer-HTTP-0.28-0/blib/lib/Net/Pcap/FindDevice.pm line 120.
Use of uninitialized value $ip in split at /tmp/loop_over_bdir-1510771-59TLvk/Sniffer-HTTP-0.28-0/blib/lib/Net/Pcap/FindDevice.pm line 159.
# Creating connection 2929:80, sequence start at 4158002222
# Got header
# Request header and content are ready (0 bytes)
# Got chunksize 0, reporting response
# Got header
# Request header and content are ready (0 bytes)
# Got chunksize 0, reporting response
t/03-libpcap_dump.t ..... ok
# You're not running the tests as root - they might fail
Can't exec "netstat": No such file or directory at /tmp/loop_over_bdir-1510771-59TLvk/Sniffer-HTTP-0.28-0/blib/lib/Net/Pcap/FindDevice.pm line 105.
Use of uninitialized value $device_ip in exists at /tmp/loop_over_bdir-1510771-59TLvk/Sniffer-HTTP-0.28-0/blib/lib/Net/Pcap/FindDevice.pm line 120.
Use of uninitialized value $ip in split at /tmp/loop_over_bdir-1510771-59TLvk/Sniffer-HTTP-0.28-0/blib/lib/Net/Pcap/FindDevice.pm line 159.
# Creating connection 4345:8888, sequence start at 2872133876
# Got header
# Request header and content are ready (0 bytes)
# Got chunksize 0, reporting response
# Got header
# Request header and content are ready (0 bytes)
# Got chunksize 0, reporting response
t/04-other_port.t ....... ok
# Using libpcap version 1.10.1 (with TPACKET_V3)
# We are not root. find_device() might be unreliable and tests might fail.
Can't exec "netstat": No such file or directory at /tmp/loop_over_bdir-1510771-59TLvk/Sniffer-HTTP-0.28-0/blib/lib/Net/Pcap/FindDevice.pm line 105.
Use of uninitialized value $device_ip in exists at /tmp/loop_over_bdir-1510771-59TLvk/Sniffer-HTTP-0.28-0/blib/lib/Net/Pcap/FindDevice.pm line 120.
Use of uninitialized value $ip in split at /tmp/loop_over_bdir-1510771-59TLvk/Sniffer-HTTP-0.28-0/blib/lib/Net/Pcap/FindDevice.pm line 159.
# *** Doing live capture of an LWP request to http://www.cpan.org/
# *** If that is blocked or you live behind a proxy, this test will fail.
# *** The dump-to-file feature is untested then.
Can't exec "netstat": No such file or directory at /tmp/loop_over_bdir-1510771-59TLvk/Sniffer-HTTP-0.28-0/blib/lib/Net/Pcap/FindDevice.pm line 105.
Use of uninitialized value $device_ip in exists at /tmp/loop_over_bdir-1510771-59TLvk/Sniffer-HTTP-0.28-0/blib/lib/Net/Pcap/FindDevice.pm line 120.
Use of uninitialized value $ip in split at /tmp/loop_over_bdir-1510771-59TLvk/Sniffer-HTTP-0.28-0/blib/lib/Net/Pcap/FindDevice.pm line 159.
Use of uninitialized value $dev in concatenation (.) or string at t/05-capture_to_file.t line 75.
# Using device ''
# Launching request to 'http://www.cpan.org/'
Can't exec "netstat": No such file or directory at /tmp/loop_over_bdir-1510771-59TLvk/Sniffer-HTTP-0.28-0/blib/lib/Net/Pcap/FindDevice.pm line 105.
Use of uninitialized value $device_ip in exists at /tmp/loop_over_bdir-1510771-59TLvk/Sniffer-HTTP-0.28-0/blib/lib/Net/Pcap/FindDevice.pm line 120.
Use of uninitialized value $ip in split at /tmp/loop_over_bdir-1510771-59TLvk/Sniffer-HTTP-0.28-0/blib/lib/Net/Pcap/FindDevice.pm line 159.
Use of uninitialized value in subroutine entry at /tmp/loop_over_bdir-1510771-59TLvk/Sniffer-HTTP-0.28-0/blib/lib/Sniffer/HTTP.pm line 413.
# Couldn't sniff: Unable to look up device information for '<user specified device>': SIOCGIFADDR: : No such device at /tmp/loop_over_bdir-1510771-59TLvk/Sniffer-HTTP-0.28-0/blib/lib/Sniffer/HTTP.pm line 414.
# Are you sure you have the proper permissions?
# Maybe you need to be root to get the proper permissions. Your user id is 1005
# Child done.
t/05-capture_to_file.t .. ok
All tests successful.
Test Summary Report
-------------------
t/01-find_device.t (Wstat: 0 Tests: 11 Failed: 0)
TODO passed: 3, 5-6, 9-11
Files=6, Tests=34, 3 wallclock secs ( 0.06 usr 0.04 sys + 0.62 cusr 0.15 csys = 0.87 CPU)
Result: PASS
------------------------------
PREREQUISITES
------------------------------
Prerequisite modules loaded:
requires:
Module Need Have
------------------------ ----- --------
Class::Accessor 0 0.51
Class::Data::Inheritable 0 0.10
Exporter 5.5 5.78
HTTP::Request 6.14 7.00
HTTP::Response 6.14 7.00
LWP::Simple 0 6.77
Net::Pcap 0.09 0.21
NetPacket::TCP 0 1.7.2
parent 0 0.244
perl 5.006 5.041008
build_requires:
Module Need Have
------------------------ ----- --------
Data::Dumper 0 2.191
ExtUtils::MakeMaker 0 7.70
Image::Info 0 1.45
Test::Deep 0 1.204
Test::HTTP::LocalServer 0.61 0.76
Test::More 0 1.302209
URI 0 5.31
URI::file 0 5.31
configure_requires:
Module Need Have
------------------------ ----- --------
ExtUtils::MakeMaker 0 7.70
------------------------------
ENVIRONMENT AND OTHER CONTEXT
------------------------------
Environment variables:
AUTOMATED_TESTING = 1
LANG = en_US.UTF-8
LC_ADDRESS = de_DE.UTF-8
LC_IDENTIFICATION = de_DE.UTF-8
LC_MEASUREMENT = de_DE.UTF-8
LC_MONETARY = de_DE.UTF-8
LC_NAME = de_DE.UTF-8
LC_NUMERIC = de_DE.UTF-8
LC_PAPER = de_DE.UTF-8
LC_TELEPHONE = de_DE.UTF-8
LC_TIME = de_DE.UTF-8
PATH = /home/sand/bin:/usr/local/bin:/usr/local/sbin:/usr/sbin:/usr/bin:/sbin:/bin:/usr/games:/usr/local/games:/snap/bin:/usr/local/perl/bin:/usr/X11/bin
PERL = /tmp/basesmoker-reloperl-ZTI9/bin/perl
PERL5LIB = /tmp/loop_over_bdir-1510771-59TLvk/Alien-SNMP-MIBDEV-2.020000-0/blib/arch:/tmp/loop_over_bdir-1510771-59TLvk/Alien-SNMP-MIBDEV-2.020000-0/blib/lib:/tmp/loop_over_bdir-1510771-59TLvk/Devel-Required-0.16-0/blib/arch:/tmp/loop_over_bdir-1510771-59TLvk/Devel-Required-0.16-0/blib/lib:/tmp/loop_over_bdir-1510771-59TLvk/makepp-1.19-0/blib/arch:/tmp/loop_over_bdir-1510771-59TLvk/makepp-1.19-0/blib/lib:/tmp/loop_over_bdir-1510771-59TLvk/Lingua-YaTeA-0.626-0/blib/arch:/tmp/loop_over_bdir-1510771-59TLvk/Lingua-YaTeA-0.626-0/blib/lib
PERL5OPT =
PERL5_CPANPLUS_IS_RUNNING = 1510779
PERL5_CPAN_IS_RUNNING = 1510779
PERL_CANARY_STABILITY_NOPROMPT = 1
PERL_MM_USE_DEFAULT = 1
PERL_USE_UNSAFE_INC = 1
SHELL = /usr/bin/zsh
TERM = screen
Perl special variables (and OS-specific diagnostics, for MSWin32):
$^X = /tmp/basesmoker-reloperl-ZTI9/bin/perl
$UID/$EUID = 1005 / 1005
$GID = 1005 1005
$EGID = 1005 1005
Perl module toolchain versions installed:
Module Have
------------------- --------
CPAN 2.38
CPAN::Meta 2.150010
Cwd 3.92
ExtUtils::CBuilder 0.280240
ExtUtils::Command 7.70
ExtUtils::Install 2.22
ExtUtils::MakeMaker 7.70
ExtUtils::Manifest 1.75
ExtUtils::ParseXS 3.57
File::Spec 3.93
JSON 4.10
JSON::PP 4.16
Module::Build 0.4234
Module::Signature 0.89
Parse::CPAN::Meta 2.150010
Test2 1.302209
Test::Harness 3.50
Test::More 1.302209
YAML 1.31
YAML::Syck 1.34
version 0.9933
--
Summary of my perl5 (revision 5 version 41 subversion 8) configuration:
Commit id: 275243fbaf44bf18a6a42a38e62026bc22e22cc4
Platform:
osname=linux
osvers=6.8.0-50-generic
archname=x86_64-linux-thread-multi
uname='linux k93jammy 6.8.0-50-generic #51~22.04.1-ubuntu smp preempt_dynamic thu nov 21 12:03:03 utc 2 x86_64 x86_64 x86_64 gnulinux '
config_args='-Dprefix=/home/sand/src/perl/repoperls/installed-perls/host/k93jammy/v5.41.8/b4f3 -Dmyhostname=k93jammy -Dinstallusrbinperl=n -Uversiononly -Dusedevel -des -Ui_db -Dlibswanted=cl pthread socket inet nsl gdbm dbm malloc dl ld sun m crypt sec util c cposix posix ucb BSD gdbm_compat -Duseithreads -Uuselongdouble -DEBUGGING=-g'
hint=recommended
useposix=true
d_sigaction=define
useithreads=define
usemultiplicity=define
use64bitint=define
use64bitall=define
uselongdouble=undef
usemymalloc=n
default_inc_excludes_dot=define
Compiler:
cc='cc'
ccflags ='-D_REENTRANT -D_GNU_SOURCE -fwrapv -fno-strict-aliasing -pipe -fstack-protector-strong -I/usr/local/include -D_LARGEFILE_SOURCE -D_FILE_OFFSET_BITS=64'
optimize='-O2 -g'
cppflags='-D_REENTRANT -D_GNU_SOURCE -fwrapv -fno-strict-aliasing -pipe -fstack-protector-strong -I/usr/local/include'
ccversion=''
gccversion='11.4.0'
gccosandvers=''
intsize=4
longsize=8
ptrsize=8
doublesize=8
byteorder=12345678
doublekind=3
d_longlong=define
longlongsize=8
d_longdbl=define
longdblsize=16
longdblkind=3
ivtype='long'
ivsize=8
nvtype='double'
nvsize=8
Off_t='off_t'
lseeksize=8
alignbytes=8
prototype=define
Linker and Libraries:
ld='cc'
ldflags =' -fstack-protector-strong -L/usr/local/lib'
libpth=/usr/local/lib /usr/lib/x86_64-linux-gnu /usr/lib /usr/lib64
libs=-lpthread -lnsl -ldl -lm -lcrypt -lutil -lc
perllibs=-lpthread -lnsl -ldl -lm -lcrypt -lutil -lc
libc=/lib/x86_64-linux-gnu/libc.so.6
so=so
useshrplib=false
libperl=libperl.a
gnulibc_version='2.35'
Dynamic Linking:
dlsrc=dl_dlopen.xs
dlext=so
d_dlsymun=undef
ccdlflags='-Wl,-E'
cccdlflags='-fPIC'
lddlflags='-shared -O2 -g -L/usr/local/lib -fstack-protector-strong'
Characteristics of this binary (from libperl):
Compile-time options:
HAS_LONG_DOUBLE
HAS_STRTOLD
HAS_TIMES
MULTIPLICITY
PERLIO_LAYERS
PERL_COPY_ON_WRITE
PERL_DONT_CREATE_GVSV
PERL_HASH_FUNC_SIPHASH13
PERL_HASH_USE_SBOX32
PERL_MALLOC_WRAP
PERL_OP_PARENT
PERL_PRESERVE_IVUV
PERL_USE_DEVEL
PERL_USE_SAFE_PUTENV
USE_64_BIT_ALL
USE_64_BIT_INT
USE_ITHREADS
USE_LARGE_FILES
USE_LOCALE
USE_LOCALE_COLLATE
USE_LOCALE_CTYPE
USE_LOCALE_NUMERIC
USE_LOCALE_TIME
USE_PERLIO
USE_PERL_ATOF
USE_REENTRANT_API
USE_THREAD_SAFE_LOCALE
Built under linux
Compiled at Feb 1 2025 15:13:59
%ENV:
PERL="/tmp/basesmoker-reloperl-ZTI9/bin/perl"
PERL5LIB="/tmp/loop_over_bdir-1510771-59TLvk/Alien-SNMP-MIBDEV-2.020000-0/blib/arch:/tmp/loop_over_bdir-1510771-59TLvk/Alien-SNMP-MIBDEV-2.020000-0/blib/lib:/tmp/loop_over_bdir-1510771-59TLvk/Devel-Required-0.16-0/blib/arch:/tmp/loop_over_bdir-1510771-59TLvk/Devel-Required-0.16-0/blib/lib:/tmp/loop_over_bdir-1510771-59TLvk/makepp-1.19-0/blib/arch:/tmp/loop_over_bdir-1510771-59TLvk/makepp-1.19-0/blib/lib:/tmp/loop_over_bdir-1510771-59TLvk/Lingua-YaTeA-0.626-0/blib/arch:/tmp/loop_over_bdir-1510771-59TLvk/Lingua-YaTeA-0.626-0/blib/lib"
PERL5OPT=""
PERL5_CPANPLUS_IS_RUNNING="1510779"
PERL5_CPAN_IS_RUNNING="1510779"
PERL_CANARY_STABILITY_NOPROMPT="1"
PERL_MM_USE_DEFAULT="1"
PERL_USE_UNSAFE_INC="1"
@INC:
/tmp/loop_over_bdir-1510771-59TLvk/Alien-SNMP-MIBDEV-2.020000-0/blib/arch
/tmp/loop_over_bdir-1510771-59TLvk/Alien-SNMP-MIBDEV-2.020000-0/blib/lib
/tmp/loop_over_bdir-1510771-59TLvk/Devel-Required-0.16-0/blib/arch
/tmp/loop_over_bdir-1510771-59TLvk/Devel-Required-0.16-0/blib/lib
/tmp/loop_over_bdir-1510771-59TLvk/makepp-1.19-0/blib/arch
/tmp/loop_over_bdir-1510771-59TLvk/makepp-1.19-0/blib/lib
/tmp/loop_over_bdir-1510771-59TLvk/Lingua-YaTeA-0.626-0/blib/arch
/tmp/loop_over_bdir-1510771-59TLvk/Lingua-YaTeA-0.626-0/blib/lib
/home/sand/src/perl/repoperls/installed-perls/host/k93jammy/v5.41.8/b4f3/lib/site_perl/5.41.8/x86_64-linux-thread-multi
/home/sand/src/perl/repoperls/installed-perls/host/k93jammy/v5.41.8/b4f3/lib/site_perl/5.41.8
/home/sand/src/perl/repoperls/installed-perls/host/k93jammy/v5.41.8/b4f3/lib/5.41.8/x86_64-linux-thread-multi
/home/sand/src/perl/repoperls/installed-perls/host/k93jammy/v5.41.8/b4f3/lib/5.41.8
.