Report for WebService-DataDog-1.0.3

Back
From: metabase:user:320bfe00-2aae-11df-837a-5e0a49663a4f
Subject: PASS WebService-DataDog-1.0.3 v5.12.5 GNU/Linux
Date: 2017-07-13T08:40:50Z

This distribution has been tested as part of the CPAN Testers
project, supporting the Perl programming language.  See
http://wiki.cpantesters.org/ for more information or email
questions to cpan-testers-discuss@perl.org


--
Dear Jennifer Pinkham,

This is a computer-generated report for WebService-DataDog-1.0.3
on perl 5.12.5, created by CPAN-Reporter-1.2018.

Thank you for uploading your work to CPAN.  Congratulations!
All tests were successful.

Sections of this report:

    * Tester comments
    * Program output
    * Prerequisites
    * Environment and other context

------------------------------
TESTER COMMENTS
------------------------------

Additional comments from tester:

this report is from an automated smoke testing program
and was not reviewed by a human for accuracy

------------------------------
PROGRAM OUTPUT
------------------------------

Output from '/usr/bin/make test':

PERL_DL_NONLAZY=1 "/home/sand/src/perl/repoperls/installed-perls/host/k93msid/v5.12.5/89ad/bin/perl" "-MExtUtils::Command::MM" "-MTest::Harness" "-e" "undef *Test::Harness::Switches; test_harness(0, 'blib/lib', 'blib/arch')" t/*.t t/User/*.t t/Dashboard/*.t t/Tag/*.t t/Search/*.t t/Alert/*.t t/Graph/*.t t/Metric/*.t t/Event/*.t t/Comment/*.t
# Testing WebService::DataDog 1.0.3, Perl 5.012005, /home/sand/src/perl/repoperls/installed-perls/host/k93msid/v5.12.5/89ad/bin/perl
t/00-load.t .................... ok
t/10-new.t ..................... ok
t/15-build.t ................... skipped: Local connection information for DataDog required to run tests.
# Testing WebService::DataDog::Alert 1.0.3, Perl 5.012005, /home/sand/src/perl/repoperls/installed-perls/host/k93msid/v5.12.5/89ad/bin/perl
t/Alert/00-load.t .............. ok
t/Alert/10-retrieve_all.t ...... skipped: Local connection information for DataDog required to run tests.
t/Alert/20-create.t ............ skipped: Local connection information for DataDog required to run tests.
t/Alert/30-retrieve.t .......... skipped: Local connection information for DataDog required to run tests.
t/Alert/40-update.t ............ skipped: Local connection information for DataDog required to run tests.
t/Alert/50-mute_all.t .......... skipped: Local connection information for DataDog required to run tests.
t/Alert/60-unmute_all.t ........ skipped: Local connection information for DataDog required to run tests.
t/Alert/70-delete.t ............ skipped: Local connection information for DataDog required to run tests.
t/Alert/99-cleanup.t ........... ok
# Testing WebService::DataDog::Comment 1.0.3, Perl 5.012005, /home/sand/src/perl/repoperls/installed-perls/host/k93msid/v5.12.5/89ad/bin/perl
t/Comment/00-load.t ............ ok
t/Comment/10-create.t .......... skipped: Local connection information for DataDog required to run tests.
t/Comment/20-update.t .......... skipped: Local connection information for DataDog required to run tests.
t/Comment/30-delete.t .......... skipped: Local connection information for DataDog required to run tests.
t/Comment/99-cleanup.t ......... ok
# Testing WebService::DataDog::Dashboard 1.0.3, Perl 5.012005, /home/sand/src/perl/repoperls/installed-perls/host/k93msid/v5.12.5/89ad/bin/perl
t/Dashboard/00-load.t .......... ok
t/Dashboard/10-retrieve_all.t .. skipped: Local connection information for DataDog required to run tests.
t/Dashboard/20-create.t ........ skipped: Local connection information for DataDog required to run tests.
t/Dashboard/30-retrieve.t ...... skipped: Local connection information for DataDog required to run tests.
t/Dashboard/50-update.t ........ skipped: Local connection information for DataDog required to run tests.
t/Dashboard/60-delete.t ........ skipped: Local connection information for DataDog required to run tests.
t/Dashboard/99-cleanup.t ....... ok
# Testing WebService::DataDog::Event 1.0.3, Perl 5.012005, /home/sand/src/perl/repoperls/installed-perls/host/k93msid/v5.12.5/89ad/bin/perl
t/Event/00-load.t .............. ok
t/Event/20-search.t ............ skipped: Local connection information for DataDog required to run tests.
t/Event/30-retrieve.t .......... skipped: Local connection information for DataDog required to run tests.
t/Event/40-create.t ............ skipped: Local connection information for DataDog required to run tests.
t/Event/99-cleanup.t ........... ok
# Testing WebService::DataDog::Graph 1.0.3, Perl 5.012005, /home/sand/src/perl/repoperls/installed-perls/host/k93msid/v5.12.5/89ad/bin/perl
t/Graph/00-load.t .............. ok
t/Graph/10-snapshot.t .......... skipped: Local connection information for DataDog required to run tests.
# Testing WebService::DataDog::Metric 1.0.3, Perl 5.012005, /home/sand/src/perl/repoperls/installed-perls/host/k93msid/v5.12.5/89ad/bin/perl
t/Metric/00-load.t ............. ok
t/Metric/20-emit.t ............. skipped: Local connection information for DataDog required to run tests.
# Testing WebService::DataDog::Search 1.0.3, Perl 5.012005, /home/sand/src/perl/repoperls/installed-perls/host/k93msid/v5.12.5/89ad/bin/perl
t/Search/00-load.t ............. ok
t/Search/10-retrieve.t ......... skipped: Local connection information for DataDog required to run tests.
# Testing WebService::DataDog::Tag 1.0.3, Perl 5.012005, /home/sand/src/perl/repoperls/installed-perls/host/k93msid/v5.12.5/89ad/bin/perl
t/Tag/00-load.t ................ ok
t/Tag/10-retrieve_all.t ........ skipped: Local connection information for DataDog required to run tests.
t/Tag/20-retrieve.t ............ skipped: No tags found for the configured account.
t/Tag/30-update.t .............. skipped: No tags found for the configured account.
t/Tag/40-add.t ................. skipped: No tags found for the configured account.
t/Tag/50-delete.t .............. skipped: No tags found for the configured account.
t/Tag/99-cleanup.t ............. ok
# Testing WebService::DataDog::User 1.0.3, Perl 5.012005, /home/sand/src/perl/repoperls/installed-perls/host/k93msid/v5.12.5/89ad/bin/perl
t/User/00-load.t ............... ok
t/User/10-invite.t ............. skipped: Local connection information for DataDog required to run tests.
All tests successful.
Files=44, Tests=17, 20 wallclock secs ( 0.09 usr  0.20 sys +  4.17 cusr  1.04 csys =  5.50 CPU)
Result: PASS

------------------------------
PREREQUISITES
------------------------------

Prerequisite modules loaded:

requires:

    Module               Need     Have   
    -------------------- -------- -------
    Carp                 0        1.38   
    Class::Load          0        0.24   
    Data::Dumper         0        2.161  
    Data::Validate::Type 1.001000 1.6.0  
    HTTP::Request        0        6.11   
    JSON                 0        2.94   
    LWP::UserAgent       0        6.26   
    Scalar::Util         0        1.48   
    Storable             0        2.51   
    Test::FailWarnings   0        0.008  
    Test::Most           0        0.35   
    Try::Tiny            0        0.28   

build_requires:

    Module               Need     Have   
    -------------------- -------- -------
    ExtUtils::MakeMaker  0        7.31_03

configure_requires:

    Module               Need     Have   
    -------------------- -------- -------
    Module::Build        0        0.4224 


------------------------------
ENVIRONMENT AND OTHER CONTEXT
------------------------------

Environment variables:

    AUTOMATED_TESTING = 1
    LANG = en_US.UTF-8
    PATH = /home/sand/bin:/usr/local/bin:/usr/bin:/bin:/usr/games:/usr/local/perl/bin:/usr/X11/bin:/sbin:/usr/sbin
    PERL5LIB = 
    PERL5OPT = 
    PERL5_CPANPLUS_IS_RUNNING = 7324
    PERL5_CPAN_IS_RUNNING = 7324
    PERL_CANARY_STABILITY_NOPROMPT = 1
    PERL_MM_USE_DEFAULT = 1
    PERL_USE_UNSAFE_INC = 1
    SHELL = /usr/bin/zsh
    TERM = screen

Perl special variables (and OS-specific diagnostics, for MSWin32):

    $^X = /home/sand/src/perl/repoperls/installed-perls/host/k93msid/v5.12.5/89ad/bin/perl
    $UID/$EUID = 1005 / 1005
    $GID = 1005 1005
    $EGID = 1005 1005

Perl module toolchain versions installed:

    Module              Have    
    ------------------- --------
    CPAN                2.18    
    CPAN::Meta          2.150010
    Cwd                 3.62    
    ExtUtils::CBuilder  0.280224
    ExtUtils::Command   7.31_03 
    ExtUtils::Install   2.14    
    ExtUtils::MakeMaker 7.31_03 
    ExtUtils::Manifest  1.70    
    ExtUtils::ParseXS   3.30    
    File::Spec          3.62    
    JSON                2.94    
    JSON::PP            2.94    
    Module::Build       0.4224  
    Module::Signature   0.81    
    Parse::CPAN::Meta   1.4422  
    Test::Harness       3.39    
    Test::More          1.302089
    YAML                1.23    
    YAML::Syck          1.30    
    version             0.9917  


--

Summary of my perl5 (revision 5 version 12 subversion 5) configuration:
  Derived from: 9a9cbd715960a905dcbc9166349a73a64a007e4e
  Platform:
    osname=linux, osvers=4.9.0-2-amd64, archname=x86_64-linux
    uname='linux k93msid 4.9.0-2-amd64 #1 smp debian 4.9.18-1 (2017-03-30) x86_64 gnulinux '
    config_args='-Dprefix=/home/sand/src/perl/repoperls/installed-perls/host/k93msid/v5.12.5/89ad -Dmyhostname=k93msid -Dinstallusrbinperl=n -Uversiononly -Dusedevel -des -Ui_db -Dlibswanted=cl pthread socket inet nsl gdbm dbm malloc dl ld sun m crypt sec util c cposix posix ucb BSD gdbm_compat -Uuseithreads -Uuselongdouble -DDEBUGGING=-g'
    hint=recommended, useposix=true, d_sigaction=define
    useithreads=undef, usemultiplicity=undef
    useperlio=define, d_sfio=undef, uselargefiles=define, usesocks=undef
    use64bitint=define, use64bitall=define, uselongdouble=undef
    usemymalloc=n, bincompat5005=undef
  Compiler:
    cc='cc', ccflags ='-fno-strict-aliasing -pipe -fstack-protector -I/usr/local/include -D_LARGEFILE_SOURCE -D_FILE_OFFSET_BITS=64',
    optimize='-O2 -g',
    cppflags='-fno-strict-aliasing -pipe -fstack-protector -I/usr/local/include'
    ccversion='', gccversion='6.3.0 20170406', gccosandvers=''
    intsize=4, longsize=8, ptrsize=8, doublesize=8, byteorder=12345678
    d_longlong=define, longlongsize=8, d_longdbl=define, longdblsize=16
    ivtype='long', ivsize=8, nvtype='double', nvsize=8, Off_t='off_t', lseeksize=8
    alignbytes=8, prototype=define
  Linker and Libraries:
    ld='cc', ldflags =' -fstack-protector -L/usr/local/lib'
    libpth=/usr/local/lib /lib/x86_64-linux-gnu /lib/../lib /usr/lib/x86_64-linux-gnu /usr/lib/../lib /lib /usr/lib
    libs=-lpthread -lnsl -ldl -lm -lcrypt -lutil -lc
    perllibs=-lpthread -lnsl -ldl -lm -lcrypt -lutil -lc
    libc=libc-2.24.so, so=so, useshrplib=false, libperl=libperl.a
    gnulibc_version='2.24'
  Dynamic Linking:
    dlsrc=dl_dlopen.xs, dlext=so, d_dlsymun=undef, ccdlflags='-Wl,-E'
    cccdlflags='-fPIC', lddlflags='-shared -O2 -g -L/usr/local/lib -fstack-protector'


Characteristics of this binary (from libperl): 
  Compile-time options: PERL_DONT_CREATE_GVSV PERL_MALLOC_WRAP PERL_USE_DEVEL
                        USE_64_BIT_ALL USE_64_BIT_INT USE_LARGE_FILES
                        USE_PERLIO USE_PERL_ATOF
  Locally applied patches:
	uncommitted-changes
  Built under linux
  Compiled at Apr 14 2017 07:21:55
  %ENV:
    PERL5LIB=""
    PERL5OPT=""
    PERL5_CPANPLUS_IS_RUNNING="7324"
    PERL5_CPAN_IS_RUNNING="7324"
    PERL_CANARY_STABILITY_NOPROMPT="1"
    PERL_MM_USE_DEFAULT="1"
    PERL_USE_UNSAFE_INC="1"
  @INC:
    /home/sand/src/perl/repoperls/installed-perls/host/k93msid/v5.12.5/89ad/lib/site_perl/5.12.5/x86_64-linux
    /home/sand/src/perl/repoperls/installed-perls/host/k93msid/v5.12.5/89ad/lib/site_perl/5.12.5
    /home/sand/src/perl/repoperls/installed-perls/host/k93msid/v5.12.5/89ad/lib/5.12.5/x86_64-linux
    /home/sand/src/perl/repoperls/installed-perls/host/k93msid/v5.12.5/89ad/lib/5.12.5
    .