Getopt-Euclid v0.4.8 Perl 5 v5.20.2 x86_64-linux-thread-multi

Status
Pass
From
Andreas J. König (ANDK)
Dist
Getopt-Euclid v0.4.8
Platform
Perl 5 v5.20.2 x86_64-linux-thread-multi
Date
2024-11-23 23:59:28
ID
f93cd210-a9f6-11ef-a883-10fdccd2e675
This distribution has been tested as part of the CPAN Testers
project, supporting the Perl programming language.  See
http://wiki.cpantesters.org/ for more information or email
questions to cpan-testers-discuss@perl.org


--
Dear David Precious,

This is a computer-generated report for Getopt-Euclid-0.4.8
on perl 5.20.2, created by CPAN-Reporter-1.2019.

Thank you for uploading your work to CPAN.  Congratulations!
All tests were successful.

Sections of this report:

    * Tester comments
    * Program output
    * Prerequisites
    * Environment and other context

------------------------------
TESTER COMMENTS
------------------------------

Additional comments from tester:

this report is from an automated smoke testing program
and was not reviewed by a human for accuracy

------------------------------
PROGRAM OUTPUT
------------------------------

Output from '/usr/bin/make test':

PERL_DL_NONLAZY=1 "/home/sand/src/perl/repoperls/installed-perls/host/k93msid/v5.20.2/29fb/bin/perl" "-MExtUtils::Command::MM" "-MTest::Harness" "-e" "undef *Test::Harness::Switches; test_harness(0, 'blib/lib', 'blib/arch')" t/*.t
# Testing Getopt::Euclid 0.4.5
t/00.load.t ..................... ok
t/any_array.t ................... ok
t/bundle.t ...................... ok
t/compile.t ..................... ok
t/defer.t ....................... ok
t/defer_all.t ................... ok
t/empty_ARGV_array.t ............ ok
t/entity_angles.t ............... ok
t/eval.t ........................ ok
t/excludes.t .................... ok
t/fail_bad_constraint.t ......... ok
t/fail_bad_default.t ............ ok
t/fail_bad_default_ref.t ........ ok
t/fail_bad_excludes.t ........... ok
t/fail_bad_excludes_2.t ......... ok
t/fail_bad_name.t ............... ok
t/fail_bad_name_2.t ............. ok
t/fail_bad_opt_default.t ........ ok
t/fail_bad_opt_default_2.t ...... ok
t/fail_excludes_msg.t ........... ok
t/fail_minimal_clash.t .......... ok
t/fail_misplaced_type.t ......... ok
t/fail_missing_required.t ....... ok
t/fail_missing_var.t ............ ok
t/fail_missing_var_2.t .......... ok
t/fail_no_spec.t ................ ok
t/fail_quoted_args.t ............ ok
t/fail_type.t ................... ok
t/fail_type_msg.t ............... ok
t/fail_type_msg_2.t ............. ok
t/fail_unknown_arg.t ............ ok
t/fail_unknown_mode.t ........... ok
t/fail_unknown_spec.t ........... ok
t/fail_unknown_spec_2.t ......... ok
t/fail_unknown_type.t ........... ok
t/fail_user_constraint.t ........ ok
t/fail_user_constraint_comma.t .. ok
t/fail_user_constraint_type.t ... ok
t/false.t ....................... ok
t/hier.t ........................ ok
t/hier_2.t ...................... ok
t/hier_export.t ................. ok
t/hier_no_pod.t ................. ok
t/ignore_decorations.t .......... ok
t/insert_defaults.t ............. ok
t/minimal.t ..................... ok
t/minimal_2.t ................... ok
t/opt_default.t ................. ok
t/pod.t ......................... ok
t/pod_cmd_after_cut.t ........... ok
t/pod_coverage.t ................ ok
t/pod_file.t .................... ok
t/quoted_args.t ................. ok
t/quoted_args_2.t ............... ok
t/repeatable.t .................. ok
t/repeated.t .................... ok
t/repeated_2.t .................. ok
t/simple.t ...................... ok
t/simple_alternate.t ............ ok
t/simple_shuffle.t .............. ok
t/std_arguments.t ............... ok
t/substr.t ...................... ok
t/substr_2.t .................... ok
t/types.t ....................... ok
t/types_regex.t ................. ok
t/types_vars.t .................. ok
t/vars_export.t ................. ok
All tests successful.
Files=67, Tests=679, 14 wallclock secs ( 0.23 usr  0.12 sys +  7.19 cusr  1.57 csys =  9.11 CPU)
Result: PASS

------------------------------
PREREQUISITES
------------------------------

Prerequisite modules loaded:

requires:

    Module                Need     Have    
    --------------------- -------- --------
    Carp                  0        1.50    
    File::Basename        0        2.85    
    File::Spec::Functions 0        3.75    
    IO::Page              0        0.02    
    IO::Pager::Page       0        1.04    
    List::Util            0        1.66    
    perl                  5.006001 5.020002
    Pod::PlainText        0        2.07    
    Pod::Select           0        1.62    
    re                    0        0.26    
    strict                0        1.08    
    Symbol                0        1.07    
    Text::Balanced        0        2.06    
    version               0        0.9933  
    warnings              0        1.23    

build_requires:

    Module                Need     Have    
    --------------------- -------- --------
    Data::Dumper          0        2.183   
    ExtUtils::MakeMaker   0        7.70    
    lib                   0        0.63    
    Pod::Checker          0        1.60    
    Test::More            0        1.302198

configure_requires:

    Module                Need     Have    
    --------------------- -------- --------
    ExtUtils::MakeMaker   0        7.70    


------------------------------
ENVIRONMENT AND OTHER CONTEXT
------------------------------

Environment variables:

    AUTOMATED_TESTING = 1
    LANG = en_US.UTF-8
    LANGUAGE = en_US:en
    PATH = /home/sand/bin:/usr/local/bin:/usr/bin:/bin:/usr/games:/usr/local/perl/bin:/usr/X11/bin:/sbin:/usr/sbin
    PERL5LIB = 
    PERL5OPT = 
    PERL5_CPANPLUS_IS_RUNNING = 2616320
    PERL5_CPAN_IS_RUNNING = 2616320
    PERL_CANARY_STABILITY_NOPROMPT = 1
    PERL_MM_USE_DEFAULT = 1
    PERL_USE_UNSAFE_INC = 1
    SHELL = /usr/bin/zsh
    TERM = screen

Perl special variables (and OS-specific diagnostics, for MSWin32):

    $^X = /home/sand/src/perl/repoperls/installed-perls/host/k93msid/v5.20.2/29fb/bin/perl
    $UID/$EUID = 1005 / 1005
    $GID = 1005 1005
    $EGID = 1005 1005

Perl module toolchain versions installed:

    Module              Have    
    ------------------- --------
    CPAN                2.37    
    CPAN::Meta          2.150010
    Cwd                 3.75    
    ExtUtils::CBuilder  0.280236
    ExtUtils::Command   7.70    
    ExtUtils::Install   2.22    
    ExtUtils::MakeMaker 7.70    
    ExtUtils::Manifest  1.70    
    ExtUtils::ParseXS   3.51    
    File::Spec          3.75    
    JSON                4.10    
    JSON::PP            4.16    
    Module::Build       0.4234  
    Module::Signature   0.88    
    Parse::CPAN::Meta   2.150010
    Test2               1.302198
    Test::Harness       3.48    
    Test::More          1.302198
    YAML                1.31    
    YAML::Syck          1.34    
    version             0.9933  


--

Summary of my perl5 (revision 5 version 20 subversion 2) configuration:
  Derived from: c05ce579b6dae0f955ff8922469d49f95f4bf6fd
  Platform:
    osname=linux, osvers=6.5.0-5-amd64, archname=x86_64-linux-thread-multi
    uname='linux k93msid 6.5.0-5-amd64 #1 smp preempt_dynamic debian 6.5.13-1 (2023-11-29) x86_64 gnulinux '
    config_args='-Dprefix=/home/sand/src/perl/repoperls/installed-perls/host/k93msid/v5.20.2/29fb -Dmyhostname=k93msid -Dinstallusrbinperl=n -Uversiononly -Dusedevel -des -Ui_db -Dlibswanted=cl pthread socket inet nsl gdbm dbm malloc dl ld sun m crypt sec util c cposix posix ucb BSD gdbm_compat -Duseithreads -Uuselongdouble -DEBUGGING=both'
    hint=recommended, useposix=true, d_sigaction=define
    useithreads=define, usemultiplicity=define
    use64bitint=define, use64bitall=define, uselongdouble=undef
    usemymalloc=n, bincompat5005=undef
  Compiler:
    cc='cc', ccflags ='-D_REENTRANT -D_GNU_SOURCE -fwrapv -DDEBUGGING -fno-strict-aliasing -pipe -fstack-protector -I/usr/local/include -D_LARGEFILE_SOURCE -D_FILE_OFFSET_BITS=64',
    optimize='-O2 -g',
    cppflags='-D_REENTRANT -D_GNU_SOURCE -fwrapv -DDEBUGGING -fno-strict-aliasing -pipe -fstack-protector -I/usr/local/include'
    ccversion='', gccversion='13.2.0', gccosandvers=''
    intsize=4, longsize=8, ptrsize=8, doublesize=8, byteorder=12345678
    d_longlong=define, longlongsize=8, d_longdbl=define, longdblsize=16
    ivtype='long', ivsize=8, nvtype='double', nvsize=8, Off_t='off_t', lseeksize=8
    alignbytes=8, prototype=define
  Linker and Libraries:
    ld='cc', ldflags =' -fstack-protector -L/usr/local/lib'
    libpth=/usr/local/lib /usr/include/x86_64-linux-gnu /usr/lib /lib/x86_64-linux-gnu /lib/../lib /usr/lib/x86_64-linux-gnu /usr/lib/../lib /lib /lib64 /usr/lib64
    libs=-lpthread -lnsl -ldl -lm -lcrypt -lutil -lc
    perllibs=-lpthread -lnsl -ldl -lm -lcrypt -lutil -lc
    libc=/lib/x86_64-linux-gnu/libc.so.6, so=so, useshrplib=false, libperl=libperl.a
    gnulibc_version='2.37'
  Dynamic Linking:
    dlsrc=dl_dlopen.xs, dlext=so, d_dlsymun=undef, ccdlflags='-Wl,-E'
    cccdlflags='-fPIC', lddlflags='-shared -O2 -g -L/usr/local/lib -fstack-protector'


Characteristics of this binary (from libperl): 
  Compile-time options: DEBUGGING HAS_TIMES MULTIPLICITY PERLIO_LAYERS
                        PERL_DONT_CREATE_GVSV
                        PERL_HASH_FUNC_ONE_AT_A_TIME_HARD
                        PERL_IMPLICIT_CONTEXT PERL_MALLOC_WRAP
                        PERL_NEW_COPY_ON_WRITE PERL_PRESERVE_IVUV
                        PERL_TRACK_MEMPOOL PERL_USE_DEVEL USE_64_BIT_ALL
                        USE_64_BIT_INT USE_ITHREADS USE_LARGE_FILES
                        USE_LOCALE USE_LOCALE_COLLATE USE_LOCALE_CTYPE
                        USE_LOCALE_NUMERIC USE_PERLIO USE_PERL_ATOF
                        USE_REENTRANT_API
  Locally applied patches:
	uncommitted-changes
  Built under linux
  Compiled at Jan 21 2024 11:08:55
  %ENV:
    PERL5LIB=""
    PERL5OPT=""
    PERL5_CPANPLUS_IS_RUNNING="2616320"
    PERL5_CPAN_IS_RUNNING="2616320"
    PERL_CANARY_STABILITY_NOPROMPT="1"
    PERL_MM_USE_DEFAULT="1"
    PERL_USE_UNSAFE_INC="1"
  @INC:
    /home/sand/src/perl/repoperls/installed-perls/host/k93msid/v5.20.2/29fb/lib/site_perl/5.20.2/x86_64-linux-thread-multi
    /home/sand/src/perl/repoperls/installed-perls/host/k93msid/v5.20.2/29fb/lib/site_perl/5.20.2
    /home/sand/src/perl/repoperls/installed-perls/host/k93msid/v5.20.2/29fb/lib/5.20.2/x86_64-linux-thread-multi
    /home/sand/src/perl/repoperls/installed-perls/host/k93msid/v5.20.2/29fb/lib/5.20.2
    .