Mail-Mbox-MessageParser v1.5111 Perl 5 v5.22.1 amd64-netbsd
- Status
- Pass
- From
- Chris Williams (BINGOS)
- Dist
-
Mail-Mbox-MessageParser v1.5111
- Platform
- Perl 5 v5.22.1 amd64-netbsd
- Date
- 2018-07-18 04:06:40
- ID
- f90401ca-8a3f-11e8-bed3-aefc88cf513b
This distribution has been tested as part of the CPAN Testers
project, supporting the Perl programming language. See
http://wiki.cpantesters.org/ for more information or email
questions to cpan-testers-discuss@perl.org
--
Dear DCOPPIT,
This is a computer-generated error report created automatically by
CPANPLUS, version 0.9174. Testers personal comments may appear
at the end of this report.
Thank you for uploading your work to CPAN. Congratulations!
All tests were successful.
TEST RESULTS:
Below is the error stack from stage 'make test':
PERL_DL_NONLAZY=1 "/home/cpan/pit/bare/perl-5.22.1/bin/perl" "-MExtUtils::Command::MM" "-MTest::Harness" "-e" "undef *Test::Harness::Switches; test_harness(1, 'blib/lib', 'blib/arch')" t/*.t
t/000_standard__compile.t .......
1..6
ok 1 - Compile test for blib/lib/Mail/Mbox/MessageParser.pm
ok 2 - Compile test for blib/lib/Mail/Mbox/MessageParser/Cache.pm
ok 3 - Compile test for blib/lib/Mail/Mbox/MessageParser/Grep.pm
ok 4 - Compile test for blib/lib/Mail/Mbox/MessageParser/Perl.pm
ok 5 - Compile test for blib/lib/Mail/Mbox/MessageParser/Config.pm
ok 6 - Compile test for blib/lib/Mail/Mbox/MessageParser/MetaInfo.pm
ok
t/000_standard__perl_critic.t ... skipped: Author test. Set $ENV{TEST_AUTHOR} to a true value to run.
t/000_standard__pod.t ........... skipped: Test::Pod required for testing POD
t/000_standard__pod_coverage.t .. skipped: Test::Pod::Coverage required for testing POD coverage
t/appended_mailbox.t ............
1..6
Testing modified mailbox with Perl implementation
Comparing /tmp/xqr7NjpqU2 to t/mailboxes/mailarc-1.txt
Output /tmp/xqr7NjpqU2 looks good.
ok 1 - Computing differences
Testing modified mailbox with Cache implementation
Comparing /tmp/ZG3oT_olCt to t/mailboxes/mailarc-1.txt
Output /tmp/ZG3oT_olCt looks good.
ok 2 - Computing differences
Testing modified mailbox with Grep implementation
ok 3 # skip GNU grep not available
Testing modified mailbox with Perl implementation
Comparing /tmp/jBDxAwlyUQ to t/mailboxes/mailarc-1.txt
Output /tmp/jBDxAwlyUQ looks good.
ok 4 - Computing differences
Testing modified mailbox with Cache implementation
Comparing /tmp/Cm6a0oVzVS to t/mailboxes/mailarc-1.txt
Output /tmp/Cm6a0oVzVS looks good.
ok 5 - Computing differences
Testing modified mailbox with Grep implementation
ok 6 # skip GNU grep not available
ok
t/bzip2.t .......................
1..1
Running test:
"/bin/cat" "t/mailboxes/mailarc-2.txt.bz2" | "/usr/bin/bzip2" -cd
Comparing /tmp/CLL1FfpCwC to t/results/mailarc-2.txt
Output /tmp/CLL1FfpCwC looks good.
Comparing /tmp/DtvdtXmoKL to t/results/none
Output /tmp/DtvdtXmoKL looks good.
ok 1 - Computing differences
ok
t/endline.t .....................
1..8
Testing filename: t/mailboxes/mailarc-1-dos.txt
ok 1 - Dos endline expected
ok 2 - Dos endline expected
ok 3 - Dos endline expected
ok 4 # skip GNU grep not available
Testing filename: t/mailboxes/mailarc-1.txt
ok 5 - Unix endline expected
ok 6 - Unix endline expected
ok 7 - Unix endline expected
ok 8 # skip GNU grep not available
ok
t/filehandle_compressed.t .......
1..16
Testing filename: t/mailboxes/mailarc-2.txt.bz2
Comparing /tmp/_6vyeQI5qC to t/mailboxes/mailarc-2.txt
Output /tmp/_6vyeQI5qC looks good.
ok 1 - Computing differences
Comparing /tmp/0YZScFa_tN to t/mailboxes/mailarc-2.txt
Output /tmp/0YZScFa_tN looks good.
ok 2 - Computing differences
Comparing /tmp/miGtJ1vIXk to t/mailboxes/mailarc-2.txt
Output /tmp/miGtJ1vIXk looks good.
ok 3 - Computing differences
ok 4 # skip GNU grep not available
Testing filename: t/mailboxes/mailarc-2.txt.gz
Comparing /tmp/EMPkDF1Dlf to t/mailboxes/mailarc-2.txt
Output /tmp/EMPkDF1Dlf looks good.
ok 5 - Computing differences
Comparing /tmp/Y5owkQPVSm to t/mailboxes/mailarc-2.txt
Output /tmp/Y5owkQPVSm looks good.
ok 6 - Computing differences
Comparing /tmp/5dXUJuLb4b to t/mailboxes/mailarc-2.txt
Output /tmp/5dXUJuLb4b looks good.
ok 7 - Computing differences
ok 8 # skip GNU grep not available
Testing filename: t/mailboxes/mailarc-2.txt.lz
ok 9 # skip lzip not available
ok 10 # skip lzip not available
ok 11 # skip lzip not available
ok 12 # skip lzip not available
Testing filename: t/mailboxes/mailarc-2.txt.xz
Comparing /tmp/AEaZQEbK8A to t/mailboxes/mailarc-2.txt
Output /tmp/AEaZQEbK8A looks good.
ok 13 - Computing differences
Comparing /tmp/3PBMA6s5HR to t/mailboxes/mailarc-2.txt
Output /tmp/3PBMA6s5HR looks good.
ok 14 - Computing differences
Comparing /tmp/l_4Wslg35P to t/mailboxes/mailarc-2.txt
Output /tmp/l_4Wslg35P looks good.
ok 15 - Computing differences
ok 16 # skip GNU grep not available
ok
t/filehandle_noncompressed.t ....
1..44
Testing filename: t/mailboxes/binary_body.txt
Comparing /tmp/vx2tRJDWmg to t/mailboxes/binary_body.txt
Output /tmp/vx2tRJDWmg looks good.
ok 1 - Computing differences
Comparing /tmp/ncTn_osHez to t/mailboxes/binary_body.txt
Output /tmp/ncTn_osHez looks good.
ok 2 - Computing differences
Comparing /tmp/ovbUgirJil to t/mailboxes/binary_body.txt
Output /tmp/ovbUgirJil looks good.
ok 3 - Computing differences
ok 4 # skip GNU grep not available
Testing filename: t/mailboxes/hessbug.txt
Comparing /tmp/CoG17ZrAnr to t/mailboxes/hessbug.txt
Output /tmp/CoG17ZrAnr looks good.
ok 5 - Computing differences
Comparing /tmp/6tlQMk3k7q to t/mailboxes/hessbug.txt
Output /tmp/6tlQMk3k7q looks good.
ok 6 - Computing differences
Comparing /tmp/D3smMAl0d1 to t/mailboxes/hessbug.txt
Output /tmp/D3smMAl0d1 looks good.
ok 7 - Computing differences
ok 8 # skip GNU grep not available
Testing filename: t/mailboxes/invalid-boundaries.txt
Comparing /tmp/wvLh3GbAH_ to t/mailboxes/invalid-boundaries.txt
Output /tmp/wvLh3GbAH_ looks good.
ok 9 - Computing differences
Comparing /tmp/K1Agbqj6Gp to t/mailboxes/invalid-boundaries.txt
Output /tmp/K1Agbqj6Gp looks good.
ok 10 - Computing differences
Comparing /tmp/qMvXigLaeH to t/mailboxes/invalid-boundaries.txt
Output /tmp/qMvXigLaeH looks good.
ok 11 - Computing differences
ok 12 # skip GNU grep not available
Testing filename: t/mailboxes/mailarc-1-dos.txt
Comparing /tmp/AculerdYfm to t/mailboxes/mailarc-1-dos.txt
Output /tmp/AculerdYfm looks good.
ok 13 - Computing differences
Comparing /tmp/_fsCc2MOsY to t/mailboxes/mailarc-1-dos.txt
Output /tmp/_fsCc2MOsY looks good.
ok 14 - Computing differences
Comparing /tmp/yC38k6wDwM to t/mailboxes/mailarc-1-dos.txt
Output /tmp/yC38k6wDwM looks good.
ok 15 - Computing differences
ok 16 # skip GNU grep not available
Testing filename: t/mailboxes/mailarc-1.txt
Comparing /tmp/_xF8bk98L0 to t/mailboxes/mailarc-1.txt
Output /tmp/_xF8bk98L0 looks good.
ok 17 - Computing differences
Comparing /tmp/9xl82Ms1KV to t/mailboxes/mailarc-1.txt
Output /tmp/9xl82Ms1KV looks good.
ok 18 - Computing differences
Comparing /tmp/Sk2P1FMD_R to t/mailboxes/mailarc-1.txt
Output /tmp/Sk2P1FMD_R looks good.
ok 19 - Computing differences
ok 20 # skip GNU grep not available
Testing filename: t/mailboxes/mailarc-2.txt
Comparing /tmp/t5SCdEfGvd to t/mailboxes/mailarc-2.txt
Output /tmp/t5SCdEfGvd looks good.
ok 21 - Computing differences
Comparing /tmp/vpaPmt8iHd to t/mailboxes/mailarc-2.txt
Output /tmp/vpaPmt8iHd looks good.
ok 22 - Computing differences
Comparing /tmp/qZANwxGc_c to t/mailboxes/mailarc-2.txt
Output /tmp/qZANwxGc_c looks good.
ok 23 - Computing differences
ok 24 # skip GNU grep not available
Testing filename: t/mailboxes/mailarc-3.txt
Comparing /tmp/h1Hp1crvSh to t/mailboxes/mailarc-3.txt
Output /tmp/h1Hp1crvSh looks good.
ok 25 - Computing differences
Comparing /tmp/rjilwM9eIe to t/mailboxes/mailarc-3.txt
Output /tmp/rjilwM9eIe looks good.
ok 26 - Computing differences
Comparing /tmp/Px79Pz2oE0 to t/mailboxes/mailarc-3.txt
Output /tmp/Px79Pz2oE0 looks good.
ok 27 - Computing differences
ok 28 # skip GNU grep not available
Testing filename: t/mailboxes/mailseparators.txt
Comparing /tmp/8xlv9WC2Cj to t/mailboxes/mailseparators.txt
Output /tmp/8xlv9WC2Cj looks good.
ok 29 - Computing differences
Comparing /tmp/PshFbbTVbg to t/mailboxes/mailseparators.txt
Output /tmp/PshFbbTVbg looks good.
ok 30 - Computing differences
Comparing /tmp/34d6Ix9rVI to t/mailboxes/mailseparators.txt
Output /tmp/34d6Ix9rVI looks good.
ok 31 - Computing differences
ok 32 # skip GNU grep not available
Testing filename: t/mailboxes/malformed.txt
Comparing /tmp/ggANkqz9Fc to t/mailboxes/malformed.txt
Output /tmp/ggANkqz9Fc looks good.
ok 33 - Computing differences
Comparing /tmp/kF8deINuc0 to t/mailboxes/malformed.txt
Output /tmp/kF8deINuc0 looks good.
ok 34 - Computing differences
Comparing /tmp/dNYOShehy3 to t/mailboxes/malformed.txt
Output /tmp/dNYOShehy3 looks good.
ok 35 - Computing differences
ok 36 # skip GNU grep not available
Testing filename: t/mailboxes/newlines_at_beginning.txt
Comparing /tmp/SUE2T5RCMq to t/mailboxes/newlines_at_beginning.txt
Output /tmp/SUE2T5RCMq looks good.
ok 37 - Computing differences
Comparing /tmp/ZVbaMZLvJj to t/mailboxes/newlines_at_beginning.txt
Output /tmp/ZVbaMZLvJj looks good.
ok 38 - Computing differences
Comparing /tmp/1ZcmdoNUgC to t/mailboxes/newlines_at_beginning.txt
Output /tmp/1ZcmdoNUgC looks good.
ok 39 - Computing differences
ok 40 # skip GNU grep not available
Testing filename: t/mailboxes/vm-emacs.txt
Comparing /tmp/GYfihrT1YV to t/mailboxes/vm-emacs.txt
Output /tmp/GYfihrT1YV looks good.
ok 41 - Computing differences
Comparing /tmp/Z43p3tYBN0 to t/mailboxes/vm-emacs.txt
Output /tmp/Z43p3tYBN0 looks good.
ok 42 - Computing differences
Comparing /tmp/PDwz70AXuj to t/mailboxes/vm-emacs.txt
Output /tmp/PDwz70AXuj looks good.
ok 43 - Computing differences
ok 44 # skip GNU grep not available
ok
t/filename_compressed.t .........
1..4
Testing filename: t/mailboxes/mailarc-2.txt.bz2
Comparing /tmp/98VuU1LlYY to t/mailboxes/mailarc-2.txt
Output /tmp/98VuU1LlYY looks good.
ok 1 - Computing differences
Testing filename: t/mailboxes/mailarc-2.txt.gz
Comparing /tmp/IWcelEQHgm to t/mailboxes/mailarc-2.txt
Output /tmp/IWcelEQHgm looks good.
ok 2 - Computing differences
Testing filename: t/mailboxes/mailarc-2.txt.lz
ok 3 # skip lzip not available
Testing filename: t/mailboxes/mailarc-2.txt.xz
Comparing /tmp/myVAgChxKv to t/mailboxes/mailarc-2.txt
Output /tmp/myVAgChxKv looks good.
ok 4 - Computing differences
ok
t/filename_noncompressed.t ......
1..11
Testing filename: t/mailboxes/binary_body.txt
Comparing /tmp/KBA0RFT_vj to t/mailboxes/binary_body.txt
Output /tmp/KBA0RFT_vj looks good.
ok 1 - Computing differences
Testing filename: t/mailboxes/hessbug.txt
Comparing /tmp/DH5c6xpxcD to t/mailboxes/hessbug.txt
Output /tmp/DH5c6xpxcD looks good.
ok 2 - Computing differences
Testing filename: t/mailboxes/invalid-boundaries.txt
Comparing /tmp/jBq2AME3fx to t/mailboxes/invalid-boundaries.txt
Output /tmp/jBq2AME3fx looks good.
ok 3 - Computing differences
Testing filename: t/mailboxes/mailarc-1-dos.txt
Comparing /tmp/f8cL4mSJKX to t/mailboxes/mailarc-1-dos.txt
Output /tmp/f8cL4mSJKX looks good.
ok 4 - Computing differences
Testing filename: t/mailboxes/mailarc-1.txt
Comparing /tmp/GMOVFmVzlF to t/mailboxes/mailarc-1.txt
Output /tmp/GMOVFmVzlF looks good.
ok 5 - Computing differences
Testing filename: t/mailboxes/mailarc-2.txt
Comparing /tmp/kybkghTptA to t/mailboxes/mailarc-2.txt
Output /tmp/kybkghTptA looks good.
ok 6 - Computing differences
Testing filename: t/mailboxes/mailarc-3.txt
Comparing /tmp/Lr6wEVEr7y to t/mailboxes/mailarc-3.txt
Output /tmp/Lr6wEVEr7y looks good.
ok 7 - Computing differences
Testing filename: t/mailboxes/mailseparators.txt
Comparing /tmp/Vt603mKFX6 to t/mailboxes/mailseparators.txt
Output /tmp/Vt603mKFX6 looks good.
ok 8 - Computing differences
Testing filename: t/mailboxes/malformed.txt
Comparing /tmp/ERM_N63pcD to t/mailboxes/malformed.txt
Output /tmp/ERM_N63pcD looks good.
ok 9 - Computing differences
Testing filename: t/mailboxes/newlines_at_beginning.txt
Comparing /tmp/LM72NkLmfA to t/mailboxes/newlines_at_beginning.txt
Output /tmp/LM72NkLmfA looks good.
ok 10 - Computing differences
Testing filename: t/mailboxes/vm-emacs.txt
Comparing /tmp/npyIOi7omo to t/mailboxes/vm-emacs.txt
Output /tmp/npyIOi7omo looks good.
ok 11 - Computing differences
ok
t/grep.t ........................
1..4
Running test:
unset LC_ALL LC_COLLATE LANG LC_CTYPE LC_MESSAGES; grep --extended-regexp --line-number --byte-offset --binary-files=text "^From [^:]+(:[0-9][0-9]){1,2}( *([A-Z]{2,6}|[+-]?[0-9]{4})){1,3}( remote from .*)?
?$" t/mailboxes/mailarc-1.txt
ok 1 # skip 1
Running test:
unset LC_ALL LC_COLLATE LANG LC_CTYPE LC_MESSAGES; grep --extended-regexp --line-number --byte-offset --binary-files=text "^From [^:]+(:[0-9][0-9]){1,2}( *([A-Z]{2,6}|[+-]?[0-9]{4})){1,3}( remote from .*)?
?$" t/mailboxes/mailarc-2.txt
ok 2 # skip 1
Running test:
unset LC_ALL LC_COLLATE LANG LC_CTYPE LC_MESSAGES; grep --extended-regexp --line-number --byte-offset --binary-files=text "^From [^:]+(:[0-9][0-9]){1,2}( *([A-Z]{2,6}|[+-]?[0-9]{4})){1,3}( remote from .*)?
?$" t/mailboxes/mailarc-3.txt
ok 3 # skip 1
Running test:
unset LC_ALL LC_COLLATE LANG LC_CTYPE LC_MESSAGES; grep --extended-regexp --line-number --byte-offset --binary-files=text "^From [^:]+(:[0-9][0-9]){1,2}( *([A-Z]{2,6}|[+-]?[0-9]{4})){1,3}( remote from .*)?
?$" t/mailboxes/mailseparators.txt
ok 4 # skip 1
ok
t/gzip.t ........................
1..1
Running test:
"/bin/cat" "t/mailboxes/mailarc-2.txt.gz" | "/usr/bin/gzip" -cd
Comparing /tmp/lUN1I2AJ0_ to t/results/mailarc-2.txt
Output /tmp/lUN1I2AJ0_ looks good.
Comparing /tmp/H6BYvIwX5L to t/results/none
Output /tmp/H6BYvIwX5L looks good.
ok 1 - Computing differences
ok
t/length.t ......................
1..30
Testing filename: t/mailboxes/binary_body.txt
Comparing /tmp/qJjDq9zrtX to t/results/length_binary_body.stdout
Output /tmp/qJjDq9zrtX looks good.
ok 1 - Computing differences
Comparing /tmp/Fhr4HcBwRl to t/results/length_binary_body.stdout
Output /tmp/Fhr4HcBwRl looks good.
ok 2 - Computing differences
ok 3 # skip GNU grep not available
Testing filename: t/mailboxes/hessbug.txt
Comparing /tmp/UB3J2Tl9V5 to t/results/length_hessbug.stdout
Output /tmp/UB3J2Tl9V5 looks good.
ok 4 - Computing differences
Comparing /tmp/d3NptGqj25 to t/results/length_hessbug.stdout
Output /tmp/d3NptGqj25 looks good.
ok 5 - Computing differences
ok 6 # skip GNU grep not available
Testing filename: t/mailboxes/invalid-boundaries.txt
Comparing /tmp/Y65BWX9IGl to t/results/length_invalid-boundaries.stdout
Output /tmp/Y65BWX9IGl looks good.
ok 7 - Computing differences
Comparing /tmp/ahKlkBL4Cj to t/results/length_invalid-boundaries.stdout
Output /tmp/ahKlkBL4Cj looks good.
ok 8 - Computing differences
ok 9 # skip GNU grep not available
Testing filename: t/mailboxes/mailarc-1-dos.txt
Comparing /tmp/3XNcgY1k37 to t/results/length_mailarc-1-dos.stdout
Output /tmp/3XNcgY1k37 looks good.
ok 10 - Computing differences
Comparing /tmp/si2l5z2hsI to t/results/length_mailarc-1-dos.stdout
Output /tmp/si2l5z2hsI looks good.
ok 11 - Computing differences
ok 12 # skip GNU grep not available
Testing filename: t/mailboxes/mailarc-1.txt
Comparing /tmp/qo2DvyfRod to t/results/length_mailarc-1.stdout
Output /tmp/qo2DvyfRod looks good.
ok 13 - Computing differences
Comparing /tmp/2RGmqjkHL1 to t/results/length_mailarc-1.stdout
Output /tmp/2RGmqjkHL1 looks good.
ok 14 - Computing differences
ok 15 # skip GNU grep not available
Testing filename: t/mailboxes/mailarc-2.txt
Comparing /tmp/ijWwWq1ixj to t/results/length_mailarc-2.stdout
Output /tmp/ijWwWq1ixj looks good.
ok 16 - Computing differences
Comparing /tmp/m9hK1FvTxW to t/results/length_mailarc-2.stdout
Output /tmp/m9hK1FvTxW looks good.
ok 17 - Computing differences
ok 18 # skip GNU grep not available
Testing filename: t/mailboxes/mailarc-3.txt
Comparing /tmp/ciiCFR3CDf to t/results/length_mailarc-3.stdout
Output /tmp/ciiCFR3CDf looks good.
ok 19 - Computing differences
Comparing /tmp/00_9iLQrlT to t/results/length_mailarc-3.stdout
Output /tmp/00_9iLQrlT looks good.
ok 20 - Computing differences
ok 21 # skip GNU grep not available
Testing filename: t/mailboxes/mailseparators.txt
Comparing /tmp/YdtI2zjetB to t/results/length_mailseparators.stdout
Output /tmp/YdtI2zjetB looks good.
ok 22 - Computing differences
Comparing /tmp/yfonO_zViP to t/results/length_mailseparators.stdout
Output /tmp/yfonO_zViP looks good.
ok 23 - Computing differences
ok 24 # skip GNU grep not available
Testing filename: t/mailboxes/malformed.txt
Comparing /tmp/b1PpOPcsOf to t/results/length_malformed.stdout
Output /tmp/b1PpOPcsOf looks good.
ok 25 - Computing differences
Comparing /tmp/aoneZ7fSxw to t/results/length_malformed.stdout
Output /tmp/aoneZ7fSxw looks good.
ok 26 - Computing differences
ok 27 # skip GNU grep not available
Testing filename: t/mailboxes/newlines_at_beginning.txt
Comparing /tmp/X1zbxJhTQ4 to t/results/length_newlines_at_beginning.stdout
Output /tmp/X1zbxJhTQ4 looks good.
ok 28 - Computing differences
Comparing /tmp/lpWELLpTYP to t/results/length_newlines_at_beginning.stdout
Output /tmp/lpWELLpTYP looks good.
ok 29 - Computing differences
ok 30 # skip GNU grep not available
ok
t/line_number.t .................
1..30
Testing filename: t/mailboxes/binary_body.txt
Comparing /tmp/S7xL20fvCV to t/results/line_number_binary_body.stdout
Output /tmp/S7xL20fvCV looks good.
ok 1 - Computing differences
Comparing /tmp/qxn4mBknVm to t/results/line_number_binary_body.stdout
Output /tmp/qxn4mBknVm looks good.
ok 2 - Computing differences
ok 3 # skip GNU grep not available
Testing filename: t/mailboxes/hessbug.txt
Comparing /tmp/omtfaC5ua6 to t/results/line_number_hessbug.stdout
Output /tmp/omtfaC5ua6 looks good.
ok 4 - Computing differences
Comparing /tmp/2CGwTcmoQd to t/results/line_number_hessbug.stdout
Output /tmp/2CGwTcmoQd looks good.
ok 5 - Computing differences
ok 6 # skip GNU grep not available
Testing filename: t/mailboxes/invalid-boundaries.txt
Comparing /tmp/8GplZWBbZu to t/results/line_number_invalid-boundaries.stdout
Output /tmp/8GplZWBbZu looks good.
ok 7 - Computing differences
Comparing /tmp/75F2V7sP0E to t/results/line_number_invalid-boundaries.stdout
Output /tmp/75F2V7sP0E looks good.
ok 8 - Computing differences
ok 9 # skip GNU grep not available
Testing filename: t/mailboxes/mailarc-1-dos.txt
Comparing /tmp/2KcktIrVIJ to t/results/line_number_mailarc-1-dos.stdout
Output /tmp/2KcktIrVIJ looks good.
ok 10 - Computing differences
Comparing /tmp/OAi2TtJubo to t/results/line_number_mailarc-1-dos.stdout
Output /tmp/OAi2TtJubo looks good.
ok 11 - Computing differences
ok 12 # skip GNU grep not available
Testing filename: t/mailboxes/mailarc-1.txt
Comparing /tmp/yqy2XLzKbN to t/results/line_number_mailarc-1.stdout
Output /tmp/yqy2XLzKbN looks good.
ok 13 - Computing differences
Comparing /tmp/odzDn_sGlZ to t/results/line_number_mailarc-1.stdout
Output /tmp/odzDn_sGlZ looks good.
ok 14 - Computing differences
ok 15 # skip GNU grep not available
Testing filename: t/mailboxes/mailarc-2.txt
Comparing /tmp/sVlkS2jidL to t/results/line_number_mailarc-2.stdout
Output /tmp/sVlkS2jidL looks good.
ok 16 - Computing differences
Comparing /tmp/gySalSZW0c to t/results/line_number_mailarc-2.stdout
Output /tmp/gySalSZW0c looks good.
ok 17 - Computing differences
ok 18 # skip GNU grep not available
Testing filename: t/mailboxes/mailarc-3.txt
Comparing /tmp/jYLqlIaww2 to t/results/line_number_mailarc-3.stdout
Output /tmp/jYLqlIaww2 looks good.
ok 19 - Computing differences
Comparing /tmp/z74ONl9pb7 to t/results/line_number_mailarc-3.stdout
Output /tmp/z74ONl9pb7 looks good.
ok 20 - Computing differences
ok 21 # skip GNU grep not available
Testing filename: t/mailboxes/mailseparators.txt
Comparing /tmp/YqZtuof1NT to t/results/line_number_mailseparators.stdout
Output /tmp/YqZtuof1NT looks good.
ok 22 - Computing differences
Comparing /tmp/WiIylPelLj to t/results/line_number_mailseparators.stdout
Output /tmp/WiIylPelLj looks good.
ok 23 - Computing differences
ok 24 # skip GNU grep not available
Testing filename: t/mailboxes/malformed.txt
Comparing /tmp/FKDuQUR1Vz to t/results/line_number_malformed.stdout
Output /tmp/FKDuQUR1Vz looks good.
ok 25 - Computing differences
Comparing /tmp/r7c_2Y5MK8 to t/results/line_number_malformed.stdout
Output /tmp/r7c_2Y5MK8 looks good.
ok 26 - Computing differences
ok 27 # skip GNU grep not available
Testing filename: t/mailboxes/newlines_at_beginning.txt
Comparing /tmp/ppqKCUaWni to t/results/line_number_newlines_at_beginning.stdout
Output /tmp/ppqKCUaWni looks good.
ok 28 - Computing differences
Comparing /tmp/9JyHeawBzW to t/results/line_number_newlines_at_beginning.stdout
Output /tmp/9JyHeawBzW looks good.
ok 29 - Computing differences
ok 30 # skip GNU grep not available
ok
t/lzip.t ........................
1..1
Running test:
"/bin/cat" "t/mailboxes/mailarc-2.txt.lz" | "lzip" -cd
ok 1 # skip lzip not available
ok
t/number.t ......................
1..30
Testing filename: t/mailboxes/binary_body.txt
Comparing /tmp/hWqRNcTqcT to t/results/number_binary_body.stdout
Output /tmp/hWqRNcTqcT looks good.
ok 1 - Computing differences
Comparing /tmp/eWZLWFAMy4 to t/results/number_binary_body.stdout
Output /tmp/eWZLWFAMy4 looks good.
ok 2 - Computing differences
ok 3 # skip GNU grep not available
Testing filename: t/mailboxes/hessbug.txt
Comparing /tmp/9SeWBdYftO to t/results/number_hessbug.stdout
Output /tmp/9SeWBdYftO looks good.
ok 4 - Computing differences
Comparing /tmp/jbq08xkVA2 to t/results/number_hessbug.stdout
Output /tmp/jbq08xkVA2 looks good.
ok 5 - Computing differences
ok 6 # skip GNU grep not available
Testing filename: t/mailboxes/invalid-boundaries.txt
Comparing /tmp/Wa71q5VSWo to t/results/number_invalid-boundaries.stdout
Output /tmp/Wa71q5VSWo looks good.
ok 7 - Computing differences
Comparing /tmp/eYfMO4gIkM to t/results/number_invalid-boundaries.stdout
Output /tmp/eYfMO4gIkM looks good.
ok 8 - Computing differences
ok 9 # skip GNU grep not available
Testing filename: t/mailboxes/mailarc-1-dos.txt
Comparing /tmp/sGywgAuvyp to t/results/number_mailarc-1-dos.stdout
Output /tmp/sGywgAuvyp looks good.
ok 10 - Computing differences
Comparing /tmp/380zUm3bi1 to t/results/number_mailarc-1-dos.stdout
Output /tmp/380zUm3bi1 looks good.
ok 11 - Computing differences
ok 12 # skip GNU grep not available
Testing filename: t/mailboxes/mailarc-1.txt
Comparing /tmp/gXRtfVGsKW to t/results/number_mailarc-1.stdout
Output /tmp/gXRtfVGsKW looks good.
ok 13 - Computing differences
Comparing /tmp/ibtJ9WRwyG to t/results/number_mailarc-1.stdout
Output /tmp/ibtJ9WRwyG looks good.
ok 14 - Computing differences
ok 15 # skip GNU grep not available
Testing filename: t/mailboxes/mailarc-2.txt
Comparing /tmp/UIfUp5CBZn to t/results/number_mailarc-2.stdout
Output /tmp/UIfUp5CBZn looks good.
ok 16 - Computing differences
Comparing /tmp/aBlgpz2A0Y to t/results/number_mailarc-2.stdout
Output /tmp/aBlgpz2A0Y looks good.
ok 17 - Computing differences
ok 18 # skip GNU grep not available
Testing filename: t/mailboxes/mailarc-3.txt
Comparing /tmp/zHh_32Eevi to t/results/number_mailarc-3.stdout
Output /tmp/zHh_32Eevi looks good.
ok 19 - Computing differences
Comparing /tmp/w31POl8USm to t/results/number_mailarc-3.stdout
Output /tmp/w31POl8USm looks good.
ok 20 - Computing differences
ok 21 # skip GNU grep not available
Testing filename: t/mailboxes/mailseparators.txt
Comparing /tmp/QCDLV2Pu1z to t/results/number_mailseparators.stdout
Output /tmp/QCDLV2Pu1z looks good.
ok 22 - Computing differences
Comparing /tmp/Mc209bYPLC to t/results/number_mailseparators.stdout
Output /tmp/Mc209bYPLC looks good.
ok 23 - Computing differences
ok 24 # skip GNU grep not available
Testing filename: t/mailboxes/malformed.txt
Comparing /tmp/X0CfNBHG2T to t/results/number_malformed.stdout
Output /tmp/X0CfNBHG2T looks good.
ok 25 - Computing differences
Comparing /tmp/A98d5pnJ6V to t/results/number_malformed.stdout
Output /tmp/A98d5pnJ6V looks good.
ok 26 - Computing differences
ok 27 # skip GNU grep not available
Testing filename: t/mailboxes/newlines_at_beginning.txt
Comparing /tmp/i6niqdffb_ to t/results/number_newlines_at_beginning.stdout
Output /tmp/i6niqdffb_ looks good.
ok 28 - Computing differences
Comparing /tmp/VAfwLZwgYK to t/results/number_newlines_at_beginning.stdout
Output /tmp/VAfwLZwgYK looks good.
ok 29 - Computing differences
ok 30 # skip GNU grep not available
ok
t/offset.t ......................
1..30
Testing filename: t/mailboxes/binary_body.txt
Comparing /tmp/bkvIwSyR0o to t/results/offset_binary_body.stdout
Output /tmp/bkvIwSyR0o looks good.
ok 1 - Computing differences
Comparing /tmp/G1gHQweKDf to t/results/offset_binary_body.stdout
Output /tmp/G1gHQweKDf looks good.
ok 2 - Computing differences
ok 3 # skip GNU grep not available
Testing filename: t/mailboxes/hessbug.txt
Comparing /tmp/4aAc0nCQB2 to t/results/offset_hessbug.stdout
Output /tmp/4aAc0nCQB2 looks good.
ok 4 - Computing differences
Comparing /tmp/ItgA96Sxt5 to t/results/offset_hessbug.stdout
Output /tmp/ItgA96Sxt5 looks good.
ok 5 - Computing differences
ok 6 # skip GNU grep not available
Testing filename: t/mailboxes/invalid-boundaries.txt
Comparing /tmp/HSSLTFfVS4 to t/results/offset_invalid-boundaries.stdout
Output /tmp/HSSLTFfVS4 looks good.
ok 7 - Computing differences
Comparing /tmp/8MLTbB2zx9 to t/results/offset_invalid-boundaries.stdout
Output /tmp/8MLTbB2zx9 looks good.
ok 8 - Computing differences
ok 9 # skip GNU grep not available
Testing filename: t/mailboxes/mailarc-1-dos.txt
Comparing /tmp/dbr3yf7qQz to t/results/offset_mailarc-1-dos.stdout
Output /tmp/dbr3yf7qQz looks good.
ok 10 - Computing differences
Comparing /tmp/a0mnWlD916 to t/results/offset_mailarc-1-dos.stdout
Output /tmp/a0mnWlD916 looks good.
ok 11 - Computing differences
ok 12 # skip GNU grep not available
Testing filename: t/mailboxes/mailarc-1.txt
Comparing /tmp/STunlme9kf to t/results/offset_mailarc-1.stdout
Output /tmp/STunlme9kf looks good.
ok 13 - Computing differences
Comparing /tmp/zQQD2YDuNL to t/results/offset_mailarc-1.stdout
Output /tmp/zQQD2YDuNL looks good.
ok 14 - Computing differences
ok 15 # skip GNU grep not available
Testing filename: t/mailboxes/mailarc-2.txt
Comparing /tmp/Se42s5MBPT to t/results/offset_mailarc-2.stdout
Output /tmp/Se42s5MBPT looks good.
ok 16 - Computing differences
Comparing /tmp/FtQDXwRKAq to t/results/offset_mailarc-2.stdout
Output /tmp/FtQDXwRKAq looks good.
ok 17 - Computing differences
ok 18 # skip GNU grep not available
Testing filename: t/mailboxes/mailarc-3.txt
Comparing /tmp/2ZzCfR3Wan to t/results/offset_mailarc-3.stdout
Output /tmp/2ZzCfR3Wan looks good.
ok 19 - Computing differences
Comparing /tmp/LubGEHxXK1 to t/results/offset_mailarc-3.stdout
Output /tmp/LubGEHxXK1 looks good.
ok 20 - Computing differences
ok 21 # skip GNU grep not available
Testing filename: t/mailboxes/mailseparators.txt
Comparing /tmp/5ybkEuxORo to t/results/offset_mailseparators.stdout
Output /tmp/5ybkEuxORo looks good.
ok 22 - Computing differences
Comparing /tmp/nFyQM16Mht to t/results/offset_mailseparators.stdout
Output /tmp/nFyQM16Mht looks good.
ok 23 - Computing differences
ok 24 # skip GNU grep not available
Testing filename: t/mailboxes/malformed.txt
Comparing /tmp/dLaVPv33Bl to t/results/offset_malformed.stdout
Output /tmp/dLaVPv33Bl looks good.
ok 25 - Computing differences
Comparing /tmp/qXjmr8Ds6A to t/results/offset_malformed.stdout
Output /tmp/qXjmr8Ds6A looks good.
ok 26 - Computing differences
ok 27 # skip GNU grep not available
Testing filename: t/mailboxes/newlines_at_beginning.txt
Comparing /tmp/pwA1NrQ26d to t/results/offset_newlines_at_beginning.stdout
Output /tmp/pwA1NrQ26d looks good.
ok 28 - Computing differences
Comparing /tmp/evGDVrDnYU to t/results/offset_newlines_at_beginning.stdout
Output /tmp/evGDVrDnYU looks good.
ok 29 - Computing differences
ok 30 # skip GNU grep not available
ok
t/prologue.t ....................
1..33
Testing filename: t/mailboxes/binary_body.txt
Comparing /tmp/svhXLlByAT to t/mailboxes/binary_body.txt
Output /tmp/svhXLlByAT looks good.
ok 1 - Computing differences
Comparing /tmp/eVIpSdK0DG to t/mailboxes/binary_body.txt
Output /tmp/eVIpSdK0DG looks good.
ok 2 - Computing differences
ok 3 # skip GNU grep not available
Testing filename: t/mailboxes/hessbug.txt
Comparing /tmp/QvUXD7LzUn to t/mailboxes/hessbug.txt
Output /tmp/QvUXD7LzUn looks good.
ok 4 - Computing differences
Comparing /tmp/9D00ZgGr6V to t/mailboxes/hessbug.txt
Output /tmp/9D00ZgGr6V looks good.
ok 5 - Computing differences
ok 6 # skip GNU grep not available
Testing filename: t/mailboxes/invalid-boundaries.txt
Comparing /tmp/iIrEmULz_G to t/mailboxes/invalid-boundaries.txt
Output /tmp/iIrEmULz_G looks good.
ok 7 - Computing differences
Comparing /tmp/a2Ws88WCb6 to t/mailboxes/invalid-boundaries.txt
Output /tmp/a2Ws88WCb6 looks good.
ok 8 - Computing differences
ok 9 # skip GNU grep not available
Testing filename: t/mailboxes/mailarc-1-dos.txt
Comparing /tmp/kwT2VnZMzp to t/mailboxes/mailarc-1-dos.txt
Output /tmp/kwT2VnZMzp looks good.
ok 10 - Computing differences
Comparing /tmp/K7D8fBZFUm to t/mailboxes/mailarc-1-dos.txt
Output /tmp/K7D8fBZFUm looks good.
ok 11 - Computing differences
ok 12 # skip GNU grep not available
Testing filename: t/mailboxes/mailarc-1.txt
Comparing /tmp/j40w7EUT2B to t/mailboxes/mailarc-1.txt
Output /tmp/j40w7EUT2B looks good.
ok 13 - Computing differences
Comparing /tmp/AOne9k03r2 to t/mailboxes/mailarc-1.txt
Output /tmp/AOne9k03r2 looks good.
ok 14 - Computing differences
ok 15 # skip GNU grep not available
Testing filename: t/mailboxes/mailarc-2.txt
Comparing /tmp/1y50Z6knjZ to t/mailboxes/mailarc-2.txt
Output /tmp/1y50Z6knjZ looks good.
ok 16 - Computing differences
Comparing /tmp/BPIa7HZb77 to t/mailboxes/mailarc-2.txt
Output /tmp/BPIa7HZb77 looks good.
ok 17 - Computing differences
ok 18 # skip GNU grep not available
Testing filename: t/mailboxes/mailarc-3.txt
Comparing /tmp/CmQeGW7ZqU to t/mailboxes/mailarc-3.txt
Output /tmp/CmQeGW7ZqU looks good.
ok 19 - Computing differences
Comparing /tmp/0bBQh2Lu_v to t/mailboxes/mailarc-3.txt
Output /tmp/0bBQh2Lu_v looks good.
ok 20 - Computing differences
ok 21 # skip GNU grep not available
Testing filename: t/mailboxes/mailseparators.txt
Comparing /tmp/206s4ZA0M4 to t/mailboxes/mailseparators.txt
Output /tmp/206s4ZA0M4 looks good.
ok 22 - Computing differences
Comparing /tmp/WD4HmyCUtC to t/mailboxes/mailseparators.txt
Output /tmp/WD4HmyCUtC looks good.
ok 23 - Computing differences
ok 24 # skip GNU grep not available
Testing filename: t/mailboxes/malformed.txt
Comparing /tmp/CfEy6GUqJ0 to t/mailboxes/malformed.txt
Output /tmp/CfEy6GUqJ0 looks good.
ok 25 - Computing differences
Comparing /tmp/X01GWeWuy1 to t/mailboxes/malformed.txt
Output /tmp/X01GWeWuy1 looks good.
ok 26 - Computing differences
ok 27 # skip GNU grep not available
Testing filename: t/mailboxes/newlines_at_beginning.txt
Comparing /tmp/20WGhr9bSJ to t/mailboxes/newlines_at_beginning.txt
Output /tmp/20WGhr9bSJ looks good.
ok 28 - Computing differences
Comparing /tmp/YHWVyRCaxa to t/mailboxes/newlines_at_beginning.txt
Output /tmp/YHWVyRCaxa looks good.
ok 29 - Computing differences
ok 30 # skip GNU grep not available
Testing filename: t/mailboxes/vm-emacs.txt
Comparing /tmp/UOCoSmcfz2 to t/mailboxes/vm-emacs.txt
Output /tmp/UOCoSmcfz2 looks good.
ok 31 - Computing differences
Comparing /tmp/isYIEpcdJW to t/mailboxes/vm-emacs.txt
Output /tmp/isYIEpcdJW looks good.
ok 32 - Computing differences
ok 33 # skip GNU grep not available
ok
t/reset.t .......................
1..60
Testing filename: t/mailboxes/binary_body.txt
Testing partial mailbox reset with Perl implementation
Comparing /tmp/RHGgeVYE2_ to t/results/reset_binary_body.stdout
Output /tmp/RHGgeVYE2_ looks good.
ok 1 - Computing differences
Testing partial mailbox reset with Cache implementation
Comparing /tmp/8hXa0Tl128 to t/results/reset_binary_body.stdout
Output /tmp/8hXa0Tl128 looks good.
ok 2 - Computing differences
Testing partial mailbox reset with Grep implementation
ok 3 # skip GNU grep not available
Testing full mailbox reset with Perl implementation
Comparing /tmp/Khkfm468bA to t/results/reset_binary_body.stdout
Output /tmp/Khkfm468bA looks good.
ok 4 - Computing differences
Testing full mailbox reset with Cache implementation
Comparing /tmp/iApGA6Gz5P to t/results/reset_binary_body.stdout
Output /tmp/iApGA6Gz5P looks good.
ok 5 - Computing differences
Testing full mailbox reset with Grep implementation
ok 6 # skip GNU grep not available
Testing filename: t/mailboxes/hessbug.txt
Testing partial mailbox reset with Perl implementation
Comparing /tmp/HUZ_UNN9mh to t/results/reset_hessbug.stdout
Output /tmp/HUZ_UNN9mh looks good.
ok 7 - Computing differences
Testing partial mailbox reset with Cache implementation
Comparing /tmp/L9S2KLIR3m to t/results/reset_hessbug.stdout
Output /tmp/L9S2KLIR3m looks good.
ok 8 - Computing differences
Testing partial mailbox reset with Grep implementation
ok 9 # skip GNU grep not available
Testing full mailbox reset with Perl implementation
Comparing /tmp/ap8owq3_h9 to t/results/reset_hessbug.stdout
Output /tmp/ap8owq3_h9 looks good.
ok 10 - Computing differences
Testing full mailbox reset with Cache implementation
Comparing /tmp/kyI602gtt_ to t/results/reset_hessbug.stdout
Output /tmp/kyI602gtt_ looks good.
ok 11 - Computing differences
Testing full mailbox reset with Grep implementation
ok 12 # skip GNU grep not available
Testing filename: t/mailboxes/invalid-boundaries.txt
Testing partial mailbox reset with Perl implementation
Comparing /tmp/WdS2SFXG80 to t/results/reset_invalid-boundaries.stdout
Output /tmp/WdS2SFXG80 looks good.
ok 13 - Computing differences
Testing partial mailbox reset with Cache implementation
Comparing /tmp/m0jhwjtB6o to t/results/reset_invalid-boundaries.stdout
Output /tmp/m0jhwjtB6o looks good.
ok 14 - Computing differences
Testing partial mailbox reset with Grep implementation
ok 15 # skip GNU grep not available
Testing full mailbox reset with Perl implementation
Comparing /tmp/rxSD3e23qy to t/results/reset_invalid-boundaries.stdout
Output /tmp/rxSD3e23qy looks good.
ok 16 - Computing differences
Testing full mailbox reset with Cache implementation
Comparing /tmp/6BDs1uUsBh to t/results/reset_invalid-boundaries.stdout
Output /tmp/6BDs1uUsBh looks good.
ok 17 - Computing differences
Testing full mailbox reset with Grep implementation
ok 18 # skip GNU grep not available
Testing filename: t/mailboxes/mailarc-1-dos.txt
Testing partial mailbox reset with Perl implementation
Comparing /tmp/yUogVAI_PB to t/results/reset_mailarc-1-dos.stdout
Output /tmp/yUogVAI_PB looks good.
ok 19 - Computing differences
Testing partial mailbox reset with Cache implementation
Comparing /tmp/ztVtfrOmDd to t/results/reset_mailarc-1-dos.stdout
Output /tmp/ztVtfrOmDd looks good.
ok 20 - Computing differences
Testing partial mailbox reset with Grep implementation
ok 21 # skip GNU grep not available
Testing full mailbox reset with Perl implementation
Comparing /tmp/pMp2Gpi_ya to t/results/reset_mailarc-1-dos.stdout
Output /tmp/pMp2Gpi_ya looks good.
ok 22 - Computing differences
Testing full mailbox reset with Cache implementation
Comparing /tmp/OqPgBJDFJP to t/results/reset_mailarc-1-dos.stdout
Output /tmp/OqPgBJDFJP looks good.
ok 23 - Computing differences
Testing full mailbox reset with Grep implementation
ok 24 # skip GNU grep not available
Testing filename: t/mailboxes/mailarc-1.txt
Testing partial mailbox reset with Perl implementation
Comparing /tmp/LPevrvkUBj to t/results/reset_mailarc-1.stdout
Output /tmp/LPevrvkUBj looks good.
ok 25 - Computing differences
Testing partial mailbox reset with Cache implementation
Comparing /tmp/Ywv_GeZqF0 to t/results/reset_mailarc-1.stdout
Output /tmp/Ywv_GeZqF0 looks good.
ok 26 - Computing differences
Testing partial mailbox reset with Grep implementation
ok 27 # skip GNU grep not available
Testing full mailbox reset with Perl implementation
Comparing /tmp/adkg0aYpP5 to t/results/reset_mailarc-1.stdout
Output /tmp/adkg0aYpP5 looks good.
ok 28 - Computing differences
Testing full mailbox reset with Cache implementation
Comparing /tmp/e0Xm83WA8s to t/results/reset_mailarc-1.stdout
Output /tmp/e0Xm83WA8s looks good.
ok 29 - Computing differences
Testing full mailbox reset with Grep implementation
ok 30 # skip GNU grep not available
Testing filename: t/mailboxes/mailarc-2.txt
Testing partial mailbox reset with Perl implementation
Comparing /tmp/wonKqiT_65 to t/results/reset_mailarc-2.stdout
Output /tmp/wonKqiT_65 looks good.
ok 31 - Computing differences
Testing partial mailbox reset with Cache implementation
Comparing /tmp/H4gGJpWakK to t/results/reset_mailarc-2.stdout
Output /tmp/H4gGJpWakK looks good.
ok 32 - Computing differences
Testing partial mailbox reset with Grep implementation
ok 33 # skip GNU grep not available
Testing full mailbox reset with Perl implementation
Comparing /tmp/qPFHIgUPz0 to t/results/reset_mailarc-2.stdout
Output /tmp/qPFHIgUPz0 looks good.
ok 34 - Computing differences
Testing full mailbox reset with Cache implementation
Comparing /tmp/uV5OaYz6Z7 to t/results/reset_mailarc-2.stdout
Output /tmp/uV5OaYz6Z7 looks good.
ok 35 - Computing differences
Testing full mailbox reset with Grep implementation
ok 36 # skip GNU grep not available
Testing filename: t/mailboxes/mailarc-3.txt
Testing partial mailbox reset with Perl implementation
Comparing /tmp/K2qMya9eXa to t/results/reset_mailarc-3.stdout
Output /tmp/K2qMya9eXa looks good.
ok 37 - Computing differences
Testing partial mailbox reset with Cache implementation
Comparing /tmp/7wPAYpedjL to t/results/reset_mailarc-3.stdout
Output /tmp/7wPAYpedjL looks good.
ok 38 - Computing differences
Testing partial mailbox reset with Grep implementation
ok 39 # skip GNU grep not available
Testing full mailbox reset with Perl implementation
Comparing /tmp/oXwbapYPFV to t/results/reset_mailarc-3.stdout
Output /tmp/oXwbapYPFV looks good.
ok 40 - Computing differences
Testing full mailbox reset with Cache implementation
Comparing /tmp/1xF2uOps2K to t/results/reset_mailarc-3.stdout
Output /tmp/1xF2uOps2K looks good.
ok 41 - Computing differences
Testing full mailbox reset with Grep implementation
ok 42 # skip GNU grep not available
Testing filename: t/mailboxes/mailseparators.txt
Testing partial mailbox reset with Perl implementation
Comparing /tmp/bHihLudaqj to t/results/reset_mailseparators.stdout
Output /tmp/bHihLudaqj looks good.
ok 43 - Computing differences
Testing partial mailbox reset with Cache implementation
Comparing /tmp/5XizuzYx4G to t/results/reset_mailseparators.stdout
Output /tmp/5XizuzYx4G looks good.
ok 44 - Computing differences
Testing partial mailbox reset with Grep implementation
ok 45 # skip GNU grep not available
Testing full mailbox reset with Perl implementation
Comparing /tmp/ymO1bM0ytK to t/results/reset_mailseparators.stdout
Output /tmp/ymO1bM0ytK looks good.
ok 46 - Computing differences
Testing full mailbox reset with Cache implementation
Comparing /tmp/Oxdby0sKtL to t/results/reset_mailseparators.stdout
Output /tmp/Oxdby0sKtL looks good.
ok 47 - Computing differences
Testing full mailbox reset with Grep implementation
ok 48 # skip GNU grep not available
Testing filename: t/mailboxes/malformed.txt
Testing partial mailbox reset with Perl implementation
Comparing /tmp/FAEnu9ceqj to t/results/reset_malformed.stdout
Output /tmp/FAEnu9ceqj looks good.
ok 49 - Computing differences
Testing partial mailbox reset with Cache implementation
Comparing /tmp/PEsYGCUH9n to t/results/reset_malformed.stdout
Output /tmp/PEsYGCUH9n looks good.
ok 50 - Computing differences
Testing partial mailbox reset with Grep implementation
ok 51 # skip GNU grep not available
Testing full mailbox reset with Perl implementation
Comparing /tmp/P8OtfZFoEw to t/results/reset_malformed.stdout
Output /tmp/P8OtfZFoEw looks good.
ok 52 - Computing differences
Testing full mailbox reset with Cache implementation
Comparing /tmp/Q73vfMttUp to t/results/reset_malformed.stdout
Output /tmp/Q73vfMttUp looks good.
ok 53 - Computing differences
Testing full mailbox reset with Grep implementation
ok 54 # skip GNU grep not available
Testing filename: t/mailboxes/newlines_at_beginning.txt
Testing partial mailbox reset with Perl implementation
Comparing /tmp/gY4nHwwHHP to t/results/reset_newlines_at_beginning.stdout
Output /tmp/gY4nHwwHHP looks good.
ok 55 - Computing differences
Testing partial mailbox reset with Cache implementation
Comparing /tmp/J81Ut6baDX to t/results/reset_newlines_at_beginning.stdout
Output /tmp/J81Ut6baDX looks good.
ok 56 - Computing differences
Testing partial mailbox reset with Grep implementation
ok 57 # skip GNU grep not available
Testing full mailbox reset with Perl implementation
Comparing /tmp/NUhQieZVig to t/results/reset_newlines_at_beginning.stdout
Output /tmp/NUhQieZVig looks good.
ok 58 - Computing differences
Testing full mailbox reset with Cache implementation
Comparing /tmp/z2wX8l4ZZb to t/results/reset_newlines_at_beginning.stdout
Output /tmp/z2wX8l4ZZb looks good.
ok 59 - Computing differences
Testing full mailbox reset with Grep implementation
ok 60 # skip GNU grep not available
ok
t/separators.t ..................
1..6
Testing filename: t/mailboxes/separators2.sep
ok 1 - Number of emails in t/mailboxes/separators2.sep
ok 2 - Number of emails in t/mailboxes/separators2.sep
ok 3 # skip GNU grep not available
Testing filename: t/mailboxes/separators1.sep
ok 4 - Number of emails in t/mailboxes/separators1.sep
ok 5 - Number of emails in t/mailboxes/separators1.sep
ok 6 # skip GNU grep not available
ok
t/stdin_compressed.t ............
1..4
Testing filename: t/mailboxes/mailarc-2.txt.bz2
Comparing /tmp/UHRIGEmQtd to t/mailboxes/mailarc-2.txt
Output /tmp/UHRIGEmQtd looks good.
ok 1 - Computing differences
Testing filename: t/mailboxes/mailarc-2.txt.gz
Comparing /tmp/T21BTnQAIf to t/mailboxes/mailarc-2.txt
Output /tmp/T21BTnQAIf looks good.
ok 2 - Computing differences
Testing filename: t/mailboxes/mailarc-2.txt.lz
ok 3 # skip lzip not available
Testing filename: t/mailboxes/mailarc-2.txt.xz
Comparing /tmp/G0dKmlU0Ka to t/mailboxes/mailarc-2.txt
Output /tmp/G0dKmlU0Ka looks good.
ok 4 - Computing differences
ok
t/stdin_uncompressed.t ..........
1..11
Testing filename: t/mailboxes/binary_body.txt
Comparing /tmp/NINJM7wp9Y to t/mailboxes/binary_body.txt
Output /tmp/NINJM7wp9Y looks good.
ok 1 - Computing differences
Testing filename: t/mailboxes/hessbug.txt
Comparing /tmp/ewfFognVWh to t/mailboxes/hessbug.txt
Output /tmp/ewfFognVWh looks good.
ok 2 - Computing differences
Testing filename: t/mailboxes/invalid-boundaries.txt
Comparing /tmp/AKAMdqEtVU to t/mailboxes/invalid-boundaries.txt
Output /tmp/AKAMdqEtVU looks good.
ok 3 - Computing differences
Testing filename: t/mailboxes/mailarc-1-dos.txt
Comparing /tmp/zJa70DLiyZ to t/mailboxes/mailarc-1-dos.txt
Output /tmp/zJa70DLiyZ looks good.
ok 4 - Computing differences
Testing filename: t/mailboxes/mailarc-1.txt
Comparing /tmp/EQ_832YMqe to t/mailboxes/mailarc-1.txt
Output /tmp/EQ_832YMqe looks good.
ok 5 - Computing differences
Testing filename: t/mailboxes/mailarc-2.txt
Comparing /tmp/HVFXx5p9Aq to t/mailboxes/mailarc-2.txt
Output /tmp/HVFXx5p9Aq looks good.
ok 6 - Computing differences
Testing filename: t/mailboxes/mailarc-3.txt
Comparing /tmp/zeVRvheQ7I to t/mailboxes/mailarc-3.txt
Output /tmp/zeVRvheQ7I looks good.
ok 7 - Computing differences
Testing filename: t/mailboxes/mailseparators.txt
Comparing /tmp/trBBx8AOWI to t/mailboxes/mailseparators.txt
Output /tmp/trBBx8AOWI looks good.
ok 8 - Computing differences
Testing filename: t/mailboxes/malformed.txt
Comparing /tmp/UozGD0OP9R to t/mailboxes/malformed.txt
Output /tmp/UozGD0OP9R looks good.
ok 9 - Computing differences
Testing filename: t/mailboxes/newlines_at_beginning.txt
Comparing /tmp/k2X360vHas to t/mailboxes/newlines_at_beginning.txt
Output /tmp/k2X360vHas looks good.
ok 10 - Computing differences
Testing filename: t/mailboxes/vm-emacs.txt
Comparing /tmp/NsEEGmoElh to t/mailboxes/vm-emacs.txt
Output /tmp/NsEEGmoElh looks good.
ok 11 - Computing differences
ok
t/undef_return_value.t ..........
1..33
Testing Perl
Comparing /tmp/gnOlrM4lSf to t/mailboxes/binary_body.txt
Output /tmp/gnOlrM4lSf looks good.
ok 1 - Computing differences
Testing Cache implementation
Comparing /tmp/9GQriewLKG to t/mailboxes/binary_body.txt
Output /tmp/9GQriewLKG looks good.
ok 2 - Computing differences
ok 3 # skip GNU grep not available
Testing Perl
Comparing /tmp/vxQEpyPtxg to t/mailboxes/hessbug.txt
Output /tmp/vxQEpyPtxg looks good.
ok 4 - Computing differences
Testing Cache implementation
Comparing /tmp/vxiv7XV59o to t/mailboxes/hessbug.txt
Output /tmp/vxiv7XV59o looks good.
ok 5 - Computing differences
ok 6 # skip GNU grep not available
Testing Perl
Comparing /tmp/9LvuMiNCxT to t/mailboxes/invalid-boundaries.txt
Output /tmp/9LvuMiNCxT looks good.
ok 7 - Computing differences
Testing Cache implementation
Comparing /tmp/ZPBswQjWEI to t/mailboxes/invalid-boundaries.txt
Output /tmp/ZPBswQjWEI looks good.
ok 8 - Computing differences
ok 9 # skip GNU grep not available
Testing Perl
Comparing /tmp/GPUtK0eEVP to t/mailboxes/mailarc-1-dos.txt
Output /tmp/GPUtK0eEVP looks good.
ok 10 - Computing differences
Testing Cache implementation
Comparing /tmp/WfGFDyJExZ to t/mailboxes/mailarc-1-dos.txt
Output /tmp/WfGFDyJExZ looks good.
ok 11 - Computing differences
ok 12 # skip GNU grep not available
Testing Perl
Comparing /tmp/E9lTGAcc4R to t/mailboxes/mailarc-1.txt
Output /tmp/E9lTGAcc4R looks good.
ok 13 - Computing differences
Testing Cache implementation
Comparing /tmp/MfT2qtro0Y to t/mailboxes/mailarc-1.txt
Output /tmp/MfT2qtro0Y looks good.
ok 14 - Computing differences
ok 15 # skip GNU grep not available
Testing Perl
Comparing /tmp/xmecixh1nv to t/mailboxes/mailarc-2.txt
Output /tmp/xmecixh1nv looks good.
ok 16 - Computing differences
Testing Cache implementation
Comparing /tmp/7JL4Sq2yHf to t/mailboxes/mailarc-2.txt
Output /tmp/7JL4Sq2yHf looks good.
ok 17 - Computing differences
ok 18 # skip GNU grep not available
Testing Perl
Comparing /tmp/Vxzhb__lu6 to t/mailboxes/mailarc-3.txt
Output /tmp/Vxzhb__lu6 looks good.
ok 19 - Computing differences
Testing Cache implementation
Comparing /tmp/SBdVQRyYGO to t/mailboxes/mailarc-3.txt
Output /tmp/SBdVQRyYGO looks good.
ok 20 - Computing differences
ok 21 # skip GNU grep not available
Testing Perl
Comparing /tmp/bjVCozRBO6 to t/mailboxes/mailseparators.txt
Output /tmp/bjVCozRBO6 looks good.
ok 22 - Computing differences
Testing Cache implementation
Comparing /tmp/U5Mw6gBYbK to t/mailboxes/mailseparators.txt
Output /tmp/U5Mw6gBYbK looks good.
ok 23 - Computing differences
ok 24 # skip GNU grep not available
Testing Perl
Comparing /tmp/3WbOxLbqdy to t/mailboxes/malformed.txt
Output /tmp/3WbOxLbqdy looks good.
ok 25 - Computing differences
Testing Cache implementation
Comparing /tmp/aauawG9_cp to t/mailboxes/malformed.txt
Output /tmp/aauawG9_cp looks good.
ok 26 - Computing differences
ok 27 # skip GNU grep not available
Testing Perl
Comparing /tmp/Hr49DuEEPm to t/mailboxes/newlines_at_beginning.txt
Output /tmp/Hr49DuEEPm looks good.
ok 28 - Computing differences
Testing Cache implementation
Comparing /tmp/sTfhdYAMAN to t/mailboxes/newlines_at_beginning.txt
Output /tmp/sTfhdYAMAN looks good.
ok 29 - Computing differences
ok 30 # skip GNU grep not available
Testing Perl
Comparing /tmp/iYZtqsu9wi to t/mailboxes/vm-emacs.txt
Output /tmp/iYZtqsu9wi looks good.
ok 31 - Computing differences
Testing Cache implementation
Comparing /tmp/ynP6P1j2qG to t/mailboxes/vm-emacs.txt
Output /tmp/ynP6P1j2qG looks good.
ok 32 - Computing differences
ok 33 # skip GNU grep not available
ok
t/xz.t ..........................
1..1
Running test:
"/bin/cat" "t/mailboxes/mailarc-2.txt.xz" | "/usr/bin/xz" -cd
Comparing /tmp/lAXRa58M2m to t/results/mailarc-2.txt
Output /tmp/lAXRa58M2m looks good.
Comparing /tmp/B6eOCafPnw to t/results/none
Output /tmp/B6eOCafPnw looks good.
ok 1 - Computing differences
ok
All tests successful.
Files=25, Tests=370, 8 wallclock secs ( 0.17 usr 0.05 sys + 5.37 cusr 1.95 csys = 7.54 CPU)
Result: PASS
PREREQUISITES:
Here is a list of prerequisites you specified and versions we
managed to load:
Module Name Have Want
ExtUtils::MakeMaker 7.34 6.36
File::Path 2.15 2.08
File::Slurper 0.012 0
FileHandle::Unget 0.1634 0
Storable 3.11 0
Test::Compile v1.3.0 0
Test::More 1.302136 0
Text::Diff 1.45 0
UNIVERSAL::require 0.18 0
URI::Escape 3.31 0
Perl module toolchain versions installed:
Module Name Have
CPANPLUS 0.9174
CPANPLUS::Dist::Build 0.88
Cwd 3.74
ExtUtils::CBuilder 0.280230
ExtUtils::Command 7.34
ExtUtils::Install 2.14
ExtUtils::MakeMaker 7.34
ExtUtils::Manifest 1.71
ExtUtils::ParseXS 3.35
File::Spec 3.74
Module::Build 0.4224
Pod::Parser 1.63
Pod::Simple 3.29
Test2 1.302136
Test::Harness 3.42
Test::More 1.302136
version 0.9924
******************************** NOTE ********************************
The comments above are created mechanically, possibly without manual
checking by the sender. As there are many people performing automatic
tests on each upload to CPAN, it is likely that you will receive
identical messages about the same problem.
If you believe that the message is mistaken, please reply to the first
one with correction and/or additional informations, and do not take
it personally. We appreciate your patience. :)
**********************************************************************
Additional comments:
This report was machine-generated by CPANPLUS::Dist::YACSmoke 1.02.
Powered by minismokebox version 0.68
------------------------------
ENVIRONMENT AND OTHER CONTEXT
------------------------------
Environment variables:
AUTOMATED_TESTING = 1
NONINTERACTIVE_TESTING = 1
PATH = /home/cpan/bin:/bin:/sbin:/usr/bin:/usr/sbin:/usr/X11R7/bin:/usr/X11R6/bin:/usr/pkg/bin:/usr/pkg/sbin:/usr/games:/usr/local/bin:/usr/local/sbin
PERL5LIB = :/home/cpan/pit/bare/conf/perl-5.22.1/.cpanplus/5.22.1/build/mjFJEt2d7y/Test-Needs-0.002005/blib/lib:/home/cpan/pit/bare/conf/perl-5.22.1/.cpanplus/5.22.1/build/mjFJEt2d7y/Test-Needs-0.002005/blib/arch:/home/cpan/pit/bare/conf/perl-5.22.1/.cpanplus/5.22.1/build/w9iorgI4FB/URI-1.74/blib/lib:/home/cpan/pit/bare/conf/perl-5.22.1/.cpanplus/5.22.1/build/w9iorgI4FB/URI-1.74/blib/arch:/home/cpan/pit/bare/conf/perl-5.22.1/.cpanplus/5.22.1/build/qi1CCcaY_w/Test-Warnings-0.026/blib/lib:/home/cpan/pit/bare/conf/perl-5.22.1/.cpanplus/5.22.1/build/qi1CCcaY_w/Test-Warnings-0.026/blib/arch:/home/cpan/pit/bare/conf/perl-5.22.1/.cpanplus/5.22.1/build/CyyKbQx4p8/File-Slurper-0.012/blib/lib:/home/cpan/pit/bare/conf/perl-5.22.1/.cpanplus/5.22.1/build/CyyKbQx4p8/File-Slurper-0.012/blib/arch:/home/cpan/pit/bare/conf/perl-5.22.1/.cpanplus/5.22.1/build/tlt1DE1S30/UNIVERSAL-require-0.18/blib/lib:/home/cpan/pit/bare/conf/perl-5.22.1/.cpanplus/5.22.1/build/tlt1DE1S30/UNIVERSAL-require-0.18/blib/arch:/home/cpan/pit/bare/conf/perl-5.22.1/.cpanplus/5.22.1/build/Eg55xRGJak/Test-Compile-v1.3.0/blib/lib:/home/cpan/pit/bare/conf/perl-5.22.1/.cpanplus/5.22.1/build/Eg55xRGJak/Test-Compile-v1.3.0/blib/arch:/home/cpan/pit/bare/conf/perl-5.22.1/.cpanplus/5.22.1/build/m9VCWw5ZdF/FileHandle-Unget-0.1634/blib/lib:/home/cpan/pit/bare/conf/perl-5.22.1/.cpanplus/5.22.1/build/m9VCWw5ZdF/FileHandle-Unget-0.1634/blib/arch:/home/cpan/pit/bare/conf/perl-5.22.1/.cpanplus/5.22.1/build/Ajt2c1NbHa/Algorithm-Diff-1.1903/blib/lib:/home/cpan/pit/bare/conf/perl-5.22.1/.cpanplus/5.22.1/build/Ajt2c1NbHa/Algorithm-Diff-1.1903/blib/arch:/home/cpan/pit/bare/conf/perl-5.22.1/.cpanplus/5.22.1/build/mAsrpxEI8Z/Text-Diff-1.45/blib/lib:/home/cpan/pit/bare/conf/perl-5.22.1/.cpanplus/5.22.1/build/mAsrpxEI8Z/Text-Diff-1.45/blib/arch:/home/cpan/pit/bare/conf/perl-5.22.1/.cpanplus/5.22.1/build/JJK2ZAQVGv/Mail-Mbox-MessageParser-1.5111/blib/lib:/home/cpan/pit/bare/conf/perl-5.22.1/.cpanplus/5.22.1/build/JJK2ZAQVGv/Mail-Mbox-MessageParser-1.5111/blib/arch
PERL5_CPANPLUS_IS_RUNNING = 5994
PERL5_CPANPLUS_IS_VERSION = 0.9174
PERL5_MINISMOKEBOX = 0.68
PERL5_YACSMOKE_BASE = /home/cpan/pit/bare/conf/perl-5.22.1
PERL_EXTUTILS_AUTOINSTALL = --defaultdeps
PERL_MM_USE_DEFAULT = 1
SHELL = /usr/pkg/bin/bash
TERM = screen
Perl special variables (and OS-specific diagnostics, for MSWin32):
Perl: $^X = /home/cpan/pit/bare/perl-5.22.1/bin/perl
UID: $< = 1002
EUID: $> = 1002
GID: $( = 100 100
EGID: $) = 100 100
-------------------------------
--
Summary of my perl5 (revision 5 version 22 subversion 1) configuration:
Platform:
osname=netbsd, osvers=6.1.4, archname=amd64-netbsd
uname='netbsd naboo.bingosnet.co.uk 6.1.4 netbsd 6.1.4 (generic) amd64 '
config_args='-des -Dprefix=/home/cpan/pit/bare/perl-5.22.1'
hint=recommended, useposix=true, d_sigaction=define
useithreads=undef, usemultiplicity=undef
use64bitint=define, use64bitall=define, uselongdouble=undef
usemymalloc=n, bincompat5005=undef
Compiler:
cc='cc', ccflags ='-fwrapv -fno-strict-aliasing -pipe -fstack-protector -I/usr/pkg/include -D_FORTIFY_SOURCE=2',
optimize='-O',
cppflags='-fwrapv -fno-strict-aliasing -pipe -fstack-protector -I/usr/pkg/include'
ccversion='', gccversion='4.5.3', gccosandvers=''
intsize=4, longsize=8, ptrsize=8, doublesize=8, byteorder=12345678, doublekind=3
d_longlong=define, longlongsize=8, d_longdbl=define, longdblsize=16, longdblkind=3
ivtype='long', ivsize=8, nvtype='double', nvsize=8, Off_t='off_t', lseeksize=8
alignbytes=8, prototype=define
Linker and Libraries:
ld='cc', ldflags =' -Wl,-rpath,/usr/pkg/lib -Wl,-rpath,/usr/local/lib -fstack-protector -L/usr/pkg/lib'
libpth=/usr/include/gcc-4.5 /usr/lib /usr/pkg/lib /lib
libs=-lpthread -lgdbm -lm -lcrypt -lutil -lc -lposix
perllibs=-lpthread -lm -lcrypt -lutil -lc -lposix
libc=/lib/libc.so, so=so, useshrplib=false, libperl=libperl.a
gnulibc_version=''
Dynamic Linking:
dlsrc=dl_dlopen.xs, dlext=so, d_dlsymun=undef, ccdlflags='-Wl,-E '
cccdlflags='-DPIC -fPIC ', lddlflags='--whole-archive -shared -L/usr/pkg/lib -fstack-protector'
Characteristics of this binary (from libperl):
Compile-time options: HAS_TIMES PERLIO_LAYERS PERL_DONT_CREATE_GVSV
PERL_HASH_FUNC_ONE_AT_A_TIME_HARD PERL_MALLOC_WRAP
PERL_NEW_COPY_ON_WRITE PERL_PRESERVE_IVUV
USE_64_BIT_ALL USE_64_BIT_INT USE_LARGE_FILES
USE_LOCALE USE_LOCALE_COLLATE USE_LOCALE_CTYPE
USE_LOCALE_NUMERIC USE_LOCALE_TIME USE_PERLIO
USE_PERL_ATOF
Locally applied patches:
Devel::PatchPerl 1.42
Built under netbsd
Compiled at May 5 2016 18:05:03
%ENV:
PERL5LIB=":/home/cpan/pit/bare/conf/perl-5.22.1/.cpanplus/5.22.1/build/mjFJEt2d7y/Test-Needs-0.002005/blib/lib:/home/cpan/pit/bare/conf/perl-5.22.1/.cpanplus/5.22.1/build/mjFJEt2d7y/Test-Needs-0.002005/blib/arch:/home/cpan/pit/bare/conf/perl-5.22.1/.cpanplus/5.22.1/build/w9iorgI4FB/URI-1.74/blib/lib:/home/cpan/pit/bare/conf/perl-5.22.1/.cpanplus/5.22.1/build/w9iorgI4FB/URI-1.74/blib/arch:/home/cpan/pit/bare/conf/perl-5.22.1/.cpanplus/5.22.1/build/qi1CCcaY_w/Test-Warnings-0.026/blib/lib:/home/cpan/pit/bare/conf/perl-5.22.1/.cpanplus/5.22.1/build/qi1CCcaY_w/Test-Warnings-0.026/blib/arch:/home/cpan/pit/bare/conf/perl-5.22.1/.cpanplus/5.22.1/build/CyyKbQx4p8/File-Slurper-0.012/blib/lib:/home/cpan/pit/bare/conf/perl-5.22.1/.cpanplus/5.22.1/build/CyyKbQx4p8/File-Slurper-0.012/blib/arch:/home/cpan/pit/bare/conf/perl-5.22.1/.cpanplus/5.22.1/build/tlt1DE1S30/UNIVERSAL-require-0.18/blib/lib:/home/cpan/pit/bare/conf/perl-5.22.1/.cpanplus/5.22.1/build/tlt1DE1S30/UNIVERSAL-require-0.18/blib/arch:/home/cpan/pit/bare/conf/perl-5.22.1/.cpanplus/5.22.1/build/Eg55xRGJak/Test-Compile-v1.3.0/blib/lib:/home/cpan/pit/bare/conf/perl-5.22.1/.cpanplus/5.22.1/build/Eg55xRGJak/Test-Compile-v1.3.0/blib/arch:/home/cpan/pit/bare/conf/perl-5.22.1/.cpanplus/5.22.1/build/m9VCWw5ZdF/FileHandle-Unget-0.1634/blib/lib:/home/cpan/pit/bare/conf/perl-5.22.1/.cpanplus/5.22.1/build/m9VCWw5ZdF/FileHandle-Unget-0.1634/blib/arch:/home/cpan/pit/bare/conf/perl-5.22.1/.cpanplus/5.22.1/build/Ajt2c1NbHa/Algorithm-Diff-1.1903/blib/lib:/home/cpan/pit/bare/conf/perl-5.22.1/.cpanplus/5.22.1/build/Ajt2c1NbHa/Algorithm-Diff-1.1903/blib/arch:/home/cpan/pit/bare/conf/perl-5.22.1/.cpanplus/5.22.1/build/mAsrpxEI8Z/Text-Diff-1.45/blib/lib:/home/cpan/pit/bare/conf/perl-5.22.1/.cpanplus/5.22.1/build/mAsrpxEI8Z/Text-Diff-1.45/blib/arch:/home/cpan/pit/bare/conf/perl-5.22.1/.cpanplus/5.22.1/build/JJK2ZAQVGv/Mail-Mbox-MessageParser-1.5111/blib/lib:/home/cpan/pit/bare/conf/perl-5.22.1/.cpanplus/5.22.1/build/JJK2ZAQVGv/Mail-Mbox-MessageParser-1.5111/blib/arch"
PERL5_CPANPLUS_IS_RUNNING="5994"
PERL5_CPANPLUS_IS_VERSION="0.9174"
PERL5_MINISMOKEBOX="0.68"
PERL5_YACSMOKE_BASE="/home/cpan/pit/bare/conf/perl-5.22.1"
PERL_EXTUTILS_AUTOINSTALL="--defaultdeps"
PERL_MM_USE_DEFAULT="1"
@INC:
/home/cpan/pit/bare/conf/perl-5.22.1/.cpanplus/5.22.1/build/mjFJEt2d7y/Test-Needs-0.002005/blib/lib
/home/cpan/pit/bare/conf/perl-5.22.1/.cpanplus/5.22.1/build/mjFJEt2d7y/Test-Needs-0.002005/blib/arch
/home/cpan/pit/bare/conf/perl-5.22.1/.cpanplus/5.22.1/build/w9iorgI4FB/URI-1.74/blib/lib
/home/cpan/pit/bare/conf/perl-5.22.1/.cpanplus/5.22.1/build/w9iorgI4FB/URI-1.74/blib/arch
/home/cpan/pit/bare/conf/perl-5.22.1/.cpanplus/5.22.1/build/qi1CCcaY_w/Test-Warnings-0.026/blib/lib
/home/cpan/pit/bare/conf/perl-5.22.1/.cpanplus/5.22.1/build/qi1CCcaY_w/Test-Warnings-0.026/blib/arch
/home/cpan/pit/bare/conf/perl-5.22.1/.cpanplus/5.22.1/build/CyyKbQx4p8/File-Slurper-0.012/blib/lib
/home/cpan/pit/bare/conf/perl-5.22.1/.cpanplus/5.22.1/build/CyyKbQx4p8/File-Slurper-0.012/blib/arch
/home/cpan/pit/bare/conf/perl-5.22.1/.cpanplus/5.22.1/build/tlt1DE1S30/UNIVERSAL-require-0.18/blib/lib
/home/cpan/pit/bare/conf/perl-5.22.1/.cpanplus/5.22.1/build/tlt1DE1S30/UNIVERSAL-require-0.18/blib/arch
/home/cpan/pit/bare/conf/perl-5.22.1/.cpanplus/5.22.1/build/Eg55xRGJak/Test-Compile-v1.3.0/blib/lib
/home/cpan/pit/bare/conf/perl-5.22.1/.cpanplus/5.22.1/build/Eg55xRGJak/Test-Compile-v1.3.0/blib/arch
/home/cpan/pit/bare/conf/perl-5.22.1/.cpanplus/5.22.1/build/m9VCWw5ZdF/FileHandle-Unget-0.1634/blib/lib
/home/cpan/pit/bare/conf/perl-5.22.1/.cpanplus/5.22.1/build/m9VCWw5ZdF/FileHandle-Unget-0.1634/blib/arch
/home/cpan/pit/bare/conf/perl-5.22.1/.cpanplus/5.22.1/build/Ajt2c1NbHa/Algorithm-Diff-1.1903/blib/lib
/home/cpan/pit/bare/conf/perl-5.22.1/.cpanplus/5.22.1/build/Ajt2c1NbHa/Algorithm-Diff-1.1903/blib/arch
/home/cpan/pit/bare/conf/perl-5.22.1/.cpanplus/5.22.1/build/mAsrpxEI8Z/Text-Diff-1.45/blib/lib
/home/cpan/pit/bare/conf/perl-5.22.1/.cpanplus/5.22.1/build/mAsrpxEI8Z/Text-Diff-1.45/blib/arch
/home/cpan/pit/bare/conf/perl-5.22.1/.cpanplus/5.22.1/build/JJK2ZAQVGv/Mail-Mbox-MessageParser-1.5111/blib/lib
/home/cpan/pit/bare/conf/perl-5.22.1/.cpanplus/5.22.1/build/JJK2ZAQVGv/Mail-Mbox-MessageParser-1.5111/blib/arch
/home/cpan/pit/bare/perl-5.22.1/lib/site_perl/5.22.1/amd64-netbsd
/home/cpan/pit/bare/perl-5.22.1/lib/site_perl/5.22.1
/home/cpan/pit/bare/perl-5.22.1/lib/5.22.1/amd64-netbsd
/home/cpan/pit/bare/perl-5.22.1/lib/5.22.1
.