Back
From: metabase:user:9820532a-708b-1014-9a05-b18a96298da1
Subject: PASS SQL-Exec-0.10 v5.23.8 GNU/Linux
Date: 2016-03-06T21:54:16Z
This distribution has been tested as part of the CPAN Testers
project, supporting the Perl programming language. See
http://wiki.cpantesters.org/ for more information or email
questions to cpan-testers-discuss@perl.org
--
Dear Mathias Kende,
This is a computer-generated report for SQL-Exec-0.10
on perl 5.23.8, created by CPAN-Reporter-1.2016.
Thank you for uploading your work to CPAN. Congratulations!
All tests were successful.
Sections of this report:
* Tester comments
* Program output
* Prerequisites
* Environment and other context
------------------------------
TESTER COMMENTS
------------------------------
Additional comments from tester:
this report is from an automated smoke testing program
and was not reviewed by a human for accuracy
------------------------------
PROGRAM OUTPUT
------------------------------
Output from '/usr/bin/make test':
PERL_DL_NONLAZY=1 "/opt/perlbrew/perls/perl-5.23.8-thread-multi-ld/bin/perl5.23.8" "-MExtUtils::Command::MM" "-MTest::Harness" "-e" "undef *Test::Harness::Switches; test_harness(0, 'blib/lib', 'blib/arch')" t/*.t
given is experimental at /home/perlbrew/.cpan/build/SQL-Exec-0.10-d9Ssh_/blib/lib/SQL/Exec.pm line 1218.
when is experimental at /home/perlbrew/.cpan/build/SQL-Exec-0.10-d9Ssh_/blib/lib/SQL/Exec.pm line 1219.
when is experimental at /home/perlbrew/.cpan/build/SQL-Exec-0.10-d9Ssh_/blib/lib/SQL/Exec.pm line 1220.
when is experimental at /home/perlbrew/.cpan/build/SQL-Exec-0.10-d9Ssh_/blib/lib/SQL/Exec.pm line 1221.
when is experimental at /home/perlbrew/.cpan/build/SQL-Exec-0.10-d9Ssh_/blib/lib/SQL/Exec.pm line 1222.
when is experimental at /home/perlbrew/.cpan/build/SQL-Exec-0.10-d9Ssh_/blib/lib/SQL/Exec.pm line 1227.
when is experimental at /home/perlbrew/.cpan/build/SQL-Exec-0.10-d9Ssh_/blib/lib/SQL/Exec.pm line 1228.
when is experimental at /home/perlbrew/.cpan/build/SQL-Exec-0.10-d9Ssh_/blib/lib/SQL/Exec.pm line 1233.
when is experimental at /home/perlbrew/.cpan/build/SQL-Exec-0.10-d9Ssh_/blib/lib/SQL/Exec.pm line 1238.
when is experimental at /home/perlbrew/.cpan/build/SQL-Exec-0.10-d9Ssh_/blib/lib/SQL/Exec.pm line 1239.
when is experimental at /home/perlbrew/.cpan/build/SQL-Exec-0.10-d9Ssh_/blib/lib/SQL/Exec.pm line 1240.
when is experimental at /home/perlbrew/.cpan/build/SQL-Exec-0.10-d9Ssh_/blib/lib/SQL/Exec.pm line 1241.
when is experimental at /home/perlbrew/.cpan/build/SQL-Exec-0.10-d9Ssh_/blib/lib/SQL/Exec.pm line 1242.
when is experimental at /home/perlbrew/.cpan/build/SQL-Exec-0.10-d9Ssh_/blib/lib/SQL/Exec.pm line 1243.
given is experimental at /home/perlbrew/.cpan/build/Test-Subs-0.08-KmqybR/blib/lib/Test/Subs.pm line 324.
when is experimental at /home/perlbrew/.cpan/build/Test-Subs-0.08-KmqybR/blib/lib/Test/Subs.pm line 325.
when is experimental at /home/perlbrew/.cpan/build/Test-Subs-0.08-KmqybR/blib/lib/Test/Subs.pm line 329.
when is experimental at /home/perlbrew/.cpan/build/Test-Subs-0.08-KmqybR/blib/lib/Test/Subs.pm line 333.
Smartmatch is experimental at t/bind_params.t line 45.
Smartmatch is experimental at t/bind_params.t line 49.
Smartmatch is experimental at t/bind_params.t line 57.
Redundant argument in sprintf at /home/perlbrew/.cpan/build/Test-Subs-0.08-KmqybR/blib/lib/Test/Subs.pm line 275.
Redundant argument in sprintf at /home/perlbrew/.cpan/build/Test-Subs-0.08-KmqybR/blib/lib/Test/Subs.pm line 275.
Redundant argument in sprintf at /home/perlbrew/.cpan/build/Test-Subs-0.08-KmqybR/blib/lib/Test/Subs.pm line 275.
Redundant argument in sprintf at /home/perlbrew/.cpan/build/Test-Subs-0.08-KmqybR/blib/lib/Test/Subs.pm line 275.
Redundant argument in sprintf at /home/perlbrew/.cpan/build/Test-Subs-0.08-KmqybR/blib/lib/Test/Subs.pm line 275.
Redundant argument in sprintf at /home/perlbrew/.cpan/build/Test-Subs-0.08-KmqybR/blib/lib/Test/Subs.pm line 275.
Redundant argument in sprintf at /home/perlbrew/.cpan/build/Test-Subs-0.08-KmqybR/blib/lib/Test/Subs.pm line 275.
Redundant argument in sprintf at /home/perlbrew/.cpan/build/Test-Subs-0.08-KmqybR/blib/lib/Test/Subs.pm line 275.
Redundant argument in sprintf at /home/perlbrew/.cpan/build/Test-Subs-0.08-KmqybR/blib/lib/Test/Subs.pm line 275.
Redundant argument in sprintf at /home/perlbrew/.cpan/build/Test-Subs-0.08-KmqybR/blib/lib/Test/Subs.pm line 275.
Redundant argument in sprintf at /home/perlbrew/.cpan/build/Test-Subs-0.08-KmqybR/blib/lib/Test/Subs.pm line 275.
Redundant argument in sprintf at /home/perlbrew/.cpan/build/Test-Subs-0.08-KmqybR/blib/lib/Test/Subs.pm line 275.
Redundant argument in sprintf at /home/perlbrew/.cpan/build/Test-Subs-0.08-KmqybR/blib/lib/Test/Subs.pm line 275.
Redundant argument in sprintf at /home/perlbrew/.cpan/build/Test-Subs-0.08-KmqybR/blib/lib/Test/Subs.pm line 275.
Redundant argument in sprintf at /home/perlbrew/.cpan/build/Test-Subs-0.08-KmqybR/blib/lib/Test/Subs.pm line 275.
t/bind_params.t ........ ok
given is experimental at /home/perlbrew/.cpan/build/SQL-Exec-0.10-d9Ssh_/blib/lib/SQL/Exec.pm line 1218.
when is experimental at /home/perlbrew/.cpan/build/SQL-Exec-0.10-d9Ssh_/blib/lib/SQL/Exec.pm line 1219.
when is experimental at /home/perlbrew/.cpan/build/SQL-Exec-0.10-d9Ssh_/blib/lib/SQL/Exec.pm line 1220.
when is experimental at /home/perlbrew/.cpan/build/SQL-Exec-0.10-d9Ssh_/blib/lib/SQL/Exec.pm line 1221.
when is experimental at /home/perlbrew/.cpan/build/SQL-Exec-0.10-d9Ssh_/blib/lib/SQL/Exec.pm line 1222.
when is experimental at /home/perlbrew/.cpan/build/SQL-Exec-0.10-d9Ssh_/blib/lib/SQL/Exec.pm line 1227.
when is experimental at /home/perlbrew/.cpan/build/SQL-Exec-0.10-d9Ssh_/blib/lib/SQL/Exec.pm line 1228.
when is experimental at /home/perlbrew/.cpan/build/SQL-Exec-0.10-d9Ssh_/blib/lib/SQL/Exec.pm line 1233.
when is experimental at /home/perlbrew/.cpan/build/SQL-Exec-0.10-d9Ssh_/blib/lib/SQL/Exec.pm line 1238.
when is experimental at /home/perlbrew/.cpan/build/SQL-Exec-0.10-d9Ssh_/blib/lib/SQL/Exec.pm line 1239.
when is experimental at /home/perlbrew/.cpan/build/SQL-Exec-0.10-d9Ssh_/blib/lib/SQL/Exec.pm line 1240.
when is experimental at /home/perlbrew/.cpan/build/SQL-Exec-0.10-d9Ssh_/blib/lib/SQL/Exec.pm line 1241.
when is experimental at /home/perlbrew/.cpan/build/SQL-Exec-0.10-d9Ssh_/blib/lib/SQL/Exec.pm line 1242.
when is experimental at /home/perlbrew/.cpan/build/SQL-Exec-0.10-d9Ssh_/blib/lib/SQL/Exec.pm line 1243.
given is experimental at /home/perlbrew/.cpan/build/Test-Subs-0.08-KmqybR/blib/lib/Test/Subs.pm line 324.
when is experimental at /home/perlbrew/.cpan/build/Test-Subs-0.08-KmqybR/blib/lib/Test/Subs.pm line 325.
when is experimental at /home/perlbrew/.cpan/build/Test-Subs-0.08-KmqybR/blib/lib/Test/Subs.pm line 329.
when is experimental at /home/perlbrew/.cpan/build/Test-Subs-0.08-KmqybR/blib/lib/Test/Subs.pm line 333.
Redundant argument in sprintf at /home/perlbrew/.cpan/build/Test-Subs-0.08-KmqybR/blib/lib/Test/Subs.pm line 275.
Redundant argument in sprintf at /home/perlbrew/.cpan/build/Test-Subs-0.08-KmqybR/blib/lib/Test/Subs.pm line 275.
Redundant argument in sprintf at /home/perlbrew/.cpan/build/Test-Subs-0.08-KmqybR/blib/lib/Test/Subs.pm line 275.
t/count.t .............. ok
given is experimental at /home/perlbrew/.cpan/build/SQL-Exec-0.10-d9Ssh_/blib/lib/SQL/Exec.pm line 1218.
when is experimental at /home/perlbrew/.cpan/build/SQL-Exec-0.10-d9Ssh_/blib/lib/SQL/Exec.pm line 1219.
when is experimental at /home/perlbrew/.cpan/build/SQL-Exec-0.10-d9Ssh_/blib/lib/SQL/Exec.pm line 1220.
when is experimental at /home/perlbrew/.cpan/build/SQL-Exec-0.10-d9Ssh_/blib/lib/SQL/Exec.pm line 1221.
when is experimental at /home/perlbrew/.cpan/build/SQL-Exec-0.10-d9Ssh_/blib/lib/SQL/Exec.pm line 1222.
when is experimental at /home/perlbrew/.cpan/build/SQL-Exec-0.10-d9Ssh_/blib/lib/SQL/Exec.pm line 1227.
when is experimental at /home/perlbrew/.cpan/build/SQL-Exec-0.10-d9Ssh_/blib/lib/SQL/Exec.pm line 1228.
when is experimental at /home/perlbrew/.cpan/build/SQL-Exec-0.10-d9Ssh_/blib/lib/SQL/Exec.pm line 1233.
when is experimental at /home/perlbrew/.cpan/build/SQL-Exec-0.10-d9Ssh_/blib/lib/SQL/Exec.pm line 1238.
when is experimental at /home/perlbrew/.cpan/build/SQL-Exec-0.10-d9Ssh_/blib/lib/SQL/Exec.pm line 1239.
when is experimental at /home/perlbrew/.cpan/build/SQL-Exec-0.10-d9Ssh_/blib/lib/SQL/Exec.pm line 1240.
when is experimental at /home/perlbrew/.cpan/build/SQL-Exec-0.10-d9Ssh_/blib/lib/SQL/Exec.pm line 1241.
when is experimental at /home/perlbrew/.cpan/build/SQL-Exec-0.10-d9Ssh_/blib/lib/SQL/Exec.pm line 1242.
when is experimental at /home/perlbrew/.cpan/build/SQL-Exec-0.10-d9Ssh_/blib/lib/SQL/Exec.pm line 1243.
given is experimental at /home/perlbrew/.cpan/build/Test-Subs-0.08-KmqybR/blib/lib/Test/Subs.pm line 324.
when is experimental at /home/perlbrew/.cpan/build/Test-Subs-0.08-KmqybR/blib/lib/Test/Subs.pm line 325.
when is experimental at /home/perlbrew/.cpan/build/Test-Subs-0.08-KmqybR/blib/lib/Test/Subs.pm line 329.
when is experimental at /home/perlbrew/.cpan/build/Test-Subs-0.08-KmqybR/blib/lib/Test/Subs.pm line 333.
Smartmatch is experimental at t/execute_multiple.t line 22.
Smartmatch is experimental at t/execute_multiple.t line 38.
Smartmatch is experimental at t/execute_multiple.t line 46.
Smartmatch is experimental at t/execute_multiple.t line 54.
Redundant argument in sprintf at /home/perlbrew/.cpan/build/Test-Subs-0.08-KmqybR/blib/lib/Test/Subs.pm line 275.
Redundant argument in sprintf at /home/perlbrew/.cpan/build/Test-Subs-0.08-KmqybR/blib/lib/Test/Subs.pm line 275.
Redundant argument in sprintf at /home/perlbrew/.cpan/build/Test-Subs-0.08-KmqybR/blib/lib/Test/Subs.pm line 275.
Redundant argument in sprintf at /home/perlbrew/.cpan/build/Test-Subs-0.08-KmqybR/blib/lib/Test/Subs.pm line 275.
Redundant argument in sprintf at /home/perlbrew/.cpan/build/Test-Subs-0.08-KmqybR/blib/lib/Test/Subs.pm line 275.
Redundant argument in sprintf at /home/perlbrew/.cpan/build/Test-Subs-0.08-KmqybR/blib/lib/Test/Subs.pm line 275.
Redundant argument in sprintf at /home/perlbrew/.cpan/build/Test-Subs-0.08-KmqybR/blib/lib/Test/Subs.pm line 275.
Redundant argument in sprintf at /home/perlbrew/.cpan/build/Test-Subs-0.08-KmqybR/blib/lib/Test/Subs.pm line 275.
Redundant argument in sprintf at /home/perlbrew/.cpan/build/Test-Subs-0.08-KmqybR/blib/lib/Test/Subs.pm line 275.
Redundant argument in sprintf at /home/perlbrew/.cpan/build/Test-Subs-0.08-KmqybR/blib/lib/Test/Subs.pm line 275.
Redundant argument in sprintf at /home/perlbrew/.cpan/build/Test-Subs-0.08-KmqybR/blib/lib/Test/Subs.pm line 275.
t/execute_multiple.t ... ok
given is experimental at /home/perlbrew/.cpan/build/SQL-Exec-0.10-d9Ssh_/blib/lib/SQL/Exec.pm line 1218.
when is experimental at /home/perlbrew/.cpan/build/SQL-Exec-0.10-d9Ssh_/blib/lib/SQL/Exec.pm line 1219.
when is experimental at /home/perlbrew/.cpan/build/SQL-Exec-0.10-d9Ssh_/blib/lib/SQL/Exec.pm line 1220.
when is experimental at /home/perlbrew/.cpan/build/SQL-Exec-0.10-d9Ssh_/blib/lib/SQL/Exec.pm line 1221.
when is experimental at /home/perlbrew/.cpan/build/SQL-Exec-0.10-d9Ssh_/blib/lib/SQL/Exec.pm line 1222.
when is experimental at /home/perlbrew/.cpan/build/SQL-Exec-0.10-d9Ssh_/blib/lib/SQL/Exec.pm line 1227.
when is experimental at /home/perlbrew/.cpan/build/SQL-Exec-0.10-d9Ssh_/blib/lib/SQL/Exec.pm line 1228.
when is experimental at /home/perlbrew/.cpan/build/SQL-Exec-0.10-d9Ssh_/blib/lib/SQL/Exec.pm line 1233.
when is experimental at /home/perlbrew/.cpan/build/SQL-Exec-0.10-d9Ssh_/blib/lib/SQL/Exec.pm line 1238.
when is experimental at /home/perlbrew/.cpan/build/SQL-Exec-0.10-d9Ssh_/blib/lib/SQL/Exec.pm line 1239.
when is experimental at /home/perlbrew/.cpan/build/SQL-Exec-0.10-d9Ssh_/blib/lib/SQL/Exec.pm line 1240.
when is experimental at /home/perlbrew/.cpan/build/SQL-Exec-0.10-d9Ssh_/blib/lib/SQL/Exec.pm line 1241.
when is experimental at /home/perlbrew/.cpan/build/SQL-Exec-0.10-d9Ssh_/blib/lib/SQL/Exec.pm line 1242.
when is experimental at /home/perlbrew/.cpan/build/SQL-Exec-0.10-d9Ssh_/blib/lib/SQL/Exec.pm line 1243.
given is experimental at /home/perlbrew/.cpan/build/Test-Subs-0.08-KmqybR/blib/lib/Test/Subs.pm line 324.
when is experimental at /home/perlbrew/.cpan/build/Test-Subs-0.08-KmqybR/blib/lib/Test/Subs.pm line 325.
when is experimental at /home/perlbrew/.cpan/build/Test-Subs-0.08-KmqybR/blib/lib/Test/Subs.pm line 329.
when is experimental at /home/perlbrew/.cpan/build/Test-Subs-0.08-KmqybR/blib/lib/Test/Subs.pm line 333.
Smartmatch is experimental at t/execute_split.t line 17.
Redundant argument in sprintf at /home/perlbrew/.cpan/build/Test-Subs-0.08-KmqybR/blib/lib/Test/Subs.pm line 275.
Redundant argument in sprintf at /home/perlbrew/.cpan/build/Test-Subs-0.08-KmqybR/blib/lib/Test/Subs.pm line 275.
Redundant argument in sprintf at /home/perlbrew/.cpan/build/Test-Subs-0.08-KmqybR/blib/lib/Test/Subs.pm line 275.
t/execute_split.t ...... ok
given is experimental at /home/perlbrew/.cpan/build/SQL-Exec-0.10-d9Ssh_/blib/lib/SQL/Exec.pm line 1218.
when is experimental at /home/perlbrew/.cpan/build/SQL-Exec-0.10-d9Ssh_/blib/lib/SQL/Exec.pm line 1219.
when is experimental at /home/perlbrew/.cpan/build/SQL-Exec-0.10-d9Ssh_/blib/lib/SQL/Exec.pm line 1220.
when is experimental at /home/perlbrew/.cpan/build/SQL-Exec-0.10-d9Ssh_/blib/lib/SQL/Exec.pm line 1221.
when is experimental at /home/perlbrew/.cpan/build/SQL-Exec-0.10-d9Ssh_/blib/lib/SQL/Exec.pm line 1222.
when is experimental at /home/perlbrew/.cpan/build/SQL-Exec-0.10-d9Ssh_/blib/lib/SQL/Exec.pm line 1227.
when is experimental at /home/perlbrew/.cpan/build/SQL-Exec-0.10-d9Ssh_/blib/lib/SQL/Exec.pm line 1228.
when is experimental at /home/perlbrew/.cpan/build/SQL-Exec-0.10-d9Ssh_/blib/lib/SQL/Exec.pm line 1233.
when is experimental at /home/perlbrew/.cpan/build/SQL-Exec-0.10-d9Ssh_/blib/lib/SQL/Exec.pm line 1238.
when is experimental at /home/perlbrew/.cpan/build/SQL-Exec-0.10-d9Ssh_/blib/lib/SQL/Exec.pm line 1239.
when is experimental at /home/perlbrew/.cpan/build/SQL-Exec-0.10-d9Ssh_/blib/lib/SQL/Exec.pm line 1240.
when is experimental at /home/perlbrew/.cpan/build/SQL-Exec-0.10-d9Ssh_/blib/lib/SQL/Exec.pm line 1241.
when is experimental at /home/perlbrew/.cpan/build/SQL-Exec-0.10-d9Ssh_/blib/lib/SQL/Exec.pm line 1242.
when is experimental at /home/perlbrew/.cpan/build/SQL-Exec-0.10-d9Ssh_/blib/lib/SQL/Exec.pm line 1243.
given is experimental at /home/perlbrew/.cpan/build/Test-Subs-0.08-KmqybR/blib/lib/Test/Subs.pm line 324.
when is experimental at /home/perlbrew/.cpan/build/Test-Subs-0.08-KmqybR/blib/lib/Test/Subs.pm line 325.
when is experimental at /home/perlbrew/.cpan/build/Test-Subs-0.08-KmqybR/blib/lib/Test/Subs.pm line 329.
when is experimental at /home/perlbrew/.cpan/build/Test-Subs-0.08-KmqybR/blib/lib/Test/Subs.pm line 333.
Smartmatch is experimental at t/export.t line 19.
Smartmatch is experimental at t/export.t line 23.
Redundant argument in sprintf at /home/perlbrew/.cpan/build/Test-Subs-0.08-KmqybR/blib/lib/Test/Subs.pm line 275.
Redundant argument in sprintf at /home/perlbrew/.cpan/build/Test-Subs-0.08-KmqybR/blib/lib/Test/Subs.pm line 275.
Redundant argument in sprintf at /home/perlbrew/.cpan/build/Test-Subs-0.08-KmqybR/blib/lib/Test/Subs.pm line 275.
Redundant argument in sprintf at /home/perlbrew/.cpan/build/Test-Subs-0.08-KmqybR/blib/lib/Test/Subs.pm line 275.
Redundant argument in sprintf at /home/perlbrew/.cpan/build/Test-Subs-0.08-KmqybR/blib/lib/Test/Subs.pm line 275.
Redundant argument in sprintf at /home/perlbrew/.cpan/build/Test-Subs-0.08-KmqybR/blib/lib/Test/Subs.pm line 275.
t/export.t ............. ok
given is experimental at /home/perlbrew/.cpan/build/SQL-Exec-0.10-d9Ssh_/blib/lib/SQL/Exec.pm line 1218.
when is experimental at /home/perlbrew/.cpan/build/SQL-Exec-0.10-d9Ssh_/blib/lib/SQL/Exec.pm line 1219.
when is experimental at /home/perlbrew/.cpan/build/SQL-Exec-0.10-d9Ssh_/blib/lib/SQL/Exec.pm line 1220.
when is experimental at /home/perlbrew/.cpan/build/SQL-Exec-0.10-d9Ssh_/blib/lib/SQL/Exec.pm line 1221.
when is experimental at /home/perlbrew/.cpan/build/SQL-Exec-0.10-d9Ssh_/blib/lib/SQL/Exec.pm line 1222.
when is experimental at /home/perlbrew/.cpan/build/SQL-Exec-0.10-d9Ssh_/blib/lib/SQL/Exec.pm line 1227.
when is experimental at /home/perlbrew/.cpan/build/SQL-Exec-0.10-d9Ssh_/blib/lib/SQL/Exec.pm line 1228.
when is experimental at /home/perlbrew/.cpan/build/SQL-Exec-0.10-d9Ssh_/blib/lib/SQL/Exec.pm line 1233.
when is experimental at /home/perlbrew/.cpan/build/SQL-Exec-0.10-d9Ssh_/blib/lib/SQL/Exec.pm line 1238.
when is experimental at /home/perlbrew/.cpan/build/SQL-Exec-0.10-d9Ssh_/blib/lib/SQL/Exec.pm line 1239.
when is experimental at /home/perlbrew/.cpan/build/SQL-Exec-0.10-d9Ssh_/blib/lib/SQL/Exec.pm line 1240.
when is experimental at /home/perlbrew/.cpan/build/SQL-Exec-0.10-d9Ssh_/blib/lib/SQL/Exec.pm line 1241.
when is experimental at /home/perlbrew/.cpan/build/SQL-Exec-0.10-d9Ssh_/blib/lib/SQL/Exec.pm line 1242.
when is experimental at /home/perlbrew/.cpan/build/SQL-Exec-0.10-d9Ssh_/blib/lib/SQL/Exec.pm line 1243.
given is experimental at /home/perlbrew/.cpan/build/Test-Subs-0.08-KmqybR/blib/lib/Test/Subs.pm line 324.
when is experimental at /home/perlbrew/.cpan/build/Test-Subs-0.08-KmqybR/blib/lib/Test/Subs.pm line 325.
when is experimental at /home/perlbrew/.cpan/build/Test-Subs-0.08-KmqybR/blib/lib/Test/Subs.pm line 329.
when is experimental at /home/perlbrew/.cpan/build/Test-Subs-0.08-KmqybR/blib/lib/Test/Subs.pm line 333.
Smartmatch is experimental at t/file.t line 28.
Redundant argument in sprintf at /home/perlbrew/.cpan/build/Test-Subs-0.08-KmqybR/blib/lib/Test/Subs.pm line 275.
Redundant argument in sprintf at /home/perlbrew/.cpan/build/Test-Subs-0.08-KmqybR/blib/lib/Test/Subs.pm line 275.
Redundant argument in sprintf at /home/perlbrew/.cpan/build/Test-Subs-0.08-KmqybR/blib/lib/Test/Subs.pm line 275.
t/file.t ............... ok
given is experimental at /home/perlbrew/.cpan/build/SQL-Exec-0.10-d9Ssh_/blib/lib/SQL/Exec.pm line 1218.
when is experimental at /home/perlbrew/.cpan/build/SQL-Exec-0.10-d9Ssh_/blib/lib/SQL/Exec.pm line 1219.
when is experimental at /home/perlbrew/.cpan/build/SQL-Exec-0.10-d9Ssh_/blib/lib/SQL/Exec.pm line 1220.
when is experimental at /home/perlbrew/.cpan/build/SQL-Exec-0.10-d9Ssh_/blib/lib/SQL/Exec.pm line 1221.
when is experimental at /home/perlbrew/.cpan/build/SQL-Exec-0.10-d9Ssh_/blib/lib/SQL/Exec.pm line 1222.
when is experimental at /home/perlbrew/.cpan/build/SQL-Exec-0.10-d9Ssh_/blib/lib/SQL/Exec.pm line 1227.
when is experimental at /home/perlbrew/.cpan/build/SQL-Exec-0.10-d9Ssh_/blib/lib/SQL/Exec.pm line 1228.
when is experimental at /home/perlbrew/.cpan/build/SQL-Exec-0.10-d9Ssh_/blib/lib/SQL/Exec.pm line 1233.
when is experimental at /home/perlbrew/.cpan/build/SQL-Exec-0.10-d9Ssh_/blib/lib/SQL/Exec.pm line 1238.
when is experimental at /home/perlbrew/.cpan/build/SQL-Exec-0.10-d9Ssh_/blib/lib/SQL/Exec.pm line 1239.
when is experimental at /home/perlbrew/.cpan/build/SQL-Exec-0.10-d9Ssh_/blib/lib/SQL/Exec.pm line 1240.
when is experimental at /home/perlbrew/.cpan/build/SQL-Exec-0.10-d9Ssh_/blib/lib/SQL/Exec.pm line 1241.
when is experimental at /home/perlbrew/.cpan/build/SQL-Exec-0.10-d9Ssh_/blib/lib/SQL/Exec.pm line 1242.
when is experimental at /home/perlbrew/.cpan/build/SQL-Exec-0.10-d9Ssh_/blib/lib/SQL/Exec.pm line 1243.
given is experimental at /home/perlbrew/.cpan/build/Test-Subs-0.08-KmqybR/blib/lib/Test/Subs.pm line 324.
when is experimental at /home/perlbrew/.cpan/build/Test-Subs-0.08-KmqybR/blib/lib/Test/Subs.pm line 325.
when is experimental at /home/perlbrew/.cpan/build/Test-Subs-0.08-KmqybR/blib/lib/Test/Subs.pm line 329.
when is experimental at /home/perlbrew/.cpan/build/Test-Subs-0.08-KmqybR/blib/lib/Test/Subs.pm line 333.
Smartmatch is experimental at t/get_columns.t line 16.
Smartmatch is experimental at t/get_columns.t line 20.
Smartmatch is experimental at t/get_columns.t line 24.
Smartmatch is experimental at t/get_columns.t line 28.
Smartmatch is experimental at t/get_columns.t line 32.
Smartmatch is experimental at t/get_columns.t line 36.
Smartmatch is experimental at t/get_columns.t line 48.
Smartmatch is experimental at t/get_columns.t line 52.
Smartmatch is experimental at t/get_columns.t line 56.
Smartmatch is experimental at t/get_columns.t line 60.
Smartmatch is experimental at t/get_columns.t line 64.
Smartmatch is experimental at t/get_columns.t line 68.
Redundant argument in sprintf at /home/perlbrew/.cpan/build/Test-Subs-0.08-KmqybR/blib/lib/Test/Subs.pm line 275.
Redundant argument in sprintf at /home/perlbrew/.cpan/build/Test-Subs-0.08-KmqybR/blib/lib/Test/Subs.pm line 275.
Redundant argument in sprintf at /home/perlbrew/.cpan/build/Test-Subs-0.08-KmqybR/blib/lib/Test/Subs.pm line 275.
Redundant argument in sprintf at /home/perlbrew/.cpan/build/Test-Subs-0.08-KmqybR/blib/lib/Test/Subs.pm line 275.
Redundant argument in sprintf at /home/perlbrew/.cpan/build/Test-Subs-0.08-KmqybR/blib/lib/Test/Subs.pm line 275.
Redundant argument in sprintf at /home/perlbrew/.cpan/build/Test-Subs-0.08-KmqybR/blib/lib/Test/Subs.pm line 275.
Redundant argument in sprintf at /home/perlbrew/.cpan/build/Test-Subs-0.08-KmqybR/blib/lib/Test/Subs.pm line 275.
Redundant argument in sprintf at /home/perlbrew/.cpan/build/Test-Subs-0.08-KmqybR/blib/lib/Test/Subs.pm line 275.
Redundant argument in sprintf at /home/perlbrew/.cpan/build/Test-Subs-0.08-KmqybR/blib/lib/Test/Subs.pm line 275.
Redundant argument in sprintf at /home/perlbrew/.cpan/build/Test-Subs-0.08-KmqybR/blib/lib/Test/Subs.pm line 275.
Redundant argument in sprintf at /home/perlbrew/.cpan/build/Test-Subs-0.08-KmqybR/blib/lib/Test/Subs.pm line 275.
Redundant argument in sprintf at /home/perlbrew/.cpan/build/Test-Subs-0.08-KmqybR/blib/lib/Test/Subs.pm line 275.
Redundant argument in sprintf at /home/perlbrew/.cpan/build/Test-Subs-0.08-KmqybR/blib/lib/Test/Subs.pm line 275.
Redundant argument in sprintf at /home/perlbrew/.cpan/build/Test-Subs-0.08-KmqybR/blib/lib/Test/Subs.pm line 275.
t/get_columns.t ........ ok
given is experimental at /home/perlbrew/.cpan/build/SQL-Exec-0.10-d9Ssh_/blib/lib/SQL/Exec.pm line 1218.
when is experimental at /home/perlbrew/.cpan/build/SQL-Exec-0.10-d9Ssh_/blib/lib/SQL/Exec.pm line 1219.
when is experimental at /home/perlbrew/.cpan/build/SQL-Exec-0.10-d9Ssh_/blib/lib/SQL/Exec.pm line 1220.
when is experimental at /home/perlbrew/.cpan/build/SQL-Exec-0.10-d9Ssh_/blib/lib/SQL/Exec.pm line 1221.
when is experimental at /home/perlbrew/.cpan/build/SQL-Exec-0.10-d9Ssh_/blib/lib/SQL/Exec.pm line 1222.
when is experimental at /home/perlbrew/.cpan/build/SQL-Exec-0.10-d9Ssh_/blib/lib/SQL/Exec.pm line 1227.
when is experimental at /home/perlbrew/.cpan/build/SQL-Exec-0.10-d9Ssh_/blib/lib/SQL/Exec.pm line 1228.
when is experimental at /home/perlbrew/.cpan/build/SQL-Exec-0.10-d9Ssh_/blib/lib/SQL/Exec.pm line 1233.
when is experimental at /home/perlbrew/.cpan/build/SQL-Exec-0.10-d9Ssh_/blib/lib/SQL/Exec.pm line 1238.
when is experimental at /home/perlbrew/.cpan/build/SQL-Exec-0.10-d9Ssh_/blib/lib/SQL/Exec.pm line 1239.
when is experimental at /home/perlbrew/.cpan/build/SQL-Exec-0.10-d9Ssh_/blib/lib/SQL/Exec.pm line 1240.
when is experimental at /home/perlbrew/.cpan/build/SQL-Exec-0.10-d9Ssh_/blib/lib/SQL/Exec.pm line 1241.
when is experimental at /home/perlbrew/.cpan/build/SQL-Exec-0.10-d9Ssh_/blib/lib/SQL/Exec.pm line 1242.
when is experimental at /home/perlbrew/.cpan/build/SQL-Exec-0.10-d9Ssh_/blib/lib/SQL/Exec.pm line 1243.
given is experimental at /home/perlbrew/.cpan/build/Test-Subs-0.08-KmqybR/blib/lib/Test/Subs.pm line 324.
when is experimental at /home/perlbrew/.cpan/build/Test-Subs-0.08-KmqybR/blib/lib/Test/Subs.pm line 325.
when is experimental at /home/perlbrew/.cpan/build/Test-Subs-0.08-KmqybR/blib/lib/Test/Subs.pm line 329.
when is experimental at /home/perlbrew/.cpan/build/Test-Subs-0.08-KmqybR/blib/lib/Test/Subs.pm line 333.
Redundant argument in sprintf at /home/perlbrew/.cpan/build/Test-Subs-0.08-KmqybR/blib/lib/Test/Subs.pm line 275.
Redundant argument in sprintf at /home/perlbrew/.cpan/build/Test-Subs-0.08-KmqybR/blib/lib/Test/Subs.pm line 275.
Redundant argument in sprintf at /home/perlbrew/.cpan/build/Test-Subs-0.08-KmqybR/blib/lib/Test/Subs.pm line 275.
Redundant argument in sprintf at /home/perlbrew/.cpan/build/Test-Subs-0.08-KmqybR/blib/lib/Test/Subs.pm line 275.
t/multi_handle.t ....... ok
given is experimental at /home/perlbrew/.cpan/build/SQL-Exec-0.10-d9Ssh_/blib/lib/SQL/Exec.pm line 1218.
when is experimental at /home/perlbrew/.cpan/build/SQL-Exec-0.10-d9Ssh_/blib/lib/SQL/Exec.pm line 1219.
when is experimental at /home/perlbrew/.cpan/build/SQL-Exec-0.10-d9Ssh_/blib/lib/SQL/Exec.pm line 1220.
when is experimental at /home/perlbrew/.cpan/build/SQL-Exec-0.10-d9Ssh_/blib/lib/SQL/Exec.pm line 1221.
when is experimental at /home/perlbrew/.cpan/build/SQL-Exec-0.10-d9Ssh_/blib/lib/SQL/Exec.pm line 1222.
when is experimental at /home/perlbrew/.cpan/build/SQL-Exec-0.10-d9Ssh_/blib/lib/SQL/Exec.pm line 1227.
when is experimental at /home/perlbrew/.cpan/build/SQL-Exec-0.10-d9Ssh_/blib/lib/SQL/Exec.pm line 1228.
when is experimental at /home/perlbrew/.cpan/build/SQL-Exec-0.10-d9Ssh_/blib/lib/SQL/Exec.pm line 1233.
when is experimental at /home/perlbrew/.cpan/build/SQL-Exec-0.10-d9Ssh_/blib/lib/SQL/Exec.pm line 1238.
when is experimental at /home/perlbrew/.cpan/build/SQL-Exec-0.10-d9Ssh_/blib/lib/SQL/Exec.pm line 1239.
when is experimental at /home/perlbrew/.cpan/build/SQL-Exec-0.10-d9Ssh_/blib/lib/SQL/Exec.pm line 1240.
when is experimental at /home/perlbrew/.cpan/build/SQL-Exec-0.10-d9Ssh_/blib/lib/SQL/Exec.pm line 1241.
when is experimental at /home/perlbrew/.cpan/build/SQL-Exec-0.10-d9Ssh_/blib/lib/SQL/Exec.pm line 1242.
when is experimental at /home/perlbrew/.cpan/build/SQL-Exec-0.10-d9Ssh_/blib/lib/SQL/Exec.pm line 1243.
given is experimental at /home/perlbrew/.cpan/build/Test-Subs-0.08-KmqybR/blib/lib/Test/Subs.pm line 324.
when is experimental at /home/perlbrew/.cpan/build/Test-Subs-0.08-KmqybR/blib/lib/Test/Subs.pm line 325.
when is experimental at /home/perlbrew/.cpan/build/Test-Subs-0.08-KmqybR/blib/lib/Test/Subs.pm line 329.
when is experimental at /home/perlbrew/.cpan/build/Test-Subs-0.08-KmqybR/blib/lib/Test/Subs.pm line 333.
Redundant argument in sprintf at /home/perlbrew/.cpan/build/Test-Subs-0.08-KmqybR/blib/lib/Test/Subs.pm line 275.
Redundant argument in sprintf at /home/perlbrew/.cpan/build/Test-Subs-0.08-KmqybR/blib/lib/Test/Subs.pm line 275.
Redundant argument in sprintf at /home/perlbrew/.cpan/build/Test-Subs-0.08-KmqybR/blib/lib/Test/Subs.pm line 275.
Redundant argument in sprintf at /home/perlbrew/.cpan/build/Test-Subs-0.08-KmqybR/blib/lib/Test/Subs.pm line 275.
Redundant argument in sprintf at /home/perlbrew/.cpan/build/Test-Subs-0.08-KmqybR/blib/lib/Test/Subs.pm line 275.
Redundant argument in sprintf at /home/perlbrew/.cpan/build/Test-Subs-0.08-KmqybR/blib/lib/Test/Subs.pm line 275.
Redundant argument in sprintf at /home/perlbrew/.cpan/build/Test-Subs-0.08-KmqybR/blib/lib/Test/Subs.pm line 275.
t/query_hashes.t ....... ok
given is experimental at /home/perlbrew/.cpan/build/SQL-Exec-0.10-d9Ssh_/blib/lib/SQL/Exec.pm line 1218.
when is experimental at /home/perlbrew/.cpan/build/SQL-Exec-0.10-d9Ssh_/blib/lib/SQL/Exec.pm line 1219.
when is experimental at /home/perlbrew/.cpan/build/SQL-Exec-0.10-d9Ssh_/blib/lib/SQL/Exec.pm line 1220.
when is experimental at /home/perlbrew/.cpan/build/SQL-Exec-0.10-d9Ssh_/blib/lib/SQL/Exec.pm line 1221.
when is experimental at /home/perlbrew/.cpan/build/SQL-Exec-0.10-d9Ssh_/blib/lib/SQL/Exec.pm line 1222.
when is experimental at /home/perlbrew/.cpan/build/SQL-Exec-0.10-d9Ssh_/blib/lib/SQL/Exec.pm line 1227.
when is experimental at /home/perlbrew/.cpan/build/SQL-Exec-0.10-d9Ssh_/blib/lib/SQL/Exec.pm line 1228.
when is experimental at /home/perlbrew/.cpan/build/SQL-Exec-0.10-d9Ssh_/blib/lib/SQL/Exec.pm line 1233.
when is experimental at /home/perlbrew/.cpan/build/SQL-Exec-0.10-d9Ssh_/blib/lib/SQL/Exec.pm line 1238.
when is experimental at /home/perlbrew/.cpan/build/SQL-Exec-0.10-d9Ssh_/blib/lib/SQL/Exec.pm line 1239.
when is experimental at /home/perlbrew/.cpan/build/SQL-Exec-0.10-d9Ssh_/blib/lib/SQL/Exec.pm line 1240.
when is experimental at /home/perlbrew/.cpan/build/SQL-Exec-0.10-d9Ssh_/blib/lib/SQL/Exec.pm line 1241.
when is experimental at /home/perlbrew/.cpan/build/SQL-Exec-0.10-d9Ssh_/blib/lib/SQL/Exec.pm line 1242.
when is experimental at /home/perlbrew/.cpan/build/SQL-Exec-0.10-d9Ssh_/blib/lib/SQL/Exec.pm line 1243.
given is experimental at /home/perlbrew/.cpan/build/Test-Subs-0.08-KmqybR/blib/lib/Test/Subs.pm line 324.
when is experimental at /home/perlbrew/.cpan/build/Test-Subs-0.08-KmqybR/blib/lib/Test/Subs.pm line 325.
when is experimental at /home/perlbrew/.cpan/build/Test-Subs-0.08-KmqybR/blib/lib/Test/Subs.pm line 329.
when is experimental at /home/perlbrew/.cpan/build/Test-Subs-0.08-KmqybR/blib/lib/Test/Subs.pm line 333.
Smartmatch is experimental at t/query_info.t line 14.
Smartmatch is experimental at t/query_info.t line 37.
Smartmatch is experimental at t/query_info.t line 41.
Redundant argument in sprintf at /home/perlbrew/.cpan/build/Test-Subs-0.08-KmqybR/blib/lib/Test/Subs.pm line 275.
Redundant argument in sprintf at /home/perlbrew/.cpan/build/Test-Subs-0.08-KmqybR/blib/lib/Test/Subs.pm line 275.
Redundant argument in sprintf at /home/perlbrew/.cpan/build/Test-Subs-0.08-KmqybR/blib/lib/Test/Subs.pm line 275.
Redundant argument in sprintf at /home/perlbrew/.cpan/build/Test-Subs-0.08-KmqybR/blib/lib/Test/Subs.pm line 275.
Redundant argument in sprintf at /home/perlbrew/.cpan/build/Test-Subs-0.08-KmqybR/blib/lib/Test/Subs.pm line 275.
Redundant argument in sprintf at /home/perlbrew/.cpan/build/Test-Subs-0.08-KmqybR/blib/lib/Test/Subs.pm line 275.
Redundant argument in sprintf at /home/perlbrew/.cpan/build/Test-Subs-0.08-KmqybR/blib/lib/Test/Subs.pm line 275.
Redundant argument in sprintf at /home/perlbrew/.cpan/build/Test-Subs-0.08-KmqybR/blib/lib/Test/Subs.pm line 275.
t/query_info.t ......... ok
given is experimental at /home/perlbrew/.cpan/build/SQL-Exec-0.10-d9Ssh_/blib/lib/SQL/Exec.pm line 1218.
when is experimental at /home/perlbrew/.cpan/build/SQL-Exec-0.10-d9Ssh_/blib/lib/SQL/Exec.pm line 1219.
when is experimental at /home/perlbrew/.cpan/build/SQL-Exec-0.10-d9Ssh_/blib/lib/SQL/Exec.pm line 1220.
when is experimental at /home/perlbrew/.cpan/build/SQL-Exec-0.10-d9Ssh_/blib/lib/SQL/Exec.pm line 1221.
when is experimental at /home/perlbrew/.cpan/build/SQL-Exec-0.10-d9Ssh_/blib/lib/SQL/Exec.pm line 1222.
when is experimental at /home/perlbrew/.cpan/build/SQL-Exec-0.10-d9Ssh_/blib/lib/SQL/Exec.pm line 1227.
when is experimental at /home/perlbrew/.cpan/build/SQL-Exec-0.10-d9Ssh_/blib/lib/SQL/Exec.pm line 1228.
when is experimental at /home/perlbrew/.cpan/build/SQL-Exec-0.10-d9Ssh_/blib/lib/SQL/Exec.pm line 1233.
when is experimental at /home/perlbrew/.cpan/build/SQL-Exec-0.10-d9Ssh_/blib/lib/SQL/Exec.pm line 1238.
when is experimental at /home/perlbrew/.cpan/build/SQL-Exec-0.10-d9Ssh_/blib/lib/SQL/Exec.pm line 1239.
when is experimental at /home/perlbrew/.cpan/build/SQL-Exec-0.10-d9Ssh_/blib/lib/SQL/Exec.pm line 1240.
when is experimental at /home/perlbrew/.cpan/build/SQL-Exec-0.10-d9Ssh_/blib/lib/SQL/Exec.pm line 1241.
when is experimental at /home/perlbrew/.cpan/build/SQL-Exec-0.10-d9Ssh_/blib/lib/SQL/Exec.pm line 1242.
when is experimental at /home/perlbrew/.cpan/build/SQL-Exec-0.10-d9Ssh_/blib/lib/SQL/Exec.pm line 1243.
given is experimental at /home/perlbrew/.cpan/build/Test-Subs-0.08-KmqybR/blib/lib/Test/Subs.pm line 324.
when is experimental at /home/perlbrew/.cpan/build/Test-Subs-0.08-KmqybR/blib/lib/Test/Subs.pm line 325.
when is experimental at /home/perlbrew/.cpan/build/Test-Subs-0.08-KmqybR/blib/lib/Test/Subs.pm line 329.
when is experimental at /home/perlbrew/.cpan/build/Test-Subs-0.08-KmqybR/blib/lib/Test/Subs.pm line 333.
Redundant argument in sprintf at /home/perlbrew/.cpan/build/Test-Subs-0.08-KmqybR/blib/lib/Test/Subs.pm line 275.
Redundant argument in sprintf at /home/perlbrew/.cpan/build/Test-Subs-0.08-KmqybR/blib/lib/Test/Subs.pm line 275.
Redundant argument in sprintf at /home/perlbrew/.cpan/build/Test-Subs-0.08-KmqybR/blib/lib/Test/Subs.pm line 275.
Redundant argument in sprintf at /home/perlbrew/.cpan/build/Test-Subs-0.08-KmqybR/blib/lib/Test/Subs.pm line 275.
Redundant argument in sprintf at /home/perlbrew/.cpan/build/Test-Subs-0.08-KmqybR/blib/lib/Test/Subs.pm line 275.
Redundant argument in sprintf at /home/perlbrew/.cpan/build/Test-Subs-0.08-KmqybR/blib/lib/Test/Subs.pm line 275.
Redundant argument in sprintf at /home/perlbrew/.cpan/build/Test-Subs-0.08-KmqybR/blib/lib/Test/Subs.pm line 275.
t/replace.t ............ ok
given is experimental at /home/perlbrew/.cpan/build/SQL-Exec-0.10-d9Ssh_/blib/lib/SQL/Exec.pm line 1218.
when is experimental at /home/perlbrew/.cpan/build/SQL-Exec-0.10-d9Ssh_/blib/lib/SQL/Exec.pm line 1219.
when is experimental at /home/perlbrew/.cpan/build/SQL-Exec-0.10-d9Ssh_/blib/lib/SQL/Exec.pm line 1220.
when is experimental at /home/perlbrew/.cpan/build/SQL-Exec-0.10-d9Ssh_/blib/lib/SQL/Exec.pm line 1221.
when is experimental at /home/perlbrew/.cpan/build/SQL-Exec-0.10-d9Ssh_/blib/lib/SQL/Exec.pm line 1222.
when is experimental at /home/perlbrew/.cpan/build/SQL-Exec-0.10-d9Ssh_/blib/lib/SQL/Exec.pm line 1227.
when is experimental at /home/perlbrew/.cpan/build/SQL-Exec-0.10-d9Ssh_/blib/lib/SQL/Exec.pm line 1228.
when is experimental at /home/perlbrew/.cpan/build/SQL-Exec-0.10-d9Ssh_/blib/lib/SQL/Exec.pm line 1233.
when is experimental at /home/perlbrew/.cpan/build/SQL-Exec-0.10-d9Ssh_/blib/lib/SQL/Exec.pm line 1238.
when is experimental at /home/perlbrew/.cpan/build/SQL-Exec-0.10-d9Ssh_/blib/lib/SQL/Exec.pm line 1239.
when is experimental at /home/perlbrew/.cpan/build/SQL-Exec-0.10-d9Ssh_/blib/lib/SQL/Exec.pm line 1240.
when is experimental at /home/perlbrew/.cpan/build/SQL-Exec-0.10-d9Ssh_/blib/lib/SQL/Exec.pm line 1241.
when is experimental at /home/perlbrew/.cpan/build/SQL-Exec-0.10-d9Ssh_/blib/lib/SQL/Exec.pm line 1242.
when is experimental at /home/perlbrew/.cpan/build/SQL-Exec-0.10-d9Ssh_/blib/lib/SQL/Exec.pm line 1243.
given is experimental at /home/perlbrew/.cpan/build/Test-Subs-0.08-KmqybR/blib/lib/Test/Subs.pm line 324.
when is experimental at /home/perlbrew/.cpan/build/Test-Subs-0.08-KmqybR/blib/lib/Test/Subs.pm line 325.
when is experimental at /home/perlbrew/.cpan/build/Test-Subs-0.08-KmqybR/blib/lib/Test/Subs.pm line 329.
when is experimental at /home/perlbrew/.cpan/build/Test-Subs-0.08-KmqybR/blib/lib/Test/Subs.pm line 333.
Smartmatch is experimental at t/simple.t line 19.
Smartmatch is experimental at t/simple.t line 23.
Redundant argument in sprintf at /home/perlbrew/.cpan/build/Test-Subs-0.08-KmqybR/blib/lib/Test/Subs.pm line 275.
Redundant argument in sprintf at /home/perlbrew/.cpan/build/Test-Subs-0.08-KmqybR/blib/lib/Test/Subs.pm line 275.
Redundant argument in sprintf at /home/perlbrew/.cpan/build/Test-Subs-0.08-KmqybR/blib/lib/Test/Subs.pm line 275.
Redundant argument in sprintf at /home/perlbrew/.cpan/build/Test-Subs-0.08-KmqybR/blib/lib/Test/Subs.pm line 275.
Redundant argument in sprintf at /home/perlbrew/.cpan/build/Test-Subs-0.08-KmqybR/blib/lib/Test/Subs.pm line 275.
Redundant argument in sprintf at /home/perlbrew/.cpan/build/Test-Subs-0.08-KmqybR/blib/lib/Test/Subs.pm line 275.
Redundant argument in sprintf at /home/perlbrew/.cpan/build/Test-Subs-0.08-KmqybR/blib/lib/Test/Subs.pm line 275.
Redundant argument in sprintf at /home/perlbrew/.cpan/build/Test-Subs-0.08-KmqybR/blib/lib/Test/Subs.pm line 275.
t/simple.t ............. ok
given is experimental at /home/perlbrew/.cpan/build/SQL-Exec-0.10-d9Ssh_/blib/lib/SQL/Exec.pm line 1218.
when is experimental at /home/perlbrew/.cpan/build/SQL-Exec-0.10-d9Ssh_/blib/lib/SQL/Exec.pm line 1219.
when is experimental at /home/perlbrew/.cpan/build/SQL-Exec-0.10-d9Ssh_/blib/lib/SQL/Exec.pm line 1220.
when is experimental at /home/perlbrew/.cpan/build/SQL-Exec-0.10-d9Ssh_/blib/lib/SQL/Exec.pm line 1221.
when is experimental at /home/perlbrew/.cpan/build/SQL-Exec-0.10-d9Ssh_/blib/lib/SQL/Exec.pm line 1222.
when is experimental at /home/perlbrew/.cpan/build/SQL-Exec-0.10-d9Ssh_/blib/lib/SQL/Exec.pm line 1227.
when is experimental at /home/perlbrew/.cpan/build/SQL-Exec-0.10-d9Ssh_/blib/lib/SQL/Exec.pm line 1228.
when is experimental at /home/perlbrew/.cpan/build/SQL-Exec-0.10-d9Ssh_/blib/lib/SQL/Exec.pm line 1233.
when is experimental at /home/perlbrew/.cpan/build/SQL-Exec-0.10-d9Ssh_/blib/lib/SQL/Exec.pm line 1238.
when is experimental at /home/perlbrew/.cpan/build/SQL-Exec-0.10-d9Ssh_/blib/lib/SQL/Exec.pm line 1239.
when is experimental at /home/perlbrew/.cpan/build/SQL-Exec-0.10-d9Ssh_/blib/lib/SQL/Exec.pm line 1240.
when is experimental at /home/perlbrew/.cpan/build/SQL-Exec-0.10-d9Ssh_/blib/lib/SQL/Exec.pm line 1241.
when is experimental at /home/perlbrew/.cpan/build/SQL-Exec-0.10-d9Ssh_/blib/lib/SQL/Exec.pm line 1242.
when is experimental at /home/perlbrew/.cpan/build/SQL-Exec-0.10-d9Ssh_/blib/lib/SQL/Exec.pm line 1243.
given is experimental at /home/perlbrew/.cpan/build/Test-Subs-0.08-KmqybR/blib/lib/Test/Subs.pm line 324.
when is experimental at /home/perlbrew/.cpan/build/Test-Subs-0.08-KmqybR/blib/lib/Test/Subs.pm line 325.
when is experimental at /home/perlbrew/.cpan/build/Test-Subs-0.08-KmqybR/blib/lib/Test/Subs.pm line 329.
when is experimental at /home/perlbrew/.cpan/build/Test-Subs-0.08-KmqybR/blib/lib/Test/Subs.pm line 333.
Redundant argument in sprintf at /home/perlbrew/.cpan/build/Test-Subs-0.08-KmqybR/blib/lib/Test/Subs.pm line 275.
Redundant argument in sprintf at /home/perlbrew/.cpan/build/Test-Subs-0.08-KmqybR/blib/lib/Test/Subs.pm line 275.
Redundant argument in sprintf at /home/perlbrew/.cpan/build/Test-Subs-0.08-KmqybR/blib/lib/Test/Subs.pm line 275.
Redundant argument in sprintf at /home/perlbrew/.cpan/build/Test-Subs-0.08-KmqybR/blib/lib/Test/Subs.pm line 275.
Redundant argument in sprintf at /home/perlbrew/.cpan/build/Test-Subs-0.08-KmqybR/blib/lib/Test/Subs.pm line 275.
t/sqlite.t ............. ok
given is experimental at /home/perlbrew/.cpan/build/SQL-Exec-0.10-d9Ssh_/blib/lib/SQL/Exec.pm line 1218.
when is experimental at /home/perlbrew/.cpan/build/SQL-Exec-0.10-d9Ssh_/blib/lib/SQL/Exec.pm line 1219.
when is experimental at /home/perlbrew/.cpan/build/SQL-Exec-0.10-d9Ssh_/blib/lib/SQL/Exec.pm line 1220.
when is experimental at /home/perlbrew/.cpan/build/SQL-Exec-0.10-d9Ssh_/blib/lib/SQL/Exec.pm line 1221.
when is experimental at /home/perlbrew/.cpan/build/SQL-Exec-0.10-d9Ssh_/blib/lib/SQL/Exec.pm line 1222.
when is experimental at /home/perlbrew/.cpan/build/SQL-Exec-0.10-d9Ssh_/blib/lib/SQL/Exec.pm line 1227.
when is experimental at /home/perlbrew/.cpan/build/SQL-Exec-0.10-d9Ssh_/blib/lib/SQL/Exec.pm line 1228.
when is experimental at /home/perlbrew/.cpan/build/SQL-Exec-0.10-d9Ssh_/blib/lib/SQL/Exec.pm line 1233.
when is experimental at /home/perlbrew/.cpan/build/SQL-Exec-0.10-d9Ssh_/blib/lib/SQL/Exec.pm line 1238.
when is experimental at /home/perlbrew/.cpan/build/SQL-Exec-0.10-d9Ssh_/blib/lib/SQL/Exec.pm line 1239.
when is experimental at /home/perlbrew/.cpan/build/SQL-Exec-0.10-d9Ssh_/blib/lib/SQL/Exec.pm line 1240.
when is experimental at /home/perlbrew/.cpan/build/SQL-Exec-0.10-d9Ssh_/blib/lib/SQL/Exec.pm line 1241.
when is experimental at /home/perlbrew/.cpan/build/SQL-Exec-0.10-d9Ssh_/blib/lib/SQL/Exec.pm line 1242.
when is experimental at /home/perlbrew/.cpan/build/SQL-Exec-0.10-d9Ssh_/blib/lib/SQL/Exec.pm line 1243.
given is experimental at /home/perlbrew/.cpan/build/Test-Subs-0.08-KmqybR/blib/lib/Test/Subs.pm line 324.
when is experimental at /home/perlbrew/.cpan/build/Test-Subs-0.08-KmqybR/blib/lib/Test/Subs.pm line 325.
when is experimental at /home/perlbrew/.cpan/build/Test-Subs-0.08-KmqybR/blib/lib/Test/Subs.pm line 329.
when is experimental at /home/perlbrew/.cpan/build/Test-Subs-0.08-KmqybR/blib/lib/Test/Subs.pm line 333.
Redundant argument in sprintf at /home/perlbrew/.cpan/build/Test-Subs-0.08-KmqybR/blib/lib/Test/Subs.pm line 275.
Redundant argument in sprintf at /home/perlbrew/.cpan/build/Test-Subs-0.08-KmqybR/blib/lib/Test/Subs.pm line 275.
Redundant argument in sprintf at /home/perlbrew/.cpan/build/Test-Subs-0.08-KmqybR/blib/lib/Test/Subs.pm line 275.
Redundant argument in sprintf at /home/perlbrew/.cpan/build/Test-Subs-0.08-KmqybR/blib/lib/Test/Subs.pm line 275.
Redundant argument in sprintf at /home/perlbrew/.cpan/build/Test-Subs-0.08-KmqybR/blib/lib/Test/Subs.pm line 275.
Redundant argument in sprintf at /home/perlbrew/.cpan/build/Test-Subs-0.08-KmqybR/blib/lib/Test/Subs.pm line 275.
Redundant argument in sprintf at /home/perlbrew/.cpan/build/Test-Subs-0.08-KmqybR/blib/lib/Test/Subs.pm line 275.
Redundant argument in sprintf at /home/perlbrew/.cpan/build/Test-Subs-0.08-KmqybR/blib/lib/Test/Subs.pm line 275.
t/statements_simple.t .. ok
given is experimental at /home/perlbrew/.cpan/build/SQL-Exec-0.10-d9Ssh_/blib/lib/SQL/Exec.pm line 1218.
when is experimental at /home/perlbrew/.cpan/build/SQL-Exec-0.10-d9Ssh_/blib/lib/SQL/Exec.pm line 1219.
when is experimental at /home/perlbrew/.cpan/build/SQL-Exec-0.10-d9Ssh_/blib/lib/SQL/Exec.pm line 1220.
when is experimental at /home/perlbrew/.cpan/build/SQL-Exec-0.10-d9Ssh_/blib/lib/SQL/Exec.pm line 1221.
when is experimental at /home/perlbrew/.cpan/build/SQL-Exec-0.10-d9Ssh_/blib/lib/SQL/Exec.pm line 1222.
when is experimental at /home/perlbrew/.cpan/build/SQL-Exec-0.10-d9Ssh_/blib/lib/SQL/Exec.pm line 1227.
when is experimental at /home/perlbrew/.cpan/build/SQL-Exec-0.10-d9Ssh_/blib/lib/SQL/Exec.pm line 1228.
when is experimental at /home/perlbrew/.cpan/build/SQL-Exec-0.10-d9Ssh_/blib/lib/SQL/Exec.pm line 1233.
when is experimental at /home/perlbrew/.cpan/build/SQL-Exec-0.10-d9Ssh_/blib/lib/SQL/Exec.pm line 1238.
when is experimental at /home/perlbrew/.cpan/build/SQL-Exec-0.10-d9Ssh_/blib/lib/SQL/Exec.pm line 1239.
when is experimental at /home/perlbrew/.cpan/build/SQL-Exec-0.10-d9Ssh_/blib/lib/SQL/Exec.pm line 1240.
when is experimental at /home/perlbrew/.cpan/build/SQL-Exec-0.10-d9Ssh_/blib/lib/SQL/Exec.pm line 1241.
when is experimental at /home/perlbrew/.cpan/build/SQL-Exec-0.10-d9Ssh_/blib/lib/SQL/Exec.pm line 1242.
when is experimental at /home/perlbrew/.cpan/build/SQL-Exec-0.10-d9Ssh_/blib/lib/SQL/Exec.pm line 1243.
given is experimental at /home/perlbrew/.cpan/build/Test-Subs-0.08-KmqybR/blib/lib/Test/Subs.pm line 324.
when is experimental at /home/perlbrew/.cpan/build/Test-Subs-0.08-KmqybR/blib/lib/Test/Subs.pm line 325.
when is experimental at /home/perlbrew/.cpan/build/Test-Subs-0.08-KmqybR/blib/lib/Test/Subs.pm line 329.
when is experimental at /home/perlbrew/.cpan/build/Test-Subs-0.08-KmqybR/blib/lib/Test/Subs.pm line 333.
Smartmatch is experimental at t/table_exists.t line 134.
Smartmatch is experimental at t/table_exists.t line 139.
Smartmatch is experimental at t/table_exists.t line 144.
Redundant argument in sprintf at /home/perlbrew/.cpan/build/Test-Subs-0.08-KmqybR/blib/lib/Test/Subs.pm line 275.
Redundant argument in sprintf at /home/perlbrew/.cpan/build/Test-Subs-0.08-KmqybR/blib/lib/Test/Subs.pm line 275.
Redundant argument in sprintf at /home/perlbrew/.cpan/build/Test-Subs-0.08-KmqybR/blib/lib/Test/Subs.pm line 275.
Redundant argument in sprintf at /home/perlbrew/.cpan/build/Test-Subs-0.08-KmqybR/blib/lib/Test/Subs.pm line 275.
Redundant argument in sprintf at /home/perlbrew/.cpan/build/Test-Subs-0.08-KmqybR/blib/lib/Test/Subs.pm line 275.
Redundant argument in sprintf at /home/perlbrew/.cpan/build/Test-Subs-0.08-KmqybR/blib/lib/Test/Subs.pm line 275.
Redundant argument in sprintf at /home/perlbrew/.cpan/build/Test-Subs-0.08-KmqybR/blib/lib/Test/Subs.pm line 275.
Redundant argument in sprintf at /home/perlbrew/.cpan/build/Test-Subs-0.08-KmqybR/blib/lib/Test/Subs.pm line 275.
Redundant argument in sprintf at /home/perlbrew/.cpan/build/Test-Subs-0.08-KmqybR/blib/lib/Test/Subs.pm line 275.
Redundant argument in sprintf at /home/perlbrew/.cpan/build/Test-Subs-0.08-KmqybR/blib/lib/Test/Subs.pm line 275.
Redundant argument in sprintf at /home/perlbrew/.cpan/build/Test-Subs-0.08-KmqybR/blib/lib/Test/Subs.pm line 275.
Redundant argument in sprintf at /home/perlbrew/.cpan/build/Test-Subs-0.08-KmqybR/blib/lib/Test/Subs.pm line 275.
Redundant argument in sprintf at /home/perlbrew/.cpan/build/Test-Subs-0.08-KmqybR/blib/lib/Test/Subs.pm line 275.
Redundant argument in sprintf at /home/perlbrew/.cpan/build/Test-Subs-0.08-KmqybR/blib/lib/Test/Subs.pm line 275.
Redundant argument in sprintf at /home/perlbrew/.cpan/build/Test-Subs-0.08-KmqybR/blib/lib/Test/Subs.pm line 275.
Redundant argument in sprintf at /home/perlbrew/.cpan/build/Test-Subs-0.08-KmqybR/blib/lib/Test/Subs.pm line 275.
Redundant argument in sprintf at /home/perlbrew/.cpan/build/Test-Subs-0.08-KmqybR/blib/lib/Test/Subs.pm line 275.
Redundant argument in sprintf at /home/perlbrew/.cpan/build/Test-Subs-0.08-KmqybR/blib/lib/Test/Subs.pm line 275.
Redundant argument in sprintf at /home/perlbrew/.cpan/build/Test-Subs-0.08-KmqybR/blib/lib/Test/Subs.pm line 275.
Redundant argument in sprintf at /home/perlbrew/.cpan/build/Test-Subs-0.08-KmqybR/blib/lib/Test/Subs.pm line 275.
Redundant argument in sprintf at /home/perlbrew/.cpan/build/Test-Subs-0.08-KmqybR/blib/lib/Test/Subs.pm line 275.
Redundant argument in sprintf at /home/perlbrew/.cpan/build/Test-Subs-0.08-KmqybR/blib/lib/Test/Subs.pm line 275.
Redundant argument in sprintf at /home/perlbrew/.cpan/build/Test-Subs-0.08-KmqybR/blib/lib/Test/Subs.pm line 275.
Redundant argument in sprintf at /home/perlbrew/.cpan/build/Test-Subs-0.08-KmqybR/blib/lib/Test/Subs.pm line 275.
Redundant argument in sprintf at /home/perlbrew/.cpan/build/Test-Subs-0.08-KmqybR/blib/lib/Test/Subs.pm line 275.
Redundant argument in sprintf at /home/perlbrew/.cpan/build/Test-Subs-0.08-KmqybR/blib/lib/Test/Subs.pm line 275.
Redundant argument in sprintf at /home/perlbrew/.cpan/build/Test-Subs-0.08-KmqybR/blib/lib/Test/Subs.pm line 275.
Redundant argument in sprintf at /home/perlbrew/.cpan/build/Test-Subs-0.08-KmqybR/blib/lib/Test/Subs.pm line 275.
Redundant argument in sprintf at /home/perlbrew/.cpan/build/Test-Subs-0.08-KmqybR/blib/lib/Test/Subs.pm line 275.
Redundant argument in sprintf at /home/perlbrew/.cpan/build/Test-Subs-0.08-KmqybR/blib/lib/Test/Subs.pm line 275.
Redundant argument in sprintf at /home/perlbrew/.cpan/build/Test-Subs-0.08-KmqybR/blib/lib/Test/Subs.pm line 275.
Redundant argument in sprintf at /home/perlbrew/.cpan/build/Test-Subs-0.08-KmqybR/blib/lib/Test/Subs.pm line 275.
t/table_exists.t ....... ok
given is experimental at /home/perlbrew/.cpan/build/SQL-Exec-0.10-d9Ssh_/blib/lib/SQL/Exec.pm line 1218.
when is experimental at /home/perlbrew/.cpan/build/SQL-Exec-0.10-d9Ssh_/blib/lib/SQL/Exec.pm line 1219.
when is experimental at /home/perlbrew/.cpan/build/SQL-Exec-0.10-d9Ssh_/blib/lib/SQL/Exec.pm line 1220.
when is experimental at /home/perlbrew/.cpan/build/SQL-Exec-0.10-d9Ssh_/blib/lib/SQL/Exec.pm line 1221.
when is experimental at /home/perlbrew/.cpan/build/SQL-Exec-0.10-d9Ssh_/blib/lib/SQL/Exec.pm line 1222.
when is experimental at /home/perlbrew/.cpan/build/SQL-Exec-0.10-d9Ssh_/blib/lib/SQL/Exec.pm line 1227.
when is experimental at /home/perlbrew/.cpan/build/SQL-Exec-0.10-d9Ssh_/blib/lib/SQL/Exec.pm line 1228.
when is experimental at /home/perlbrew/.cpan/build/SQL-Exec-0.10-d9Ssh_/blib/lib/SQL/Exec.pm line 1233.
when is experimental at /home/perlbrew/.cpan/build/SQL-Exec-0.10-d9Ssh_/blib/lib/SQL/Exec.pm line 1238.
when is experimental at /home/perlbrew/.cpan/build/SQL-Exec-0.10-d9Ssh_/blib/lib/SQL/Exec.pm line 1239.
when is experimental at /home/perlbrew/.cpan/build/SQL-Exec-0.10-d9Ssh_/blib/lib/SQL/Exec.pm line 1240.
when is experimental at /home/perlbrew/.cpan/build/SQL-Exec-0.10-d9Ssh_/blib/lib/SQL/Exec.pm line 1241.
when is experimental at /home/perlbrew/.cpan/build/SQL-Exec-0.10-d9Ssh_/blib/lib/SQL/Exec.pm line 1242.
when is experimental at /home/perlbrew/.cpan/build/SQL-Exec-0.10-d9Ssh_/blib/lib/SQL/Exec.pm line 1243.
given is experimental at /home/perlbrew/.cpan/build/Test-Subs-0.08-KmqybR/blib/lib/Test/Subs.pm line 324.
when is experimental at /home/perlbrew/.cpan/build/Test-Subs-0.08-KmqybR/blib/lib/Test/Subs.pm line 325.
when is experimental at /home/perlbrew/.cpan/build/Test-Subs-0.08-KmqybR/blib/lib/Test/Subs.pm line 329.
when is experimental at /home/perlbrew/.cpan/build/Test-Subs-0.08-KmqybR/blib/lib/Test/Subs.pm line 333.
Redundant argument in sprintf at /home/perlbrew/.cpan/build/Test-Subs-0.08-KmqybR/blib/lib/Test/Subs.pm line 275.
Redundant argument in sprintf at /home/perlbrew/.cpan/build/Test-Subs-0.08-KmqybR/blib/lib/Test/Subs.pm line 275.
Redundant argument in sprintf at /home/perlbrew/.cpan/build/Test-Subs-0.08-KmqybR/blib/lib/Test/Subs.pm line 275.
Redundant argument in sprintf at /home/perlbrew/.cpan/build/Test-Subs-0.08-KmqybR/blib/lib/Test/Subs.pm line 275.
Redundant argument in sprintf at /home/perlbrew/.cpan/build/Test-Subs-0.08-KmqybR/blib/lib/Test/Subs.pm line 275.
t/transact.t ........... ok
All tests successful.
Files=16, Tests=139, 3 wallclock secs ( 0.05 usr 0.03 sys + 1.77 cusr 0.18 csys = 2.03 CPU)
Result: PASS
------------------------------
PREREQUISITES
------------------------------
Prerequisite modules loaded:
requires:
Module Need Have
----------------------- -------- --------
Carp 0 1.38
DBI 0 1.634
DBI::Const::GetInfoType 0 2.008697
DBIx::Connector 0 0.55
Exporter 0 5.72
List::MoreUtils 0 0.413
perl 5.010001 5.023008
Scalar::Util 0 1.42_01
SQL::SplitStatement 0 1.00020
build_requires:
Module Need Have
----------------------- -------- --------
DBD::SQLite 0 1.50
String::Replace 0 0.02
Test::Subs 0 0.08
configure_requires:
Module Need Have
----------------------- -------- --------
ExtUtils::MakeMaker 6.3002 7.10_01
------------------------------
ENVIRONMENT AND OTHER CONTEXT
------------------------------
Environment variables:
AUTOMATED_TESTING = 1
LANG = en_GB.UTF-8
LANGUAGE = en_GB:en
PATH = /opt/perlbrew/bin:/opt/perlbrew/perls/perl-5.23.8-thread-multi-ld/bin:/home/perlbrew/bin:/usr/local/sbin:/usr/local/bin:/usr/sbin:/usr/bin:/sbin:/bin:/usr/games:/usr/local/games:/home/perlbrew/.rvm/bin
PERL5LIB = /home/perlbrew/.cpan/build/String-Replace-0.02-3UM4PB/blib/arch:/home/perlbrew/.cpan/build/String-Replace-0.02-3UM4PB/blib/lib:/home/perlbrew/.cpan/build/Test-Subs-0.08-KmqybR/blib/arch:/home/perlbrew/.cpan/build/Test-Subs-0.08-KmqybR/blib/lib
PERL5OPT =
PERL5_CPANPLUS_IS_RUNNING = 3546
PERL5_CPAN_IS_RUNNING = 3546
PERL5_CPAN_IS_RUNNING_IN_RECURSION = 1750,3546
PERLBREW_BASHRC_VERSION = 0.74
PERLBREW_HOME = /home/perlbrew/.perlbrew
PERLBREW_MANPATH = /opt/perlbrew/perls/perl-5.23.8-thread-multi-ld/man
PERLBREW_PATH = /opt/perlbrew/bin:/opt/perlbrew/perls/perl-5.23.8-thread-multi-ld/bin
PERLBREW_PERL = perl-5.23.8-thread-multi-ld
PERLBREW_ROOT = /opt/perlbrew
PERLBREW_VERSION = 0.74
PERL_CPANM_OPT = --mirror http://cpan.cpantesters.org
PERL_CR_SMOKER_CURRENT = SQL-Exec-0.10
PERL_EXTUTILS_AUTOINSTALL = --defaultdeps
PERL_MM_USE_DEFAULT = 1
SHELL = /bin/bash
TERM = xterm
Perl special variables (and OS-specific diagnostics, for MSWin32):
$^X = /opt/perlbrew/perls/perl-5.23.8-thread-multi-ld/bin/perl5.23.8
$UID/$EUID = 1001 / 1001
$GID = 1001 27 1001
$EGID = 1001 27 1001
Perl module toolchain versions installed:
Module Have
------------------- --------
CPAN 2.11
CPAN::Meta 2.150005
Cwd 3.63
ExtUtils::CBuilder 0.280225
ExtUtils::Command 7.10
ExtUtils::Install 2.04
ExtUtils::MakeMaker 7.10_01
ExtUtils::Manifest 1.70
ExtUtils::ParseXS 3.31
File::Spec 3.63
JSON 2.90
JSON::PP 2.27300
Module::Build 0.4216
Module::Signature 0.79
Parse::CPAN::Meta 1.4417
Test::Harness 3.36
Test::More 1.001014
YAML 1.15
YAML::Syck 1.29
version 0.9914
--
Summary of my perl5 (revision 5 version 23 subversion 8) configuration:
Platform:
osname=linux, osvers=4.2.0-30-generic, archname=x86_64-linux-thread-multi-ld
uname='linux ubuntu 4.2.0-30-generic #36~14.04.1-ubuntu smp fri feb 26 18:49:23 utc 2016 x86_64 x86_64 x86_64 gnulinux '
config_args='-de -Dprefix=/opt/perlbrew/perls/perl-5.23.8-thread-multi-ld -Duselongdouble -Dusemultiplicity -Dusethreads -Dusedevel -Aeval:scriptdir=/opt/perlbrew/perls/perl-5.23.8-thread-multi-ld/bin'
hint=recommended, useposix=true, d_sigaction=define
useithreads=define, usemultiplicity=define
use64bitint=define, use64bitall=define, uselongdouble=define
usemymalloc=n, bincompat5005=undef
Compiler:
cc='cc', ccflags ='-D_REENTRANT -D_GNU_SOURCE -fwrapv -fno-strict-aliasing -pipe -fstack-protector -I/usr/local/include -D_LARGEFILE_SOURCE -D_FILE_OFFSET_BITS=64',
optimize='-O2',
cppflags='-D_REENTRANT -D_GNU_SOURCE -fwrapv -fno-strict-aliasing -pipe -fstack-protector -I/usr/local/include'
ccversion='', gccversion='4.8.4', gccosandvers=''
intsize=4, longsize=8, ptrsize=8, doublesize=8, byteorder=12345678, doublekind=3
d_longlong=define, longlongsize=8, d_longdbl=define, longdblsize=16, longdblkind=3
ivtype='long', ivsize=8, nvtype='long double', nvsize=16, Off_t='off_t', lseeksize=8
alignbytes=16, prototype=define
Linker and Libraries:
ld='cc', ldflags =' -fstack-protector -L/usr/local/lib'
libpth=/usr/local/lib /usr/lib/gcc/x86_64-linux-gnu/4.8/include-fixed /usr/include/x86_64-linux-gnu /usr/lib /lib/x86_64-linux-gnu /lib/../lib /usr/lib/x86_64-linux-gnu /usr/lib/../lib /lib
libs=-lpthread -lnsl -lgdbm -ldl -lm -lcrypt -lutil -lc -lgdbm_compat
perllibs=-lpthread -lnsl -ldl -lm -lcrypt -lutil -lc
libc=libc-2.19.so, so=so, useshrplib=false, libperl=libperl.a
gnulibc_version='2.19'
Dynamic Linking:
dlsrc=dl_dlopen.xs, dlext=so, d_dlsymun=undef, ccdlflags='-Wl,-E'
cccdlflags='-fPIC', lddlflags='-shared -O2 -L/usr/local/lib -fstack-protector'
Characteristics of this binary (from libperl):
Compile-time options: HAS_TIMES MULTIPLICITY PERLIO_LAYERS
PERL_COPY_ON_WRITE PERL_DONT_CREATE_GVSV
PERL_HASH_FUNC_ONE_AT_A_TIME_HARD
PERL_IMPLICIT_CONTEXT PERL_MALLOC_WRAP
PERL_PRESERVE_IVUV PERL_USE_DEVEL USE_64_BIT_ALL
USE_64_BIT_INT USE_ITHREADS USE_LARGE_FILES
USE_LOCALE USE_LOCALE_COLLATE USE_LOCALE_CTYPE
USE_LOCALE_NUMERIC USE_LOCALE_TIME USE_LONG_DOUBLE
USE_PERLIO USE_PERL_ATOF USE_REENTRANT_API
Locally applied patches:
Devel::PatchPerl 1.38
Built under linux
Compiled at Feb 29 2016 11:35:07
%ENV:
PERL5LIB="/home/perlbrew/.cpan/build/String-Replace-0.02-3UM4PB/blib/arch:/home/perlbrew/.cpan/build/String-Replace-0.02-3UM4PB/blib/lib:/home/perlbrew/.cpan/build/Test-Subs-0.08-KmqybR/blib/arch:/home/perlbrew/.cpan/build/Test-Subs-0.08-KmqybR/blib/lib"
PERL5OPT=""
PERL5_CPANPLUS_IS_RUNNING="3546"
PERL5_CPAN_IS_RUNNING="3546"
PERL5_CPAN_IS_RUNNING_IN_RECURSION="1750,3546"
PERLBREW_BASHRC_VERSION="0.74"
PERLBREW_HOME="/home/perlbrew/.perlbrew"
PERLBREW_MANPATH="/opt/perlbrew/perls/perl-5.23.8-thread-multi-ld/man"
PERLBREW_PATH="/opt/perlbrew/bin:/opt/perlbrew/perls/perl-5.23.8-thread-multi-ld/bin"
PERLBREW_PERL="perl-5.23.8-thread-multi-ld"
PERLBREW_ROOT="/opt/perlbrew"
PERLBREW_VERSION="0.74"
PERL_CPANM_OPT="--mirror http://cpan.cpantesters.org"
PERL_CR_SMOKER_CURRENT="SQL-Exec-0.10"
PERL_EXTUTILS_AUTOINSTALL="--defaultdeps"
PERL_MM_USE_DEFAULT="1"
@INC:
/home/perlbrew/.cpan/build/String-Replace-0.02-3UM4PB/blib/arch
/home/perlbrew/.cpan/build/String-Replace-0.02-3UM4PB/blib/lib
/home/perlbrew/.cpan/build/Test-Subs-0.08-KmqybR/blib/arch
/home/perlbrew/.cpan/build/Test-Subs-0.08-KmqybR/blib/lib
/opt/perlbrew/perls/perl-5.23.8-thread-multi-ld/lib/site_perl/5.23.8/x86_64-linux-thread-multi-ld
/opt/perlbrew/perls/perl-5.23.8-thread-multi-ld/lib/site_perl/5.23.8
/opt/perlbrew/perls/perl-5.23.8-thread-multi-ld/lib/5.23.8/x86_64-linux-thread-multi-ld
/opt/perlbrew/perls/perl-5.23.8-thread-multi-ld/lib/5.23.8
.