Back
From: metabase:user:31d414ea-2aae-11df-837a-5e0a49663a4f
Subject: PASS Class-Date-1.1.12 v5.6.2 GNU/Linux
Date: 2014-05-01T10:47:21Z
This distribution has been tested as part of the CPAN Testers
project, supporting the Perl programming language.  See
http://wiki.cpantesters.org/ for more information or email
questions to cpan-testers-discuss@perl.org
--
Dear Gabor Szabo,
This is a computer-generated report for Class-Date-1.1.12
on perl 5.6.2, created by CPAN-Reporter-1.18.
Thank you for uploading your work to CPAN.  Congratulations!
All tests were successful.
Sections of this report:
    * Tester comments
    * Program output
    * Prerequisites
    * Environment and other context
------------------------------
TESTER COMMENTS
------------------------------
Additional comments from tester:
this report is from an automated smoke testing program
and was not reviewed by a human for accuracy
------------------------------
PROGRAM OUTPUT
------------------------------
Output from '/usr/bin/make test':
PERL_DL_NONLAZY=1 /home/david/cpantesting/perl-5.6.2/bin/perl "-MExtUtils::Command::MM" "-e" "test_harness(0, 'blib/lib', 'blib/arch')" t/*.t
t/00_base.t ....... ok
t/05_parsing.t .... ok
t/10_fields.t ..... ok
t/20_gmdate.t ..... ok
t/30_localdate.t .. ok
t/40_errors.t ..... ok
t/50_timezone.t ... ok
All tests successful.
Files=7, Tests=193,  1 wallclock secs ( 0.04 usr  0.03 sys +  0.10 cusr  0.02 csys =  0.19 CPU)
Result: PASS
------------------------------
PREREQUISITES
------------------------------
Prerequisite modules loaded:
requires:
    Module              Need  Have    
    ------------------- ----- --------
    Test::More          1.001 1.001003
configure_requires:
    Module              Need  Have    
    ------------------- ----- --------
    ExtUtils::MakeMaker 0     6.66    
------------------------------
ENVIRONMENT AND OTHER CONTEXT
------------------------------
Environment variables:
    AUTOMATED_TESTING = 1
    PATH = /usr/local/bin:/usr/bin:/bin:/usr/games
    PERL = 5.6.2
    PERL5LIB = 
    PERL5OPT = 
    PERL5_CPANPLUS_IS_RUNNING = 27952
    PERL5_CPAN_IS_RUNNING = 27952
    PERLVER = 5.6.2
    PERL_INLINE_DIRECTORY = /home/david/.Inline-5.6.2
    PERL_MM_USE_DEFAULT = 1
    SHELL = /bin/bash
    TERM = screen
Perl special variables (and OS-specific diagnostics, for MSWin32):
    $^X = /home/david/cpantesting/perl-5.6.2/bin/perl
    $UID/$EUID = 1000 / 1000
    $GID = 1000 1000
    $EGID = 1000 1000
Perl module toolchain versions installed:
    Module              Have    
    ------------------- --------
    CPAN                1.9402  
    Cwd                 3.31    
    ExtUtils::CBuilder  0.2703  
    ExtUtils::Command   1.16    
    ExtUtils::Install   1.54    
    ExtUtils::MakeMaker 6.66    
    ExtUtils::Manifest  1.60    
    ExtUtils::ParseXS   2.2206  
    File::Spec          3.31    
    Module::Build       0.4005  
    Module::Signature   n/a     
    Test::Harness       3.22    
    Test::More          1.001003
    YAML                n/a     
    YAML::Syck          n/a     
    version             0.88    
--
Summary of my perl5 (revision 5.0 version 6 subversion 2) configuration:
  Platform:
    osname=linux, osvers=2.6.18-4-xen-amd64, archname=x86_64-linux
    uname='linux pigsty.barnyard.co.uk 2.6.18-4-xen-amd64 #1 smp fri may 4 02:40:51 utc 2007 x86_64 gnulinux '
    config_args='-de -Dprefix=/home/david/cpantesting/perl-5.6.2'
    hint=recommended, useposix=true, d_sigaction=define
    usethreads=undef use5005threads=undef useithreads=undef usemultiplicity=undef
    useperlio=undef d_sfio=undef uselargefiles=define usesocks=undef
    use64bitint=define use64bitall=define uselongdouble=undef
  Compiler:
    cc='cc', ccflags ='-fno-strict-aliasing -I/usr/local/include -D_LARGEFILE_SOURCE -D_FILE_OFFSET_BITS=64',
    optimize='-O2',
    cppflags='-fno-strict-aliasing -I/usr/local/include'
    ccversion='', gccversion='4.1.2 20061115 (prerelease) (Debian 4.1.1-21)', gccosandvers=''
    intsize=4, longsize=8, ptrsize=8, doublesize=8, byteorder=12345678
    d_longlong=define, longlongsize=8, d_longdbl=define, longdblsize=16
    ivtype='long', ivsize=8, nvtype='double', nvsize=8, Off_t='off_t', lseeksize=8
    alignbytes=8, usemymalloc=n, prototype=define
  Linker and Libraries:
    ld='cc', ldflags =' -L/usr/local/lib'
    libpth=/usr/local/lib /lib /usr/lib
    libs=-lnsl -lgdbm -ldb -ldl -lm -lc -lcrypt -lutil
    perllibs=-lnsl -ldl -lm -lc -lcrypt -lutil
    libc=/lib/libc-2.3.6.so, so=so, useshrplib=false, libperl=libperl.a
  Dynamic Linking:
    dlsrc=dl_dlopen.xs, dlext=so, d_dlsymun=undef, ccdlflags='-rdynamic'
    cccdlflags='-fpic', lddlflags='-shared -L/usr/local/lib'
Characteristics of this binary (from libperl): 
  Compile-time options: USE_64_BIT_INT USE_64_BIT_ALL USE_LARGE_FILES
  Built under linux
  Compiled at Aug 25 2010 13:58:18
  %ENV:
    PERL="5.6.2"
    PERL5LIB=""
    PERL5OPT=""
    PERL5_CPANPLUS_IS_RUNNING="27952"
    PERL5_CPAN_IS_RUNNING="27952"
    PERLVER="5.6.2"
    PERL_INLINE_DIRECTORY="/home/david/.Inline-5.6.2"
    PERL_MM_USE_DEFAULT="1"
  @INC:
    /home/david/cpantesting/perl-5.6.2/lib/5.6.2/x86_64-linux
    /home/david/cpantesting/perl-5.6.2/lib/5.6.2
    /home/david/cpantesting/perl-5.6.2/lib/site_perl/5.6.2/x86_64-linux
    /home/david/cpantesting/perl-5.6.2/lib/site_perl/5.6.2
    /home/david/cpantesting/perl-5.6.2/lib/site_perl
    .