Module-Manifest v1.09 Perl 5 v5.24.2 x86_64-linux-thread-multi
- Status
- Pass
- From
- Nigel Horne
- Dist
-
Module-Manifest v1.09
- Platform
- Perl 5 v5.24.2 x86_64-linux-thread-multi
- Date
- 2019-02-09 07:04:41
- ID
- f8d8df2c-2c38-11e9-bf31-80c71e9d5857
This distribution has been tested as part of the CPAN Testers
project, supporting the Perl programming language. See
http://wiki.cpantesters.org/ for more information or email
questions to cpan-testers-discuss@perl.org
--
Dear Karen Etheridge,
This is a computer-generated report for Module-Manifest-1.09
on perl 5.24.2, created by CPAN-Reporter-1.2018.
Thank you for uploading your work to CPAN. Congratulations!
All tests were successful.
Sections of this report:
* Tester comments
* Program output
* Prerequisites
* Environment and other context
------------------------------
TESTER COMMENTS
------------------------------
Additional comments from tester:
this report is from an automated smoke testing program
and was not reviewed by a human for accuracy
------------------------------
PROGRAM OUTPUT
------------------------------
Output from '/usr/bin/make test':
PERL_DL_NONLAZY=1 "/home/njh/perl5/perlbrew/perls/perl-5.24.2/bin/perl5.24.2" "-MExtUtils::Command::MM" "-MTest::Harness" "-e" "undef *Test::Harness::Switches; test_harness(0, 'blib/lib', 'blib/arch')" t/*.t
t/01_compile.t ......... ok
t/02_main.t ............ ok
#
# Versions for all modules listed in MYMETA.json (including optional ones):
#
# === Configure Requires ===
#
# Module Want Have
# ------------------- ---- ----
# ExtUtils::MakeMaker any 7.34
#
# === Build Requires ===
#
# Module Want Have
# ------------------- ---- ----
# ExtUtils::MakeMaker any 7.34
#
# === Test Requires ===
#
# Module Want Have
# --------------------- ---- --------
# ExtUtils::MakeMaker any 7.34
# File::Spec 0.80 3.74
# File::Spec::Functions any 3.74
# Test::Exception any 0.43
# Test::More any 1.302140
# Test::Warn any 0.36
# warnings any 1.36
#
# === Test Recommends ===
#
# Module Want Have
# ---------- -------- --------
# CPAN::Meta 2.120900 2.150010
#
# === Runtime Requires ===
#
# Module Want Have
# ---------------- ---- ----
# Carp any 1.40
# File::Basename any 2.85
# File::Spec 0.80 3.74
# File::Spec::Unix any 3.74
# Params::Util 0.10 1.07
# strict any 1.11
#
# === Other Modules ===
#
# Module Have
# ------------- -------
# JSON::PP 2.97001
# Pod::Coverage 0.23
# Sub::Name 0.21
# YAML 1.27
# autodie 2.29
#
t/00-report-prereqs.t .. ok
t/03_error.t ........... ok
All tests successful.
Files=4, Tests=34, 0 wallclock secs ( 0.06 usr 0.01 sys + 0.78 cusr 0.18 csys = 1.03 CPU)
Result: PASS
------------------------------
PREREQUISITES
------------------------------
Prerequisite modules loaded:
requires:
Module Need Have
--------------------- ----- --------
Carp 0 1.40
File::Basename 0 2.85
File::Spec 0.80 3.74
File::Spec::Unix 0 3.74
Params::Util 0.10 1.07
perl 5.006 5.024002
strict 0 1.11
build_requires:
Module Need Have
--------------------- ----- --------
ExtUtils::MakeMaker 0 7.34
File::Spec 0.80 3.74
File::Spec::Functions 0 3.74
Test::Exception 0 0.43
Test::More 0 1.302140
Test::Warn 0 0.36
warnings 0 1.36
configure_requires:
Module Need Have
--------------------- ----- --------
ExtUtils::MakeMaker 0 7.34
perl 5.006 5.024002
------------------------------
ENVIRONMENT AND OTHER CONTEXT
------------------------------
Environment variables:
AUTOMATED_TESTING = 1
HARNESS_OPTIONS = j2
LANG = en_GB.UTF-8
LANGUAGE = en_GB:en
PATH = /home/njh/perl5/perlbrew/bin:/home/njh/perl5/perlbrew/perls/perl-5.24.2/bin:/usr/bin:/bin:/home/njh/src/njh/smoker/bin
PERL5LIB = /home/njh/.cpan/build/Test-CPAN-Meta-0.25-5/blib/arch:/home/njh/.cpan/build/Test-CPAN-Meta-0.25-5/blib/lib:/home/njh/.cpan/build/Pod-Coverage-TrustPod-0.100005-5/blib/arch:/home/njh/.cpan/build/Pod-Coverage-TrustPod-0.100005-5/blib/lib:/home/njh/.cpan/build/Pod-Eventual-0.094001-5/blib/arch:/home/njh/.cpan/build/Pod-Eventual-0.094001-5/blib/lib:/home/njh/.cpan/build/Mixin-Linewise-0.108-5/blib/arch:/home/njh/.cpan/build/Mixin-Linewise-0.108-5/blib/lib:/home/njh/.cpan/build/PerlIO-utf8_strict-0.007-5/blib/arch:/home/njh/.cpan/build/PerlIO-utf8_strict-0.007-5/blib/lib:/home/njh/.cpan/build/Moo-2.003004-5/blib/arch:/home/njh/.cpan/build/Moo-2.003004-5/blib/lib:/home/njh/.cpan/build/Sub-Quote-2.005001-5/blib/arch:/home/njh/.cpan/build/Sub-Quote-2.005001-5/blib/lib:/home/njh/.cpan/build/Role-Tiny-2.000006-5/blib/arch:/home/njh/.cpan/build/Role-Tiny-2.000006-5/blib/lib:/home/njh/.cpan/build/Class-Method-Modifiers-2.12-5/blib/arch:/home/njh/.cpan/build/Class-Method-Modifiers-2.12-5/blib/lib:/home/njh/.cpan/build/Cache-LRU-0.04-5/blib/arch:/home/njh/.cpan/build/Cache-LRU-0.04-5/blib/lib
PERL5OPT =
PERL5_CPANPLUS_IS_RUNNING = 4250
PERL5_CPAN_IS_RUNNING = 4250
PERLBREW_HOME = /home/njh/.perlbrew
PERLBREW_MANPATH = /home/njh/perl5/perlbrew/perls/perl-5.24.2/man
PERLBREW_PATH = /home/njh/perl5/perlbrew/bin:/home/njh/perl5/perlbrew/perls/perl-5.24.2/bin
PERLBREW_PERL = perl-5.24.2
PERLBREW_ROOT = /home/njh/perl5/perlbrew
PERLBREW_SHELLRC_VERSION = 0.83
PERLBREW_VERSION = 0.83
SHELL = /bin/sh
TEMP = /tmp/user/1000
TMPDIR = /tmp/user/1000/testwrapper.4237
Perl special variables (and OS-specific diagnostics, for MSWin32):
$^X = /home/njh/perl5/perlbrew/perls/perl-5.24.2/bin/perl5.24.2
$UID/$EUID = 1000 / 1000
$GID = 1000 4 24 25 29 30 44 46 103 108 116 127 1000
$EGID = 1000 4 24 25 29 30 44 46 103 108 116 127 1000
Perl module toolchain versions installed:
Module Have
------------------- --------
CPAN 2.16
CPAN::Meta 2.150010
Cwd 3.74
ExtUtils::CBuilder 0.280230
ExtUtils::Command 7.34
ExtUtils::Install 2.14
ExtUtils::MakeMaker 7.34
ExtUtils::Manifest 1.71
ExtUtils::ParseXS 3.35
File::Spec 3.74
JSON 2.97001
JSON::PP 2.97001
Module::Build 0.4224
Module::Signature n/a
Parse::CPAN::Meta 2.150010
Test::Harness 3.42
Test::More 1.302140
YAML 1.27
YAML::Syck 1.30
version 0.9924
--
Summary of my perl5 (revision 5 version 24 subversion 2) configuration:
Platform:
osname=linux, osvers=4.9.0-2-amd64, archname=x86_64-linux-thread-multi
uname='linux compaq 4.9.0-2-amd64 #1 smp debian 4.9.18-1 (2017-03-30) x86_64 gnulinux '
config_args='-de -Dprefix=/home/njh/perl5/perlbrew/perls/perl-5.24.2 -Duseithreads -Dusemultiplicity -Dusedevel -Accflags= -Aeval:scriptdir=/home/njh/perl5/perlbrew/perls/perl-5.24.2/bin'
hint=recommended, useposix=true, d_sigaction=define
useithreads=define, usemultiplicity=define
use64bitint=define, use64bitall=define, uselongdouble=undef
usemymalloc=n, bincompat5005=undef
Compiler:
cc='cc', ccflags ='-D_REENTRANT -D_GNU_SOURCE -fwrapv -fno-strict-aliasing -pipe -fstack-protector-strong -I/usr/local/include -D_LARGEFILE_SOURCE -D_FILE_OFFSET_BITS=64',
optimize='-O2',
cppflags='-D_REENTRANT -D_GNU_SOURCE -fwrapv -fno-strict-aliasing -pipe -fstack-protector-strong -I/usr/local/include'
ccversion='', gccversion='6.4.0 20170704', gccosandvers=''
intsize=4, longsize=8, ptrsize=8, doublesize=8, byteorder=12345678, doublekind=3
d_longlong=define, longlongsize=8, d_longdbl=define, longdblsize=16, longdblkind=3
ivtype='long', ivsize=8, nvtype='double', nvsize=8, Off_t='off_t', lseeksize=8
alignbytes=8, prototype=define
Linker and Libraries:
ld='cc', ldflags =' -fstack-protector-strong -L/usr/local/lib'
libpth=/usr/local/lib /usr/lib/gcc/x86_64-linux-gnu/6/include-fixed /usr/include/x86_64-linux-gnu /usr/lib /lib/x86_64-linux-gnu /lib/../lib /usr/lib/x86_64-linux-gnu /usr/lib/../lib /lib /lib64 /usr/lib64
libs=-lpthread -lnsl -lgdbm -ldb -ldl -lm -lcrypt -lutil -lc -lgdbm_compat
perllibs=-lpthread -lnsl -ldl -lm -lcrypt -lutil -lc
libc=, so=so, useshrplib=false, libperl=libperl.a
gnulibc_version='2.24'
Dynamic Linking:
dlsrc=dl_dlopen.xs, dlext=so, d_dlsymun=undef, ccdlflags='-Wl,-E'
cccdlflags='-fPIC', lddlflags='-shared -O2 -L/usr/local/lib -fstack-protector-strong'
Characteristics of this binary (from libperl):
Compile-time options: HAS_TIMES MULTIPLICITY PERLIO_LAYERS
PERL_COPY_ON_WRITE PERL_DONT_CREATE_GVSV
PERL_HASH_FUNC_ONE_AT_A_TIME_HARD
PERL_IMPLICIT_CONTEXT PERL_MALLOC_WRAP
PERL_PRESERVE_IVUV PERL_USE_DEVEL USE_64_BIT_ALL
USE_64_BIT_INT USE_ITHREADS USE_LARGE_FILES
USE_LOCALE USE_LOCALE_COLLATE USE_LOCALE_CTYPE
USE_LOCALE_NUMERIC USE_LOCALE_TIME USE_PERLIO
USE_PERL_ATOF USE_REENTRANT_API
Built under linux
Compiled at Jul 18 2017 00:34:26
%ENV:
PERL5LIB="/home/njh/.cpan/build/Test-CPAN-Meta-0.25-5/blib/arch:/home/njh/.cpan/build/Test-CPAN-Meta-0.25-5/blib/lib:/home/njh/.cpan/build/Pod-Coverage-TrustPod-0.100005-5/blib/arch:/home/njh/.cpan/build/Pod-Coverage-TrustPod-0.100005-5/blib/lib:/home/njh/.cpan/build/Pod-Eventual-0.094001-5/blib/arch:/home/njh/.cpan/build/Pod-Eventual-0.094001-5/blib/lib:/home/njh/.cpan/build/Mixin-Linewise-0.108-5/blib/arch:/home/njh/.cpan/build/Mixin-Linewise-0.108-5/blib/lib:/home/njh/.cpan/build/PerlIO-utf8_strict-0.007-5/blib/arch:/home/njh/.cpan/build/PerlIO-utf8_strict-0.007-5/blib/lib:/home/njh/.cpan/build/Moo-2.003004-5/blib/arch:/home/njh/.cpan/build/Moo-2.003004-5/blib/lib:/home/njh/.cpan/build/Sub-Quote-2.005001-5/blib/arch:/home/njh/.cpan/build/Sub-Quote-2.005001-5/blib/lib:/home/njh/.cpan/build/Role-Tiny-2.000006-5/blib/arch:/home/njh/.cpan/build/Role-Tiny-2.000006-5/blib/lib:/home/njh/.cpan/build/Class-Method-Modifiers-2.12-5/blib/arch:/home/njh/.cpan/build/Class-Method-Modifiers-2.12-5/blib/lib:/home/njh/.cpan/build/Cache-LRU-0.04-5/blib/arch:/home/njh/.cpan/build/Cache-LRU-0.04-5/blib/lib"
PERL5OPT=""
PERL5_CPANPLUS_IS_RUNNING="4250"
PERL5_CPAN_IS_RUNNING="4250"
PERLBREW_HOME="/home/njh/.perlbrew"
PERLBREW_MANPATH="/home/njh/perl5/perlbrew/perls/perl-5.24.2/man"
PERLBREW_PATH="/home/njh/perl5/perlbrew/bin:/home/njh/perl5/perlbrew/perls/perl-5.24.2/bin"
PERLBREW_PERL="perl-5.24.2"
PERLBREW_ROOT="/home/njh/perl5/perlbrew"
PERLBREW_SHELLRC_VERSION="0.83"
PERLBREW_VERSION="0.83"
@INC:
/home/njh/.cpan/build/Test-CPAN-Meta-0.25-5/blib/arch
/home/njh/.cpan/build/Test-CPAN-Meta-0.25-5/blib/lib
/home/njh/.cpan/build/Pod-Coverage-TrustPod-0.100005-5/blib/arch
/home/njh/.cpan/build/Pod-Coverage-TrustPod-0.100005-5/blib/lib
/home/njh/.cpan/build/Pod-Eventual-0.094001-5/blib/arch
/home/njh/.cpan/build/Pod-Eventual-0.094001-5/blib/lib
/home/njh/.cpan/build/Mixin-Linewise-0.108-5/blib/arch
/home/njh/.cpan/build/Mixin-Linewise-0.108-5/blib/lib
/home/njh/.cpan/build/PerlIO-utf8_strict-0.007-5/blib/arch
/home/njh/.cpan/build/PerlIO-utf8_strict-0.007-5/blib/lib
/home/njh/.cpan/build/Moo-2.003004-5/blib/arch
/home/njh/.cpan/build/Moo-2.003004-5/blib/lib
/home/njh/.cpan/build/Sub-Quote-2.005001-5/blib/arch
/home/njh/.cpan/build/Sub-Quote-2.005001-5/blib/lib
/home/njh/.cpan/build/Role-Tiny-2.000006-5/blib/arch
/home/njh/.cpan/build/Role-Tiny-2.000006-5/blib/lib
/home/njh/.cpan/build/Class-Method-Modifiers-2.12-5/blib/arch
/home/njh/.cpan/build/Class-Method-Modifiers-2.12-5/blib/lib
/home/njh/.cpan/build/Cache-LRU-0.04-5/blib/arch
/home/njh/.cpan/build/Cache-LRU-0.04-5/blib/lib
/home/njh/perl5/perlbrew/perls/perl-5.24.2/lib/site_perl/5.24.2/x86_64-linux-thread-multi
/home/njh/perl5/perlbrew/perls/perl-5.24.2/lib/site_perl/5.24.2
/home/njh/perl5/perlbrew/perls/perl-5.24.2/lib/5.24.2/x86_64-linux-thread-multi
/home/njh/perl5/perlbrew/perls/perl-5.24.2/lib/5.24.2
.