Syntax-Construct v1.040 Perl 5 v5.18.4 amd64-freebsd

Status
Pass
From
Slaven Rezić
Dist
Syntax-Construct v1.040
Platform
Perl 5 v5.18.4 amd64-freebsd
Date
2025-01-22 23:16:55
ID
f8b39f5a-d916-11ef-82db-ab206e8775ea
This distribution has been tested as part of the CPAN Testers
project, supporting the Perl programming language.  See
http://wiki.cpantesters.org/ for more information or email
questions to cpan-testers-discuss@perl.org


--
Dear E. Choroba,

This is a computer-generated report for Syntax-Construct-1.040
on perl 5.18.4, created by CPAN-Reporter-1.2019.

Thank you for uploading your work to CPAN.  Congratulations!
All tests were successful.

Sections of this report:

    * Tester comments
    * Program output
    * Prerequisites
    * Environment and other context

------------------------------
TESTER COMMENTS
------------------------------

Additional comments from tester:

none provided

------------------------------
PROGRAM OUTPUT
------------------------------

Output from '/usr/bin/make test':

PERL_DL_NONLAZY=1 "/usr/perl5.18.4p/bin/perl" "-MExtUtils::Command::MM" "-MTest::Harness" "-e" "undef *Test::Harness::Switches; test_harness(0, 'blib/lib', 'blib/arch')" t/*.t
# Testing Syntax::Construct 1.040, Perl 5.018004, /usr/perl5.18.4p/bin/perl
t/00-load.t ........ ok
t/01-invalid.t ..... ok
"\b{" is deprecated; use "\b\{" or "\b[{]" instead in regex; marked by <-- HERE in m/\ <-- HERE b{lb}/ at (eval 30) line 1.
Invalid conversion in sprintf: "%.*2$" at (eval 33) line 1.
Use of bare << to mean <<"" is deprecated at (eval 93) line 1.
"\B{" is deprecated; use "\B\{" or "\B[{]" instead in regex; marked by <-- HERE in m/O\ <-- HERE B{wb}'/ at (eval 95) line 1.
Bareword found where operator expected at (eval 108) line 1, near "0xFFp"
	(Missing operator before p?)
Escape literal pattern white space under /x in regex; marked by <-- HERE in m/a … <-- HERE ‎‏

b/ at (eval 115) line 1.
Escape literal pattern white space under /x in regex; marked by <-- HERE in m/a …‎ <-- HERE ‏

b/ at (eval 115) line 1.
Escape literal pattern white space under /x in regex; marked by <-- HERE in m/a …‎‏ <-- HERE 

b/ at (eval 115) line 1.
Escape literal pattern white space under /x in regex; marked by <-- HERE in m/a …‎‏
 <-- HERE 
b/ at (eval 115) line 1.
Escape literal pattern white space under /x in regex; marked by <-- HERE in m/a …‎‏

 <-- HERE b/ at (eval 115) line 1.
Bareword found where operator expected at (eval 123) line 1, near "0o12"
	(Missing operator before o12?)
Illegal hexadecimal digit ' ' ignored at (eval 125) line 1.
Use of bare << to mean <<"" is deprecated at (eval 141) line 1.
Possible unintended interpolation of @APTURE in string at (eval 146) line 1.
Use of uninitialized value $x in regexp compilation at (eval 165) line 1.
Use of uninitialized value $^LAST_SUCCESSFUL_PATTERN in regexp compilation at (eval 169) line 1.
Use of my $_ is experimental at (eval 203) line 1.
t/02-constructs.t .. ok
t/03-hooks.t ....... ok
Use of ?PATTERN? without explicit operator is deprecated at (eval 11) line 1.
Useless use of split in void context at (eval 15) line 1.
Array @arr missing the @ in argument 1 of push() at (eval 16) line 1.
t/04-extra.t ....... ok
t/05-functions.t ... ok
t/06-alias.t ....... ok
All tests successful.
Files=7, Tests=162,  0 wallclock secs ( 0.04 usr  0.01 sys +  0.32 cusr  0.16 csys =  0.53 CPU)
Result: PASS

------------------------------
PREREQUISITES
------------------------------

Prerequisite modules loaded:

requires:

    Module              Need     Have    
    ------------------- -------- --------
    Config              0        5.018004
    locale              0        1.02    
    perl                5.006002 5.018004
    POSIX               0        1.32    

build_requires:

    Module              Need     Have    
    ------------------- -------- --------
    ExtUtils::MakeMaker 0        7.70    
    File::Spec          0        3.75    
    FindBin             0        1.54    
    Test::More          0        1.302206

configure_requires:

    Module              Need     Have    
    ------------------- -------- --------
    ExtUtils::MakeMaker 0        7.70    


------------------------------
ENVIRONMENT AND OTHER CONTEXT
------------------------------

Environment variables:

    LC_ALL = de_DE.ISO8859-1
    PATH = /usr/local/bin:/usr/bin:/bin:/usr/local/sbin:/usr/sbin:/sbin:/home/cpansand/bin/freebsd10.3:/home/cpansand/bin/sh:/home/cpansand/bin:/usr/games:/home/cpansand/devel:/home/eserte/src/srezic-misc/scripts
    PERL5LIB = 
    PERL5OPT = 
    PERL5_CPANPLUS_IS_RUNNING = 74598
    PERL5_CPAN_IS_RUNNING = 74598
    PERL5_CPAN_IS_RUNNING_IN_RECURSION = 57112,74598
    PERLDOC = -MPod::Perldoc::ToTextOverstrike
    PERL_BATCH = yes
    PERL_CANARY_STABILITY_NOPROMPT = 1
    PERL_CPAN_REPORTER_CONFIG = /var/tmp/cpansmoker-1023/2025012222/cpanreporter_000_config.ini
    PERL_EXTUTILS_AUTOINSTALL = --defaultdeps
    PERL_USE_UNSAFE_INC = 1
    SHELL = /usr/local/bin/zsh
    TERM = screen
    TMPDIR = /var/tmp/cpansmoker-1023/2025012222

Perl special variables (and OS-specific diagnostics, for MSWin32):

    $^X = /usr/perl5.18.4p/bin/perl
    $UID/$EUID = 1023 / 1023
    $GID = 1023 1023
    $EGID = 1023 1023

Perl module toolchain versions installed:

    Module              Have    
    ------------------- --------
    CPAN                2.37    
    CPAN::Meta          2.150010
    Cwd                 3.75    
    ExtUtils::CBuilder  0.280236
    ExtUtils::Command   7.70    
    ExtUtils::Install   2.22    
    ExtUtils::MakeMaker 7.70    
    ExtUtils::Manifest  1.75    
    ExtUtils::ParseXS   3.51    
    File::Spec          3.75    
    JSON                4.10    
    JSON::PP            4.16    
    Module::Build       0.4234  
    Module::Signature   0.89    
    Parse::CPAN::Meta   2.150010
    Test2               1.302206
    Test::Harness       3.50    
    Test::More          1.302206
    YAML                1.30    
    YAML::Syck          1.34    
    version             0.9933  


--

Summary of my perl5 (revision 5 version 18 subversion 4) configuration:
   
  Platform:
    osname=freebsd, osvers=10.1-release, archname=amd64-freebsd
    uname='freebsd cvrsnica-freebsd-101.herceg.de 10.1-release freebsd 10.1-release #0 r274401: tue nov 11 21:02:49 utc 2014 root@releng1.nyi.freebsd.org:usrobjusrsrcsysgeneric amd64 '
    config_args='-ds -e -Dprefix=/usr/perl5.18.4p'
    hint=recommended, useposix=true, d_sigaction=define
    useithreads=undef, usemultiplicity=undef
    useperlio=define, d_sfio=undef, uselargefiles=define, usesocks=undef
    use64bitint=define, use64bitall=define, uselongdouble=undef
    usemymalloc=n, bincompat5005=undef
  Compiler:
    cc='cc', ccflags ='-DHAS_FPSETMASK -DHAS_FLOATINGPOINT_H -fno-strict-aliasing -pipe -fstack-protector -I/usr/local/include',
    optimize='-O',
    cppflags='-DHAS_FPSETMASK -DHAS_FLOATINGPOINT_H -fno-strict-aliasing -pipe -fstack-protector -I/usr/local/include'
    ccversion='', gccversion='4.2.1 Compatible FreeBSD Clang 3.4.1 (tags/RELEASE_34/dot1-final 208032)', gccosandvers=''
    intsize=4, longsize=8, ptrsize=8, doublesize=8, byteorder=12345678
    d_longlong=define, longlongsize=8, d_longdbl=define, longdblsize=16
    ivtype='long', ivsize=8, nvtype='double', nvsize=8, Off_t='off_t', lseeksize=8
    alignbytes=8, prototype=define
  Linker and Libraries:
    ld='cc', ldflags ='-pthread -Wl,-E  -fstack-protector -L/usr/local/lib'
    libpth=/usr/lib /usr/local/lib
    libs=-lgdbm -lm -lcrypt -lutil -lc
    perllibs=-lm -lcrypt -lutil -lc
    libc=, so=so, useshrplib=false, libperl=libperl.a
    gnulibc_version=''
  Dynamic Linking:
    dlsrc=dl_dlopen.xs, dlext=so, d_dlsymun=undef, ccdlflags=' '
    cccdlflags='-DPIC -fPIC', lddlflags='-shared  -L/usr/local/lib -fstack-protector'


Characteristics of this binary (from libperl): 
  Compile-time options: HAS_TIMES PERLIO_LAYERS PERL_DONT_CREATE_GVSV
                        PERL_HASH_FUNC_ONE_AT_A_TIME_HARD PERL_MALLOC_WRAP
                        PERL_PRESERVE_IVUV PERL_SAWAMPERSAND USE_64_BIT_ALL
                        USE_64_BIT_INT USE_LARGE_FILES USE_LOCALE
                        USE_LOCALE_COLLATE USE_LOCALE_CTYPE
                        USE_LOCALE_NUMERIC USE_PERLIO USE_PERL_ATOF
  Built under freebsd
  Compiled at Apr  4 2015 13:03:15
  %ENV:
    PERL5LIB=""
    PERL5OPT=""
    PERL5_CPANPLUS_IS_RUNNING="74598"
    PERL5_CPAN_IS_RUNNING="74598"
    PERL5_CPAN_IS_RUNNING_IN_RECURSION="57112,74598"
    PERLDOC="-MPod::Perldoc::ToTextOverstrike"
    PERL_BATCH="yes"
    PERL_CANARY_STABILITY_NOPROMPT="1"
    PERL_CPAN_REPORTER_CONFIG="/var/tmp/cpansmoker-1023/2025012222/cpanreporter_000_config.ini"
    PERL_EXTUTILS_AUTOINSTALL="--defaultdeps"
    PERL_USE_UNSAFE_INC="1"
  @INC:
    /usr/perl5.18.4p/lib/site_perl/5.18.4/amd64-freebsd
    /usr/perl5.18.4p/lib/site_perl/5.18.4
    /usr/perl5.18.4p/lib/5.18.4/amd64-freebsd
    /usr/perl5.18.4p/lib/5.18.4
    .