Report for Class-Accessor-Installer-1.100880

Back
From: metabase:user:917c2b6a-77f3-11e5-af78-c9d573d1e3cf
Subject: PASS Class-Accessor-Installer-1.100880 v5.22.0 Mac OS X
Date: 2015-11-27T08:36:36Z

This distribution has been tested as part of the CPAN Testers
project, supporting the Perl programming language.  See
http://wiki.cpantesters.org/ for more information or email
questions to cpan-testers-discuss@perl.org


--
Dear Marcel Gruenauer,

This is a computer-generated report for Class-Accessor-Installer-1.100880
on perl 5.22.0, created by CPAN-Reporter-1.2015.

Thank you for uploading your work to CPAN.  Congratulations!
All tests were successful.

Sections of this report:

    * Tester comments
    * Program output
    * Prerequisites
    * Environment and other context

------------------------------
TESTER COMMENTS
------------------------------

Additional comments from tester:

this report is from an automated smoke testing program
and was not reviewed by a human for accuracy

------------------------------
PROGRAM OUTPUT
------------------------------

Output from '/usr/bin/make test':

PERL_DL_NONLAZY=1 "/Users/petr/perl5/perlbrew/perls/perl-5.22.0/bin/perl" "-MExtUtils::Command::MM" "-MTest::Harness" "-e" "undef *Test::Harness::Switches; test_harness(0, 'blib/lib', 'blib/arch')" t/*.t
t/00-compile.t ............... ok
# Testing with Perl 5.022000, /Users/petr/perl5/perlbrew/perls/perl-5.22.0/bin/perl
#     Carp version is 1.36
#     English version is 1.09
#     ExtUtils::MakeMaker version is 7.0401
#     File::Find version is 1.29
#     File::Temp version is 0.2304
#     Scalar::Util version is 1.41
#     Sub::Name version is 0.14
#     Test::More version is 1.001014
#     UNIVERSAL::require version is 0.18
#     parent version is 0.232
t/000-report-versions.t ...... ok
t/01_misc.t .................. ok
t/author-critic.t ............ skipped: these tests are for testing by the author
t/release-check-changes.t .... skipped: these tests are for release candidate testing
t/release-dist-manifest.t .... skipped: these tests are for release candidate testing
t/release-has-version.t ...... skipped: these tests are for release candidate testing
t/release-kwalitee.t ......... skipped: these tests are for release candidate testing
t/release-meta-yaml.t ........ skipped: these tests are for release candidate testing
t/release-minimum-version.t .. skipped: these tests are for release candidate testing
t/release-pod-coverage.t ..... skipped: these tests are for release candidate testing
t/release-pod-spell.t ........ skipped: these tests are for release candidate testing
t/release-pod-syntax.t ....... skipped: these tests are for release candidate testing
t/release-portability.t ...... skipped: these tests are for release candidate testing
t/release-synopsis.t ......... skipped: these tests are for release candidate testing
t/release-unused-vars.t ...... skipped: these tests are for release candidate testing
All tests successful.
Files=16, Tests=14,  0 wallclock secs ( 0.06 usr  0.04 sys +  0.49 cusr  0.17 csys =  0.76 CPU)
Result: PASS

------------------------------
PREREQUISITES
------------------------------

Prerequisite modules loaded:

requires:

    Module              Need Have    
    ------------------- ---- --------
    Carp                0    1.36    
    English             0    1.09    
    File::Find          0    1.29    
    File::Temp          0    0.2304  
    parent              0    0.232   
    Scalar::Util        0    1.41    
    Sub::Name           0    0.14    
    Test::More          0.88 1.001014
    UNIVERSAL::require  0    0.18    

configure_requires:

    Module              Need Have    
    ------------------- ---- --------
    ExtUtils::MakeMaker 6.11 7.04_01 


------------------------------
ENVIRONMENT AND OTHER CONTEXT
------------------------------

Environment variables:

    AUTOMATED_TESTING = 1
    LANG = cs_CZ.UTF-8
    PATH = /Users/petr/perl5/perlbrew/bin:/Users/petr/perl5/perlbrew/perls/perl-5.22.0/bin:/usr/local/bin:/usr/bin:/bin:/usr/sbin:/sbin
    PERL5LIB = /Users/petr/.cpan/build/UNIVERSAL-require-0.18-spNWIU/blib/arch:/Users/petr/.cpan/build/UNIVERSAL-require-0.18-spNWIU/blib/lib:/Users/petr/.cpan/build/Sub-Name-0.14-jHRKW8/blib/arch:/Users/petr/.cpan/build/Sub-Name-0.14-jHRKW8/blib/lib:/Users/petr/.cpan/build/Data-Miscellany-1.100850-VT31kE/blib/arch:/Users/petr/.cpan/build/Data-Miscellany-1.100850-VT31kE/blib/lib
    PERL5OPT = 
    PERL5_CPANPLUS_IS_RUNNING = 52372
    PERL5_CPAN_IS_RUNNING = 52372
    PERL5_CPAN_IS_RUNNING_IN_RECURSION = 364,52372
    PERLBREW_BASHRC_VERSION = 0.74
    PERLBREW_HOME = /Users/petr/.perlbrew
    PERLBREW_MANPATH = /Users/petr/perl5/perlbrew/perls/perl-5.22.0/man
    PERLBREW_PATH = /Users/petr/perl5/perlbrew/bin:/Users/petr/perl5/perlbrew/perls/perl-5.22.0/bin
    PERLBREW_PERL = perl-5.22.0
    PERLBREW_ROOT = /Users/petr/perl5/perlbrew
    PERLBREW_VERSION = 0.74
    PERL_CR_SMOKER_CURRENT = Test-Class-GetoptControl-1.100860
    PERL_EXTUTILS_AUTOINSTALL = --defaultdeps
    PERL_MM_USE_DEFAULT = 1
    SHELL = /bin/bash
    TERM = xterm-256color
    TMPDIR = /var/folders/x5/mbl5nhls3z779qkgqvdxmbqc0000gn/T/

Perl special variables (and OS-specific diagnostics, for MSWin32):

    $^X = /Users/petr/perl5/perlbrew/perls/perl-5.22.0/bin/perl
    $UID/$EUID = 501 / 501
    $GID = 20 20 701 12 61 79 80 81 98 33 100 204 395 398 399
    $EGID = 20 20 701 12 61 79 80 81 98 33 100 204 395 398 399

Perl module toolchain versions installed:

    Module              Have    
    ------------------- --------
    CPAN                2.11    
    CPAN::Meta          2.150001
    Cwd                 3.56    
    ExtUtils::CBuilder  0.280221
    ExtUtils::Command   1.20    
    ExtUtils::Install   2.04    
    ExtUtils::MakeMaker 7.04_01 
    ExtUtils::Manifest  1.70    
    ExtUtils::ParseXS   3.28    
    File::Spec          3.56    
    JSON                2.90    
    JSON::PP            2.27300 
    Module::Build       0.4214  
    Module::Signature   n/a     
    Parse::CPAN::Meta   1.4414  
    Test::Harness       3.35    
    Test::More          1.001014
    YAML                1.15    
    YAML::Syck          1.29    
    version             0.9909  


--

Summary of my perl5 (revision 5 version 22 subversion 0) configuration:
   
  Platform:
    osname=darwin, osvers=15.0.0, archname=darwin-2level
    uname='darwin petrs-macbook-pro.local 15.0.0 darwin kernel version 15.0.0: sat sep 19 15:53:46 pdt 2015; root:xnu-3247.10.11~1release_x86_64 x86_64 '
    config_args='-de -Dprefix=/Users/petr/perl5/perlbrew/perls/perl-5.22.0 -Aeval:scriptdir=/Users/petr/perl5/perlbrew/perls/perl-5.22.0/bin'
    hint=recommended, useposix=true, d_sigaction=define
    useithreads=undef, usemultiplicity=undef
    use64bitint=define, use64bitall=define, uselongdouble=undef
    usemymalloc=n, bincompat5005=undef
  Compiler:
    cc='cc', ccflags ='-fno-common -DPERL_DARWIN -fno-strict-aliasing -pipe -fstack-protector-strong',
    optimize='-O3',
    cppflags='-fno-common -DPERL_DARWIN -fno-strict-aliasing -pipe -fstack-protector-strong'
    ccversion='', gccversion='4.2.1 Compatible Apple LLVM 7.0.0 (clang-700.1.76)', gccosandvers=''
    intsize=4, longsize=8, ptrsize=8, doublesize=8, byteorder=12345678, doublekind=3
    d_longlong=define, longlongsize=8, d_longdbl=define, longdblsize=16, longdblkind=3
    ivtype='long', ivsize=8, nvtype='double', nvsize=8, Off_t='off_t', lseeksize=8
    alignbytes=8, prototype=define
  Linker and Libraries:
    ld='env MACOSX_DEPLOYMENT_TARGET=10.3 cc', ldflags =' -fstack-protector-strong'
    libpth=/Library/Developer/CommandLineTools/usr/bin/../lib/clang/7.0.0/lib /Library/Developer/CommandLineTools/usr/lib /usr/lib
    libs=-lpthread -ldbm -ldl -lm -lutil -lc
    perllibs=-lpthread -ldl -lm -lutil -lc
    libc=, so=dylib, useshrplib=false, libperl=libperl.a
    gnulibc_version=''
  Dynamic Linking:
    dlsrc=dl_dlopen.xs, dlext=bundle, d_dlsymun=undef, ccdlflags=' '
    cccdlflags=' ', lddlflags=' -bundle -undefined dynamic_lookup -fstack-protector-strong'


Characteristics of this binary (from libperl): 
  Compile-time options: HAS_TIMES PERLIO_LAYERS PERL_DONT_CREATE_GVSV
                        PERL_HASH_FUNC_ONE_AT_A_TIME_HARD PERL_MALLOC_WRAP
                        PERL_NEW_COPY_ON_WRITE PERL_PRESERVE_IVUV
                        USE_64_BIT_ALL USE_64_BIT_INT USE_LARGE_FILES
                        USE_LOCALE USE_LOCALE_COLLATE USE_LOCALE_CTYPE
                        USE_LOCALE_NUMERIC USE_LOCALE_TIME USE_PERLIO
                        USE_PERL_ATOF
  Locally applied patches:
	Devel::PatchPerl 1.38
  Built under darwin
  Compiled at Nov 26 2015 13:23:50
  %ENV:
    PERL5LIB="/Users/petr/.cpan/build/UNIVERSAL-require-0.18-spNWIU/blib/arch:/Users/petr/.cpan/build/UNIVERSAL-require-0.18-spNWIU/blib/lib:/Users/petr/.cpan/build/Sub-Name-0.14-jHRKW8/blib/arch:/Users/petr/.cpan/build/Sub-Name-0.14-jHRKW8/blib/lib:/Users/petr/.cpan/build/Data-Miscellany-1.100850-VT31kE/blib/arch:/Users/petr/.cpan/build/Data-Miscellany-1.100850-VT31kE/blib/lib"
    PERL5OPT=""
    PERL5_CPANPLUS_IS_RUNNING="52372"
    PERL5_CPAN_IS_RUNNING="52372"
    PERL5_CPAN_IS_RUNNING_IN_RECURSION="364,52372"
    PERLBREW_BASHRC_VERSION="0.74"
    PERLBREW_HOME="/Users/petr/.perlbrew"
    PERLBREW_MANPATH="/Users/petr/perl5/perlbrew/perls/perl-5.22.0/man"
    PERLBREW_PATH="/Users/petr/perl5/perlbrew/bin:/Users/petr/perl5/perlbrew/perls/perl-5.22.0/bin"
    PERLBREW_PERL="perl-5.22.0"
    PERLBREW_ROOT="/Users/petr/perl5/perlbrew"
    PERLBREW_VERSION="0.74"
    PERL_CR_SMOKER_CURRENT="Test-Class-GetoptControl-1.100860"
    PERL_EXTUTILS_AUTOINSTALL="--defaultdeps"
    PERL_MM_USE_DEFAULT="1"
  @INC:
    /Users/petr/.cpan/build/UNIVERSAL-require-0.18-spNWIU/blib/arch
    /Users/petr/.cpan/build/UNIVERSAL-require-0.18-spNWIU/blib/lib
    /Users/petr/.cpan/build/Sub-Name-0.14-jHRKW8/blib/arch
    /Users/petr/.cpan/build/Sub-Name-0.14-jHRKW8/blib/lib
    /Users/petr/.cpan/build/Data-Miscellany-1.100850-VT31kE/blib/arch
    /Users/petr/.cpan/build/Data-Miscellany-1.100850-VT31kE/blib/lib
    /Users/petr/perl5/perlbrew/perls/perl-5.22.0/lib/site_perl/5.22.0/darwin-2level
    /Users/petr/perl5/perlbrew/perls/perl-5.22.0/lib/site_perl/5.22.0
    /Users/petr/perl5/perlbrew/perls/perl-5.22.0/lib/5.22.0/darwin-2level
    /Users/petr/perl5/perlbrew/perls/perl-5.22.0/lib/5.22.0
    .