Business-cXML vv0.6.6 Perl 5 v5.18.4 x86_64-linux-thread-multi

Status
Pass
From
Nigel Horne
Dist
Business-cXML vv0.6.6
Platform
Perl 5 v5.18.4 x86_64-linux-thread-multi
Date
2018-02-15 15:57:49
ID
f88f5dba-1268-11e8-af2b-acaf1d79aee4
This distribution has been tested as part of the CPAN Testers
project, supporting the Perl programming language.  See
http://wiki.cpantesters.org/ for more information or email
questions to cpan-testers-discuss@perl.org


--
Dear Stephane Lavergne,

This is a computer-generated report for Business-cXML-v0.6.6
on perl 5.18.4, created by CPAN-Reporter-1.2018.

Thank you for uploading your work to CPAN.  Congratulations!
All tests were successful.

Sections of this report:

    * Tester comments
    * Program output
    * Prerequisites
    * Environment and other context

------------------------------
TESTER COMMENTS
------------------------------

Additional comments from tester:

this report is from an automated smoke testing program
and was not reviewed by a human for accuracy

------------------------------
PROGRAM OUTPUT
------------------------------

Output from '/usr/bin/make test':

PERL_DL_NONLAZY=1 "/home/njh/perl5/perlbrew/perls/perl-5.18.4/bin/perl" "-MExtUtils::Command::MM" "-MTest::Harness" "-e" "undef *Test::Harness::Switches; test_harness(0, 'blib/lib', 'blib/arch')" t/*.t
# Testing Business::cXML v0.6.6, Perl 5.018004, /home/njh/perl5/perlbrew/perls/perl-5.18.4/bin/perl
t/00-load.t ................ ok
t/api-incoming.t ........... ok
t/api-main.t ............... ok
t/api-message.t ............ ok
t/api-outgoing.t ........... ok
t/cxml-amount.t ............ ok
t/cxml-address.t ........... ok
t/cxml-contact.t ........... ok
t/cxml-credential.t ........ ok
t/cxml-description.t ....... ok
t/internal-object.t ........ ok
t/cxml-shipto.t ............ ok
t/manifest.t ............... skipped: Author tests not required for installation
t/pod-coverage.t ........... skipped: Author tests not required for installation
t/pod.t .................... skipped: Author tests not required for installation
t/internal-transmission.t .. ok
All tests successful.
Files=16, Tests=162,  3 wallclock secs ( 0.10 usr  0.01 sys +  3.98 cusr  0.38 csys =  4.47 CPU)
Result: PASS

------------------------------
PREREQUISITES
------------------------------

Prerequisite modules loaded:

requires:

    Module                      Need  Have    
    --------------------------- ----- --------
    Carp                        1.20  1.29    
    Clone                       0.31  0.38    
    DateTime                    0.75  1.18    
    HTML::Entities              3.69  3.69    
    LWP::UserAgent              6.0   6.31    
    MIME::Base64                3.13  3.13    
    perl                        5.014 5.018004
    Scalar::Util                1.23  1.41    
    Sys::Hostname               1.16  1.17    
    XML::LibXML                 2.0   2.0129  
    XML::LibXML::Ferry          0     v0.8.5  

build_requires:

    Module                      Need  Have    
    --------------------------- ----- --------
    File::Slurp                 0     9999.19 
    Pod::Coverage::CountParents 0     0       
    Test::Deep                  0     1.127   
    Test::MockModule            0     0.12    
    Test::More                  0     1.302086
    Test::Trap                  0     0.3.0   

configure_requires:

    Module                      Need  Have    
    --------------------------- ----- --------
    ExtUtils::MakeMaker         0     7.18    


------------------------------
ENVIRONMENT AND OTHER CONTEXT
------------------------------

Environment variables:

    AUTOMATED_TESTING = 1
    HARNESS_OPTIONS = j2
    LANG = en_US.UTF-8
    PATH = /home/njh/perl5/perlbrew/bin:/home/njh/perl5/perlbrew/perls/perl-5.18.4/bin:src/njh/smoker/bin:/usr/bin:/bin
    PERL5LIB = /home/njh/.cpan/build/XML-LibXML-Ferry-v0.8.5-6/blib/arch:/home/njh/.cpan/build/XML-LibXML-Ferry-v0.8.5-6/blib/lib:/home/njh/.cpan/build/Sub-Override-0.09-35/blib/arch:/home/njh/.cpan/build/Sub-Override-0.09-35/blib/lib
    PERL5OPT = 
    PERL5_CPANPLUS_IS_RUNNING = 25392
    PERL5_CPAN_IS_RUNNING = 25392
    PERLBREW_BASHRC_VERSION = 0.75
    PERLBREW_HOME = /home/njh/.perlbrew
    PERLBREW_MANPATH = /home/njh/perl5/perlbrew/perls/perl-5.18.4/man
    PERLBREW_PATH = /home/njh/perl5/perlbrew/bin:/home/njh/perl5/perlbrew/perls/perl-5.18.4/bin
    PERLBREW_PERL = perl-5.18.4
    PERLBREW_ROOT = /home/njh/perl5/perlbrew
    PERLBREW_VERSION = 0.75
    SHELL = /bin/sh

Perl special variables (and OS-specific diagnostics, for MSWin32):

    $^X = /home/njh/perl5/perlbrew/perls/perl-5.18.4/bin/perl
    $UID/$EUID = 1000 / 1000
    $GID = 1000 4 24 25 29 30 44 46 103 108 115 123 1000
    $EGID = 1000 4 24 25 29 30 44 46 103 108 115 123 1000

Perl module toolchain versions installed:

    Module              Have    
    ------------------- --------
    CPAN                2.16    
    CPAN::Meta          2.150005
    Cwd                 3.40    
    ExtUtils::CBuilder  0.280210
    ExtUtils::Command   7.18    
    ExtUtils::Install   1.59    
    ExtUtils::MakeMaker 7.18    
    ExtUtils::Manifest  1.70    
    ExtUtils::ParseXS   3.24    
    File::Spec          3.40    
    JSON                2.90    
    JSON::PP            2.27400 
    Module::Build       0.4210  
    Module::Signature   n/a     
    Parse::CPAN::Meta   1.4422  
    Test::Harness       3.35    
    Test::More          1.302086
    YAML                1.23    
    YAML::Syck          1.30    
    version             0.9902  


--

Summary of my perl5 (revision 5 version 18 subversion 4) configuration:
   
  Platform:
    osname=linux, osvers=3.16-3-amd64, archname=x86_64-linux-thread-multi
    uname='linux amelia 3.16-3-amd64 #1 smp debian 3.16.5-1 (2014-10-10) x86_64 gnulinux '
    config_args='-de -Dprefix=/home/njh/perl5/perlbrew/perls/perl-5.18.4 -Duseithreads -Dusemultiplicity -Dusedevel -Accflags= -Aeval:scriptdir=/home/njh/perl5/perlbrew/perls/perl-5.18.4/bin'
    hint=recommended, useposix=true, d_sigaction=define
    useithreads=define, usemultiplicity=define
    useperlio=define, d_sfio=undef, uselargefiles=define, usesocks=undef
    use64bitint=define, use64bitall=define, uselongdouble=undef
    usemymalloc=n, bincompat5005=undef
  Compiler:
    cc='cc', ccflags ='-D_REENTRANT -D_GNU_SOURCE -fno-strict-aliasing -pipe -fstack-protector -I/usr/local/include -D_LARGEFILE_SOURCE -D_FILE_OFFSET_BITS=64',
    optimize='-O2',
    cppflags='-D_REENTRANT -D_GNU_SOURCE -fno-strict-aliasing -pipe -fstack-protector -I/usr/local/include'
    ccversion='', gccversion='4.9.2', gccosandvers=''
    intsize=4, longsize=8, ptrsize=8, doublesize=8, byteorder=12345678
    d_longlong=define, longlongsize=8, d_longdbl=define, longdblsize=16
    ivtype='long', ivsize=8, nvtype='double', nvsize=8, Off_t='off_t', lseeksize=8
    alignbytes=8, prototype=define
  Linker and Libraries:
    ld='cc', ldflags =' -fstack-protector -L/usr/local/lib'
    libpth=/usr/local/lib /lib/x86_64-linux-gnu /lib/../lib /usr/lib/x86_64-linux-gnu /usr/lib/../lib /lib /usr/lib
    libs=-lnsl -lgdbm -ldb -ldl -lm -lcrypt -lutil -lpthread -lc -lgdbm_compat
    perllibs=-lnsl -ldl -lm -lcrypt -lutil -lpthread -lc
    libc=libc-2.19.so, so=so, useshrplib=false, libperl=libperl.a
    gnulibc_version='2.19'
  Dynamic Linking:
    dlsrc=dl_dlopen.xs, dlext=so, d_dlsymun=undef, ccdlflags='-Wl,-E'
    cccdlflags='-fPIC', lddlflags='-shared -O2 -L/usr/local/lib -fstack-protector'


Characteristics of this binary (from libperl): 
  Compile-time options: HAS_TIMES MULTIPLICITY PERLIO_LAYERS
                        PERL_DONT_CREATE_GVSV
                        PERL_HASH_FUNC_ONE_AT_A_TIME_HARD
                        PERL_IMPLICIT_CONTEXT PERL_MALLOC_WRAP
                        PERL_PRESERVE_IVUV PERL_SAWAMPERSAND PERL_USE_DEVEL
                        USE_64_BIT_ALL USE_64_BIT_INT USE_ITHREADS
                        USE_LARGE_FILES USE_LOCALE USE_LOCALE_COLLATE
                        USE_LOCALE_CTYPE USE_LOCALE_NUMERIC USE_PERLIO
                        USE_PERL_ATOF USE_REENTRANT_API
  Built under linux
  Compiled at Nov 15 2014 01:07:51
  %ENV:
    PERL5LIB="/home/njh/.cpan/build/XML-LibXML-Ferry-v0.8.5-6/blib/arch:/home/njh/.cpan/build/XML-LibXML-Ferry-v0.8.5-6/blib/lib:/home/njh/.cpan/build/Sub-Override-0.09-35/blib/arch:/home/njh/.cpan/build/Sub-Override-0.09-35/blib/lib"
    PERL5OPT=""
    PERL5_CPANPLUS_IS_RUNNING="25392"
    PERL5_CPAN_IS_RUNNING="25392"
    PERLBREW_BASHRC_VERSION="0.75"
    PERLBREW_HOME="/home/njh/.perlbrew"
    PERLBREW_MANPATH="/home/njh/perl5/perlbrew/perls/perl-5.18.4/man"
    PERLBREW_PATH="/home/njh/perl5/perlbrew/bin:/home/njh/perl5/perlbrew/perls/perl-5.18.4/bin"
    PERLBREW_PERL="perl-5.18.4"
    PERLBREW_ROOT="/home/njh/perl5/perlbrew"
    PERLBREW_VERSION="0.75"
  @INC:
    /home/njh/.cpan/build/XML-LibXML-Ferry-v0.8.5-6/blib/arch
    /home/njh/.cpan/build/XML-LibXML-Ferry-v0.8.5-6/blib/lib
    /home/njh/.cpan/build/Sub-Override-0.09-35/blib/arch
    /home/njh/.cpan/build/Sub-Override-0.09-35/blib/lib
    /home/njh/perl5/perlbrew/perls/perl-5.18.4/lib/site_perl/5.18.4/x86_64-linux-thread-multi
    /home/njh/perl5/perlbrew/perls/perl-5.18.4/lib/site_perl/5.18.4
    /home/njh/perl5/perlbrew/perls/perl-5.18.4/lib/5.18.4/x86_64-linux-thread-multi
    /home/njh/perl5/perlbrew/perls/perl-5.18.4/lib/5.18.4
    .