Net-DNS v1.50 Perl 5 v5.41.12 MSWin32-x64-multi-thread

Status
Pass
From
twata
Dist
Net-DNS v1.50
Platform
Perl 5 v5.41.12 MSWin32-x64-multi-thread
Date
2025-05-18 11:21:32
ID
f88a8432-6e6f-1014-8029-ee8157c3d172
This distribution has been tested as part of the CPAN Testers
project, supporting the Perl programming language.  See
http://wiki.cpantesters.org/ for more information or email
questions to cpan-testers-discuss@perl.org


--
Dear NLnet Labs,

This is a computer-generated report for Net-DNS-1.50
on perl 5.41.12, created by CPAN-Reporter-1.2020.

Thank you for uploading your work to CPAN.  Congratulations!
All tests were successful.

Sections of this report:

    * Tester comments
    * Program output
    * Prerequisites
    * Environment and other context

------------------------------
TESTER COMMENTS
------------------------------

Additional comments from tester:

none provided

------------------------------
PROGRAM OUTPUT
------------------------------

Output from '"C:\Program Files\Microsoft Visual Studio\2022\Community\VC\Tools\MSVC\14.33.31629\bin\Hostx64\x64\nmake.exe" test':


Microsoft (R) Program Maintenance Utility Version 14.33.31630.0
Copyright (C) Microsoft Corporation.  All rights reserved.

	"C:\perl64\5.41.12\bin\perl.exe" "-It" "-MExtUtils::Command::MM" "-MTest::Harness" "-e" "undef *Test::Harness::Switches; test_harness(0, 'blib\lib', 'blib\arch')" t\*.t
t\00-install.t ............. ok
The system cannot find the path specified.
# 
# These tests were run using:
# 	Net::DNS                   1.50
# 	Carp                       1.54
# 	Config                     5.041012
# 	Digest::HMAC               1.05
# 	Digest::MD5                2.59
# 	Digest::SHA                6.04
# 	Encode                     3.21
# 	Exporter                   5.79
# 	ExtUtils::MakeMaker        7.74
# 	File::Find                 1.44
# 	File::Spec                 3.94
# 	Getopt::Long               2.58
# 	IO::File                   1.55
# 	IO::Select                 1.55
# 	IO::Socket                 1.55
# 	IO::Socket::IP             0.43
# 	MIME::Base64               3.16_01
# 	PerlIO                     1.12
# 	Scalar::Util               1.6801
# 	Socket                     2.038
# 	Test::Builder              1.302210
# 	Test::More                 1.302210
# 	Time::Local                1.35
# 	Win32::API                 0.84
# 	Win32::IPHelper            0.08
# 	Win32::TieRegistry         0.30
# 	base                       2.27
# 	constant                   1.33
# 	integer                    1.01
# 	overload                   1.40
# 	strict                     1.13
# 	warnings                   1.74
t\00-load.t ................ ok
t\00-pod.t ................. ok
The system cannot find the path specified.
t\01-resolver-config.t ..... ok
The system cannot find the path specified.
t\01-resolver-env.t ........ ok
The system cannot find the path specified.
t\01-resolver-file.t ....... ok
The system cannot find the path specified.
t\01-resolver-flags.t ...... ok
The system cannot find the path specified.
t\01-resolver-opt.t ........ ok
The system cannot find the path specified.
t\01-resolver.t ............ ok
t\02-domain.t .............. ok
t\02-domainname.t .......... ok
t\02-IDN.t ................. skipped: Net::LibIDN2 not installed
t\02-mailbox.t ............. ok
t\02-text.t ................ ok
t\03-header.t .............. ok
t\03-parameters.t .......... ok
t\03-question.t ............ ok
t\03-rr.t .................. ok
The system cannot find the path specified.
t\04-packet-truncate.t ..... ok
t\04-packet.t .............. ok
The system cannot find the path specified.
t\05-A.t ................... ok
The system cannot find the path specified.
t\05-AAAA.t ................ ok
The system cannot find the path specified.
t\05-AFSDB.t ............... ok
The system cannot find the path specified.
t\05-AMTRELAY.t ............ ok
The system cannot find the path specified.
t\05-APL.t ................. ok
The system cannot find the path specified.
t\05-CAA.t ................. ok
The system cannot find the path specified.
t\05-CDNSKEY.t ............. ok
The system cannot find the path specified.
t\05-CDS.t ................. ok
The system cannot find the path specified.
t\05-CERT.t ................ ok
The system cannot find the path specified.
t\05-CNAME.t ............... ok
The system cannot find the path specified.
t\05-CSYNC.t ............... ok
The system cannot find the path specified.
t\05-DHCID.t ............... ok
The system cannot find the path specified.
t\05-DNAME.t ............... ok
The system cannot find the path specified.
t\05-DNSKEY.t .............. ok
The system cannot find the path specified.
t\05-DS.t .................. ok
The system cannot find the path specified.
t\05-DSYNC.t ............... ok
The system cannot find the path specified.
t\05-EUI48.t ............... ok
The system cannot find the path specified.
t\05-EUI64.t ............... ok
The system cannot find the path specified.
t\05-HINFO.t ............... ok
The system cannot find the path specified.
t\05-HIP.t ................. ok
The system cannot find the path specified.
t\05-HTTPS.t ............... ok
The system cannot find the path specified.
t\05-IPSECKEY.t ............ ok
The system cannot find the path specified.
t\05-ISDN.t ................ ok
The system cannot find the path specified.
t\05-KEY.t ................. ok
The system cannot find the path specified.
t\05-KX.t .................. ok
The system cannot find the path specified.
t\05-L32.t ................. ok
The system cannot find the path specified.
t\05-L64.t ................. ok
The system cannot find the path specified.
t\05-LOC.t ................. ok
The system cannot find the path specified.
t\05-LP.t .................. ok
The system cannot find the path specified.
t\05-MINFO.t ............... ok
The system cannot find the path specified.
t\05-MX.t .................. ok
The system cannot find the path specified.
t\05-NAPTR.t ............... ok
The system cannot find the path specified.
t\05-NID.t ................. ok
The system cannot find the path specified.
t\05-NS.t .................. ok
The system cannot find the path specified.
t\05-NSEC.t ................ ok
The system cannot find the path specified.
t\05-NSEC3.t ............... ok
The system cannot find the path specified.
t\05-NSEC3PARAM.t .......... ok
The system cannot find the path specified.
t\05-NULL.t ................ ok
The system cannot find the path specified.
t\05-OPENPGPKEY.t .......... ok
The system cannot find the path specified.
t\05-OPT.t ................. ok
The system cannot find the path specified.
t\05-PTR.t ................. ok
The system cannot find the path specified.
t\05-PX.t .................. ok
The system cannot find the path specified.
t\05-RP.t .................. ok
The system cannot find the path specified.
t\05-RRSIG.t ............... ok
The system cannot find the path specified.
t\05-RT.t .................. ok
The system cannot find the path specified.
t\05-SIG.t ................. ok
The system cannot find the path specified.
t\05-SMIMEA.t .............. ok
The system cannot find the path specified.
t\05-SOA.t ................. ok
The system cannot find the path specified.
t\05-SPF.t ................. ok
The system cannot find the path specified.
t\05-SRV.t ................. ok
The system cannot find the path specified.
t\05-SSHFP.t ............... ok
The system cannot find the path specified.
t\05-SVCB.t ................ ok
The system cannot find the path specified.
t\05-TKEY.t ................ ok
The system cannot find the path specified.
t\05-TLSA.t ................ ok
The system cannot find the path specified.
t\05-TSIG.t ................ ok
The system cannot find the path specified.
t\05-TXT.t ................. ok
The system cannot find the path specified.
t\05-URI.t ................. ok
The system cannot find the path specified.
t\05-X25.t ................. ok
The system cannot find the path specified.
t\05-ZONEMD.t .............. ok
The system cannot find the path specified.
t\06-update-unique-push.t .. ok
The system cannot find the path specified.
t\06-update.t .............. ok
The system cannot find the path specified.
t\07-rrsort.t .............. ok
t\07-zonefile.t ............ ok
The system cannot find the path specified.
t\08-IPv4.t ................ ok
The system cannot find the path specified.
t\08-IPv6.t ................ skipped: Cannot reach global root: query timed out at t\08-IPv6.t line 50.
The system cannot find the path specified.
t\08-recurse.t ............. ok
The system cannot find the path specified.
t\21-NSEC-typelist.t ....... ok
The system cannot find the path specified.
t\22-NSEC-match.t .......... ok
The system cannot find the path specified.
t\23-NSEC-covered.t ........ ok
The system cannot find the path specified.
t\24-NSEC-encloser.t ....... ok
The system cannot find the path specified.
t\31-NSEC3-base32.t ........ ok
The system cannot find the path specified.
t\32-NSEC3-typelist.t ...... ok
The system cannot find the path specified.
t\33-NSEC3-hash.t .......... ok
The system cannot find the path specified.
t\34-NSEC3-flags.t ......... ok
The system cannot find the path specified.
t\36-NSEC3-covered.t ....... ok
The system cannot find the path specified.
t\37-NSEC3-encloser.t ...... ok
The system cannot find the path specified.
t\41-DNSKEY-keytag.t ....... ok
The system cannot find the path specified.
t\42-DNSKEY-flags.t ........ ok
The system cannot find the path specified.
t\43-DNSKEY-keylength.t .... ok
The system cannot find the path specified.
t\51-DS-SHA1.t ............. ok
The system cannot find the path specified.
t\52-DS-SHA256.t ........... ok
The system cannot find the path specified.
t\54-DS-SHA384.t ........... ok
The system cannot find the path specified.
t\71-TSIG-create.t ......... ok
The system cannot find the path specified.
t\72-TSIG-verify.t ......... ok
# Cleaning
t\99-cleanup.t ............. ok
All tests successful.
Files=105, Tests=3339, 126 wallclock secs ( 0.95 usr +  0.31 sys =  1.27 CPU)
Result: PASS

------------------------------
PREREQUISITES
------------------------------

Prerequisite modules loaded:

requires:

    Module               Need     Have    
    -------------------- -------- --------
    base                 2.13     2.27    
    Carp                 1.1      1.54    
    constant             1.17     1.33    
    Digest::HMAC         1.03     1.05    
    Digest::MD5          2.37     2.59    
    Digest::SHA          5.23     6.04    
    Encode               2.26     3.21    
    Exporter             5.63     5.79    
    File::Spec           3.29     3.94    
    integer              1        1.01    
    IO::File             1.14     1.55    
    IO::Select           1.17     1.55    
    IO::Socket           1.3      1.55    
    IO::Socket::IP       0.38     0.43    
    MIME::Base64         3.07     3.16_01 
    overload             1.06     1.40    
    perl                 5.008009 5.041012
    PerlIO               1.05     1.12    
    Scalar::Util         1.19     1.68_01 
    Socket               1.81     2.038   
    strict               1.03     1.13    
    Time::Local          1.19     1.35    
    warnings             1.0501   1.74    
    Win32::API           0.55     0.84    
    Win32::IPHelper      0.07     0.08    
    Win32::TieRegistry   0.24     0.30    

build_requires:

    Module               Need     Have    
    -------------------- -------- --------
    ExtUtils::MakeMaker  0        7.74    
    File::Find           1.13     1.44    
    File::Spec           3.29     3.94    
    IO::File             1.14     1.55    
    Test::Builder        0.8      1.302210
    Test::More           0.8      1.302210

configure_requires:

    Module               Need     Have    
    -------------------- -------- --------
    Config               0        5.041012
    ExtUtils::MakeMaker  6.48     7.74    
    Getopt::Long         2.43     2.58    
    IO::File             1.14     1.55    
    IO::Socket::IP       0.38     0.43    

opt_requires:

    Module               Need     Have    
    -------------------- -------- --------
  ! Digest::BubbleBabble 0.02     n/a     
  ! Net::LibIDN2         1        n/a     


------------------------------
ENVIRONMENT AND OTHER CONTEXT
------------------------------

Environment variables:

    COMSPEC = C:\WINDOWS\system32\cmd.exe
    INCLUDE = C:\Program Files\Microsoft Visual Studio\2022\Community\VC\Tools\MSVC\14.33.31629\include;C:\Program Files\Microsoft Visual Studio\2022\Community\VC\Tools\MSVC\14.33.31629\ATLMFC\include;C:\Program Files\Microsoft Visual Studio\2022\Community\VC\Auxiliary\VS\include;C:\Program Files (x86)\Windows Kits\10\include\10.0.19041.0\ucrt;C:\Program Files (x86)\Windows Kits\10\\include\10.0.19041.0\\um;C:\Program Files (x86)\Windows Kits\10\\include\10.0.19041.0\\shared;C:\Program Files (x86)\Windows Kits\10\\include\10.0.19041.0\\winrt;C:\Program Files (x86)\Windows Kits\10\\include\10.0.19041.0\\cppwinrt;C:\ext\include;C:\perl64\local\include
    LC_ALL = C
    LIB = C:\Program Files\Microsoft Visual Studio\2022\Community\VC\Tools\MSVC\14.33.31629\ATLMFC\lib\x64;C:\Program Files\Microsoft Visual Studio\2022\Community\VC\Tools\MSVC\14.33.31629\lib\x64;C:\Program Files (x86)\Windows Kits\10\lib\10.0.19041.0\ucrt\x64;C:\Program Files (x86)\Windows Kits\10\\lib\10.0.19041.0\\um\x64;C:\ext\lib
    NONINTERACTIVE_TESTING = 1
    NUMBER_OF_PROCESSORS = 4
    PATH = C:\home\oat54112\perl5\bin;C:\patch-2.5.9-7-bin\bin;C:\perl64\5.41.12\bin;C:\build-openssl\bin;C:\ext\bin;C:\Program Files\Microsoft Visual Studio\2022\Community\VC\Tools\MSVC\14.33.31629\bin\HostX64\x64;C:\Program Files\Microsoft Visual Studio\2022\Community\Common7\IDE\VC\VCPackages;C:\Program Files\Microsoft Visual Studio\2022\Community\Common7\IDE\CommonExtensions\Microsoft\TestWindow;C:\Program Files\Microsoft Visual Studio\2022\Community\Common7\IDE\CommonExtensions\Microsoft\TeamFoundation\Team Explorer;C:\Program Files\Microsoft Visual Studio\2022\Community\MSBuild\Current\bin\Roslyn;C:\Program Files\Microsoft Visual Studio\2022\Community\Team Tools\Performance Tools\x64;C:\Program Files\Microsoft Visual Studio\2022\Community\Team Tools\Performance Tools;C:\Program Files (x86)\Windows Kits\10\bin\10.0.19041.0\\x64;C:\Program Files (x86)\Windows Kits\10\bin\\x64;C:\Program Files\Microsoft Visual Studio\2022\Community\\MSBuild\Current\Bin\amd64;C:\Windows\Microsoft.NET\Framework64\v4.0.30319;C:\Program Files\Microsoft Visual Studio\2022\Community\Common7\IDE\;C:\Program Files\Microsoft Visual Studio\2022\Community\Common7\Tools\;C:\Program Files (x86)\Windows Resource Kits\Tools\;C:\WINDOWS\system32;C:\WINDOWS;C:\WINDOWS\System32\Wbem;C:\WINDOWS\System32\WindowsPowerShell\v1.0\;C:\Program Files\Microsoft Visual Studio\2022\Community\Common7\IDE\CommonExtensions\Microsoft\CMake\CMake\bin;C:\Program Files\Microsoft Visual Studio\2022\Community\Common7\IDE\CommonExtensions\Microsoft\CMake\Ninja;C:\Program Files\Microsoft Visual Studio\2022\Community\Common7\IDE\VC\Linux\bin\ConnectionManagerExe
    PERL5LIB = C:\home\oat54112\perl5\lib\perl5
    PERL5OPT = 
    PERL5_CPANPLUS_IS_RUNNING = 15484
    PERL5_CPAN_IS_RUNNING = 15484
    PERL_LOCAL_LIB_ROOT = C:\home\oat54112\perl5
    PERL_MB_OPT = --install_base "C:\\home\\oat54112\\perl5"
    PERL_MM_OPT = INSTALL_BASE=C:\\home\\oat54112\\perl5
    PERL_MM_USE_DEFAULT = 1
    PERL_USE_UNSAFE_INC = 1
    PROCESSOR_IDENTIFIER = Intel64 Family 6 Model 58 Stepping 9, GenuineIntel
    TEMP = C:\Users\USER\AppData\Local\Temp
    TERM = dumb

Perl special variables (and OS-specific diagnostics, for MSWin32):

    $^X = C:\perl64\5.41.12\bin\perl.exe
    $UID/$EUID = 0 / 0
    $GID = 0
    $EGID = 0
    Win32::GetOSName = Win8.1
    Win32::GetOSVersion = , 6, 3, 9600, 2, 0, 0, 256, 1
    Win32::FsType = NTFS
    Win32::IsAdminUser = 0

Perl module toolchain versions installed:

    Module              Have    
    ------------------- --------
    CPAN                2.38    
    CPAN::Meta          2.150010
    Cwd                 3.94    
    ExtUtils::CBuilder  0.280240
    ExtUtils::Command   7.74    
    ExtUtils::Install   2.22    
    ExtUtils::MakeMaker 7.74    
    ExtUtils::Manifest  1.75    
    ExtUtils::ParseXS   3.57    
    File::Spec          3.94    
    JSON                4.10    
    JSON::PP            4.16    
    Module::Build       0.4234  
    Module::Signature   n/a     
    Parse::CPAN::Meta   2.150010
    Test2               1.302210
    Test::Harness       3.50    
    Test::More          1.302210
    YAML                n/a     
    YAML::Syck          n/a     
    version             0.9933  


--

Summary of my perl5 (revision 5 version 41 subversion 12) configuration:
   
  Platform:
    osname=MSWin32
    osvers=6.3.9600
    archname=MSWin32-x64-multi-thread
    uname=''
    config_args='undef'
    hint=recommended
    useposix=true
    d_sigaction=undef
    useithreads=define
    usemultiplicity=define
    use64bitint=define
    use64bitall=undef
    uselongdouble=undef
    usemymalloc=n
    default_inc_excludes_dot=define
  Compiler:
    cc='cl'
    ccflags ='-nologo -GF -W3 -MD -DWIN32 -D_CONSOLE -DNO_STRICT -DWIN64 -D_CRT_SECURE_NO_DEPRECATE  -D_CRT_NONSTDC_NO_DEPRECATE -D_WINSOCK_DEPRECATED_NO_WARNINGS  -DPERL_TEXTMODE_SCRIPTS -DMULTIPLICITY -DPERL_IMPLICIT_SYS'
    optimize='-O1 -Zi -GL -fp:precise'
    cppflags='-DWIN32'
    ccversion='19.33.31630'
    gccversion=''
    gccosandvers=''
    intsize=4
    longsize=4
    ptrsize=8
    doublesize=8
    byteorder=12345678
    doublekind=3
    d_longlong=undef
    longlongsize=8
    d_longdbl=define
    longdblsize=8
    longdblkind=0
    ivtype='__int64'
    ivsize=8
    nvtype='double'
    nvsize=8
    Off_t='__int64'
    lseeksize=8
    alignbytes=8
    prototype=define
  Linker and Libraries:
    ld='link'
    ldflags ='-nologo -nodefaultlib -debug -opt:ref,icf -ltcg  -libpath:"c:\perl64\5.41.12\lib\CORE"  -machine:AMD64 -subsystem:console,"5.02"'
    libpth="C:\Program Files\Microsoft Visual Studio\2022\Community\VC\Tools\MSVC\14.33.31629\\lib\x64"
    libs=oldnames.lib kernel32.lib user32.lib gdi32.lib winspool.lib  comdlg32.lib advapi32.lib shell32.lib ole32.lib oleaut32.lib  netapi32.lib uuid.lib ws2_32.lib mpr.lib winmm.lib  version.lib odbc32.lib odbccp32.lib comctl32.lib msvcrt.lib vcruntime.lib ucrt.lib
    perllibs=oldnames.lib kernel32.lib user32.lib gdi32.lib winspool.lib  comdlg32.lib advapi32.lib shell32.lib ole32.lib oleaut32.lib  netapi32.lib uuid.lib ws2_32.lib mpr.lib winmm.lib  version.lib odbc32.lib odbccp32.lib comctl32.lib msvcrt.lib vcruntime.lib ucrt.lib
    libc=ucrt.lib
    so=dll
    useshrplib=true
    libperl=perl541.lib
    gnulibc_version=''
  Dynamic Linking:
    dlsrc=dl_win32.xs
    dlext=dll
    d_dlsymun=undef
    ccdlflags=' '
    cccdlflags=' '
    lddlflags='-dll -nologo -nodefaultlib -debug -opt:ref,icf -ltcg  -libpath:"c:\perl64\5.41.12\lib\CORE"  -machine:AMD64 -subsystem:console,"5.02"'


Characteristics of this binary (from libperl): 
  Compile-time options:
    HAS_LONG_DOUBLE
    HAS_TIMES
    HAVE_INTERP_INTERN
    MULTIPLICITY
    PERLIO_LAYERS
    PERL_COPY_ON_WRITE
    PERL_DONT_CREATE_GVSV
    PERL_HASH_FUNC_SIPHASH13
    PERL_HASH_USE_SBOX32
    PERL_IMPLICIT_SYS
    PERL_MALLOC_WRAP
    PERL_OP_PARENT
    PERL_PRESERVE_IVUV
    PERL_USE_SAFE_PUTENV
    USE_64_BIT_INT
    USE_ITHREADS
    USE_LARGE_FILES
    USE_LOCALE
    USE_LOCALE_COLLATE
    USE_LOCALE_CTYPE
    USE_LOCALE_NUMERIC
    USE_LOCALE_TIME
    USE_PERLIO
    USE_PERL_ATOF
    USE_THREAD_SAFE_LOCALE
  Built under MSWin32
  Compiled at Apr 22 2025 22:17:35
  %ENV:
    PERL5LIB="C:\home\oat54112\perl5\lib\perl5"
    PERL5_CPANPLUS_IS_RUNNING="15484"
    PERL5_CPAN_IS_RUNNING="15484"
    PERL_LOCAL_LIB_ROOT="C:\home\oat54112\perl5"
    PERL_MB_OPT="--install_base "C:\\home\\oat54112\\perl5""
    PERL_MM_OPT="INSTALL_BASE=C:\\home\\oat54112\\perl5"
    PERL_MM_USE_DEFAULT="1"
    PERL_USE_UNSAFE_INC="1"
  @INC:
    C:\home\oat54112\perl5\lib\perl5/MSWin32-x64-multi-thread
    C:\home\oat54112\perl5\lib\perl5
    C:/perl64/site/5.41.12/lib
    C:/perl64/5.41.12/lib
    .