Reaction v0.002005 Perl 5 v5.39.6 x86_64-linux-thread-multi-ld

Status
Pass
From
Andreas J. König (ANDK)
Dist
Reaction v0.002005
Platform
Perl 5 v5.39.6 x86_64-linux-thread-multi-ld
Date
2024-01-08 20:17:39
ID
f8861c7c-ae62-11ee-b17e-6b2c6645188d
This distribution has been tested as part of the CPAN Testers
project, supporting the Perl programming language.  See
http://wiki.cpantesters.org/ for more information or email
questions to cpan-testers-discuss@perl.org


--
Dear Justin Hunter,

This is a computer-generated report for Reaction-0.002005
on perl 5.39.6, created by CPAN-Reporter-1.2019.

Thank you for uploading your work to CPAN.  Congratulations!
All tests were successful.

Sections of this report:

    * Tester comments
    * Program output
    * Prerequisites
    * Environment and other context

------------------------------
TESTER COMMENTS
------------------------------

Additional comments from tester:

this report is from an automated smoke testing program
and was not reviewed by a human for accuracy

------------------------------
PROGRAM OUTPUT
------------------------------

Output from '/usr/bin/make test':

PERL_DL_NONLAZY=1 "/tmp/basesmoker-reloperl-Qlww/bin/perl" "-MExtUtils::Command::MM" "-MTest::Harness" "-e" "undef *Test::Harness::Switches; test_harness(0, 'inc', 'blib/lib', 'blib/arch')" t/00componentui_compiles.t t/01app.t t/04load_all.t t/05reflect_attr_from.t t/im_dbic.t t/ui_focus_stack.t t/ui_view.t t/ui_viewport.t t/uncheck_bool_field.t
Attempt to call undefined import method with arguments ("5.80") via package "Catalyst::Runtime" (Perhaps you forgot to load the package?) at /tmp/loop_over_bdir-736987-_wdjIk/Reaction-0.002005-0/blib/lib/ComponentUI.pm line 6.
Class::MOP::load_class is deprecated at /home/sand/src/perl/repoperls/installed-perls/host/k93jammy/v5.39.6/322f/lib/site_perl/5.39.6/x86_64-linux-thread-multi-ld/Class/MOP.pm line 69.
	Class::MOP::load_class("ComponentUI::TestModel") called at /tmp/loop_over_bdir-736987-_wdjIk/Reaction-0.002005-0/blib/lib/Catalyst/Model/Reaction/InterfaceModel/DBIC.pm line 24
	Catalyst::Model::Reaction::InterfaceModel::DBIC::COMPONENT("ComponentUI::Model::TestModel", "ComponentUI", HASH(0x55b6a12cc908)) called at /home/sand/src/perl/repoperls/installed-perls/host/k93jammy/v5.39.6/322f/lib/site_perl/5.39.6/Catalyst.pm line 3240
	eval {...} called at /home/sand/src/perl/repoperls/installed-perls/host/k93jammy/v5.39.6/322f/lib/site_perl/5.39.6/Catalyst.pm line 3241
	Catalyst::setup_component("ComponentUI", "ComponentUI::Model::TestModel") called at /home/sand/src/perl/repoperls/installed-perls/host/k93jammy/v5.39.6/322f/lib/site_perl/5.39.6/Catalyst.pm line 3218
	Catalyst::__ANON__() called at /home/sand/src/perl/repoperls/installed-perls/host/k93jammy/v5.39.6/322f/lib/site_perl/5.39.6/Catalyst.pm line 3065
	Catalyst::setup_components("ComponentUI") called at /home/sand/src/perl/repoperls/installed-perls/host/k93jammy/v5.39.6/322f/lib/site_perl/5.39.6/Catalyst.pm line 1438
	Catalyst::setup("ComponentUI") called at /tmp/loop_over_bdir-736987-_wdjIk/Reaction-0.002005-0/blib/lib/ComponentUI.pm line 32
	require ComponentUI.pm called at t/00componentui_compiles.t line 7
	main::BEGIN() called at t/00componentui_compiles.t line 7
	eval {...} called at t/00componentui_compiles.t line 7
	eval 'package main;
BEGIN { ${^WARNING_BITS} = $args[-1] if defined $args[-1] }
#line 7 t/00componentui_compiles.t
use ComponentUI @{$args[0]};
1;
' called at /home/sand/src/perl/repoperls/installed-perls/host/k93jammy/v5.39.6/322f/lib/5.39.6/Test/More.pm line 1056
	Test::More::_eval("package main;\x{a}BEGIN { \${^WARNING_BITS} = \$args[-1] if defined"..., ARRAY(0x55b69daaff20), "UUUUUUUUUUUUUUUUUUUUU") called at /home/sand/src/perl/repoperls/installed-perls/host/k93jammy/v5.39.6/322f/lib/5.39.6/Test/More.pm line 1031
	Test::More::use_ok("ComponentUI") called at t/00componentui_compiles.t line 7
Class::MOP::load_class is deprecated at /home/sand/src/perl/repoperls/installed-perls/host/k93jammy/v5.39.6/322f/lib/site_perl/5.39.6/x86_64-linux-thread-multi-ld/Class/MOP.pm line 69.
	Class::MOP::load_class("Reaction::InterfaceModel::Object") called at /tmp/loop_over_bdir-736987-_wdjIk/Reaction-0.002005-0/blib/lib/Reaction/InterfaceModel/Reflector/DBIC.pm line 149
	Reaction::InterfaceModel::Reflector::DBIC::reflect_schema(Reaction::InterfaceModel::Reflector::DBIC=HASH(0x55b6a46bfb40), "model_class", "ComponentUI::TestModel", "schema_class", "RTest::TestDB", "sources", ARRAY(0x55b6a46ec798)) called at /tmp/loop_over_bdir-736987-_wdjIk/Reaction-0.002005-0/blib/lib/ComponentUI/TestModel.pm line 10
	require ComponentUI/TestModel.pm called at /home/sand/src/perl/repoperls/installed-perls/host/k93jammy/v5.39.6/322f/lib/site_perl/5.39.6/Module/Runtime.pm line 314
	Module::Runtime::require_module("ComponentUI::TestModel") called at /home/sand/src/perl/repoperls/installed-perls/host/k93jammy/v5.39.6/322f/lib/site_perl/5.39.6/Class/Load.pm line 174
	Class::Load::try {...} () called at /home/sand/src/perl/repoperls/installed-perls/host/k93jammy/v5.39.6/322f/lib/site_perl/5.39.6/Try/Tiny.pm line 98
	eval {...} called at /home/sand/src/perl/repoperls/installed-perls/host/k93jammy/v5.39.6/322f/lib/site_perl/5.39.6/Try/Tiny.pm line 93
	Try::Tiny::try(CODE(0x55b6a0d8ce18), Try::Tiny::Catch=REF(0x55b6a4165ff0)) called at /home/sand/src/perl/repoperls/installed-perls/host/k93jammy/v5.39.6/322f/lib/site_perl/5.39.6/Class/Load.pm line 180
	Class::Load::try_load_class("ComponentUI::TestModel", undef) called at /home/sand/src/perl/repoperls/installed-perls/host/k93jammy/v5.39.6/322f/lib/site_perl/5.39.6/Class/Load.pm line 35
	Class::Load::load_class("ComponentUI::TestModel") called at /tmp/loop_over_bdir-736987-_wdjIk/Reaction-0.002005-0/blib/lib/Catalyst/Model/Reaction/InterfaceModel/DBIC.pm line 24
	Catalyst::Model::Reaction::InterfaceModel::DBIC::COMPONENT("ComponentUI::Model::TestModel", "ComponentUI", HASH(0x55b6a12cc908)) called at /home/sand/src/perl/repoperls/installed-perls/host/k93jammy/v5.39.6/322f/lib/site_perl/5.39.6/Catalyst.pm line 3240
	eval {...} called at /home/sand/src/perl/repoperls/installed-perls/host/k93jammy/v5.39.6/322f/lib/site_perl/5.39.6/Catalyst.pm line 3241
	Catalyst::setup_component("ComponentUI", "ComponentUI::Model::TestModel") called at /home/sand/src/perl/repoperls/installed-perls/host/k93jammy/v5.39.6/322f/lib/site_perl/5.39.6/Catalyst.pm line 3218
	Catalyst::__ANON__() called at /home/sand/src/perl/repoperls/installed-perls/host/k93jammy/v5.39.6/322f/lib/site_perl/5.39.6/Catalyst.pm line 3065
	Catalyst::setup_components("ComponentUI") called at /home/sand/src/perl/repoperls/installed-perls/host/k93jammy/v5.39.6/322f/lib/site_perl/5.39.6/Catalyst.pm line 1438
	Catalyst::setup("ComponentUI") called at /tmp/loop_over_bdir-736987-_wdjIk/Reaction-0.002005-0/blib/lib/ComponentUI.pm line 32
	require ComponentUI.pm called at t/00componentui_compiles.t line 7
	main::BEGIN() called at t/00componentui_compiles.t line 7
	eval {...} called at t/00componentui_compiles.t line 7
	eval 'package main;
BEGIN { ${^WARNING_BITS} = $args[-1] if defined $args[-1] }
#line 7 t/00componentui_compiles.t
use ComponentUI @{$args[0]};
1;
' called at /home/sand/src/perl/repoperls/installed-perls/host/k93jammy/v5.39.6/322f/lib/5.39.6/Test/More.pm line 1056
	Test::More::_eval("package main;\x{a}BEGIN { \${^WARNING_BITS} = \$args[-1] if defined"..., ARRAY(0x55b69daaff20), "UUUUUUUUUUUUUUUUUUUUU") called at /home/sand/src/perl/repoperls/installed-perls/host/k93jammy/v5.39.6/322f/lib/5.39.6/Test/More.pm line 1031
	Test::More::use_ok("ComponentUI") called at t/00componentui_compiles.t line 7
Class::MOP::load_class is deprecated at /home/sand/src/perl/repoperls/installed-perls/host/k93jammy/v5.39.6/322f/lib/site_perl/5.39.6/x86_64-linux-thread-multi-ld/Class/MOP.pm line 69.
	Class::MOP::load_class("Reaction::InterfaceModel::Object") called at /tmp/loop_over_bdir-736987-_wdjIk/Reaction-0.002005-0/blib/lib/Reaction/Class.pm line 123
	Reaction::Class::do_class_sub("Reaction::Class", "ComponentUI::TestModel::Foo", "ComponentUI::TestModel::Foo", "is", "Reaction::InterfaceModel::Object", "which", CODE(0x55b6a47c0150)) called at /tmp/loop_over_bdir-736987-_wdjIk/Reaction-0.002005-0/blib/lib/Reaction/Class.pm line 86
	Reaction::Class::("ComponentUI::TestModel::Foo", "is", "Reaction::InterfaceModel::Object", "which", CODE(0x55b6a47c0150)) called at /tmp/loop_over_bdir-736987-_wdjIk/Reaction-0.002005-0/blib/lib/ComponentUI/TestModel/Foo.pm line 8
	require ComponentUI/TestModel/Foo.pm called at /home/sand/src/perl/repoperls/installed-perls/host/k93jammy/v5.39.6/322f/lib/site_perl/5.39.6/Module/Runtime.pm line 314
	Module::Runtime::require_module("ComponentUI::TestModel::Foo") called at /home/sand/src/perl/repoperls/installed-perls/host/k93jammy/v5.39.6/322f/lib/site_perl/5.39.6/Class/Load.pm line 174
	Class::Load::try {...} () called at /home/sand/src/perl/repoperls/installed-perls/host/k93jammy/v5.39.6/322f/lib/site_perl/5.39.6/Try/Tiny.pm line 98
	eval {...} called at /home/sand/src/perl/repoperls/installed-perls/host/k93jammy/v5.39.6/322f/lib/site_perl/5.39.6/Try/Tiny.pm line 93
	Try::Tiny::try(CODE(0x55b6a4791a68), Try::Tiny::Catch=REF(0x55b6a47defd8)) called at /home/sand/src/perl/repoperls/installed-perls/host/k93jammy/v5.39.6/322f/lib/site_perl/5.39.6/Class/Load.pm line 180
	Class::Load::try_load_class("ComponentUI::TestModel::Foo", undef) called at /home/sand/src/perl/repoperls/installed-perls/host/k93jammy/v5.39.6/322f/lib/site_perl/5.39.6/Class/Load.pm line 35
	Class::Load::load_class("ComponentUI::TestModel::Foo") called at /tmp/loop_over_bdir-736987-_wdjIk/Reaction-0.002005-0/blib/lib/Reaction/InterfaceModel/Reflector/DBIC.pm line 892
	eval {...} called at /tmp/loop_over_bdir-736987-_wdjIk/Reaction-0.002005-0/blib/lib/Reaction/InterfaceModel/Reflector/DBIC.pm line 892
	Reaction::InterfaceModel::Reflector::DBIC::_maybe_load_class(Reaction::InterfaceModel::Reflector::DBIC=HASH(0x55b6a46bfb40), "ComponentUI::TestModel::Foo") called at /tmp/loop_over_bdir-736987-_wdjIk/Reaction-0.002005-0/blib/lib/Reaction/InterfaceModel/Reflector/DBIC.pm line 876
	Reaction::InterfaceModel::Reflector::DBIC::_load_or_create(Reaction::InterfaceModel::Reflector::DBIC=HASH(0x55b6a46bfb40), "ComponentUI::TestModel::Foo", "superclasses", ARRAY(0x55b6a479dc20)) called at /tmp/loop_over_bdir-736987-_wdjIk/Reaction-0.002005-0/blib/lib/Reaction/InterfaceModel/Reflector/DBIC.pm line 448
	Reaction::InterfaceModel::Reflector::DBIC::reflect_source_object(Reaction::InterfaceModel::Reflector::DBIC=HASH(0x55b6a46bfb40), "source_name", "Foo", "source_class", "RTest::TestDB::Foo", "schema_class", "RTest::TestDB", "parent_class", ...) called at /tmp/loop_over_bdir-736987-_wdjIk/Reaction-0.002005-0/blib/lib/Reaction/InterfaceModel/Reflector/DBIC.pm line 323
	Reaction::InterfaceModel::Reflector::DBIC::reflect_source(Reaction::InterfaceModel::Reflector::DBIC=HASH(0x55b6a46bfb40), "source_name", "Foo", "parent_class", "ComponentUI::TestModel", "schema_class", "RTest::TestDB", "source_class", ...) called at /tmp/loop_over_bdir-736987-_wdjIk/Reaction-0.002005-0/blib/lib/Reaction/InterfaceModel/Reflector/DBIC.pm line 185
	Reaction::InterfaceModel::Reflector::DBIC::reflect_schema(Reaction::InterfaceModel::Reflector::DBIC=HASH(0x55b6a46bfb40), "model_class", "ComponentUI::TestModel", "schema_class", "RTest::TestDB", "sources", ARRAY(0x55b6a46ec798)) called at /tmp/loop_over_bdir-736987-_wdjIk/Reaction-0.002005-0/blib/lib/ComponentUI/TestModel.pm line 10
	require ComponentUI/TestModel.pm called at /home/sand/src/perl/repoperls/installed-perls/host/k93jammy/v5.39.6/322f/lib/site_perl/5.39.6/Module/Runtime.pm line 314
	Module::Runtime::require_module("ComponentUI::TestModel") called at /home/sand/src/perl/repoperls/installed-perls/host/k93jammy/v5.39.6/322f/lib/site_perl/5.39.6/Class/Load.pm line 174
	Class::Load::try {...} () called at /home/sand/src/perl/repoperls/installed-perls/host/k93jammy/v5.39.6/322f/lib/site_perl/5.39.6/Try/Tiny.pm line 98
	eval {...} called at /home/sand/src/perl/repoperls/installed-perls/host/k93jammy/v5.39.6/322f/lib/site_perl/5.39.6/Try/Tiny.pm line 93
	Try::Tiny::try(CODE(0x55b6a0d8ce18), Try::Tiny::Catch=REF(0x55b6a4165ff0)) called at /home/sand/src/perl/repoperls/installed-perls/host/k93jammy/v5.39.6/322f/lib/site_perl/5.39.6/Class/Load.pm line 180
	Class::Load::try_load_class("ComponentUI::TestModel", undef) called at /home/sand/src/perl/repoperls/installed-perls/host/k93jammy/v5.39.6/322f/lib/site_perl/5.39.6/Class/Load.pm line 35
	Class::Load::load_class("ComponentUI::TestModel") called at /tmp/loop_over_bdir-736987-_wdjIk/Reaction-0.002005-0/blib/lib/Catalyst/Model/Reaction/InterfaceModel/DBIC.pm line 24
	Catalyst::Model::Reaction::InterfaceModel::DBIC::COMPONENT("ComponentUI::Model::TestModel", "ComponentUI", HASH(0x55b6a12cc908)) called at /home/sand/src/perl/repoperls/installed-perls/host/k93jammy/v5.39.6/322f/lib/site_perl/5.39.6/Catalyst.pm line 3240
	eval {...} called at /home/sand/src/perl/repoperls/installed-perls/host/k93jammy/v5.39.6/322f/lib/site_perl/5.39.6/Catalyst.pm line 3241
	Catalyst::setup_component("ComponentUI", "ComponentUI::Model::TestModel") called at /home/sand/src/perl/repoperls/installed-perls/host/k93jammy/v5.39.6/322f/lib/site_perl/5.39.6/Catalyst.pm line 3218
	Catalyst::__ANON__() called at /home/sand/src/perl/repoperls/installed-perls/host/k93jammy/v5.39.6/322f/lib/site_perl/5.39.6/Catalyst.pm line 3065
	Catalyst::setup_components("ComponentUI") called at /home/sand/src/perl/repoperls/installed-perls/host/k93jammy/v5.39.6/322f/lib/site_perl/5.39.6/Catalyst.pm line 1438
	Catalyst::setup("ComponentUI") called at /tmp/loop_over_bdir-736987-_wdjIk/Reaction-0.002005-0/blib/lib/ComponentUI.pm line 32
	require ComponentUI.pm called at t/00componentui_compiles.t line 7
	main::BEGIN() called at t/00componentui_compiles.t line 7
	eval {...} called at t/00componentui_compiles.t line 7
	eval 'package main;
BEGIN { ${^WARNING_BITS} = $args[-1] if defined $args[-1] }
#line 7 t/00componentui_compiles.t
use ComponentUI @{$args[0]};
1;
' called at /home/sand/src/perl/repoperls/installed-perls/host/k93jammy/v5.39.6/322f/lib/5.39.6/Test/More.pm line 1056
	Test::More::_eval("package main;\x{a}BEGIN { \${^WARNING_BITS} = \$args[-1] if defined"..., ARRAY(0x55b69daaff20), "UUUUUUUUUUUUUUUUUUUUU") called at /home/sand/src/perl/repoperls/installed-perls/host/k93jammy/v5.39.6/322f/lib/5.39.6/Test/More.pm line 1031
	Test::More::use_ok("ComponentUI") called at t/00componentui_compiles.t line 7
t/00componentui_compiles.t .. ok
Attempt to call undefined import method with arguments ("5.80") via package "Catalyst::Runtime" (Perhaps you forgot to load the package?) at /tmp/loop_over_bdir-736987-_wdjIk/Reaction-0.002005-0/blib/lib/ComponentUI.pm line 6.
Class::MOP::load_class is deprecated at /home/sand/src/perl/repoperls/installed-perls/host/k93jammy/v5.39.6/322f/lib/site_perl/5.39.6/x86_64-linux-thread-multi-ld/Class/MOP.pm line 69.
	Class::MOP::load_class("ComponentUI::TestModel") called at /tmp/loop_over_bdir-736987-_wdjIk/Reaction-0.002005-0/blib/lib/Catalyst/Model/Reaction/InterfaceModel/DBIC.pm line 24
	Catalyst::Model::Reaction::InterfaceModel::DBIC::COMPONENT("ComponentUI::Model::TestModel", "ComponentUI", HASH(0x55f4791983a0)) called at /home/sand/src/perl/repoperls/installed-perls/host/k93jammy/v5.39.6/322f/lib/site_perl/5.39.6/Catalyst.pm line 3240
	eval {...} called at /home/sand/src/perl/repoperls/installed-perls/host/k93jammy/v5.39.6/322f/lib/site_perl/5.39.6/Catalyst.pm line 3241
	Catalyst::setup_component("ComponentUI", "ComponentUI::Model::TestModel") called at /home/sand/src/perl/repoperls/installed-perls/host/k93jammy/v5.39.6/322f/lib/site_perl/5.39.6/Catalyst.pm line 3218
	Catalyst::__ANON__() called at /home/sand/src/perl/repoperls/installed-perls/host/k93jammy/v5.39.6/322f/lib/site_perl/5.39.6/Catalyst.pm line 3065
	Catalyst::setup_components("ComponentUI") called at /home/sand/src/perl/repoperls/installed-perls/host/k93jammy/v5.39.6/322f/lib/site_perl/5.39.6/Catalyst.pm line 1438
	Catalyst::setup("ComponentUI") called at /tmp/loop_over_bdir-736987-_wdjIk/Reaction-0.002005-0/blib/lib/ComponentUI.pm line 32
	require ComponentUI.pm called at /home/sand/src/perl/repoperls/installed-perls/host/k93jammy/v5.39.6/322f/lib/site_perl/5.39.6/Module/Runtime.pm line 314
	Module::Runtime::require_module("ComponentUI") called at /home/sand/src/perl/repoperls/installed-perls/host/k93jammy/v5.39.6/322f/lib/site_perl/5.39.6/Class/Load.pm line 174
	Class::Load::try {...} () called at /home/sand/src/perl/repoperls/installed-perls/host/k93jammy/v5.39.6/322f/lib/site_perl/5.39.6/Try/Tiny.pm line 98
	eval {...} called at /home/sand/src/perl/repoperls/installed-perls/host/k93jammy/v5.39.6/322f/lib/site_perl/5.39.6/Try/Tiny.pm line 93
	Try::Tiny::try(CODE(0x55f4730fa9e8), Try::Tiny::Catch=REF(0x55f473eb89f8)) called at /home/sand/src/perl/repoperls/installed-perls/host/k93jammy/v5.39.6/322f/lib/site_perl/5.39.6/Class/Load.pm line 180
	Class::Load::try_load_class("ComponentUI", undef) called at /home/sand/src/perl/repoperls/installed-perls/host/k93jammy/v5.39.6/322f/lib/site_perl/5.39.6/Class/Load.pm line 35
	Class::Load::load_class("ComponentUI") called at /home/sand/src/perl/repoperls/installed-perls/host/k93jammy/v5.39.6/322f/lib/site_perl/5.39.6/Catalyst/Test.pm line 29
	Catalyst::Test::_build_request_export("Catalyst::Test", HASH(0x55f472f2d7a0)) called at /home/sand/src/perl/repoperls/installed-perls/host/k93jammy/v5.39.6/322f/lib/site_perl/5.39.6/Catalyst/Test.pm line 95
	Catalyst::Test::__ANON__("Catalyst::Test", "all", HASH(0x55f472f2d1a0), HASH(0x55f472f1f088)) called at /home/sand/src/perl/repoperls/installed-perls/host/k93jammy/v5.39.6/322f/lib/site_perl/5.39.6/Sub/Exporter.pm line 491
	Sub::Exporter::_expand_group("Catalyst::Test", HASH(0x55f474370f20), ARRAY(0x55f472f1f0d0), HASH(0x55f472f1f088), HASH(0x55f472f2d7e8), HASH(0x55f4730b9260)) called at /home/sand/src/perl/repoperls/installed-perls/host/k93jammy/v5.39.6/322f/lib/site_perl/5.39.6/Sub/Exporter.pm line 422
	Sub::Exporter::_expand_groups("Catalyst::Test", HASH(0x55f474370f20), ARRAY(0x55f4743713a0), HASH(0x55f472f1f088)) called at /home/sand/src/perl/repoperls/installed-perls/host/k93jammy/v5.39.6/322f/lib/site_perl/5.39.6/Sub/Exporter.pm line 740
	Sub::Exporter::__ANON__("Catalyst::Test", "-all", HASH(0x55f472f12828)) called at /home/sand/src/perl/repoperls/installed-perls/host/k93jammy/v5.39.6/322f/lib/site_perl/5.39.6/Catalyst/Test.pm line 155
	Catalyst::Test::import("Catalyst::Test", "ComponentUI") called at t/01app.t line 7
	main::BEGIN() called at t/01app.t line 7
	eval {...} called at t/01app.t line 7
	eval 'package main;
BEGIN { ${^WARNING_BITS} = $args[-1] if defined $args[-1] }
#line 7 t/01app.t
use Catalyst::Test @{$args[0]};
1;
' called at /home/sand/src/perl/repoperls/installed-perls/host/k93jammy/v5.39.6/322f/lib/5.39.6/Test/More.pm line 1056
	Test::More::_eval("package main;\x{a}BEGIN { \${^WARNING_BITS} = \$args[-1] if defined"..., ARRAY(0x55f4730b8e70), "UUUUUUUUUUUUUUUUUUUUU") called at /home/sand/src/perl/repoperls/installed-perls/host/k93jammy/v5.39.6/322f/lib/5.39.6/Test/More.pm line 1031
	Test::More::use_ok("Catalyst::Test", "ComponentUI") called at t/01app.t line 7
	main::BEGIN() called at t/01app.t line 8
	eval {...} called at t/01app.t line 8
Class::MOP::load_class is deprecated at /home/sand/src/perl/repoperls/installed-perls/host/k93jammy/v5.39.6/322f/lib/site_perl/5.39.6/x86_64-linux-thread-multi-ld/Class/MOP.pm line 69.
	Class::MOP::load_class("Reaction::InterfaceModel::Object") called at /tmp/loop_over_bdir-736987-_wdjIk/Reaction-0.002005-0/blib/lib/Reaction/InterfaceModel/Reflector/DBIC.pm line 149
	Reaction::InterfaceModel::Reflector::DBIC::reflect_schema(Reaction::InterfaceModel::Reflector::DBIC=HASH(0x55f479d12538), "model_class", "ComponentUI::TestModel", "schema_class", "RTest::TestDB", "sources", ARRAY(0x55f479d2c048)) called at /tmp/loop_over_bdir-736987-_wdjIk/Reaction-0.002005-0/blib/lib/ComponentUI/TestModel.pm line 10
	require ComponentUI/TestModel.pm called at /home/sand/src/perl/repoperls/installed-perls/host/k93jammy/v5.39.6/322f/lib/site_perl/5.39.6/Module/Runtime.pm line 314
	Module::Runtime::require_module("ComponentUI::TestModel") called at /home/sand/src/perl/repoperls/installed-perls/host/k93jammy/v5.39.6/322f/lib/site_perl/5.39.6/Class/Load.pm line 174
	Class::Load::try {...} () called at /home/sand/src/perl/repoperls/installed-perls/host/k93jammy/v5.39.6/322f/lib/site_perl/5.39.6/Try/Tiny.pm line 98
	eval {...} called at /home/sand/src/perl/repoperls/installed-perls/host/k93jammy/v5.39.6/322f/lib/site_perl/5.39.6/Try/Tiny.pm line 93
	Try::Tiny::try(CODE(0x55f475d214a8), Try::Tiny::Catch=REF(0x55f4797a4510)) called at /home/sand/src/perl/repoperls/installed-perls/host/k93jammy/v5.39.6/322f/lib/site_perl/5.39.6/Class/Load.pm line 180
	Class::Load::try_load_class("ComponentUI::TestModel", undef) called at /home/sand/src/perl/repoperls/installed-perls/host/k93jammy/v5.39.6/322f/lib/site_perl/5.39.6/Class/Load.pm line 35
	Class::Load::load_class("ComponentUI::TestModel") called at /tmp/loop_over_bdir-736987-_wdjIk/Reaction-0.002005-0/blib/lib/Catalyst/Model/Reaction/InterfaceModel/DBIC.pm line 24
	Catalyst::Model::Reaction::InterfaceModel::DBIC::COMPONENT("ComponentUI::Model::TestModel", "ComponentUI", HASH(0x55f4791983a0)) called at /home/sand/src/perl/repoperls/installed-perls/host/k93jammy/v5.39.6/322f/lib/site_perl/5.39.6/Catalyst.pm line 3240
	eval {...} called at /home/sand/src/perl/repoperls/installed-perls/host/k93jammy/v5.39.6/322f/lib/site_perl/5.39.6/Catalyst.pm line 3241
	Catalyst::setup_component("ComponentUI", "ComponentUI::Model::TestModel") called at /home/sand/src/perl/repoperls/installed-perls/host/k93jammy/v5.39.6/322f/lib/site_perl/5.39.6/Catalyst.pm line 3218
	Catalyst::__ANON__() called at /home/sand/src/perl/repoperls/installed-perls/host/k93jammy/v5.39.6/322f/lib/site_perl/5.39.6/Catalyst.pm line 3065
	Catalyst::setup_components("ComponentUI") called at /home/sand/src/perl/repoperls/installed-perls/host/k93jammy/v5.39.6/322f/lib/site_perl/5.39.6/Catalyst.pm line 1438
	Catalyst::setup("ComponentUI") called at /tmp/loop_over_bdir-736987-_wdjIk/Reaction-0.002005-0/blib/lib/ComponentUI.pm line 32
	require ComponentUI.pm called at /home/sand/src/perl/repoperls/installed-perls/host/k93jammy/v5.39.6/322f/lib/site_perl/5.39.6/Module/Runtime.pm line 314
	Module::Runtime::require_module("ComponentUI") called at /home/sand/src/perl/repoperls/installed-perls/host/k93jammy/v5.39.6/322f/lib/site_perl/5.39.6/Class/Load.pm line 174
	Class::Load::try {...} () called at /home/sand/src/perl/repoperls/installed-perls/host/k93jammy/v5.39.6/322f/lib/site_perl/5.39.6/Try/Tiny.pm line 98
	eval {...} called at /home/sand/src/perl/repoperls/installed-perls/host/k93jammy/v5.39.6/322f/lib/site_perl/5.39.6/Try/Tiny.pm line 93
	Try::Tiny::try(CODE(0x55f4730fa9e8), Try::Tiny::Catch=REF(0x55f473eb89f8)) called at /home/sand/src/perl/repoperls/installed-perls/host/k93jammy/v5.39.6/322f/lib/site_perl/5.39.6/Class/Load.pm line 180
	Class::Load::try_load_class("ComponentUI", undef) called at /home/sand/src/perl/repoperls/installed-perls/host/k93jammy/v5.39.6/322f/lib/site_perl/5.39.6/Class/Load.pm line 35
	Class::Load::load_class("ComponentUI") called at /home/sand/src/perl/repoperls/installed-perls/host/k93jammy/v5.39.6/322f/lib/site_perl/5.39.6/Catalyst/Test.pm line 29
	Catalyst::Test::_build_request_export("Catalyst::Test", HASH(0x55f472f2d7a0)) called at /home/sand/src/perl/repoperls/installed-perls/host/k93jammy/v5.39.6/322f/lib/site_perl/5.39.6/Catalyst/Test.pm line 95
	Catalyst::Test::__ANON__("Catalyst::Test", "all", HASH(0x55f472f2d1a0), HASH(0x55f472f1f088)) called at /home/sand/src/perl/repoperls/installed-perls/host/k93jammy/v5.39.6/322f/lib/site_perl/5.39.6/Sub/Exporter.pm line 491
	Sub::Exporter::_expand_group("Catalyst::Test", HASH(0x55f474370f20), ARRAY(0x55f472f1f0d0), HASH(0x55f472f1f088), HASH(0x55f472f2d7e8), HASH(0x55f4730b9260)) called at /home/sand/src/perl/repoperls/installed-perls/host/k93jammy/v5.39.6/322f/lib/site_perl/5.39.6/Sub/Exporter.pm line 422
	Sub::Exporter::_expand_groups("Catalyst::Test", HASH(0x55f474370f20), ARRAY(0x55f4743713a0), HASH(0x55f472f1f088)) called at /home/sand/src/perl/repoperls/installed-perls/host/k93jammy/v5.39.6/322f/lib/site_perl/5.39.6/Sub/Exporter.pm line 740
	Sub::Exporter::__ANON__("Catalyst::Test", "-all", HASH(0x55f472f12828)) called at /home/sand/src/perl/repoperls/installed-perls/host/k93jammy/v5.39.6/322f/lib/site_perl/5.39.6/Catalyst/Test.pm line 155
	Catalyst::Test::import("Catalyst::Test", "ComponentUI") called at t/01app.t line 7
	main::BEGIN() called at t/01app.t line 7
	eval {...} called at t/01app.t line 7
	eval 'package main;
BEGIN { ${^WARNING_BITS} = $args[-1] if defined $args[-1] }
#line 7 t/01app.t
use Catalyst::Test @{$args[0]};
1;
' called at /home/sand/src/perl/repoperls/installed-perls/host/k93jammy/v5.39.6/322f/lib/5.39.6/Test/More.pm line 1056
	Test::More::_eval("package main;\x{a}BEGIN { \${^WARNING_BITS} = \$args[-1] if defined"..., ARRAY(0x55f4730b8e70), "UUUUUUUUUUUUUUUUUUUUU") called at /home/sand/src/perl/repoperls/installed-perls/host/k93jammy/v5.39.6/322f/lib/5.39.6/Test/More.pm line 1031
	Test::More::use_ok("Catalyst::Test", "ComponentUI") called at t/01app.t line 7
	main::BEGIN() called at t/01app.t line 8
	eval {...} called at t/01app.t line 8
Class::MOP::load_class is deprecated at /home/sand/src/perl/repoperls/installed-perls/host/k93jammy/v5.39.6/322f/lib/site_perl/5.39.6/x86_64-linux-thread-multi-ld/Class/MOP.pm line 69.
	Class::MOP::load_class("Reaction::InterfaceModel::Object") called at /tmp/loop_over_bdir-736987-_wdjIk/Reaction-0.002005-0/blib/lib/Reaction/Class.pm line 123
	Reaction::Class::do_class_sub("Reaction::Class", "ComponentUI::TestModel::Foo", "ComponentUI::TestModel::Foo", "is", "Reaction::InterfaceModel::Object", "which", CODE(0x55f47a03e168)) called at /tmp/loop_over_bdir-736987-_wdjIk/Reaction-0.002005-0/blib/lib/Reaction/Class.pm line 86
	Reaction::Class::("ComponentUI::TestModel::Foo", "is", "Reaction::InterfaceModel::Object", "which", CODE(0x55f47a03e168)) called at /tmp/loop_over_bdir-736987-_wdjIk/Reaction-0.002005-0/blib/lib/ComponentUI/TestModel/Foo.pm line 8
	require ComponentUI/TestModel/Foo.pm called at /home/sand/src/perl/repoperls/installed-perls/host/k93jammy/v5.39.6/322f/lib/site_perl/5.39.6/Module/Runtime.pm line 314
	Module::Runtime::require_module("ComponentUI::TestModel::Foo") called at /home/sand/src/perl/repoperls/installed-perls/host/k93jammy/v5.39.6/322f/lib/site_perl/5.39.6/Class/Load.pm line 174
	Class::Load::try {...} () called at /home/sand/src/perl/repoperls/installed-perls/host/k93jammy/v5.39.6/322f/lib/site_perl/5.39.6/Try/Tiny.pm line 98
	eval {...} called at /home/sand/src/perl/repoperls/installed-perls/host/k93jammy/v5.39.6/322f/lib/site_perl/5.39.6/Try/Tiny.pm line 93
	Try::Tiny::try(CODE(0x55f479ff6d10), Try::Tiny::Catch=REF(0x55f47a08b130)) called at /home/sand/src/perl/repoperls/installed-perls/host/k93jammy/v5.39.6/322f/lib/site_perl/5.39.6/Class/Load.pm line 180
	Class::Load::try_load_class("ComponentUI::TestModel::Foo", undef) called at /home/sand/src/perl/repoperls/installed-perls/host/k93jammy/v5.39.6/322f/lib/site_perl/5.39.6/Class/Load.pm line 35
	Class::Load::load_class("ComponentUI::TestModel::Foo") called at /tmp/loop_over_bdir-736987-_wdjIk/Reaction-0.002005-0/blib/lib/Reaction/InterfaceModel/Reflector/DBIC.pm line 892
	eval {...} called at /tmp/loop_over_bdir-736987-_wdjIk/Reaction-0.002005-0/blib/lib/Reaction/InterfaceModel/Reflector/DBIC.pm line 892
	Reaction::InterfaceModel::Reflector::DBIC::_maybe_load_class(Reaction::InterfaceModel::Reflector::DBIC=HASH(0x55f479d12538), "ComponentUI::TestModel::Foo") called at /tmp/loop_over_bdir-736987-_wdjIk/Reaction-0.002005-0/blib/lib/Reaction/InterfaceModel/Reflector/DBIC.pm line 876
	Reaction::InterfaceModel::Reflector::DBIC::_load_or_create(Reaction::InterfaceModel::Reflector::DBIC=HASH(0x55f479d12538), "ComponentUI::TestModel::Foo", "superclasses", ARRAY(0x55f479f31008)) called at /tmp/loop_over_bdir-736987-_wdjIk/Reaction-0.002005-0/blib/lib/Reaction/InterfaceModel/Reflector/DBIC.pm line 448
	Reaction::InterfaceModel::Reflector::DBIC::reflect_source_object(Reaction::InterfaceModel::Reflector::DBIC=HASH(0x55f479d12538), "schema_class", "RTest::TestDB", "parent_class", "ComponentUI::TestModel", "source_class", "RTest::TestDB::Foo", "parent_domain_model_name", ...) called at /tmp/loop_over_bdir-736987-_wdjIk/Reaction-0.002005-0/blib/lib/Reaction/InterfaceModel/Reflector/DBIC.pm line 323
	Reaction::InterfaceModel::Reflector::DBIC::reflect_source(Reaction::InterfaceModel::Reflector::DBIC=HASH(0x55f479d12538), "source_name", "Foo", "parent_class", "ComponentUI::TestModel", "schema_class", "RTest::TestDB", "source_class", ...) called at /tmp/loop_over_bdir-736987-_wdjIk/Reaction-0.002005-0/blib/lib/Reaction/InterfaceModel/Reflector/DBIC.pm line 185
	Reaction::InterfaceModel::Reflector::DBIC::reflect_schema(Reaction::InterfaceModel::Reflector::DBIC=HASH(0x55f479d12538), "model_class", "ComponentUI::TestModel", "schema_class", "RTest::TestDB", "sources", ARRAY(0x55f479d2c048)) called at /tmp/loop_over_bdir-736987-_wdjIk/Reaction-0.002005-0/blib/lib/ComponentUI/TestModel.pm line 10
	require ComponentUI/TestModel.pm called at /home/sand/src/perl/repoperls/installed-perls/host/k93jammy/v5.39.6/322f/lib/site_perl/5.39.6/Module/Runtime.pm line 314
	Module::Runtime::require_module("ComponentUI::TestModel") called at /home/sand/src/perl/repoperls/installed-perls/host/k93jammy/v5.39.6/322f/lib/site_perl/5.39.6/Class/Load.pm line 174
	Class::Load::try {...} () called at /home/sand/src/perl/repoperls/installed-perls/host/k93jammy/v5.39.6/322f/lib/site_perl/5.39.6/Try/Tiny.pm line 98
	eval {...} called at /home/sand/src/perl/repoperls/installed-perls/host/k93jammy/v5.39.6/322f/lib/site_perl/5.39.6/Try/Tiny.pm line 93
	Try::Tiny::try(CODE(0x55f475d214a8), Try::Tiny::Catch=REF(0x55f4797a4510)) called at /home/sand/src/perl/repoperls/installed-perls/host/k93jammy/v5.39.6/322f/lib/site_perl/5.39.6/Class/Load.pm line 180
	Class::Load::try_load_class("ComponentUI::TestModel", undef) called at /home/sand/src/perl/repoperls/installed-perls/host/k93jammy/v5.39.6/322f/lib/site_perl/5.39.6/Class/Load.pm line 35
	Class::Load::load_class("ComponentUI::TestModel") called at /tmp/loop_over_bdir-736987-_wdjIk/Reaction-0.002005-0/blib/lib/Catalyst/Model/Reaction/InterfaceModel/DBIC.pm line 24
	Catalyst::Model::Reaction::InterfaceModel::DBIC::COMPONENT("ComponentUI::Model::TestModel", "ComponentUI", HASH(0x55f4791983a0)) called at /home/sand/src/perl/repoperls/installed-perls/host/k93jammy/v5.39.6/322f/lib/site_perl/5.39.6/Catalyst.pm line 3240
	eval {...} called at /home/sand/src/perl/repoperls/installed-perls/host/k93jammy/v5.39.6/322f/lib/site_perl/5.39.6/Catalyst.pm line 3241
	Catalyst::setup_component("ComponentUI", "ComponentUI::Model::TestModel") called at /home/sand/src/perl/repoperls/installed-perls/host/k93jammy/v5.39.6/322f/lib/site_perl/5.39.6/Catalyst.pm line 3218
	Catalyst::__ANON__() called at /home/sand/src/perl/repoperls/installed-perls/host/k93jammy/v5.39.6/322f/lib/site_perl/5.39.6/Catalyst.pm line 3065
	Catalyst::setup_components("ComponentUI") called at /home/sand/src/perl/repoperls/installed-perls/host/k93jammy/v5.39.6/322f/lib/site_perl/5.39.6/Catalyst.pm line 1438
	Catalyst::setup("ComponentUI") called at /tmp/loop_over_bdir-736987-_wdjIk/Reaction-0.002005-0/blib/lib/ComponentUI.pm line 32
	require ComponentUI.pm called at /home/sand/src/perl/repoperls/installed-perls/host/k93jammy/v5.39.6/322f/lib/site_perl/5.39.6/Module/Runtime.pm line 314
	Module::Runtime::require_module("ComponentUI") called at /home/sand/src/perl/repoperls/installed-perls/host/k93jammy/v5.39.6/322f/lib/site_perl/5.39.6/Class/Load.pm line 174
	Class::Load::try {...} () called at /home/sand/src/perl/repoperls/installed-perls/host/k93jammy/v5.39.6/322f/lib/site_perl/5.39.6/Try/Tiny.pm line 98
	eval {...} called at /home/sand/src/perl/repoperls/installed-perls/host/k93jammy/v5.39.6/322f/lib/site_perl/5.39.6/Try/Tiny.pm line 93
	Try::Tiny::try(CODE(0x55f4730fa9e8), Try::Tiny::Catch=REF(0x55f473eb89f8)) called at /home/sand/src/perl/repoperls/installed-perls/host/k93jammy/v5.39.6/322f/lib/site_perl/5.39.6/Class/Load.pm line 180
	Class::Load::try_load_class("ComponentUI", undef) called at /home/sand/src/perl/repoperls/installed-perls/host/k93jammy/v5.39.6/322f/lib/site_perl/5.39.6/Class/Load.pm line 35
	Class::Load::load_class("ComponentUI") called at /home/sand/src/perl/repoperls/installed-perls/host/k93jammy/v5.39.6/322f/lib/site_perl/5.39.6/Catalyst/Test.pm line 29
	Catalyst::Test::_build_request_export("Catalyst::Test", HASH(0x55f472f2d7a0)) called at /home/sand/src/perl/repoperls/installed-perls/host/k93jammy/v5.39.6/322f/lib/site_perl/5.39.6/Catalyst/Test.pm line 95
	Catalyst::Test::__ANON__("Catalyst::Test", "all", HASH(0x55f472f2d1a0), HASH(0x55f472f1f088)) called at /home/sand/src/perl/repoperls/installed-perls/host/k93jammy/v5.39.6/322f/lib/site_perl/5.39.6/Sub/Exporter.pm line 491
	Sub::Exporter::_expand_group("Catalyst::Test", HASH(0x55f474370f20), ARRAY(0x55f472f1f0d0), HASH(0x55f472f1f088), HASH(0x55f472f2d7e8), HASH(0x55f4730b9260)) called at /home/sand/src/perl/repoperls/installed-perls/host/k93jammy/v5.39.6/322f/lib/site_perl/5.39.6/Sub/Exporter.pm line 422
	Sub::Exporter::_expand_groups("Catalyst::Test", HASH(0x55f474370f20), ARRAY(0x55f4743713a0), HASH(0x55f472f1f088)) called at /home/sand/src/perl/repoperls/installed-perls/host/k93jammy/v5.39.6/322f/lib/site_perl/5.39.6/Sub/Exporter.pm line 740
	Sub::Exporter::__ANON__("Catalyst::Test", "-all", HASH(0x55f472f12828)) called at /home/sand/src/perl/repoperls/installed-perls/host/k93jammy/v5.39.6/322f/lib/site_perl/5.39.6/Catalyst/Test.pm line 155
	Catalyst::Test::import("Catalyst::Test", "ComponentUI") called at t/01app.t line 7
	main::BEGIN() called at t/01app.t line 7
	eval {...} called at t/01app.t line 7
	eval 'package main;
BEGIN { ${^WARNING_BITS} = $args[-1] if defined $args[-1] }
#line 7 t/01app.t
use Catalyst::Test @{$args[0]};
1;
' called at /home/sand/src/perl/repoperls/installed-perls/host/k93jammy/v5.39.6/322f/lib/5.39.6/Test/More.pm line 1056
	Test::More::_eval("package main;\x{a}BEGIN { \${^WARNING_BITS} = \$args[-1] if defined"..., ARRAY(0x55f4730b8e70), "UUUUUUUUUUUUUUUUUUUUU") called at /home/sand/src/perl/repoperls/installed-perls/host/k93jammy/v5.39.6/322f/lib/5.39.6/Test/More.pm line 1031
	Test::More::use_ok("Catalyst::Test", "ComponentUI") called at t/01app.t line 7
	main::BEGIN() called at t/01app.t line 8
	eval {...} called at t/01app.t line 8
Class::MOP::load_class is deprecated at /home/sand/src/perl/repoperls/installed-perls/host/k93jammy/v5.39.6/322f/lib/site_perl/5.39.6/x86_64-linux-thread-multi-ld/Class/MOP.pm line 69.
	Class::MOP::load_class("ComponentUI::RenderingContext::Site") called at /tmp/loop_over_bdir-736987-_wdjIk/Reaction-0.002005-0/blib/lib/Reaction/UI/View.pm line 125
	eval {...} called at /tmp/loop_over_bdir-736987-_wdjIk/Reaction-0.002005-0/blib/lib/Reaction/UI/View.pm line 125
	Reaction::UI::View::find_related_class(ComponentUI::View::Site=HASH(0x55f47604f068), "RenderingContext") called at /tmp/loop_over_bdir-736987-_wdjIk/Reaction-0.002005-0/blib/lib/Reaction/UI/View.pm line 43
	Reaction::UI::View::_build_rendering_context_class(ComponentUI::View::Site=HASH(0x55f47604f068)) called at reader Reaction::UI::View::rendering_context_class (defined at /tmp/loop_over_bdir-736987-_wdjIk/Reaction-0.002005-0/blib/lib/Reaction/UI/View.pm line 29) line 8
	Reaction::UI::View::rendering_context_class(ComponentUI::View::Site=HASH(0x55f47604f068)) called at /tmp/loop_over_bdir-736987-_wdjIk/Reaction-0.002005-0/blib/lib/Reaction/UI/View.pm line 134
	Reaction::UI::View::create_rendering_context(ComponentUI::View::Site=HASH(0x55f47604f068)) called at /tmp/loop_over_bdir-736987-_wdjIk/Reaction-0.002005-0/blib/lib/Reaction/UI/View.pm line 60
	Reaction::UI::View::render_window(ComponentUI::View::Site=HASH(0x55f47604f068), Reaction::UI::Window=HASH(0x55f47a5c8e98)) called at /tmp/loop_over_bdir-736987-_wdjIk/Reaction-0.002005-0/blib/lib/Reaction/UI/Window.pm line 74
	Reaction::UI::Window::flush_view(Reaction::UI::Window=HASH(0x55f47a5c8e98)) called at /tmp/loop_over_bdir-736987-_wdjIk/Reaction-0.002005-0/blib/lib/Reaction/UI/Window.pm line 36
	Reaction::UI::Window::flush(Reaction::UI::Window=HASH(0x55f47a5c8e98)) called at /tmp/loop_over_bdir-736987-_wdjIk/Reaction-0.002005-0/blib/lib/Reaction/UI/Controller/Root.pm line 38
	Reaction::UI::Controller::Root::end(ComponentUI::Controller::Root=HASH(0x55f47a567d30), ComponentUI=HASH(0x55f47a570338)) called at /home/sand/src/perl/repoperls/installed-perls/host/k93jammy/v5.39.6/322f/lib/site_perl/5.39.6/Catalyst/Action.pm line 374
	Catalyst::Action::execute(Catalyst::Action=HASH(0x55f47a3a5ac8), ComponentUI::Controller::Root=HASH(0x55f47a567d30), ComponentUI=HASH(0x55f47a570338)) called at /home/sand/src/perl/repoperls/installed-perls/host/k93jammy/v5.39.6/322f/lib/site_perl/5.39.6/Catalyst.pm line 2067
	eval {...} called at /home/sand/src/perl/repoperls/installed-perls/host/k93jammy/v5.39.6/322f/lib/site_perl/5.39.6/Catalyst.pm line 2067
	Catalyst::execute(ComponentUI=HASH(0x55f47a570338), "ComponentUI::Controller::Root", Catalyst::Action=HASH(0x55f47a3a5ac8)) called at /home/sand/src/perl/repoperls/installed-perls/host/k93jammy/v5.39.6/322f/lib/site_perl/5.39.6/Catalyst/Action.pm line 368
	Catalyst::Action::dispatch(Catalyst::Action=HASH(0x55f47a3a5ac8), ComponentUI=HASH(0x55f47a570338)) called at /home/sand/src/perl/repoperls/installed-perls/host/k93jammy/v5.39.6/322f/lib/site_perl/5.39.6/Catalyst/Controller.pm line 188
	Catalyst::Controller::_END(ComponentUI::Controller::Root=HASH(0x55f47a567d30), ComponentUI=HASH(0x55f47a570338)) called at /home/sand/src/perl/repoperls/installed-perls/host/k93jammy/v5.39.6/322f/lib/site_perl/5.39.6/Catalyst/Action.pm line 374
	Catalyst::Action::execute(Catalyst::Action=HASH(0x55f47a3a58d0), ComponentUI::Controller::Root=HASH(0x55f47a567d30), ComponentUI=HASH(0x55f47a570338)) called at /home/sand/src/perl/repoperls/installed-perls/host/k93jammy/v5.39.6/322f/lib/site_perl/5.39.6/Catalyst.pm line 2067
	eval {...} called at /home/sand/src/perl/repoperls/installed-perls/host/k93jammy/v5.39.6/322f/lib/site_perl/5.39.6/Catalyst.pm line 2067
	Catalyst::execute(ComponentUI=HASH(0x55f47a570338), "ComponentUI::Controller::Root", Catalyst::Action=HASH(0x55f47a3a58d0)) called at /home/sand/src/perl/repoperls/installed-perls/host/k93jammy/v5.39.6/322f/lib/site_perl/5.39.6/Catalyst/Action.pm line 368
	Catalyst::Action::dispatch(Catalyst::Action=HASH(0x55f47a3a58d0), ComponentUI=HASH(0x55f47a570338)) called at /home/sand/src/perl/repoperls/installed-perls/host/k93jammy/v5.39.6/322f/lib/site_perl/5.39.6/Catalyst/Dispatcher.pm line 261
	Catalyst::Dispatcher::_do_forward(Catalyst::Dispatcher=HASH(0x55f474b5e568), "forward", ComponentUI=HASH(0x55f47a570338), "_END") called at /home/sand/src/perl/repoperls/installed-perls/host/k93jammy/v5.39.6/322f/lib/site_perl/5.39.6/Catalyst/Dispatcher.pm line 241
	Catalyst::Dispatcher::forward(Catalyst::Dispatcher=HASH(0x55f474b5e568), ComponentUI=HASH(0x55f47a570338), "_END") called at /home/sand/src/perl/repoperls/installed-perls/host/k93jammy/v5.39.6/322f/lib/site_perl/5.39.6/Catalyst.pm line 489
	Catalyst::forward(ComponentUI=HASH(0x55f47a570338), "_END") called at /home/sand/src/perl/repoperls/installed-perls/host/k93jammy/v5.39.6/322f/lib/site_perl/5.39.6/Catalyst/Controller.pm line 137
	Catalyst::Controller::_DISPATCH(ComponentUI::Controller::Root=HASH(0x55f47a567d30), ComponentUI=HASH(0x55f47a570338)) called at /home/sand/src/perl/repoperls/installed-perls/host/k93jammy/v5.39.6/322f/lib/site_perl/5.39.6/Catalyst/Action.pm line 374
	Catalyst::Action::execute(Catalyst::Action=HASH(0x55f47a3a59c0), ComponentUI::Controller::Root=HASH(0x55f47a567d30), ComponentUI=HASH(0x55f47a570338)) called at /home/sand/src/perl/repoperls/installed-perls/host/k93jammy/v5.39.6/322f/lib/site_perl/5.39.6/Catalyst.pm line 2067
	eval {...} called at /home/sand/src/perl/repoperls/installed-perls/host/k93jammy/v5.39.6/322f/lib/site_perl/5.39.6/Catalyst.pm line 2067
	Catalyst::execute(ComponentUI=HASH(0x55f47a570338), "ComponentUI::Controller::Root", Catalyst::Action=HASH(0x55f47a3a59c0)) called at /home/sand/src/perl/repoperls/installed-perls/host/k93jammy/v5.39.6/322f/lib/site_perl/5.39.6/Catalyst/Action.pm line 368
	Catalyst::Action::dispatch(Catalyst::Action=HASH(0x55f47a3a59c0), ComponentUI=HASH(0x55f47a570338)) called at /home/sand/src/perl/repoperls/installed-perls/host/k93jammy/v5.39.6/322f/lib/site_perl/5.39.6/Catalyst/Dispatcher.pm line 261
	Catalyst::Dispatcher::_do_forward(Catalyst::Dispatcher=HASH(0x55f474b5e568), "forward", ComponentUI=HASH(0x55f47a570338), "//_DISPATCH") called at /home/sand/src/perl/repoperls/installed-perls/host/k93jammy/v5.39.6/322f/lib/site_perl/5.39.6/Catalyst/Dispatcher.pm line 241
	Catalyst::Dispatcher::forward(Catalyst::Dispatcher=HASH(0x55f474b5e568), ComponentUI=HASH(0x55f47a570338), "//_DISPATCH") called at /home/sand/src/perl/repoperls/installed-perls/host/k93jammy/v5.39.6/322f/lib/site_perl/5.39.6/Catalyst.pm line 489
	Catalyst::forward(ComponentUI=HASH(0x55f47a570338), "//_DISPATCH") called at /home/sand/src/perl/repoperls/installed-perls/host/k93jammy/v5.39.6/322f/lib/site_perl/5.39.6/Catalyst/Dispatcher.pm line 107
	Catalyst::Dispatcher::dispatch(Catalyst::Dispatcher=HASH(0x55f474b5e568), ComponentUI=HASH(0x55f47a570338)) called at /home/sand/src/perl/repoperls/installed-perls/host/k93jammy/v5.39.6/322f/lib/site_perl/5.39.6/Catalyst.pm line 2013
	Catalyst::dispatch(ComponentUI=HASH(0x55f47a570338)) called at /home/sand/src/perl/repoperls/installed-perls/host/k93jammy/v5.39.6/322f/lib/site_perl/5.39.6/Catalyst/Plugin/Static/Simple.pm line 85
	Class::MOP::Class:::around(CODE(0x55f4750a06d8), ComponentUI=HASH(0x55f47a570338)) called at /home/sand/src/perl/repoperls/installed-perls/host/k93jammy/v5.39.6/322f/lib/site_perl/5.39.6/x86_64-linux-thread-multi-ld/Class/MOP/Method/Wrapped.pm line 166
	ComponentUI::_wrapped_dispatch(ComponentUI=HASH(0x55f47a570338)) called at /home/sand/src/perl/repoperls/installed-perls/host/k93jammy/v5.39.6/322f/lib/site_perl/5.39.6/x86_64-linux-thread-multi-ld/Class/MOP/Method/Wrapped.pm line 97
	ComponentUI::dispatch(ComponentUI=HASH(0x55f47a570338)) called at /home/sand/src/perl/repoperls/installed-perls/host/k93jammy/v5.39.6/322f/lib/site_perl/5.39.6/Catalyst.pm line 2419
	Catalyst::try {...} () called at /home/sand/src/perl/repoperls/installed-perls/host/k93jammy/v5.39.6/322f/lib/site_perl/5.39.6/Try/Tiny.pm line 102
	eval {...} called at /home/sand/src/perl/repoperls/installed-perls/host/k93jammy/v5.39.6/322f/lib/site_perl/5.39.6/Try/Tiny.pm line 93
	Try::Tiny::try(CODE(0x55f47a55ef98), Try::Tiny::Catch=REF(0x55f47a55eda0)) called at /home/sand/src/perl/repoperls/installed-perls/host/k93jammy/v5.39.6/322f/lib/site_perl/5.39.6/Catalyst.pm line 2428
	Catalyst::handle_request("ComponentUI", "env", HASH(0x55f47a5adc48), "response_cb", CODE(0x55f47a55ee00)) called at /home/sand/src/perl/repoperls/installed-perls/host/k93jammy/v5.39.6/322f/lib/site_perl/5.39.6/Catalyst/Engine.pm line 807
	Catalyst::Engine::__ANON__(CODE(0x55f47a55ee00)) called at /home/sand/src/perl/repoperls/installed-perls/host/k93jammy/v5.39.6/322f/lib/site_perl/5.39.6/Plack/Middleware/HTTPExceptions.pm line 32
	Plack::Middleware::HTTPExceptions::try {...} () called at /home/sand/src/perl/repoperls/installed-perls/host/k93jammy/v5.39.6/322f/lib/site_perl/5.39.6/Try/Tiny.pm line 102
	eval {...} called at /home/sand/src/perl/repoperls/installed-perls/host/k93jammy/v5.39.6/322f/lib/site_perl/5.39.6/Try/Tiny.pm line 93
	Try::Tiny::try(CODE(0x55f47a55ec38), Try::Tiny::Catch=REF(0x55f47a55e488)) called at /home/sand/src/perl/repoperls/installed-perls/host/k93jammy/v5.39.6/322f/lib/site_perl/5.39.6/Plack/Middleware/HTTPExceptions.pm line 41
	Plack::Middleware::HTTPExceptions::__ANON__(CODE(0x55f47a55e248)) called at /home/sand/src/perl/repoperls/installed-perls/host/k93jammy/v5.39.6/322f/lib/site_perl/5.39.6/Plack/Util.pm line 339
	Plack::Util::__ANON__(CODE(0x55f4729bc760)) called at /home/sand/src/perl/repoperls/installed-perls/host/k93jammy/v5.39.6/322f/lib/site_perl/5.39.6/Plack/Util.pm line 339
	Plack::Util::__ANON__(CODE(0x55f4729bc070)) called at /home/sand/src/perl/repoperls/installed-perls/host/k93jammy/v5.39.6/322f/lib/site_perl/5.39.6/Plack/Util.pm line 339
	Plack::Util::__ANON__(CODE(0x55f4729bbff8)) called at /home/sand/src/perl/repoperls/installed-perls/host/k93jammy/v5.39.6/322f/lib/site_perl/5.39.6/HTTP/Message/PSGI.pm line 100
	HTTP::Message::PSGI::res_from_psgi(CODE(0x55f47a55e9b0)) called at /home/sand/src/perl/repoperls/installed-perls/host/k93jammy/v5.39.6/322f/lib/site_perl/5.39.6/HTTP/Message/PSGI.pm line 157
	HTTP::Response::from_psgi("HTTP::Response", CODE(0x55f47a55e9b0)) called at /home/sand/src/perl/repoperls/installed-perls/host/k93jammy/v5.39.6/322f/lib/site_perl/5.39.6/Plack/Test/MockHTTP.pm line 24
	Plack::Test::MockHTTP::try {...} () called at /home/sand/src/perl/repoperls/installed-perls/host/k93jammy/v5.39.6/322f/lib/site_perl/5.39.6/Try/Tiny.pm line 100
	eval {...} called at /home/sand/src/perl/repoperls/installed-perls/host/k93jammy/v5.39.6/322f/lib/site_perl/5.39.6/Try/Tiny.pm line 93
	Try::Tiny::try(CODE(0x55f47a59a2a0), Try::Tiny::Catch=REF(0x55f47a4733e8)) called at /home/sand/src/perl/repoperls/installed-perls/host/k93jammy/v5.39.6/322f/lib/site_perl/5.39.6/Plack/Test/MockHTTP.pm line 27
	Plack::Test::MockHTTP::request(Plack::Test::MockHTTP=HASH(0x55f47a487308), HTTP::Request=HASH(0x55f47a486ee8)) called at /home/sand/src/perl/repoperls/installed-perls/host/k93jammy/v5.39.6/322f/lib/site_perl/5.39.6/Plack/Test.pm line 38
	Plack::Test::__ANON__(HTTP::Request=HASH(0x55f47a486ee8)) called at /home/sand/src/perl/repoperls/installed-perls/host/k93jammy/v5.39.6/322f/lib/site_perl/5.39.6/Catalyst/Test.pm line 290
	Catalyst::Test::__ANON__(CODE(0x55f47a4872c0)) called at /home/sand/src/perl/repoperls/installed-perls/host/k93jammy/v5.39.6/322f/lib/site_perl/5.39.6/Plack/Test.pm line 38
	Plack::Test::test_psgi("mangle_response", CODE(0x55f4743541c8), "app", CODE(0x55f47a486af8), "app", CODE(0x55f47a4815c8), "client", CODE(0x55f47a487158)) called at /home/sand/src/perl/repoperls/installed-perls/host/k93jammy/v5.39.6/322f/lib/site_perl/5.39.6/Catalyst/Test.pm line 293
	Catalyst::Test::_request(HASH(0x55f47297b670), "/") called at /home/sand/src/perl/repoperls/installed-perls/host/k93jammy/v5.39.6/322f/lib/site_perl/5.39.6/Catalyst/Test.pm line 336
	Catalyst::Test::_local_request("ComponentUI", "/") called at /home/sand/src/perl/repoperls/installed-perls/host/k93jammy/v5.39.6/322f/lib/site_perl/5.39.6/Catalyst/Test.pm line 32
	Catalyst::Test::__ANON__("/") called at t/01app.t line 10
Class::MOP::is_class_loaded is deprecated at /home/sand/src/perl/repoperls/installed-perls/host/k93jammy/v5.39.6/322f/lib/site_perl/5.39.6/x86_64-linux-thread-multi-ld/Class/MOP.pm line 87.
	Class::MOP::is_class_loaded("ComponentUI::UI::Widget::SiteLayout") called at /tmp/loop_over_bdir-736987-_wdjIk/Reaction-0.002005-0/blib/lib/Reaction/UI/Skin.pm line 178
	Reaction::UI::Skin::widget_class_for(Reaction::UI::Skin=HASH(0x55f47a5f2e90), Reaction::UI::LayoutSet::TT=HASH(0x55f47a6469d0)) called at /tmp/loop_over_bdir-736987-_wdjIk/Reaction-0.002005-0/blib/lib/Reaction/UI/LayoutSet.pm line 29
	Reaction::UI::LayoutSet::BUILD(Reaction::UI::LayoutSet::TT=HASH(0x55f47a6469d0), HASH(0x55f47a6469b8)) called at constructor Reaction::UI::LayoutSet::TT::new (defined at /tmp/loop_over_bdir-736987-_wdjIk/Reaction-0.002005-0/blib/lib/Reaction/UI/LayoutSet/TT.pm line 43) line 80
	Reaction::UI::LayoutSet::TT::new("Reaction::UI::LayoutSet::TT", "name", "site_layout", "skin", Reaction::UI::Skin=HASH(0x55f47a5f2e90), "tt_object", Template=HASH(0x55f4791abab8), "source_file", ...) called at /tmp/loop_over_bdir-736987-_wdjIk/Reaction-0.002005-0/blib/lib/Reaction/UI/Skin.pm line 115
	Reaction::UI::Skin::_create_layout_set(Reaction::UI::Skin=HASH(0x55f47a5f2e90), "site_layout", ARRAY(0x55f47a645ef8), Reaction::UI::Skin=HASH(0x55f47a5f2e90)) called at /tmp/loop_over_bdir-736987-_wdjIk/Reaction-0.002005-0/blib/lib/Reaction/UI/Skin.pm line 110
	Reaction::UI::Skin::create_layout_set(Reaction::UI::Skin=HASH(0x55f47a5f2e90), "site_layout") called at /tmp/loop_over_bdir-736987-_wdjIk/Reaction-0.002005-0/blib/lib/Reaction/UI/LayoutSet.pm line 83
	Reaction::UI::LayoutSet::_load_file(Reaction::UI::LayoutSet::TT=HASH(0x55f47a639480), Path::Class::File=HASH(0x55f47a5e1f60), HASH(0x55f47a5dbc30)) called at /tmp/loop_over_bdir-736987-_wdjIk/Reaction-0.002005-0/blib/lib/Reaction/UI/LayoutSet.pm line 27
	Reaction::UI::LayoutSet::BUILD(Reaction::UI::LayoutSet::TT=HASH(0x55f47a639480), HASH(0x55f47a5dbc30)) called at constructor Reaction::UI::LayoutSet::TT::new (defined at /tmp/loop_over_bdir-736987-_wdjIk/Reaction-0.002005-0/blib/lib/Reaction/UI/LayoutSet/TT.pm line 43) line 80
	Reaction::UI::LayoutSet::TT::new("Reaction::UI::LayoutSet::TT", "name", "site_layout", "skin", Reaction::UI::Skin=HASH(0x55f47a629a58), "next_skin", Reaction::UI::Skin=HASH(0x55f47a5f2e90), "tt_object", ...) called at /tmp/loop_over_bdir-736987-_wdjIk/Reaction-0.002005-0/blib/lib/Reaction/UI/Skin.pm line 115
	Reaction::UI::Skin::_create_layout_set(Reaction::UI::Skin=HASH(0x55f47a629a58), "site_layout", ARRAY(0x55f47a5f3868), Reaction::UI::Skin=HASH(0x55f47a629a58)) called at /tmp/loop_over_bdir-736987-_wdjIk/Reaction-0.002005-0/blib/lib/Reaction/UI/Skin.pm line 110
	Reaction::UI::Skin::create_layout_set(Reaction::UI::Skin=HASH(0x55f47a629a58), "site_layout") called at /tmp/loop_over_bdir-736987-_wdjIk/Reaction-0.002005-0/blib/lib/Reaction/UI/LayoutSet.pm line 83
	Reaction::UI::LayoutSet::_load_file(Reaction::UI::LayoutSet::TT=HASH(0x55f47a5e00e0), Path::Class::File=HASH(0x55f47a0bd6b0), HASH(0x55f47a5caf00)) called at /tmp/loop_over_bdir-736987-_wdjIk/Reaction-0.002005-0/blib/lib/Reaction/UI/LayoutSet.pm line 27
	Reaction::UI::LayoutSet::BUILD(Reaction::UI::LayoutSet::TT=HASH(0x55f47a5e00e0), HASH(0x55f47a5caf00)) called at constructor Reaction::UI::LayoutSet::TT::new (defined at /tmp/loop_over_bdir-736987-_wdjIk/Reaction-0.002005-0/blib/lib/Reaction/UI/LayoutSet/TT.pm line 43) line 80
	Reaction::UI::LayoutSet::TT::new("Reaction::UI::LayoutSet::TT", "name", "site_layout", "skin", Reaction::UI::Skin=HASH(0x55f47a5cb1e8), "next_skin", Reaction::UI::Skin=HASH(0x55f47a629a58), "tt_object", ...) called at /tmp/loop_over_bdir-736987-_wdjIk/Reaction-0.002005-0/blib/lib/Reaction/UI/Skin.pm line 115
	Reaction::UI::Skin::_create_layout_set(Reaction::UI::Skin=HASH(0x55f47a5cb1e8), "site_layout", ARRAY(0x55f47a5f0ff8), Reaction::UI::Skin=HASH(0x55f47a5cb1e8)) called at /tmp/loop_over_bdir-736987-_wdjIk/Reaction-0.002005-0/blib/lib/Reaction/UI/Skin.pm line 110
	Reaction::UI::Skin::create_layout_set(Reaction::UI::Skin=HASH(0x55f47a5cb1e8), "site_layout") called at inline delegation in Reaction::UI::View for skin->create_layout_set (attribute declared in /tmp/loop_over_bdir-736987-_wdjIk/Reaction-0.002005-0/blib/lib/Reaction/UI/View.pm at line 22) line 18
	Reaction::UI::View::create_layout_set(ComponentUI::View::Site=HASH(0x55f47604f068), "site_layout") called at /tmp/loop_over_bdir-736987-_wdjIk/Reaction-0.002005-0/blib/lib/Reaction/UI/View.pm line 99
	Reaction::UI::View::layout_set_for(ComponentUI::View::Site=HASH(0x55f47604f068), Reaction::UI::ViewPort::SiteLayout=HASH(0x55f47a5ca6f0)) called at /tmp/loop_over_bdir-736987-_wdjIk/Reaction-0.002005-0/blib/lib/Reaction/UI/View.pm line 78
	Reaction::UI::View::render_viewport_args(ComponentUI::View::Site=HASH(0x55f47604f068), Reaction::UI::ViewPort::SiteLayout=HASH(0x55f47a5ca6f0)) called at /tmp/loop_over_bdir-736987-_wdjIk/Reaction-0.002005-0/blib/lib/Reaction/UI/View.pm line 61
	Reaction::UI::View::render_window(ComponentUI::View::Site=HASH(0x55f47604f068), Reaction::UI::Window=HASH(0x55f47a5c8e98)) called at /tmp/loop_over_bdir-736987-_wdjIk/Reaction-0.002005-0/blib/lib/Reaction/UI/Window.pm line 74
	Reaction::UI::Window::flush_view(Reaction::UI::Window=HASH(0x55f47a5c8e98)) called at /tmp/loop_over_bdir-736987-_wdjIk/Reaction-0.002005-0/blib/lib/Reaction/UI/Window.pm line 36
	Reaction::UI::Window::flush(Reaction::UI::Window=HASH(0x55f47a5c8e98)) called at /tmp/loop_over_bdir-736987-_wdjIk/Reaction-0.002005-0/blib/lib/Reaction/UI/Controller/Root.pm line 38
	Reaction::UI::Controller::Root::end(ComponentUI::Controller::Root=HASH(0x55f47a567d30), ComponentUI=HASH(0x55f47a570338)) called at /home/sand/src/perl/repoperls/installed-perls/host/k93jammy/v5.39.6/322f/lib/site_perl/5.39.6/Catalyst/Action.pm line 374
	Catalyst::Action::execute(Catalyst::Action=HASH(0x55f47a3a5ac8), ComponentUI::Controller::Root=HASH(0x55f47a567d30), ComponentUI=HASH(0x55f47a570338)) called at /home/sand/src/perl/repoperls/installed-perls/host/k93jammy/v5.39.6/322f/lib/site_perl/5.39.6/Catalyst.pm line 2067
	eval {...} called at /home/sand/src/perl/repoperls/installed-perls/host/k93jammy/v5.39.6/322f/lib/site_perl/5.39.6/Catalyst.pm line 2067
	Catalyst::execute(ComponentUI=HASH(0x55f47a570338), "ComponentUI::Controller::Root", Catalyst::Action=HASH(0x55f47a3a5ac8)) called at /home/sand/src/perl/repoperls/installed-perls/host/k93jammy/v5.39.6/322f/lib/site_perl/5.39.6/Catalyst/Action.pm line 368
	Catalyst::Action::dispatch(Catalyst::Action=HASH(0x55f47a3a5ac8), ComponentUI=HASH(0x55f47a570338)) called at /home/sand/src/perl/repoperls/installed-perls/host/k93jammy/v5.39.6/322f/lib/site_perl/5.39.6/Catalyst/Controller.pm line 188
	Catalyst::Controller::_END(ComponentUI::Controller::Root=HASH(0x55f47a567d30), ComponentUI=HASH(0x55f47a570338)) called at /home/sand/src/perl/repoperls/installed-perls/host/k93jammy/v5.39.6/322f/lib/site_perl/5.39.6/Catalyst/Action.pm line 374
	Catalyst::Action::execute(Catalyst::Action=HASH(0x55f47a3a58d0), ComponentUI::Controller::Root=HASH(0x55f47a567d30), ComponentUI=HASH(0x55f47a570338)) called at /home/sand/src/perl/repoperls/installed-perls/host/k93jammy/v5.39.6/322f/lib/site_perl/5.39.6/Catalyst.pm line 2067
	eval {...} called at /home/sand/src/perl/repoperls/installed-perls/host/k93jammy/v5.39.6/322f/lib/site_perl/5.39.6/Catalyst.pm line 2067
	Catalyst::execute(ComponentUI=HASH(0x55f47a570338), "ComponentUI::Controller::Root", Catalyst::Action=HASH(0x55f47a3a58d0)) called at /home/sand/src/perl/repoperls/installed-perls/host/k93jammy/v5.39.6/322f/lib/site_perl/5.39.6/Catalyst/Action.pm line 368
	Catalyst::Action::dispatch(Catalyst::Action=HASH(0x55f47a3a58d0), ComponentUI=HASH(0x55f47a570338)) called at /home/sand/src/perl/repoperls/installed-perls/host/k93jammy/v5.39.6/322f/lib/site_perl/5.39.6/Catalyst/Dispatcher.pm line 261
	Catalyst::Dispatcher::_do_forward(Catalyst::Dispatcher=HASH(0x55f474b5e568), "forward", ComponentUI=HASH(0x55f47a570338), "_END") called at /home/sand/src/perl/repoperls/installed-perls/host/k93jammy/v5.39.6/322f/lib/site_perl/5.39.6/Catalyst/Dispatcher.pm line 241
	Catalyst::Dispatcher::forward(Catalyst::Dispatcher=HASH(0x55f474b5e568), ComponentUI=HASH(0x55f47a570338), "_END") called at /home/sand/src/perl/repoperls/installed-perls/host/k93jammy/v5.39.6/322f/lib/site_perl/5.39.6/Catalyst.pm line 489
	Catalyst::forward(ComponentUI=HASH(0x55f47a570338), "_END") called at /home/sand/src/perl/repoperls/installed-perls/host/k93jammy/v5.39.6/322f/lib/site_perl/5.39.6/Catalyst/Controller.pm line 137
	Catalyst::Controller::_DISPATCH(ComponentUI::Controller::Root=HASH(0x55f47a567d30), ComponentUI=HASH(0x55f47a570338)) called at /home/sand/src/perl/repoperls/installed-perls/host/k93jammy/v5.39.6/322f/lib/site_perl/5.39.6/Catalyst/Action.pm line 374
	Catalyst::Action::execute(Catalyst::Action=HASH(0x55f47a3a59c0), ComponentUI::Controller::Root=HASH(0x55f47a567d30), ComponentUI=HASH(0x55f47a570338)) called at /home/sand/src/perl/repoperls/installed-perls/host/k93jammy/v5.39.6/322f/lib/site_perl/5.39.6/Catalyst.pm line 2067
	eval {...} called at /home/sand/src/perl/repoperls/installed-perls/host/k93jammy/v5.39.6/322f/lib/site_perl/5.39.6/Catalyst.pm line 2067
	Catalyst::execute(ComponentUI=HASH(0x55f47a570338), "ComponentUI::Controller::Root", Catalyst::Action=HASH(0x55f47a3a59c0)) called at /home/sand/src/perl/repoperls/installed-perls/host/k93jammy/v5.39.6/322f/lib/site_perl/5.39.6/Catalyst/Action.pm line 368
	Catalyst::Action::dispatch(Catalyst::Action=HASH(0x55f47a3a59c0), ComponentUI=HASH(0x55f47a570338)) called at /home/sand/src/perl/repoperls/installed-perls/host/k93jammy/v5.39.6/322f/lib/site_perl/5.39.6/Catalyst/Dispatcher.pm line 261
	Catalyst::Dispatcher::_do_forward(Catalyst::Dispatcher=HASH(0x55f474b5e568), "forward", ComponentUI=HASH(0x55f47a570338), "//_DISPATCH") called at /home/sand/src/perl/repoperls/installed-perls/host/k93jammy/v5.39.6/322f/lib/site_perl/5.39.6/Catalyst/Dispatcher.pm line 241
	Catalyst::Dispatcher::forward(Catalyst::Dispatcher=HASH(0x55f474b5e568), ComponentUI=HASH(0x55f47a570338), "//_DISPATCH") called at /home/sand/src/perl/repoperls/installed-perls/host/k93jammy/v5.39.6/322f/lib/site_perl/5.39.6/Catalyst.pm line 489
	Catalyst::forward(ComponentUI=HASH(0x55f47a570338), "//_DISPATCH") called at /home/sand/src/perl/repoperls/installed-perls/host/k93jammy/v5.39.6/322f/lib/site_perl/5.39.6/Catalyst/Dispatcher.pm line 107
	Catalyst::Dispatcher::dispatch(Catalyst::Dispatcher=HASH(0x55f474b5e568), ComponentUI=HASH(0x55f47a570338)) called at /home/sand/src/perl/repoperls/installed-perls/host/k93jammy/v5.39.6/322f/lib/site_perl/5.39.6/Catalyst.pm line 2013
	Catalyst::dispatch(ComponentUI=HASH(0x55f47a570338)) called at /home/sand/src/perl/repoperls/installed-perls/host/k93jammy/v5.39.6/322f/lib/site_perl/5.39.6/Catalyst/Plugin/Static/Simple.pm line 85
	Class::MOP::Class:::around(CODE(0x55f4750a06d8), ComponentUI=HASH(0x55f47a570338)) called at /home/sand/src/perl/repoperls/installed-perls/host/k93jammy/v5.39.6/322f/lib/site_perl/5.39.6/x86_64-linux-thread-multi-ld/Class/MOP/Method/Wrapped.pm line 166
	ComponentUI::_wrapped_dispatch(ComponentUI=HASH(0x55f47a570338)) called at /home/sand/src/perl/repoperls/installed-perls/host/k93jammy/v5.39.6/322f/lib/site_perl/5.39.6/x86_64-linux-thread-multi-ld/Class/MOP/Method/Wrapped.pm line 97
	ComponentUI::dispatch(ComponentUI=HASH(0x55f47a570338)) called at /home/sand/src/perl/repoperls/installed-perls/host/k93jammy/v5.39.6/322f/lib/site_perl/5.39.6/Catalyst.pm line 2419
	Catalyst::try {...} () called at /home/sand/src/perl/repoperls/installed-perls/host/k93jammy/v5.39.6/322f/lib/site_perl/5.39.6/Try/Tiny.pm line 102
	eval {...} called at /home/sand/src/perl/repoperls/installed-perls/host/k93jammy/v5.39.6/322f/lib/site_perl/5.39.6/Try/Tiny.pm line 93
	Try::Tiny::try(CODE(0x55f47a55ef98), Try::Tiny::Catch=REF(0x55f47a55eda0)) called at /home/sand/src/perl/repoperls/installed-perls/host/k93jammy/v5.39.6/322f/lib/site_perl/5.39.6/Catalyst.pm line 2428
	Catalyst::handle_request("ComponentUI", "env", HASH(0x55f47a5adc48), "response_cb", CODE(0x55f47a55ee00)) called at /home/sand/src/perl/repoperls/installed-perls/host/k93jammy/v5.39.6/322f/lib/site_perl/5.39.6/Catalyst/Engine.pm line 807
	Catalyst::Engine::__ANON__(CODE(0x55f47a55ee00)) called at /home/sand/src/perl/repoperls/installed-perls/host/k93jammy/v5.39.6/322f/lib/site_perl/5.39.6/Plack/Middleware/HTTPExceptions.pm line 32
	Plack::Middleware::HTTPExceptions::try {...} () called at /home/sand/src/perl/repoperls/installed-perls/host/k93jammy/v5.39.6/322f/lib/site_perl/5.39.6/Try/Tiny.pm line 102
	eval {...} called at /home/sand/src/perl/repoperls/installed-perls/host/k93jammy/v5.39.6/322f/lib/site_perl/5.39.6/Try/Tiny.pm line 93
	Try::Tiny::try(CODE(0x55f47a55ec38), Try::Tiny::Catch=REF(0x55f47a55e488)) called at /home/sand/src/perl/repoperls/installed-perls/host/k93jammy/v5.39.6/322f/lib/site_perl/5.39.6/Plack/Middleware/HTTPExceptions.pm line 41
	Plack::Middleware::HTTPExceptions::__ANON__(CODE(0x55f47a55e248)) called at /home/sand/src/perl/repoperls/installed-perls/host/k93jammy/v5.39.6/322f/lib/site_perl/5.39.6/Plack/Util.pm line 339
	Plack::Util::__ANON__(CODE(0x55f4729bc760)) called at /home/sand/src/perl/repoperls/installed-perls/host/k93jammy/v5.39.6/322f/lib/site_perl/5.39.6/Plack/Util.pm line 339
	Plack::Util::__ANON__(CODE(0x55f4729bc070)) called at /home/sand/src/perl/repoperls/installed-perls/host/k93jammy/v5.39.6/322f/lib/site_perl/5.39.6/Plack/Util.pm line 339
	Plack::Util::__ANON__(CODE(0x55f4729bbff8)) called at /home/sand/src/perl/repoperls/installed-perls/host/k93jammy/v5.39.6/322f/lib/site_perl/5.39.6/HTTP/Message/PSGI.pm line 100
	HTTP::Message::PSGI::res_from_psgi(CODE(0x55f47a55e9b0)) called at /home/sand/src/perl/repoperls/installed-perls/host/k93jammy/v5.39.6/322f/lib/site_perl/5.39.6/HTTP/Message/PSGI.pm line 157
	HTTP::Response::from_psgi("HTTP::Response", CODE(0x55f47a55e9b0)) called at /home/sand/src/perl/repoperls/installed-perls/host/k93jammy/v5.39.6/322f/lib/site_perl/5.39.6/Plack/Test/MockHTTP.pm line 24
	Plack::Test::MockHTTP::try {...} () called at /home/sand/src/perl/repoperls/installed-perls/host/k93jammy/v5.39.6/322f/lib/site_perl/5.39.6/Try/Tiny.pm line 100
	eval {...} called at /home/sand/src/perl/repoperls/installed-perls/host/k93jammy/v5.39.6/322f/lib/site_perl/5.39.6/Try/Tiny.pm line 93
	Try::Tiny::try(CODE(0x55f47a59a2a0), Try::Tiny::Catch=REF(0x55f47a4733e8)) called at /home/sand/src/perl/repoperls/installed-perls/host/k93jammy/v5.39.6/322f/lib/site_perl/5.39.6/Plack/Test/MockHTTP.pm line 27
	Plack::Test::MockHTTP::request(Plack::Test::MockHTTP=HASH(0x55f47a487308), HTTP::Request=HASH(0x55f47a486ee8)) called at /home/sand/src/perl/repoperls/installed-perls/host/k93jammy/v5.39.6/322f/lib/site_perl/5.39.6/Plack/Test.pm line 38
	Plack::Test::__ANON__(HTTP::Request=HASH(0x55f47a486ee8)) called at /home/sand/src/perl/repoperls/installed-perls/host/k93jammy/v5.39.6/322f/lib/site_perl/5.39.6/Catalyst/Test.pm line 290
	Catalyst::Test::__ANON__(CODE(0x55f47a4872c0)) called at /home/sand/src/perl/repoperls/installed-perls/host/k93jammy/v5.39.6/322f/lib/site_perl/5.39.6/Plack/Test.pm line 38
	Plack::Test::test_psgi("mangle_response", CODE(0x55f4743541c8), "app", CODE(0x55f47a486af8), "app", CODE(0x55f47a4815c8), "client", CODE(0x55f47a487158)) called at /home/sand/src/perl/repoperls/installed-perls/host/k93jammy/v5.39.6/322f/lib/site_perl/5.39.6/Catalyst/Test.pm line 293
	Catalyst::Test::_request(HASH(0x55f47297b670), "/") called at /home/sand/src/perl/repoperls/installed-perls/host/k93jammy/v5.39.6/322f/lib/site_perl/5.39.6/Catalyst/Test.pm line 336
	Catalyst::Test::_local_request("ComponentUI", "/") called at /home/sand/src/perl/repoperls/installed-perls/host/k93jammy/v5.39.6/322f/lib/site_perl/5.39.6/Catalyst/Test.pm line 32
	Catalyst::Test::__ANON__("/") called at t/01app.t line 10
Class::MOP::load_class is deprecated at /home/sand/src/perl/repoperls/installed-perls/host/k93jammy/v5.39.6/322f/lib/site_perl/5.39.6/x86_64-linux-thread-multi-ld/Class/MOP.pm line 69.
	Class::MOP::load_class("Reaction::UI::Widget::SiteLayout") called at /tmp/loop_over_bdir-736987-_wdjIk/Reaction-0.002005-0/blib/lib/Reaction/UI/Skin.pm line 181
	eval {...} called at /tmp/loop_over_bdir-736987-_wdjIk/Reaction-0.002005-0/blib/lib/Reaction/UI/Skin.pm line 181
	Reaction::UI::Skin::widget_class_for(Reaction::UI::Skin=HASH(0x55f47a5f2e90), Reaction::UI::LayoutSet::TT=HASH(0x55f47a6469d0)) called at /tmp/loop_over_bdir-736987-_wdjIk/Reaction-0.002005-0/blib/lib/Reaction/UI/LayoutSet.pm line 29
	Reaction::UI::LayoutSet::BUILD(Reaction::UI::LayoutSet::TT=HASH(0x55f47a6469d0), HASH(0x55f47a6469b8)) called at constructor Reaction::UI::LayoutSet::TT::new (defined at /tmp/loop_over_bdir-736987-_wdjIk/Reaction-0.002005-0/blib/lib/Reaction/UI/LayoutSet/TT.pm line 43) line 80
	Reaction::UI::LayoutSet::TT::new("Reaction::UI::LayoutSet::TT", "name", "site_layout", "skin", Reaction::UI::Skin=HASH(0x55f47a5f2e90), "tt_object", Template=HASH(0x55f4791abab8), "source_file", ...) called at /tmp/loop_over_bdir-736987-_wdjIk/Reaction-0.002005-0/blib/lib/Reaction/UI/Skin.pm line 115
	Reaction::UI::Skin::_create_layout_set(Reaction::UI::Skin=HASH(0x55f47a5f2e90), "site_layout", ARRAY(0x55f47a645ef8), Reaction::UI::Skin=HASH(0x55f47a5f2e90)) called at /tmp/loop_over_bdir-736987-_wdjIk/Reaction-0.002005-0/blib/lib/Reaction/UI/Skin.pm line 110
	Reaction::UI::Skin::create_layout_set(Reaction::UI::Skin=HASH(0x55f47a5f2e90), "site_layout") called at /tmp/loop_over_bdir-736987-_wdjIk/Reaction-0.002005-0/blib/lib/Reaction/UI/LayoutSet.pm line 83
	Reaction::UI::LayoutSet::_load_file(Reaction::UI::LayoutSet::TT=HASH(0x55f47a639480), Path::Class::File=HASH(0x55f47a5e1f60), HASH(0x55f47a5dbc30)) called at /tmp/loop_over_bdir-736987-_wdjIk/Reaction-0.002005-0/blib/lib/Reaction/UI/LayoutSet.pm line 27
	Reaction::UI::LayoutSet::BUILD(Reaction::UI::LayoutSet::TT=HASH(0x55f47a639480), HASH(0x55f47a5dbc30)) called at constructor Reaction::UI::LayoutSet::TT::new (defined at /tmp/loop_over_bdir-736987-_wdjIk/Reaction-0.002005-0/blib/lib/Reaction/UI/LayoutSet/TT.pm line 43) line 80
	Reaction::UI::LayoutSet::TT::new("Reaction::UI::LayoutSet::TT", "name", "site_layout", "skin", Reaction::UI::Skin=HASH(0x55f47a629a58), "next_skin", Reaction::UI::Skin=HASH(0x55f47a5f2e90), "tt_object", ...) called at /tmp/loop_over_bdir-736987-_wdjIk/Reaction-0.002005-0/blib/lib/Reaction/UI/Skin.pm line 115
	Reaction::UI::Skin::_create_layout_set(Reaction::UI::Skin=HASH(0x55f47a629a58), "site_layout", ARRAY(0x55f47a5f3868), Reaction::UI::Skin=HASH(0x55f47a629a58)) called at /tmp/loop_over_bdir-736987-_wdjIk/Reaction-0.002005-0/blib/lib/Reaction/UI/Skin.pm line 110
	Reaction::UI::Skin::create_layout_set(Reaction::UI::Skin=HASH(0x55f47a629a58), "site_layout") called at /tmp/loop_over_bdir-736987-_wdjIk/Reaction-0.002005-0/blib/lib/Reaction/UI/LayoutSet.pm line 83
	Reaction::UI::LayoutSet::_load_file(Reaction::UI::LayoutSet::TT=HASH(0x55f47a5e00e0), Path::Class::File=HASH(0x55f47a0bd6b0), HASH(0x55f47a5caf00)) called at /tmp/loop_over_bdir-736987-_wdjIk/Reaction-0.002005-0/blib/lib/Reaction/UI/LayoutSet.pm line 27
	Reaction::UI::LayoutSet::BUILD(Reaction::UI::LayoutSet::TT=HASH(0x55f47a5e00e0), HASH(0x55f47a5caf00)) called at constructor Reaction::UI::LayoutSet::TT::new (defined at /tmp/loop_over_bdir-736987-_wdjIk/Reaction-0.002005-0/blib/lib/Reaction/UI/LayoutSet/TT.pm line 43) line 80
	Reaction::UI::LayoutSet::TT::new("Reaction::UI::LayoutSet::TT", "name", "site_layout", "skin", Reaction::UI::Skin=HASH(0x55f47a5cb1e8), "next_skin", Reaction::UI::Skin=HASH(0x55f47a629a58), "tt_object", ...) called at /tmp/loop_over_bdir-736987-_wdjIk/Reaction-0.002005-0/blib/lib/Reaction/UI/Skin.pm line 115
	Reaction::UI::Skin::_create_layout_set(Reaction::UI::Skin=HASH(0x55f47a5cb1e8), "site_layout", ARRAY(0x55f47a5f0ff8), Reaction::UI::Skin=HASH(0x55f47a5cb1e8)) called at /tmp/loop_over_bdir-736987-_wdjIk/Reaction-0.002005-0/blib/lib/Reaction/UI/Skin.pm line 110
	Reaction::UI::Skin::create_layout_set(Reaction::UI::Skin=HASH(0x55f47a5cb1e8), "site_layout") called at inline delegation in Reaction::UI::View for skin->create_layout_set (attribute declared in /tmp/loop_over_bdir-736987-_wdjIk/Reaction-0.002005-0/blib/lib/Reaction/UI/View.pm at line 22) line 18
	Reaction::UI::View::create_layout_set(ComponentUI::View::Site=HASH(0x55f47604f068), "site_layout") called at /tmp/loop_over_bdir-736987-_wdjIk/Reaction-0.002005-0/blib/lib/Reaction/UI/View.pm line 99
	Reaction::UI::View::layout_set_for(ComponentUI::View::Site=HASH(0x55f47604f068), Reaction::UI::ViewPort::SiteLayout=HASH(0x55f47a5ca6f0)) called at /tmp/loop_over_bdir-736987-_wdjIk/Reaction-0.002005-0/blib/lib/Reaction/UI/View.pm line 78
	Reaction::UI::View::render_viewport_args(ComponentUI::View::Site=HASH(0x55f47604f068), Reaction::UI::ViewPort::SiteLayout=HASH(0x55f47a5ca6f0)) called at /tmp/loop_over_bdir-736987-_wdjIk/Reaction-0.002005-0/blib/lib/Reaction/UI/View.pm line 61
	Reaction::UI::View::render_window(ComponentUI::View::Site=HASH(0x55f47604f068), Reaction::UI::Window=HASH(0x55f47a5c8e98)) called at /tmp/loop_over_bdir-736987-_wdjIk/Reaction-0.002005-0/blib/lib/Reaction/UI/Window.pm line 74
	Reaction::UI::Window::flush_view(Reaction::UI::Window=HASH(0x55f47a5c8e98)) called at /tmp/loop_over_bdir-736987-_wdjIk/Reaction-0.002005-0/blib/lib/Reaction/UI/Window.pm line 36
	Reaction::UI::Window::flush(Reaction::UI::Window=HASH(0x55f47a5c8e98)) called at /tmp/loop_over_bdir-736987-_wdjIk/Reaction-0.002005-0/blib/lib/Reaction/UI/Controller/Root.pm line 38
	Reaction::UI::Controller::Root::end(ComponentUI::Controller::Root=HASH(0x55f47a567d30), ComponentUI=HASH(0x55f47a570338)) called at /home/sand/src/perl/repoperls/installed-perls/host/k93jammy/v5.39.6/322f/lib/site_perl/5.39.6/Catalyst/Action.pm line 374
	Catalyst::Action::execute(Catalyst::Action=HASH(0x55f47a3a5ac8), ComponentUI::Controller::Root=HASH(0x55f47a567d30), ComponentUI=HASH(0x55f47a570338)) called at /home/sand/src/perl/repoperls/installed-perls/host/k93jammy/v5.39.6/322f/lib/site_perl/5.39.6/Catalyst.pm line 2067
	eval {...} called at /home/sand/src/perl/repoperls/installed-perls/host/k93jammy/v5.39.6/322f/lib/site_perl/5.39.6/Catalyst.pm line 2067
	Catalyst::execute(ComponentUI=HASH(0x55f47a570338), "ComponentUI::Controller::Root", Catalyst::Action=HASH(0x55f47a3a5ac8)) called at /home/sand/src/perl/repoperls/installed-perls/host/k93jammy/v5.39.6/322f/lib/site_perl/5.39.6/Catalyst/Action.pm line 368
	Catalyst::Action::dispatch(Catalyst::Action=HASH(0x55f47a3a5ac8), ComponentUI=HASH(0x55f47a570338)) called at /home/sand/src/perl/repoperls/installed-perls/host/k93jammy/v5.39.6/322f/lib/site_perl/5.39.6/Catalyst/Controller.pm line 188
	Catalyst::Controller::_END(ComponentUI::Controller::Root=HASH(0x55f47a567d30), ComponentUI=HASH(0x55f47a570338)) called at /home/sand/src/perl/repoperls/installed-perls/host/k93jammy/v5.39.6/322f/lib/site_perl/5.39.6/Catalyst/Action.pm line 374
	Catalyst::Action::execute(Catalyst::Action=HASH(0x55f47a3a58d0), ComponentUI::Controller::Root=HASH(0x55f47a567d30), ComponentUI=HASH(0x55f47a570338)) called at /home/sand/src/perl/repoperls/installed-perls/host/k93jammy/v5.39.6/322f/lib/site_perl/5.39.6/Catalyst.pm line 2067
	eval {...} called at /home/sand/src/perl/repoperls/installed-perls/host/k93jammy/v5.39.6/322f/lib/site_perl/5.39.6/Catalyst.pm line 2067
	Catalyst::execute(ComponentUI=HASH(0x55f47a570338), "ComponentUI::Controller::Root", Catalyst::Action=HASH(0x55f47a3a58d0)) called at /home/sand/src/perl/repoperls/installed-perls/host/k93jammy/v5.39.6/322f/lib/site_perl/5.39.6/Catalyst/Action.pm line 368
	Catalyst::Action::dispatch(Catalyst::Action=HASH(0x55f47a3a58d0), ComponentUI=HASH(0x55f47a570338)) called at /home/sand/src/perl/repoperls/installed-perls/host/k93jammy/v5.39.6/322f/lib/site_perl/5.39.6/Catalyst/Dispatcher.pm line 261
	Catalyst::Dispatcher::_do_forward(Catalyst::Dispatcher=HASH(0x55f474b5e568), "forward", ComponentUI=HASH(0x55f47a570338), "_END") called at /home/sand/src/perl/repoperls/installed-perls/host/k93jammy/v5.39.6/322f/lib/site_perl/5.39.6/Catalyst/Dispatcher.pm line 241
	Catalyst::Dispatcher::forward(Catalyst::Dispatcher=HASH(0x55f474b5e568), ComponentUI=HASH(0x55f47a570338), "_END") called at /home/sand/src/perl/repoperls/installed-perls/host/k93jammy/v5.39.6/322f/lib/site_perl/5.39.6/Catalyst.pm line 489
	Catalyst::forward(ComponentUI=HASH(0x55f47a570338), "_END") called at /home/sand/src/perl/repoperls/installed-perls/host/k93jammy/v5.39.6/322f/lib/site_perl/5.39.6/Catalyst/Controller.pm line 137
	Catalyst::Controller::_DISPATCH(ComponentUI::Controller::Root=HASH(0x55f47a567d30), ComponentUI=HASH(0x55f47a570338)) called at /home/sand/src/perl/repoperls/installed-perls/host/k93jammy/v5.39.6/322f/lib/site_perl/5.39.6/Catalyst/Action.pm line 374
	Catalyst::Action::execute(Catalyst::Action=HASH(0x55f47a3a59c0), ComponentUI::Controller::Root=HASH(0x55f47a567d30), ComponentUI=HASH(0x55f47a570338)) called at /home/sand/src/perl/repoperls/installed-perls/host/k93jammy/v5.39.6/322f/lib/site_perl/5.39.6/Catalyst.pm line 2067
	eval {...} called at /home/sand/src/perl/repoperls/installed-perls/host/k93jammy/v5.39.6/322f/lib/site_perl/5.39.6/Catalyst.pm line 2067
	Catalyst::execute(ComponentUI=HASH(0x55f47a570338), "ComponentUI::Controller::Root", Catalyst::Action=HASH(0x55f47a3a59c0)) called at /home/sand/src/perl/repoperls/installed-perls/host/k93jammy/v5.39.6/322f/lib/site_perl/5.39.6/Catalyst/Action.pm line 368
	Catalyst::Action::dispatch(Catalyst::Action=HASH(0x55f47a3a59c0), ComponentUI=HASH(0x55f47a570338)) called at /home/sand/src/perl/repoperls/installed-perls/host/k93jammy/v5.39.6/322f/lib/site_perl/5.39.6/Catalyst/Dispatcher.pm line 261
	Catalyst::Dispatcher::_do_forward(Catalyst::Dispatcher=HASH(0x55f474b5e568), "forward", ComponentUI=HASH(0x55f47a570338), "//_DISPATCH") called at /home/sand/src/perl/repoperls/installed-perls/host/k93jammy/v5.39.6/322f/lib/site_perl/5.39.6/Catalyst/Dispatcher.pm line 241
	Catalyst::Dispatcher::forward(Catalyst::Dispatcher=HASH(0x55f474b5e568), ComponentUI=HASH(0x55f47a570338), "//_DISPATCH") called at /home/sand/src/perl/repoperls/installed-perls/host/k93jammy/v5.39.6/322f/lib/site_perl/5.39.6/Catalyst.pm line 489
	Catalyst::forward(ComponentUI=HASH(0x55f47a570338), "//_DISPATCH") called at /home/sand/src/perl/repoperls/installed-perls/host/k93jammy/v5.39.6/322f/lib/site_perl/5.39.6/Catalyst/Dispatcher.pm line 107
	Catalyst::Dispatcher::dispatch(Catalyst::Dispatcher=HASH(0x55f474b5e568), ComponentUI=HASH(0x55f47a570338)) called at /home/sand/src/perl/repoperls/installed-perls/host/k93jammy/v5.39.6/322f/lib/site_perl/5.39.6/Catalyst.pm line 2013
	Catalyst::dispatch(ComponentUI=HASH(0x55f47a570338)) called at /home/sand/src/perl/repoperls/installed-perls/host/k93jammy/v5.39.6/322f/lib/site_perl/5.39.6/Catalyst/Plugin/Static/Simple.pm line 85
	Class::MOP::Class:::around(CODE(0x55f4750a06d8), ComponentUI=HASH(0x55f47a570338)) called at /home/sand/src/perl/repoperls/installed-perls/host/k93jammy/v5.39.6/322f/lib/site_perl/5.39.6/x86_64-linux-thread-multi-ld/Class/MOP/Method/Wrapped.pm line 166
	ComponentUI::_wrapped_dispatch(ComponentUI=HASH(0x55f47a570338)) called at /home/sand/src/perl/repoperls/installed-perls/host/k93jammy/v5.39.6/322f/lib/site_perl/5.39.6/x86_64-linux-thread-multi-ld/Class/MOP/Method/Wrapped.pm line 97
	ComponentUI::dispatch(ComponentUI=HASH(0x55f47a570338)) called at /home/sand/src/perl/repoperls/installed-perls/host/k93jammy/v5.39.6/322f/lib/site_perl/5.39.6/Catalyst.pm line 2419
	Catalyst::try {...} () called at /home/sand/src/perl/repoperls/installed-perls/host/k93jammy/v5.39.6/322f/lib/site_perl/5.39.6/Try/Tiny.pm line 102
	eval {...} called at /home/sand/src/perl/repoperls/installed-perls/host/k93jammy/v5.39.6/322f/lib/site_perl/5.39.6/Try/Tiny.pm line 93
	Try::Tiny::try(CODE(0x55f47a55ef98), Try::Tiny::Catch=REF(0x55f47a55eda0)) called at /home/sand/src/perl/repoperls/installed-perls/host/k93jammy/v5.39.6/322f/lib/site_perl/5.39.6/Catalyst.pm line 2428
	Catalyst::handle_request("ComponentUI", "env", HASH(0x55f47a5adc48), "response_cb", CODE(0x55f47a55ee00)) called at /home/sand/src/perl/repoperls/installed-perls/host/k93jammy/v5.39.6/322f/lib/site_perl/5.39.6/Catalyst/Engine.pm line 807
	Catalyst::Engine::__ANON__(CODE(0x55f47a55ee00)) called at /home/sand/src/perl/repoperls/installed-perls/host/k93jammy/v5.39.6/322f/lib/site_perl/5.39.6/Plack/Middleware/HTTPExceptions.pm line 32
	Plack::Middleware::HTTPExceptions::try {...} () called at /home/sand/src/perl/repoperls/installed-perls/host/k93jammy/v5.39.6/322f/lib/site_perl/5.39.6/Try/Tiny.pm line 102
	eval {...} called at /home/sand/src/perl/repoperls/installed-perls/host/k93jammy/v5.39.6/322f/lib/site_perl/5.39.6/Try/Tiny.pm line 93
	Try::Tiny::try(CODE(0x55f47a55ec38), Try::Tiny::Catch=REF(0x55f47a55e488)) called at /home/sand/src/perl/repoperls/installed-perls/host/k93jammy/v5.39.6/322f/lib/site_perl/5.39.6/Plack/Middleware/HTTPExceptions.pm line 41
	Plack::Middleware::HTTPExceptions::__ANON__(CODE(0x55f47a55e248)) called at /home/sand/src/perl/repoperls/installed-perls/host/k93jammy/v5.39.6/322f/lib/site_perl/5.39.6/Plack/Util.pm line 339
	Plack::Util::__ANON__(CODE(0x55f4729bc760)) called at /home/sand/src/perl/repoperls/installed-perls/host/k93jammy/v5.39.6/322f/lib/site_perl/5.39.6/Plack/Util.pm line 339
	Plack::Util::__ANON__(CODE(0x55f4729bc070)) called at /home/sand/src/perl/repoperls/installed-perls/host/k93jammy/v5.39.6/322f/lib/site_perl/5.39.6/Plack/Util.pm line 339
	Plack::Util::__ANON__(CODE(0x55f4729bbff8)) called at /home/sand/src/perl/repoperls/installed-perls/host/k93jammy/v5.39.6/322f/lib/site_perl/5.39.6/HTTP/Message/PSGI.pm line 100
	HTTP::Message::PSGI::res_from_psgi(CODE(0x55f47a55e9b0)) called at /home/sand/src/perl/repoperls/installed-perls/host/k93jammy/v5.39.6/322f/lib/site_perl/5.39.6/HTTP/Message/PSGI.pm line 157
	HTTP::Response::from_psgi("HTTP::Response", CODE(0x55f47a55e9b0)) called at /home/sand/src/perl/repoperls/installed-perls/host/k93jammy/v5.39.6/322f/lib/site_perl/5.39.6/Plack/Test/MockHTTP.pm line 24
	Plack::Test::MockHTTP::try {...} () called at /home/sand/src/perl/repoperls/installed-perls/host/k93jammy/v5.39.6/322f/lib/site_perl/5.39.6/Try/Tiny.pm line 100
	eval {...} called at /home/sand/src/perl/repoperls/installed-perls/host/k93jammy/v5.39.6/322f/lib/site_perl/5.39.6/Try/Tiny.pm line 93
	Try::Tiny::try(CODE(0x55f47a59a2a0), Try::Tiny::Catch=REF(0x55f47a4733e8)) called at /home/sand/src/perl/repoperls/installed-perls/host/k93jammy/v5.39.6/322f/lib/site_perl/5.39.6/Plack/Test/MockHTTP.pm line 27
	Plack::Test::MockHTTP::request(Plack::Test::MockHTTP=HASH(0x55f47a487308), HTTP::Request=HASH(0x55f47a486ee8)) called at /home/sand/src/perl/repoperls/installed-perls/host/k93jammy/v5.39.6/322f/lib/site_perl/5.39.6/Plack/Test.pm line 38
	Plack::Test::__ANON__(HTTP::Request=HASH(0x55f47a486ee8)) called at /home/sand/src/perl/repoperls/installed-perls/host/k93jammy/v5.39.6/322f/lib/site_perl/5.39.6/Catalyst/Test.pm line 290
	Catalyst::Test::__ANON__(CODE(0x55f47a4872c0)) called at /home/sand/src/perl/repoperls/installed-perls/host/k93jammy/v5.39.6/322f/lib/site_perl/5.39.6/Plack/Test.pm line 38
	Plack::Test::test_psgi("mangle_response", CODE(0x55f4743541c8), "app", CODE(0x55f47a486af8), "app", CODE(0x55f47a4815c8), "client", CODE(0x55f47a487158)) called at /home/sand/src/perl/repoperls/installed-perls/host/k93jammy/v5.39.6/322f/lib/site_perl/5.39.6/Catalyst/Test.pm line 293
	Catalyst::Test::_request(HASH(0x55f47297b670), "/") called at /home/sand/src/perl/repoperls/installed-perls/host/k93jammy/v5.39.6/322f/lib/site_perl/5.39.6/Catalyst/Test.pm line 336
	Catalyst::Test::_local_request("ComponentUI", "/") called at /home/sand/src/perl/repoperls/installed-perls/host/k93jammy/v5.39.6/322f/lib/site_perl/5.39.6/Catalyst/Test.pm line 32
	Catalyst::Test::__ANON__("/") called at t/01app.t line 10
[debug] remote
t/01app.t ................... ok
t/04load_all.t .............. ok
t/05reflect_attr_from.t ..... ok
Class::MOP::load_class is deprecated at /home/sand/src/perl/repoperls/installed-perls/host/k93jammy/v5.39.6/322f/lib/site_perl/5.39.6/x86_64-linux-thread-multi-ld/Class/MOP.pm line 69.
	Class::MOP::load_class("Reaction::InterfaceModel::Object") called at /tmp/loop_over_bdir-736987-_wdjIk/Reaction-0.002005-0/blib/lib/Reaction/InterfaceModel/Reflector/DBIC.pm line 149
	Reaction::InterfaceModel::Reflector::DBIC::reflect_schema(Reaction::InterfaceModel::Reflector::DBIC=HASH(0x559db2b9cf28), "model_class", "ComponentUI::TestModel", "schema_class", "RTest::TestDB", "sources", ARRAY(0x559db2bb9308)) called at /tmp/loop_over_bdir-736987-_wdjIk/Reaction-0.002005-0/blib/lib/ComponentUI/TestModel.pm line 10
	require ComponentUI/TestModel.pm called at t/lib/RTest/InterfaceModel/Reflector/DBIC.pm line 6
	RTest::InterfaceModel::Reflector::DBIC::BEGIN() called at t/lib/RTest/InterfaceModel/Reflector/DBIC.pm line 6
	eval {...} called at t/lib/RTest/InterfaceModel/Reflector/DBIC.pm line 6
	require RTest/InterfaceModel/Reflector/DBIC.pm called at t/im_dbic.t line 7
	main::BEGIN() called at t/im_dbic.t line 7
	eval {...} called at t/im_dbic.t line 7
Class::MOP::load_class is deprecated at /home/sand/src/perl/repoperls/installed-perls/host/k93jammy/v5.39.6/322f/lib/site_perl/5.39.6/x86_64-linux-thread-multi-ld/Class/MOP.pm line 69.
	Class::MOP::load_class("Reaction::InterfaceModel::Object") called at /tmp/loop_over_bdir-736987-_wdjIk/Reaction-0.002005-0/blib/lib/Reaction/Class.pm line 123
	Reaction::Class::do_class_sub("Reaction::Class", "ComponentUI::TestModel::Foo", "ComponentUI::TestModel::Foo", "is", "Reaction::InterfaceModel::Object", "which", CODE(0x559db42c6ab8)) called at /tmp/loop_over_bdir-736987-_wdjIk/Reaction-0.002005-0/blib/lib/Reaction/Class.pm line 86
	Reaction::Class::("ComponentUI::TestModel::Foo", "is", "Reaction::InterfaceModel::Object", "which", CODE(0x559db42c6ab8)) called at /tmp/loop_over_bdir-736987-_wdjIk/Reaction-0.002005-0/blib/lib/ComponentUI/TestModel/Foo.pm line 8
	require ComponentUI/TestModel/Foo.pm called at /home/sand/src/perl/repoperls/installed-perls/host/k93jammy/v5.39.6/322f/lib/site_perl/5.39.6/Module/Runtime.pm line 314
	Module::Runtime::require_module("ComponentUI::TestModel::Foo") called at /home/sand/src/perl/repoperls/installed-perls/host/k93jammy/v5.39.6/322f/lib/site_perl/5.39.6/Class/Load.pm line 174
	Class::Load::try {...} () called at /home/sand/src/perl/repoperls/installed-perls/host/k93jammy/v5.39.6/322f/lib/site_perl/5.39.6/Try/Tiny.pm line 98
	eval {...} called at /home/sand/src/perl/repoperls/installed-perls/host/k93jammy/v5.39.6/322f/lib/site_perl/5.39.6/Try/Tiny.pm line 93
	Try::Tiny::try(CODE(0x559db4183670), Try::Tiny::Catch=REF(0x559db42b1f10)) called at /home/sand/src/perl/repoperls/installed-perls/host/k93jammy/v5.39.6/322f/lib/site_perl/5.39.6/Class/Load.pm line 180
	Class::Load::try_load_class("ComponentUI::TestModel::Foo", undef) called at /home/sand/src/perl/repoperls/installed-perls/host/k93jammy/v5.39.6/322f/lib/site_perl/5.39.6/Class/Load.pm line 35
	Class::Load::load_class("ComponentUI::TestModel::Foo") called at /tmp/loop_over_bdir-736987-_wdjIk/Reaction-0.002005-0/blib/lib/Reaction/InterfaceModel/Reflector/DBIC.pm line 892
	eval {...} called at /tmp/loop_over_bdir-736987-_wdjIk/Reaction-0.002005-0/blib/lib/Reaction/InterfaceModel/Reflector/DBIC.pm line 892
	Reaction::InterfaceModel::Reflector::DBIC::_maybe_load_class(Reaction::InterfaceModel::Reflector::DBIC=HASH(0x559db2b9cf28), "ComponentUI::TestModel::Foo") called at /tmp/loop_over_bdir-736987-_wdjIk/Reaction-0.002005-0/blib/lib/Reaction/InterfaceModel/Reflector/DBIC.pm line 876
	Reaction::InterfaceModel::Reflector::DBIC::_load_or_create(Reaction::InterfaceModel::Reflector::DBIC=HASH(0x559db2b9cf28), "ComponentUI::TestModel::Foo", "superclasses", ARRAY(0x559db40ce4f8)) called at /tmp/loop_over_bdir-736987-_wdjIk/Reaction-0.002005-0/blib/lib/Reaction/InterfaceModel/Reflector/DBIC.pm line 448
	Reaction::InterfaceModel::Reflector::DBIC::reflect_source_object(Reaction::InterfaceModel::Reflector::DBIC=HASH(0x559db2b9cf28), "source_name", "Foo", "source_class", "RTest::TestDB::Foo", "schema_class", "RTest::TestDB", "parent_domain_model_name", ...) called at /tmp/loop_over_bdir-736987-_wdjIk/Reaction-0.002005-0/blib/lib/Reaction/InterfaceModel/Reflector/DBIC.pm line 323
	Reaction::InterfaceModel::Reflector::DBIC::reflect_source(Reaction::InterfaceModel::Reflector::DBIC=HASH(0x559db2b9cf28), "source_name", "Foo", "parent_class", "ComponentUI::TestModel", "schema_class", "RTest::TestDB", "source_class", ...) called at /tmp/loop_over_bdir-736987-_wdjIk/Reaction-0.002005-0/blib/lib/Reaction/InterfaceModel/Reflector/DBIC.pm line 185
	Reaction::InterfaceModel::Reflector::DBIC::reflect_schema(Reaction::InterfaceModel::Reflector::DBIC=HASH(0x559db2b9cf28), "model_class", "ComponentUI::TestModel", "schema_class", "RTest::TestDB", "sources", ARRAY(0x559db2bb9308)) called at /tmp/loop_over_bdir-736987-_wdjIk/Reaction-0.002005-0/blib/lib/ComponentUI/TestModel.pm line 10
	require ComponentUI/TestModel.pm called at t/lib/RTest/InterfaceModel/Reflector/DBIC.pm line 6
	RTest::InterfaceModel::Reflector::DBIC::BEGIN() called at t/lib/RTest/InterfaceModel/Reflector/DBIC.pm line 6
	eval {...} called at t/lib/RTest/InterfaceModel/Reflector/DBIC.pm line 6
	require RTest/InterfaceModel/Reflector/DBIC.pm called at t/im_dbic.t line 7
	main::BEGIN() called at t/im_dbic.t line 7
	eval {...} called at t/im_dbic.t line 7
Class::MOP::is_class_loaded is deprecated at /home/sand/src/perl/repoperls/installed-perls/host/k93jammy/v5.39.6/322f/lib/site_perl/5.39.6/x86_64-linux-thread-multi-ld/Class/MOP.pm line 87.
	Class::MOP::is_class_loaded("RTest::TestIM::Foo") called at t/lib/RTest/InterfaceModel/Reflector/DBIC.pm line 74
	RTest::InterfaceModel::Reflector::DBIC::test_reflect_schema(RTest::InterfaceModel::Reflector::DBIC=HASH(0x559db0ba8b00)) called at /home/sand/src/perl/repoperls/installed-perls/host/k93jammy/v5.39.6/322f/lib/site_perl/5.39.6/Test/Class.pm line 293
	Test::Class::try {...} () called at /home/sand/src/perl/repoperls/installed-perls/host/k93jammy/v5.39.6/322f/lib/site_perl/5.39.6/Try/Tiny.pm line 100
	eval {...} called at /home/sand/src/perl/repoperls/installed-perls/host/k93jammy/v5.39.6/322f/lib/site_perl/5.39.6/Try/Tiny.pm line 93
	Try::Tiny::try(CODE(0x559db5abd800), Try::Tiny::Catch=REF(0x559db5a9ddf8)) called at /home/sand/src/perl/repoperls/installed-perls/host/k93jammy/v5.39.6/322f/lib/site_perl/5.39.6/Test/Class.pm line 293
	Test::Class::_run_method(RTest::InterfaceModel::Reflector::DBIC=HASH(0x559db0ba8b00), "test_reflect_schema", ARRAY(0x559db13f88b0)) called at /home/sand/src/perl/repoperls/installed-perls/host/k93jammy/v5.39.6/322f/lib/site_perl/5.39.6/Test/Class.pm line 402
	Test::Class::runtests("Test::Class", RTest::InterfaceModel::Reflector::DBIC=HASH(0x559db0ba8b00)) called at t/im_dbic.t line 10
t/im_dbic.t ................. ok
t/ui_focus_stack.t .......... ok
t/ui_view.t ................. ok
t/ui_viewport.t ............. ok
Attempt to call undefined import method with arguments ("5.80") via package "Catalyst::Runtime" (Perhaps you forgot to load the package?) at /tmp/loop_over_bdir-736987-_wdjIk/Reaction-0.002005-0/blib/lib/ComponentUI.pm line 6.
Class::MOP::load_class is deprecated at /home/sand/src/perl/repoperls/installed-perls/host/k93jammy/v5.39.6/322f/lib/site_perl/5.39.6/x86_64-linux-thread-multi-ld/Class/MOP.pm line 69.
	Class::MOP::load_class("ComponentUI::TestModel") called at /tmp/loop_over_bdir-736987-_wdjIk/Reaction-0.002005-0/blib/lib/Catalyst/Model/Reaction/InterfaceModel/DBIC.pm line 24
	Catalyst::Model::Reaction::InterfaceModel::DBIC::COMPONENT("ComponentUI::Model::TestModel", "ComponentUI", HASH(0x560955520158)) called at /home/sand/src/perl/repoperls/installed-perls/host/k93jammy/v5.39.6/322f/lib/site_perl/5.39.6/Catalyst.pm line 3240
	eval {...} called at /home/sand/src/perl/repoperls/installed-perls/host/k93jammy/v5.39.6/322f/lib/site_perl/5.39.6/Catalyst.pm line 3241
	Catalyst::setup_component("ComponentUI", "ComponentUI::Model::TestModel") called at /home/sand/src/perl/repoperls/installed-perls/host/k93jammy/v5.39.6/322f/lib/site_perl/5.39.6/Catalyst.pm line 3218
	Catalyst::__ANON__() called at /home/sand/src/perl/repoperls/installed-perls/host/k93jammy/v5.39.6/322f/lib/site_perl/5.39.6/Catalyst.pm line 3065
	Catalyst::setup_components("ComponentUI") called at /home/sand/src/perl/repoperls/installed-perls/host/k93jammy/v5.39.6/322f/lib/site_perl/5.39.6/Catalyst.pm line 1438
	Catalyst::setup("ComponentUI") called at /tmp/loop_over_bdir-736987-_wdjIk/Reaction-0.002005-0/blib/lib/ComponentUI.pm line 32
	require ComponentUI.pm called at /home/sand/src/perl/repoperls/installed-perls/host/k93jammy/v5.39.6/322f/lib/site_perl/5.39.6/Module/Runtime.pm line 314
	Module::Runtime::require_module("ComponentUI") called at /home/sand/src/perl/repoperls/installed-perls/host/k93jammy/v5.39.6/322f/lib/site_perl/5.39.6/Class/Load.pm line 174
	Class::Load::try {...} () called at /home/sand/src/perl/repoperls/installed-perls/host/k93jammy/v5.39.6/322f/lib/site_perl/5.39.6/Try/Tiny.pm line 98
	eval {...} called at /home/sand/src/perl/repoperls/installed-perls/host/k93jammy/v5.39.6/322f/lib/site_perl/5.39.6/Try/Tiny.pm line 93
	Try::Tiny::try(CODE(0x56094ed0d770), Try::Tiny::Catch=REF(0x560950b00f80)) called at /home/sand/src/perl/repoperls/installed-perls/host/k93jammy/v5.39.6/322f/lib/site_perl/5.39.6/Class/Load.pm line 180
	Class::Load::try_load_class("ComponentUI", undef) called at /home/sand/src/perl/repoperls/installed-perls/host/k93jammy/v5.39.6/322f/lib/site_perl/5.39.6/Class/Load.pm line 35
	Class::Load::load_class("ComponentUI") called at /home/sand/src/perl/repoperls/installed-perls/host/k93jammy/v5.39.6/322f/lib/site_perl/5.39.6/Test/WWW/Mechanize/Catalyst.pm line 245
	Test::WWW::Mechanize::Catalyst::import("Test::WWW::Mechanize::Catalyst", "ComponentUI") called at t/uncheck_bool_field.t line 6
	main::BEGIN() called at t/uncheck_bool_field.t line 6
	eval {...} called at t/uncheck_bool_field.t line 6
Class::MOP::load_class is deprecated at /home/sand/src/perl/repoperls/installed-perls/host/k93jammy/v5.39.6/322f/lib/site_perl/5.39.6/x86_64-linux-thread-multi-ld/Class/MOP.pm line 69.
	Class::MOP::load_class("Reaction::InterfaceModel::Object") called at /tmp/loop_over_bdir-736987-_wdjIk/Reaction-0.002005-0/blib/lib/Reaction/InterfaceModel/Reflector/DBIC.pm line 149
	Reaction::InterfaceModel::Reflector::DBIC::reflect_schema(Reaction::InterfaceModel::Reflector::DBIC=HASH(0x56095631e560), "model_class", "ComponentUI::TestModel", "schema_class", "RTest::TestDB", "sources", ARRAY(0x56095631e440)) called at /tmp/loop_over_bdir-736987-_wdjIk/Reaction-0.002005-0/blib/lib/ComponentUI/TestModel.pm line 10
	require ComponentUI/TestModel.pm called at /home/sand/src/perl/repoperls/installed-perls/host/k93jammy/v5.39.6/322f/lib/site_perl/5.39.6/Module/Runtime.pm line 314
	Module::Runtime::require_module("ComponentUI::TestModel") called at /home/sand/src/perl/repoperls/installed-perls/host/k93jammy/v5.39.6/322f/lib/site_perl/5.39.6/Class/Load.pm line 174
	Class::Load::try {...} () called at /home/sand/src/perl/repoperls/installed-perls/host/k93jammy/v5.39.6/322f/lib/site_perl/5.39.6/Try/Tiny.pm line 98
	eval {...} called at /home/sand/src/perl/repoperls/installed-perls/host/k93jammy/v5.39.6/322f/lib/site_perl/5.39.6/Try/Tiny.pm line 93
	Try::Tiny::try(CODE(0x56095287fca8), Try::Tiny::Catch=REF(0x5609557bddb0)) called at /home/sand/src/perl/repoperls/installed-perls/host/k93jammy/v5.39.6/322f/lib/site_perl/5.39.6/Class/Load.pm line 180
	Class::Load::try_load_class("ComponentUI::TestModel", undef) called at /home/sand/src/perl/repoperls/installed-perls/host/k93jammy/v5.39.6/322f/lib/site_perl/5.39.6/Class/Load.pm line 35
	Class::Load::load_class("ComponentUI::TestModel") called at /tmp/loop_over_bdir-736987-_wdjIk/Reaction-0.002005-0/blib/lib/Catalyst/Model/Reaction/InterfaceModel/DBIC.pm line 24
	Catalyst::Model::Reaction::InterfaceModel::DBIC::COMPONENT("ComponentUI::Model::TestModel", "ComponentUI", HASH(0x560955520158)) called at /home/sand/src/perl/repoperls/installed-perls/host/k93jammy/v5.39.6/322f/lib/site_perl/5.39.6/Catalyst.pm line 3240
	eval {...} called at /home/sand/src/perl/repoperls/installed-perls/host/k93jammy/v5.39.6/322f/lib/site_perl/5.39.6/Catalyst.pm line 3241
	Catalyst::setup_component("ComponentUI", "ComponentUI::Model::TestModel") called at /home/sand/src/perl/repoperls/installed-perls/host/k93jammy/v5.39.6/322f/lib/site_perl/5.39.6/Catalyst.pm line 3218
	Catalyst::__ANON__() called at /home/sand/src/perl/repoperls/installed-perls/host/k93jammy/v5.39.6/322f/lib/site_perl/5.39.6/Catalyst.pm line 3065
	Catalyst::setup_components("ComponentUI") called at /home/sand/src/perl/repoperls/installed-perls/host/k93jammy/v5.39.6/322f/lib/site_perl/5.39.6/Catalyst.pm line 1438
	Catalyst::setup("ComponentUI") called at /tmp/loop_over_bdir-736987-_wdjIk/Reaction-0.002005-0/blib/lib/ComponentUI.pm line 32
	require ComponentUI.pm called at /home/sand/src/perl/repoperls/installed-perls/host/k93jammy/v5.39.6/322f/lib/site_perl/5.39.6/Module/Runtime.pm line 314
	Module::Runtime::require_module("ComponentUI") called at /home/sand/src/perl/repoperls/installed-perls/host/k93jammy/v5.39.6/322f/lib/site_perl/5.39.6/Class/Load.pm line 174
	Class::Load::try {...} () called at /home/sand/src/perl/repoperls/installed-perls/host/k93jammy/v5.39.6/322f/lib/site_perl/5.39.6/Try/Tiny.pm line 98
	eval {...} called at /home/sand/src/perl/repoperls/installed-perls/host/k93jammy/v5.39.6/322f/lib/site_perl/5.39.6/Try/Tiny.pm line 93
	Try::Tiny::try(CODE(0x56094ed0d770), Try::Tiny::Catch=REF(0x560950b00f80)) called at /home/sand/src/perl/repoperls/installed-perls/host/k93jammy/v5.39.6/322f/lib/site_perl/5.39.6/Class/Load.pm line 180
	Class::Load::try_load_class("ComponentUI", undef) called at /home/sand/src/perl/repoperls/installed-perls/host/k93jammy/v5.39.6/322f/lib/site_perl/5.39.6/Class/Load.pm line 35
	Class::Load::load_class("ComponentUI") called at /home/sand/src/perl/repoperls/installed-perls/host/k93jammy/v5.39.6/322f/lib/site_perl/5.39.6/Test/WWW/Mechanize/Catalyst.pm line 245
	Test::WWW::Mechanize::Catalyst::import("Test::WWW::Mechanize::Catalyst", "ComponentUI") called at t/uncheck_bool_field.t line 6
	main::BEGIN() called at t/uncheck_bool_field.t line 6
	eval {...} called at t/uncheck_bool_field.t line 6
Class::MOP::load_class is deprecated at /home/sand/src/perl/repoperls/installed-perls/host/k93jammy/v5.39.6/322f/lib/site_perl/5.39.6/x86_64-linux-thread-multi-ld/Class/MOP.pm line 69.
	Class::MOP::load_class("Reaction::InterfaceModel::Object") called at /tmp/loop_over_bdir-736987-_wdjIk/Reaction-0.002005-0/blib/lib/Reaction/Class.pm line 123
	Reaction::Class::do_class_sub("Reaction::Class", "ComponentUI::TestModel::Foo", "ComponentUI::TestModel::Foo", "is", "Reaction::InterfaceModel::Object", "which", CODE(0x5609564fd878)) called at /tmp/loop_over_bdir-736987-_wdjIk/Reaction-0.002005-0/blib/lib/Reaction/Class.pm line 86
	Reaction::Class::("ComponentUI::TestModel::Foo", "is", "Reaction::InterfaceModel::Object", "which", CODE(0x5609564fd878)) called at /tmp/loop_over_bdir-736987-_wdjIk/Reaction-0.002005-0/blib/lib/ComponentUI/TestModel/Foo.pm line 8
	require ComponentUI/TestModel/Foo.pm called at /home/sand/src/perl/repoperls/installed-perls/host/k93jammy/v5.39.6/322f/lib/site_perl/5.39.6/Module/Runtime.pm line 314
	Module::Runtime::require_module("ComponentUI::TestModel::Foo") called at /home/sand/src/perl/repoperls/installed-perls/host/k93jammy/v5.39.6/322f/lib/site_perl/5.39.6/Class/Load.pm line 174
	Class::Load::try {...} () called at /home/sand/src/perl/repoperls/installed-perls/host/k93jammy/v5.39.6/322f/lib/site_perl/5.39.6/Try/Tiny.pm line 98
	eval {...} called at /home/sand/src/perl/repoperls/installed-perls/host/k93jammy/v5.39.6/322f/lib/site_perl/5.39.6/Try/Tiny.pm line 93
	Try::Tiny::try(CODE(0x560956480840), Try::Tiny::Catch=REF(0x5609565390f0)) called at /home/sand/src/perl/repoperls/installed-perls/host/k93jammy/v5.39.6/322f/lib/site_perl/5.39.6/Class/Load.pm line 180
	Class::Load::try_load_class("ComponentUI::TestModel::Foo", undef) called at /home/sand/src/perl/repoperls/installed-perls/host/k93jammy/v5.39.6/322f/lib/site_perl/5.39.6/Class/Load.pm line 35
	Class::Load::load_class("ComponentUI::TestModel::Foo") called at /tmp/loop_over_bdir-736987-_wdjIk/Reaction-0.002005-0/blib/lib/Reaction/InterfaceModel/Reflector/DBIC.pm line 892
	eval {...} called at /tmp/loop_over_bdir-736987-_wdjIk/Reaction-0.002005-0/blib/lib/Reaction/InterfaceModel/Reflector/DBIC.pm line 892
	Reaction::InterfaceModel::Reflector::DBIC::_maybe_load_class(Reaction::InterfaceModel::Reflector::DBIC=HASH(0x56095631e560), "ComponentUI::TestModel::Foo") called at /tmp/loop_over_bdir-736987-_wdjIk/Reaction-0.002005-0/blib/lib/Reaction/InterfaceModel/Reflector/DBIC.pm line 876
	Reaction::InterfaceModel::Reflector::DBIC::_load_or_create(Reaction::InterfaceModel::Reflector::DBIC=HASH(0x56095631e560), "ComponentUI::TestModel::Foo", "superclasses", ARRAY(0x5609564694b0)) called at /tmp/loop_over_bdir-736987-_wdjIk/Reaction-0.002005-0/blib/lib/Reaction/InterfaceModel/Reflector/DBIC.pm line 448
	Reaction::InterfaceModel::Reflector::DBIC::reflect_source_object(Reaction::InterfaceModel::Reflector::DBIC=HASH(0x56095631e560), "source_name", "Foo", "parent_class", "ComponentUI::TestModel", "source_class", "RTest::TestDB::Foo", "parent_domain_model_name", ...) called at /tmp/loop_over_bdir-736987-_wdjIk/Reaction-0.002005-0/blib/lib/Reaction/InterfaceModel/Reflector/DBIC.pm line 323
	Reaction::InterfaceModel::Reflector::DBIC::reflect_source(Reaction::InterfaceModel::Reflector::DBIC=HASH(0x56095631e560), "source_name", "Foo", "parent_class", "ComponentUI::TestModel", "schema_class", "RTest::TestDB", "source_class", ...) called at /tmp/loop_over_bdir-736987-_wdjIk/Reaction-0.002005-0/blib/lib/Reaction/InterfaceModel/Reflector/DBIC.pm line 185
	Reaction::InterfaceModel::Reflector::DBIC::reflect_schema(Reaction::InterfaceModel::Reflector::DBIC=HASH(0x56095631e560), "model_class", "ComponentUI::TestModel", "schema_class", "RTest::TestDB", "sources", ARRAY(0x56095631e440)) called at /tmp/loop_over_bdir-736987-_wdjIk/Reaction-0.002005-0/blib/lib/ComponentUI/TestModel.pm line 10
	require ComponentUI/TestModel.pm called at /home/sand/src/perl/repoperls/installed-perls/host/k93jammy/v5.39.6/322f/lib/site_perl/5.39.6/Module/Runtime.pm line 314
	Module::Runtime::require_module("ComponentUI::TestModel") called at /home/sand/src/perl/repoperls/installed-perls/host/k93jammy/v5.39.6/322f/lib/site_perl/5.39.6/Class/Load.pm line 174
	Class::Load::try {...} () called at /home/sand/src/perl/repoperls/installed-perls/host/k93jammy/v5.39.6/322f/lib/site_perl/5.39.6/Try/Tiny.pm line 98
	eval {...} called at /home/sand/src/perl/repoperls/installed-perls/host/k93jammy/v5.39.6/322f/lib/site_perl/5.39.6/Try/Tiny.pm line 93
	Try::Tiny::try(CODE(0x56095287fca8), Try::Tiny::Catch=REF(0x5609557bddb0)) called at /home/sand/src/perl/repoperls/installed-perls/host/k93jammy/v5.39.6/322f/lib/site_perl/5.39.6/Class/Load.pm line 180
	Class::Load::try_load_class("ComponentUI::TestModel", undef) called at /home/sand/src/perl/repoperls/installed-perls/host/k93jammy/v5.39.6/322f/lib/site_perl/5.39.6/Class/Load.pm line 35
	Class::Load::load_class("ComponentUI::TestModel") called at /tmp/loop_over_bdir-736987-_wdjIk/Reaction-0.002005-0/blib/lib/Catalyst/Model/Reaction/InterfaceModel/DBIC.pm line 24
	Catalyst::Model::Reaction::InterfaceModel::DBIC::COMPONENT("ComponentUI::Model::TestModel", "ComponentUI", HASH(0x560955520158)) called at /home/sand/src/perl/repoperls/installed-perls/host/k93jammy/v5.39.6/322f/lib/site_perl/5.39.6/Catalyst.pm line 3240
	eval {...} called at /home/sand/src/perl/repoperls/installed-perls/host/k93jammy/v5.39.6/322f/lib/site_perl/5.39.6/Catalyst.pm line 3241
	Catalyst::setup_component("ComponentUI", "ComponentUI::Model::TestModel") called at /home/sand/src/perl/repoperls/installed-perls/host/k93jammy/v5.39.6/322f/lib/site_perl/5.39.6/Catalyst.pm line 3218
	Catalyst::__ANON__() called at /home/sand/src/perl/repoperls/installed-perls/host/k93jammy/v5.39.6/322f/lib/site_perl/5.39.6/Catalyst.pm line 3065
	Catalyst::setup_components("ComponentUI") called at /home/sand/src/perl/repoperls/installed-perls/host/k93jammy/v5.39.6/322f/lib/site_perl/5.39.6/Catalyst.pm line 1438
	Catalyst::setup("ComponentUI") called at /tmp/loop_over_bdir-736987-_wdjIk/Reaction-0.002005-0/blib/lib/ComponentUI.pm line 32
	require ComponentUI.pm called at /home/sand/src/perl/repoperls/installed-perls/host/k93jammy/v5.39.6/322f/lib/site_perl/5.39.6/Module/Runtime.pm line 314
	Module::Runtime::require_module("ComponentUI") called at /home/sand/src/perl/repoperls/installed-perls/host/k93jammy/v5.39.6/322f/lib/site_perl/5.39.6/Class/Load.pm line 174
	Class::Load::try {...} () called at /home/sand/src/perl/repoperls/installed-perls/host/k93jammy/v5.39.6/322f/lib/site_perl/5.39.6/Try/Tiny.pm line 98
	eval {...} called at /home/sand/src/perl/repoperls/installed-perls/host/k93jammy/v5.39.6/322f/lib/site_perl/5.39.6/Try/Tiny.pm line 93
	Try::Tiny::try(CODE(0x56094ed0d770), Try::Tiny::Catch=REF(0x560950b00f80)) called at /home/sand/src/perl/repoperls/installed-perls/host/k93jammy/v5.39.6/322f/lib/site_perl/5.39.6/Class/Load.pm line 180
	Class::Load::try_load_class("ComponentUI", undef) called at /home/sand/src/perl/repoperls/installed-perls/host/k93jammy/v5.39.6/322f/lib/site_perl/5.39.6/Class/Load.pm line 35
	Class::Load::load_class("ComponentUI") called at /home/sand/src/perl/repoperls/installed-perls/host/k93jammy/v5.39.6/322f/lib/site_perl/5.39.6/Test/WWW/Mechanize/Catalyst.pm line 245
	Test::WWW::Mechanize::Catalyst::import("Test::WWW::Mechanize::Catalyst", "ComponentUI") called at t/uncheck_bool_field.t line 6
	main::BEGIN() called at t/uncheck_bool_field.t line 6
	eval {...} called at t/uncheck_bool_field.t line 6
Class::MOP::load_class is deprecated at /home/sand/src/perl/repoperls/installed-perls/host/k93jammy/v5.39.6/322f/lib/site_perl/5.39.6/x86_64-linux-thread-multi-ld/Class/MOP.pm line 69.
	Class::MOP::load_class("ComponentUI::RenderingContext::Site") called at /tmp/loop_over_bdir-736987-_wdjIk/Reaction-0.002005-0/blib/lib/Reaction/UI/View.pm line 125
	eval {...} called at /tmp/loop_over_bdir-736987-_wdjIk/Reaction-0.002005-0/blib/lib/Reaction/UI/View.pm line 125
	Reaction::UI::View::find_related_class(ComponentUI::View::Site=HASH(0x5609526385f8), "RenderingContext") called at /tmp/loop_over_bdir-736987-_wdjIk/Reaction-0.002005-0/blib/lib/Reaction/UI/View.pm line 43
	Reaction::UI::View::_build_rendering_context_class(ComponentUI::View::Site=HASH(0x5609526385f8)) called at reader Reaction::UI::View::rendering_context_class (defined at /tmp/loop_over_bdir-736987-_wdjIk/Reaction-0.002005-0/blib/lib/Reaction/UI/View.pm line 29) line 8
	Reaction::UI::View::rendering_context_class(ComponentUI::View::Site=HASH(0x5609526385f8)) called at /tmp/loop_over_bdir-736987-_wdjIk/Reaction-0.002005-0/blib/lib/Reaction/UI/View.pm line 134
	Reaction::UI::View::create_rendering_context(ComponentUI::View::Site=HASH(0x5609526385f8)) called at /tmp/loop_over_bdir-736987-_wdjIk/Reaction-0.002005-0/blib/lib/Reaction/UI/View.pm line 60
	Reaction::UI::View::render_window(ComponentUI::View::Site=HASH(0x5609526385f8), Reaction::UI::Window=HASH(0x560956c917c8)) called at /tmp/loop_over_bdir-736987-_wdjIk/Reaction-0.002005-0/blib/lib/Reaction/UI/Window.pm line 74
	Reaction::UI::Window::flush_view(Reaction::UI::Window=HASH(0x560956c917c8)) called at /tmp/loop_over_bdir-736987-_wdjIk/Reaction-0.002005-0/blib/lib/Reaction/UI/Window.pm line 36
	Reaction::UI::Window::flush(Reaction::UI::Window=HASH(0x560956c917c8)) called at /tmp/loop_over_bdir-736987-_wdjIk/Reaction-0.002005-0/blib/lib/Reaction/UI/Controller/Root.pm line 38
	Reaction::UI::Controller::Root::end(ComponentUI::Controller::Root=HASH(0x560956c918e8), ComponentUI=HASH(0x560956c506f0)) called at /home/sand/src/perl/repoperls/installed-perls/host/k93jammy/v5.39.6/322f/lib/site_perl/5.39.6/Catalyst/Action.pm line 374
	Catalyst::Action::execute(Catalyst::Action=HASH(0x560956988780), ComponentUI::Controller::Root=HASH(0x560956c918e8), ComponentUI=HASH(0x560956c506f0)) called at /home/sand/src/perl/repoperls/installed-perls/host/k93jammy/v5.39.6/322f/lib/site_perl/5.39.6/Catalyst.pm line 2067
	eval {...} called at /home/sand/src/perl/repoperls/installed-perls/host/k93jammy/v5.39.6/322f/lib/site_perl/5.39.6/Catalyst.pm line 2067
	Catalyst::execute(ComponentUI=HASH(0x560956c506f0), "ComponentUI::Controller::Root", Catalyst::Action=HASH(0x560956988780)) called at /home/sand/src/perl/repoperls/installed-perls/host/k93jammy/v5.39.6/322f/lib/site_perl/5.39.6/Catalyst/Action.pm line 368
	Catalyst::Action::dispatch(Catalyst::Action=HASH(0x560956988780), ComponentUI=HASH(0x560956c506f0)) called at /home/sand/src/perl/repoperls/installed-perls/host/k93jammy/v5.39.6/322f/lib/site_perl/5.39.6/Catalyst/Controller.pm line 188
	Catalyst::Controller::_END(ComponentUI::Controller::TestModel::Baz=HASH(0x560956c4b970), ComponentUI=HASH(0x560956c506f0)) called at /home/sand/src/perl/repoperls/installed-perls/host/k93jammy/v5.39.6/322f/lib/site_perl/5.39.6/Catalyst/Action.pm line 374
	Catalyst::Action::execute(Catalyst::Action=HASH(0x560956a4e3a8), ComponentUI::Controller::TestModel::Baz=HASH(0x560956c4b970), ComponentUI=HASH(0x560956c506f0)) called at /home/sand/src/perl/repoperls/installed-perls/host/k93jammy/v5.39.6/322f/lib/site_perl/5.39.6/Catalyst.pm line 2067
	eval {...} called at /home/sand/src/perl/repoperls/installed-perls/host/k93jammy/v5.39.6/322f/lib/site_perl/5.39.6/Catalyst.pm line 2067
	Catalyst::execute(ComponentUI=HASH(0x560956c506f0), "ComponentUI::Controller::TestModel::Baz", Catalyst::Action=HASH(0x560956a4e3a8)) called at /home/sand/src/perl/repoperls/installed-perls/host/k93jammy/v5.39.6/322f/lib/site_perl/5.39.6/Catalyst/Action.pm line 368
	Catalyst::Action::dispatch(Catalyst::Action=HASH(0x560956a4e3a8), ComponentUI=HASH(0x560956c506f0)) called at /home/sand/src/perl/repoperls/installed-perls/host/k93jammy/v5.39.6/322f/lib/site_perl/5.39.6/Catalyst/Dispatcher.pm line 261
	Catalyst::Dispatcher::_do_forward(Catalyst::Dispatcher=HASH(0x56095121c6f0), "forward", ComponentUI=HASH(0x560956c506f0), "_END") called at /home/sand/src/perl/repoperls/installed-perls/host/k93jammy/v5.39.6/322f/lib/site_perl/5.39.6/Catalyst/Dispatcher.pm line 241
	Catalyst::Dispatcher::forward(Catalyst::Dispatcher=HASH(0x56095121c6f0), ComponentUI=HASH(0x560956c506f0), "_END") called at /home/sand/src/perl/repoperls/installed-perls/host/k93jammy/v5.39.6/322f/lib/site_perl/5.39.6/Catalyst.pm line 489
	Catalyst::forward(ComponentUI=HASH(0x560956c506f0), "_END") called at /home/sand/src/perl/repoperls/installed-perls/host/k93jammy/v5.39.6/322f/lib/site_perl/5.39.6/Catalyst/Controller.pm line 137
	Catalyst::Controller::_DISPATCH(ComponentUI::Controller::TestModel::Baz=HASH(0x560956c4b970), ComponentUI=HASH(0x560956c506f0)) called at /home/sand/src/perl/repoperls/installed-perls/host/k93jammy/v5.39.6/322f/lib/site_perl/5.39.6/Catalyst/Action.pm line 374
	Catalyst::Action::execute(Catalyst::Action=HASH(0x560956a439d0), ComponentUI::Controller::TestModel::Baz=HASH(0x560956c4b970), ComponentUI=HASH(0x560956c506f0)) called at /home/sand/src/perl/repoperls/installed-perls/host/k93jammy/v5.39.6/322f/lib/site_perl/5.39.6/Catalyst.pm line 2067
	eval {...} called at /home/sand/src/perl/repoperls/installed-perls/host/k93jammy/v5.39.6/322f/lib/site_perl/5.39.6/Catalyst.pm line 2067
	Catalyst::execute(ComponentUI=HASH(0x560956c506f0), "ComponentUI::Controller::TestModel::Baz", Catalyst::Action=HASH(0x560956a439d0)) called at /home/sand/src/perl/repoperls/installed-perls/host/k93jammy/v5.39.6/322f/lib/site_perl/5.39.6/Catalyst/Action.pm line 368
	Catalyst::Action::dispatch(Catalyst::Action=HASH(0x560956a439d0), ComponentUI=HASH(0x560956c506f0)) called at /home/sand/src/perl/repoperls/installed-perls/host/k93jammy/v5.39.6/322f/lib/site_perl/5.39.6/Catalyst/Dispatcher.pm line 261
	Catalyst::Dispatcher::_do_forward(Catalyst::Dispatcher=HASH(0x56095121c6f0), "forward", ComponentUI=HASH(0x560956c506f0), "/testmodel/baz/_DISPATCH") called at /home/sand/src/perl/repoperls/installed-perls/host/k93jammy/v5.39.6/322f/lib/site_perl/5.39.6/Catalyst/Dispatcher.pm line 241
	Catalyst::Dispatcher::forward(Catalyst::Dispatcher=HASH(0x56095121c6f0), ComponentUI=HASH(0x560956c506f0), "/testmodel/baz/_DISPATCH") called at /home/sand/src/perl/repoperls/installed-perls/host/k93jammy/v5.39.6/322f/lib/site_perl/5.39.6/Catalyst.pm line 489
	Catalyst::forward(ComponentUI=HASH(0x560956c506f0), "/testmodel/baz/_DISPATCH") called at /home/sand/src/perl/repoperls/installed-perls/host/k93jammy/v5.39.6/322f/lib/site_perl/5.39.6/Catalyst/Dispatcher.pm line 107
	Catalyst::Dispatcher::dispatch(Catalyst::Dispatcher=HASH(0x56095121c6f0), ComponentUI=HASH(0x560956c506f0)) called at /home/sand/src/perl/repoperls/installed-perls/host/k93jammy/v5.39.6/322f/lib/site_perl/5.39.6/Catalyst.pm line 2013
	Catalyst::dispatch(ComponentUI=HASH(0x560956c506f0)) called at /home/sand/src/perl/repoperls/installed-perls/host/k93jammy/v5.39.6/322f/lib/site_perl/5.39.6/Catalyst/Plugin/Static/Simple.pm line 85
	Class::MOP::Class:::around(CODE(0x5609516ac280), ComponentUI=HASH(0x560956c506f0)) called at /home/sand/src/perl/repoperls/installed-perls/host/k93jammy/v5.39.6/322f/lib/site_perl/5.39.6/x86_64-linux-thread-multi-ld/Class/MOP/Method/Wrapped.pm line 166
	ComponentUI::_wrapped_dispatch(ComponentUI=HASH(0x560956c506f0)) called at /home/sand/src/perl/repoperls/installed-perls/host/k93jammy/v5.39.6/322f/lib/site_perl/5.39.6/x86_64-linux-thread-multi-ld/Class/MOP/Method/Wrapped.pm line 97
	ComponentUI::dispatch(ComponentUI=HASH(0x560956c506f0)) called at /home/sand/src/perl/repoperls/installed-perls/host/k93jammy/v5.39.6/322f/lib/site_perl/5.39.6/Catalyst.pm line 2419
	Catalyst::try {...} () called at /home/sand/src/perl/repoperls/installed-perls/host/k93jammy/v5.39.6/322f/lib/site_perl/5.39.6/Try/Tiny.pm line 102
	eval {...} called at /home/sand/src/perl/repoperls/installed-perls/host/k93jammy/v5.39.6/322f/lib/site_perl/5.39.6/Try/Tiny.pm line 93
	Try::Tiny::try(CODE(0x560956c500a8), Try::Tiny::Catch=REF(0x560956c4feb0)) called at /home/sand/src/perl/repoperls/installed-perls/host/k93jammy/v5.39.6/322f/lib/site_perl/5.39.6/Catalyst.pm line 2428
	Catalyst::handle_request("ComponentUI", "env", HASH(0x560956c439c0), "response_cb", CODE(0x560956c4ff10)) called at /home/sand/src/perl/repoperls/installed-perls/host/k93jammy/v5.39.6/322f/lib/site_perl/5.39.6/Catalyst/Engine.pm line 807
	Catalyst::Engine::__ANON__(CODE(0x560956c4ff10)) called at /home/sand/src/perl/repoperls/installed-perls/host/k93jammy/v5.39.6/322f/lib/site_perl/5.39.6/Plack/Middleware/HTTPExceptions.pm line 32
	Plack::Middleware::HTTPExceptions::try {...} () called at /home/sand/src/perl/repoperls/installed-perls/host/k93jammy/v5.39.6/322f/lib/site_perl/5.39.6/Try/Tiny.pm line 102
	eval {...} called at /home/sand/src/perl/repoperls/installed-perls/host/k93jammy/v5.39.6/322f/lib/site_perl/5.39.6/Try/Tiny.pm line 93
	Try::Tiny::try(CODE(0x560956c4fd48), Try::Tiny::Catch=REF(0x560956c48788)) called at /home/sand/src/perl/repoperls/installed-perls/host/k93jammy/v5.39.6/322f/lib/site_perl/5.39.6/Plack/Middleware/HTTPExceptions.pm line 41
	Plack::Middleware::HTTPExceptions::__ANON__(CODE(0x560956c486e0)) called at /home/sand/src/perl/repoperls/installed-perls/host/k93jammy/v5.39.6/322f/lib/site_perl/5.39.6/Plack/Util.pm line 339
	Plack::Util::__ANON__(CODE(0x560956c43918)) called at /home/sand/src/perl/repoperls/installed-perls/host/k93jammy/v5.39.6/322f/lib/site_perl/5.39.6/Plack/Util.pm line 339
	Plack::Util::__ANON__(CODE(0x560956c437b0)) called at /home/sand/src/perl/repoperls/installed-perls/host/k93jammy/v5.39.6/322f/lib/site_perl/5.39.6/Plack/Util.pm line 339
	Plack::Util::__ANON__(CODE(0x5609544e3e78)) called at /home/sand/src/perl/repoperls/installed-perls/host/k93jammy/v5.39.6/322f/lib/site_perl/5.39.6/HTTP/Message/PSGI.pm line 100
	HTTP::Message::PSGI::res_from_psgi(CODE(0x560956c492c8)) called at /home/sand/src/perl/repoperls/installed-perls/host/k93jammy/v5.39.6/322f/lib/site_perl/5.39.6/HTTP/Message/PSGI.pm line 157
	HTTP::Response::from_psgi("HTTP::Response", CODE(0x560956c492c8)) called at /home/sand/src/perl/repoperls/installed-perls/host/k93jammy/v5.39.6/322f/lib/site_perl/5.39.6/Plack/Test/MockHTTP.pm line 24
	Plack::Test::MockHTTP::try {...} () called at /home/sand/src/perl/repoperls/installed-perls/host/k93jammy/v5.39.6/322f/lib/site_perl/5.39.6/Try/Tiny.pm line 100
	eval {...} called at /home/sand/src/perl/repoperls/installed-perls/host/k93jammy/v5.39.6/322f/lib/site_perl/5.39.6/Try/Tiny.pm line 93
	Try::Tiny::try(CODE(0x560956c36f70), Try::Tiny::Catch=REF(0x560956a790f8)) called at /home/sand/src/perl/repoperls/installed-perls/host/k93jammy/v5.39.6/322f/lib/site_perl/5.39.6/Plack/Test/MockHTTP.pm line 27
	Plack::Test::MockHTTP::request(Plack::Test::MockHTTP=HASH(0x560956c434e0), HTTP::Request=HASH(0x560956bf8b58)) called at /home/sand/src/perl/repoperls/installed-perls/host/k93jammy/v5.39.6/322f/lib/site_perl/5.39.6/Plack/Test.pm line 38
	Plack::Test::__ANON__(HTTP::Request=HASH(0x560956bf8b58)) called at /home/sand/src/perl/repoperls/installed-perls/host/k93jammy/v5.39.6/322f/lib/site_perl/5.39.6/Catalyst/Test.pm line 290
	Catalyst::Test::__ANON__(CODE(0x560956c43498)) called at /home/sand/src/perl/repoperls/installed-perls/host/k93jammy/v5.39.6/322f/lib/site_perl/5.39.6/Plack/Test.pm line 38
	Plack::Test::test_psgi("app", CODE(0x560956c15d88), "mangle_response", CODE(0x560950ad37d8), "app", CODE(0x560956c15d58), "client", CODE(0x560956c43330)) called at /home/sand/src/perl/repoperls/installed-perls/host/k93jammy/v5.39.6/322f/lib/site_perl/5.39.6/Catalyst/Test.pm line 293
	Catalyst::Test::_request(HASH(0x560956c36ef8), HTTP::Request=HASH(0x560956bf8b58)) called at /home/sand/src/perl/repoperls/installed-perls/host/k93jammy/v5.39.6/322f/lib/site_perl/5.39.6/Catalyst/Test.pm line 336
	Catalyst::Test::_local_request("ComponentUI", HTTP::Request=HASH(0x560956bf8b58)) called at /home/sand/src/perl/repoperls/installed-perls/host/k93jammy/v5.39.6/322f/lib/site_perl/5.39.6/Test/WWW/Mechanize/Catalyst.pm line 176
	Test::WWW::Mechanize::Catalyst::_do_catalyst_request(Test::WWW::Mechanize::Catalyst=HASH(0x56094ed1a150), HTTP::Request=HASH(0x560956bf8b58)) called at /home/sand/src/perl/repoperls/installed-perls/host/k93jammy/v5.39.6/322f/lib/site_perl/5.39.6/Test/WWW/Mechanize/Catalyst.pm line 78
	Test::WWW::Mechanize::Catalyst::_make_request(Test::WWW::Mechanize::Catalyst=HASH(0x56094ed1a150), HTTP::Request=HASH(0x560956bf8b58)) called at /home/sand/src/perl/repoperls/installed-perls/host/k93jammy/v5.39.6/322f/lib/site_perl/5.39.6/WWW/Mechanize.pm line 1532
	WWW::Mechanize::request(Test::WWW::Mechanize::Catalyst=HASH(0x56094ed1a150), HTTP::Request=HASH(0x560956bf8b58)) called at /home/sand/src/perl/repoperls/installed-perls/host/k93jammy/v5.39.6/322f/lib/site_perl/5.39.6/LWP/UserAgent.pm line 452
	LWP::UserAgent::get(Test::WWW::Mechanize::Catalyst=HASH(0x56094ed1a150), "http://localhost/testmodel/baz/id/1/update") called at /home/sand/src/perl/repoperls/installed-perls/host/k93jammy/v5.39.6/322f/lib/site_perl/5.39.6/WWW/Mechanize.pm line 124
	WWW::Mechanize::get(Test::WWW::Mechanize::Catalyst=HASH(0x56094ed1a150), "http://localhost/testmodel/baz/id/1/update") called at /home/sand/src/perl/repoperls/installed-perls/host/k93jammy/v5.39.6/322f/lib/site_perl/5.39.6/Test/WWW/Mechanize.pm line 192
	Test::WWW::Mechanize::get_ok(Test::WWW::Mechanize::Catalyst=HASH(0x56094ed1a150), "http://localhost/testmodel/baz/id/1/update") called at t/uncheck_bool_field.t line 9
Class::MOP::is_class_loaded is deprecated at /home/sand/src/perl/repoperls/installed-perls/host/k93jammy/v5.39.6/322f/lib/site_perl/5.39.6/x86_64-linux-thread-multi-ld/Class/MOP.pm line 87.
	Class::MOP::is_class_loaded("ComponentUI::UI::Widget::SiteLayout") called at /tmp/loop_over_bdir-736987-_wdjIk/Reaction-0.002005-0/blib/lib/Reaction/UI/Skin.pm line 178
	Reaction::UI::Skin::widget_class_for(Reaction::UI::Skin=HASH(0x560956ea1438), Reaction::UI::LayoutSet::TT=HASH(0x560957166de8)) called at /tmp/loop_over_bdir-736987-_wdjIk/Reaction-0.002005-0/blib/lib/Reaction/UI/LayoutSet.pm line 29
	Reaction::UI::LayoutSet::BUILD(Reaction::UI::LayoutSet::TT=HASH(0x560957166de8), HASH(0x560957166dd0)) called at constructor Reaction::UI::LayoutSet::TT::new (defined at /tmp/loop_over_bdir-736987-_wdjIk/Reaction-0.002005-0/blib/lib/Reaction/UI/LayoutSet/TT.pm line 43) line 80
	Reaction::UI::LayoutSet::TT::new("Reaction::UI::LayoutSet::TT", "name", "site_layout", "skin", Reaction::UI::Skin=HASH(0x560956ea1438), "tt_object", Template=HASH(0x560955520518), "source_file", ...) called at /tmp/loop_over_bdir-736987-_wdjIk/Reaction-0.002005-0/blib/lib/Reaction/UI/Skin.pm line 115
	Reaction::UI::Skin::_create_layout_set(Reaction::UI::Skin=HASH(0x560956ea1438), "site_layout", ARRAY(0x5609571550d8), Reaction::UI::Skin=HASH(0x560956ea1438)) called at /tmp/loop_over_bdir-736987-_wdjIk/Reaction-0.002005-0/blib/lib/Reaction/UI/Skin.pm line 110
	Reaction::UI::Skin::create_layout_set(Reaction::UI::Skin=HASH(0x560956ea1438), "site_layout") called at /tmp/loop_over_bdir-736987-_wdjIk/Reaction-0.002005-0/blib/lib/Reaction/UI/LayoutSet.pm line 83
	Reaction::UI::LayoutSet::_load_file(Reaction::UI::LayoutSet::TT=HASH(0x560957139078), Path::Class::File=HASH(0x5609570fcf90), HASH(0x5609571386b8)) called at /tmp/loop_over_bdir-736987-_wdjIk/Reaction-0.002005-0/blib/lib/Reaction/UI/LayoutSet.pm line 27
	Reaction::UI::LayoutSet::BUILD(Reaction::UI::LayoutSet::TT=HASH(0x560957139078), HASH(0x5609571386b8)) called at constructor Reaction::UI::LayoutSet::TT::new (defined at /tmp/loop_over_bdir-736987-_wdjIk/Reaction-0.002005-0/blib/lib/Reaction/UI/LayoutSet/TT.pm line 43) line 80
	Reaction::UI::LayoutSet::TT::new("Reaction::UI::LayoutSet::TT", "name", "site_layout", "skin", Reaction::UI::Skin=HASH(0x560957134740), "next_skin", Reaction::UI::Skin=HASH(0x560956ea1438), "tt_object", ...) called at /tmp/loop_over_bdir-736987-_wdjIk/Reaction-0.002005-0/blib/lib/Reaction/UI/Skin.pm line 115
	Reaction::UI::Skin::_create_layout_set(Reaction::UI::Skin=HASH(0x560957134740), "site_layout", ARRAY(0x5609570e6c58), Reaction::UI::Skin=HASH(0x560957134740)) called at /tmp/loop_over_bdir-736987-_wdjIk/Reaction-0.002005-0/blib/lib/Reaction/UI/Skin.pm line 110
	Reaction::UI::Skin::create_layout_set(Reaction::UI::Skin=HASH(0x560957134740), "site_layout") called at /tmp/loop_over_bdir-736987-_wdjIk/Reaction-0.002005-0/blib/lib/Reaction/UI/LayoutSet.pm line 83
	Reaction::UI::LayoutSet::_load_file(Reaction::UI::LayoutSet::TT=HASH(0x560956f38418), Path::Class::File=HASH(0x5609570e24c8), HASH(0x560956ced6a8)) called at /tmp/loop_over_bdir-736987-_wdjIk/Reaction-0.002005-0/blib/lib/Reaction/UI/LayoutSet.pm line 27
	Reaction::UI::LayoutSet::BUILD(Reaction::UI::LayoutSet::TT=HASH(0x560956f38418), HASH(0x560956ced6a8)) called at constructor Reaction::UI::LayoutSet::TT::new (defined at /tmp/loop_over_bdir-736987-_wdjIk/Reaction-0.002005-0/blib/lib/Reaction/UI/LayoutSet/TT.pm line 43) line 80
	Reaction::UI::LayoutSet::TT::new("Reaction::UI::LayoutSet::TT", "name", "site_layout", "skin", Reaction::UI::Skin=HASH(0x5609564fda28), "next_skin", Reaction::UI::Skin=HASH(0x560957134740), "tt_object", ...) called at /tmp/loop_over_bdir-736987-_wdjIk/Reaction-0.002005-0/blib/lib/Reaction/UI/Skin.pm line 115
	Reaction::UI::Skin::_create_layout_set(Reaction::UI::Skin=HASH(0x5609564fda28), "site_layout", ARRAY(0x5609570fc540), Reaction::UI::Skin=HASH(0x5609564fda28)) called at /tmp/loop_over_bdir-736987-_wdjIk/Reaction-0.002005-0/blib/lib/Reaction/UI/Skin.pm line 110
	Reaction::UI::Skin::create_layout_set(Reaction::UI::Skin=HASH(0x5609564fda28), "site_layout") called at inline delegation in Reaction::UI::View for skin->create_layout_set (attribute declared in /tmp/loop_over_bdir-736987-_wdjIk/Reaction-0.002005-0/blib/lib/Reaction/UI/View.pm at line 22) line 18
	Reaction::UI::View::create_layout_set(ComponentUI::View::Site=HASH(0x5609526385f8), "site_layout") called at /tmp/loop_over_bdir-736987-_wdjIk/Reaction-0.002005-0/blib/lib/Reaction/UI/View.pm line 99
	Reaction::UI::View::layout_set_for(ComponentUI::View::Site=HASH(0x5609526385f8), Reaction::UI::ViewPort::SiteLayout=HASH(0x560956c92038)) called at /tmp/loop_over_bdir-736987-_wdjIk/Reaction-0.002005-0/blib/lib/Reaction/UI/View.pm line 78
	Reaction::UI::View::render_viewport_args(ComponentUI::View::Site=HASH(0x5609526385f8), Reaction::UI::ViewPort::SiteLayout=HASH(0x560956c92038)) called at /tmp/loop_over_bdir-736987-_wdjIk/Reaction-0.002005-0/blib/lib/Reaction/UI/View.pm line 61
	Reaction::UI::View::render_window(ComponentUI::View::Site=HASH(0x5609526385f8), Reaction::UI::Window=HASH(0x560956c917c8)) called at /tmp/loop_over_bdir-736987-_wdjIk/Reaction-0.002005-0/blib/lib/Reaction/UI/Window.pm line 74
	Reaction::UI::Window::flush_view(Reaction::UI::Window=HASH(0x560956c917c8)) called at /tmp/loop_over_bdir-736987-_wdjIk/Reaction-0.002005-0/blib/lib/Reaction/UI/Window.pm line 36
	Reaction::UI::Window::flush(Reaction::UI::Window=HASH(0x560956c917c8)) called at /tmp/loop_over_bdir-736987-_wdjIk/Reaction-0.002005-0/blib/lib/Reaction/UI/Controller/Root.pm line 38
	Reaction::UI::Controller::Root::end(ComponentUI::Controller::Root=HASH(0x560956c918e8), ComponentUI=HASH(0x560956c506f0)) called at /home/sand/src/perl/repoperls/installed-perls/host/k93jammy/v5.39.6/322f/lib/site_perl/5.39.6/Catalyst/Action.pm line 374
	Catalyst::Action::execute(Catalyst::Action=HASH(0x560956988780), ComponentUI::Controller::Root=HASH(0x560956c918e8), ComponentUI=HASH(0x560956c506f0)) called at /home/sand/src/perl/repoperls/installed-perls/host/k93jammy/v5.39.6/322f/lib/site_perl/5.39.6/Catalyst.pm line 2067
	eval {...} called at /home/sand/src/perl/repoperls/installed-perls/host/k93jammy/v5.39.6/322f/lib/site_perl/5.39.6/Catalyst.pm line 2067
	Catalyst::execute(ComponentUI=HASH(0x560956c506f0), "ComponentUI::Controller::Root", Catalyst::Action=HASH(0x560956988780)) called at /home/sand/src/perl/repoperls/installed-perls/host/k93jammy/v5.39.6/322f/lib/site_perl/5.39.6/Catalyst/Action.pm line 368
	Catalyst::Action::dispatch(Catalyst::Action=HASH(0x560956988780), ComponentUI=HASH(0x560956c506f0)) called at /home/sand/src/perl/repoperls/installed-perls/host/k93jammy/v5.39.6/322f/lib/site_perl/5.39.6/Catalyst/Controller.pm line 188
	Catalyst::Controller::_END(ComponentUI::Controller::TestModel::Baz=HASH(0x560956c4b970), ComponentUI=HASH(0x560956c506f0)) called at /home/sand/src/perl/repoperls/installed-perls/host/k93jammy/v5.39.6/322f/lib/site_perl/5.39.6/Catalyst/Action.pm line 374
	Catalyst::Action::execute(Catalyst::Action=HASH(0x560956a4e3a8), ComponentUI::Controller::TestModel::Baz=HASH(0x560956c4b970), ComponentUI=HASH(0x560956c506f0)) called at /home/sand/src/perl/repoperls/installed-perls/host/k93jammy/v5.39.6/322f/lib/site_perl/5.39.6/Catalyst.pm line 2067
	eval {...} called at /home/sand/src/perl/repoperls/installed-perls/host/k93jammy/v5.39.6/322f/lib/site_perl/5.39.6/Catalyst.pm line 2067
	Catalyst::execute(ComponentUI=HASH(0x560956c506f0), "ComponentUI::Controller::TestModel::Baz", Catalyst::Action=HASH(0x560956a4e3a8)) called at /home/sand/src/perl/repoperls/installed-perls/host/k93jammy/v5.39.6/322f/lib/site_perl/5.39.6/Catalyst/Action.pm line 368
	Catalyst::Action::dispatch(Catalyst::Action=HASH(0x560956a4e3a8), ComponentUI=HASH(0x560956c506f0)) called at /home/sand/src/perl/repoperls/installed-perls/host/k93jammy/v5.39.6/322f/lib/site_perl/5.39.6/Catalyst/Dispatcher.pm line 261
	Catalyst::Dispatcher::_do_forward(Catalyst::Dispatcher=HASH(0x56095121c6f0), "forward", ComponentUI=HASH(0x560956c506f0), "_END") called at /home/sand/src/perl/repoperls/installed-perls/host/k93jammy/v5.39.6/322f/lib/site_perl/5.39.6/Catalyst/Dispatcher.pm line 241
	Catalyst::Dispatcher::forward(Catalyst::Dispatcher=HASH(0x56095121c6f0), ComponentUI=HASH(0x560956c506f0), "_END") called at /home/sand/src/perl/repoperls/installed-perls/host/k93jammy/v5.39.6/322f/lib/site_perl/5.39.6/Catalyst.pm line 489
	Catalyst::forward(ComponentUI=HASH(0x560956c506f0), "_END") called at /home/sand/src/perl/repoperls/installed-perls/host/k93jammy/v5.39.6/322f/lib/site_perl/5.39.6/Catalyst/Controller.pm line 137
	Catalyst::Controller::_DISPATCH(ComponentUI::Controller::TestModel::Baz=HASH(0x560956c4b970), ComponentUI=HASH(0x560956c506f0)) called at /home/sand/src/perl/repoperls/installed-perls/host/k93jammy/v5.39.6/322f/lib/site_perl/5.39.6/Catalyst/Action.pm line 374
	Catalyst::Action::execute(Catalyst::Action=HASH(0x560956a439d0), ComponentUI::Controller::TestModel::Baz=HASH(0x560956c4b970), ComponentUI=HASH(0x560956c506f0)) called at /home/sand/src/perl/repoperls/installed-perls/host/k93jammy/v5.39.6/322f/lib/site_perl/5.39.6/Catalyst.pm line 2067
	eval {...} called at /home/sand/src/perl/repoperls/installed-perls/host/k93jammy/v5.39.6/322f/lib/site_perl/5.39.6/Catalyst.pm line 2067
	Catalyst::execute(ComponentUI=HASH(0x560956c506f0), "ComponentUI::Controller::TestModel::Baz", Catalyst::Action=HASH(0x560956a439d0)) called at /home/sand/src/perl/repoperls/installed-perls/host/k93jammy/v5.39.6/322f/lib/site_perl/5.39.6/Catalyst/Action.pm line 368
	Catalyst::Action::dispatch(Catalyst::Action=HASH(0x560956a439d0), ComponentUI=HASH(0x560956c506f0)) called at /home/sand/src/perl/repoperls/installed-perls/host/k93jammy/v5.39.6/322f/lib/site_perl/5.39.6/Catalyst/Dispatcher.pm line 261
	Catalyst::Dispatcher::_do_forward(Catalyst::Dispatcher=HASH(0x56095121c6f0), "forward", ComponentUI=HASH(0x560956c506f0), "/testmodel/baz/_DISPATCH") called at /home/sand/src/perl/repoperls/installed-perls/host/k93jammy/v5.39.6/322f/lib/site_perl/5.39.6/Catalyst/Dispatcher.pm line 241
	Catalyst::Dispatcher::forward(Catalyst::Dispatcher=HASH(0x56095121c6f0), ComponentUI=HASH(0x560956c506f0), "/testmodel/baz/_DISPATCH") called at /home/sand/src/perl/repoperls/installed-perls/host/k93jammy/v5.39.6/322f/lib/site_perl/5.39.6/Catalyst.pm line 489
	Catalyst::forward(ComponentUI=HASH(0x560956c506f0), "/testmodel/baz/_DISPATCH") called at /home/sand/src/perl/repoperls/installed-perls/host/k93jammy/v5.39.6/322f/lib/site_perl/5.39.6/Catalyst/Dispatcher.pm line 107
	Catalyst::Dispatcher::dispatch(Catalyst::Dispatcher=HASH(0x56095121c6f0), ComponentUI=HASH(0x560956c506f0)) called at /home/sand/src/perl/repoperls/installed-perls/host/k93jammy/v5.39.6/322f/lib/site_perl/5.39.6/Catalyst.pm line 2013
	Catalyst::dispatch(ComponentUI=HASH(0x560956c506f0)) called at /home/sand/src/perl/repoperls/installed-perls/host/k93jammy/v5.39.6/322f/lib/site_perl/5.39.6/Catalyst/Plugin/Static/Simple.pm line 85
	Class::MOP::Class:::around(CODE(0x5609516ac280), ComponentUI=HASH(0x560956c506f0)) called at /home/sand/src/perl/repoperls/installed-perls/host/k93jammy/v5.39.6/322f/lib/site_perl/5.39.6/x86_64-linux-thread-multi-ld/Class/MOP/Method/Wrapped.pm line 166
	ComponentUI::_wrapped_dispatch(ComponentUI=HASH(0x560956c506f0)) called at /home/sand/src/perl/repoperls/installed-perls/host/k93jammy/v5.39.6/322f/lib/site_perl/5.39.6/x86_64-linux-thread-multi-ld/Class/MOP/Method/Wrapped.pm line 97
	ComponentUI::dispatch(ComponentUI=HASH(0x560956c506f0)) called at /home/sand/src/perl/repoperls/installed-perls/host/k93jammy/v5.39.6/322f/lib/site_perl/5.39.6/Catalyst.pm line 2419
	Catalyst::try {...} () called at /home/sand/src/perl/repoperls/installed-perls/host/k93jammy/v5.39.6/322f/lib/site_perl/5.39.6/Try/Tiny.pm line 102
	eval {...} called at /home/sand/src/perl/repoperls/installed-perls/host/k93jammy/v5.39.6/322f/lib/site_perl/5.39.6/Try/Tiny.pm line 93
	Try::Tiny::try(CODE(0x560956c500a8), Try::Tiny::Catch=REF(0x560956c4feb0)) called at /home/sand/src/perl/repoperls/installed-perls/host/k93jammy/v5.39.6/322f/lib/site_perl/5.39.6/Catalyst.pm line 2428
	Catalyst::handle_request("ComponentUI", "env", HASH(0x560956c439c0), "response_cb", CODE(0x560956c4ff10)) called at /home/sand/src/perl/repoperls/installed-perls/host/k93jammy/v5.39.6/322f/lib/site_perl/5.39.6/Catalyst/Engine.pm line 807
	Catalyst::Engine::__ANON__(CODE(0x560956c4ff10)) called at /home/sand/src/perl/repoperls/installed-perls/host/k93jammy/v5.39.6/322f/lib/site_perl/5.39.6/Plack/Middleware/HTTPExceptions.pm line 32
	Plack::Middleware::HTTPExceptions::try {...} () called at /home/sand/src/perl/repoperls/installed-perls/host/k93jammy/v5.39.6/322f/lib/site_perl/5.39.6/Try/Tiny.pm line 102
	eval {...} called at /home/sand/src/perl/repoperls/installed-perls/host/k93jammy/v5.39.6/322f/lib/site_perl/5.39.6/Try/Tiny.pm line 93
	Try::Tiny::try(CODE(0x560956c4fd48), Try::Tiny::Catch=REF(0x560956c48788)) called at /home/sand/src/perl/repoperls/installed-perls/host/k93jammy/v5.39.6/322f/lib/site_perl/5.39.6/Plack/Middleware/HTTPExceptions.pm line 41
	Plack::Middleware::HTTPExceptions::__ANON__(CODE(0x560956c486e0)) called at /home/sand/src/perl/repoperls/installed-perls/host/k93jammy/v5.39.6/322f/lib/site_perl/5.39.6/Plack/Util.pm line 339
	Plack::Util::__ANON__(CODE(0x560956c43918)) called at /home/sand/src/perl/repoperls/installed-perls/host/k93jammy/v5.39.6/322f/lib/site_perl/5.39.6/Plack/Util.pm line 339
	Plack::Util::__ANON__(CODE(0x560956c437b0)) called at /home/sand/src/perl/repoperls/installed-perls/host/k93jammy/v5.39.6/322f/lib/site_perl/5.39.6/Plack/Util.pm line 339
	Plack::Util::__ANON__(CODE(0x5609544e3e78)) called at /home/sand/src/perl/repoperls/installed-perls/host/k93jammy/v5.39.6/322f/lib/site_perl/5.39.6/HTTP/Message/PSGI.pm line 100
	HTTP::Message::PSGI::res_from_psgi(CODE(0x560956c492c8)) called at /home/sand/src/perl/repoperls/installed-perls/host/k93jammy/v5.39.6/322f/lib/site_perl/5.39.6/HTTP/Message/PSGI.pm line 157
	HTTP::Response::from_psgi("HTTP::Response", CODE(0x560956c492c8)) called at /home/sand/src/perl/repoperls/installed-perls/host/k93jammy/v5.39.6/322f/lib/site_perl/5.39.6/Plack/Test/MockHTTP.pm line 24
	Plack::Test::MockHTTP::try {...} () called at /home/sand/src/perl/repoperls/installed-perls/host/k93jammy/v5.39.6/322f/lib/site_perl/5.39.6/Try/Tiny.pm line 100
	eval {...} called at /home/sand/src/perl/repoperls/installed-perls/host/k93jammy/v5.39.6/322f/lib/site_perl/5.39.6/Try/Tiny.pm line 93
	Try::Tiny::try(CODE(0x560956c36f70), Try::Tiny::Catch=REF(0x560956a790f8)) called at /home/sand/src/perl/repoperls/installed-perls/host/k93jammy/v5.39.6/322f/lib/site_perl/5.39.6/Plack/Test/MockHTTP.pm line 27
	Plack::Test::MockHTTP::request(Plack::Test::MockHTTP=HASH(0x560956c434e0), HTTP::Request=HASH(0x560956bf8b58)) called at /home/sand/src/perl/repoperls/installed-perls/host/k93jammy/v5.39.6/322f/lib/site_perl/5.39.6/Plack/Test.pm line 38
	Plack::Test::__ANON__(HTTP::Request=HASH(0x560956bf8b58)) called at /home/sand/src/perl/repoperls/installed-perls/host/k93jammy/v5.39.6/322f/lib/site_perl/5.39.6/Catalyst/Test.pm line 290
	Catalyst::Test::__ANON__(CODE(0x560956c43498)) called at /home/sand/src/perl/repoperls/installed-perls/host/k93jammy/v5.39.6/322f/lib/site_perl/5.39.6/Plack/Test.pm line 38
	Plack::Test::test_psgi("app", CODE(0x560956c15d88), "mangle_response", CODE(0x560950ad37d8), "app", CODE(0x560956c15d58), "client", CODE(0x560956c43330)) called at /home/sand/src/perl/repoperls/installed-perls/host/k93jammy/v5.39.6/322f/lib/site_perl/5.39.6/Catalyst/Test.pm line 293
	Catalyst::Test::_request(HASH(0x560956c36ef8), HTTP::Request=HASH(0x560956bf8b58)) called at /home/sand/src/perl/repoperls/installed-perls/host/k93jammy/v5.39.6/322f/lib/site_perl/5.39.6/Catalyst/Test.pm line 336
	Catalyst::Test::_local_request("ComponentUI", HTTP::Request=HASH(0x560956bf8b58)) called at /home/sand/src/perl/repoperls/installed-perls/host/k93jammy/v5.39.6/322f/lib/site_perl/5.39.6/Test/WWW/Mechanize/Catalyst.pm line 176
	Test::WWW::Mechanize::Catalyst::_do_catalyst_request(Test::WWW::Mechanize::Catalyst=HASH(0x56094ed1a150), HTTP::Request=HASH(0x560956bf8b58)) called at /home/sand/src/perl/repoperls/installed-perls/host/k93jammy/v5.39.6/322f/lib/site_perl/5.39.6/Test/WWW/Mechanize/Catalyst.pm line 78
	Test::WWW::Mechanize::Catalyst::_make_request(Test::WWW::Mechanize::Catalyst=HASH(0x56094ed1a150), HTTP::Request=HASH(0x560956bf8b58)) called at /home/sand/src/perl/repoperls/installed-perls/host/k93jammy/v5.39.6/322f/lib/site_perl/5.39.6/WWW/Mechanize.pm line 1532
	WWW::Mechanize::request(Test::WWW::Mechanize::Catalyst=HASH(0x56094ed1a150), HTTP::Request=HASH(0x560956bf8b58)) called at /home/sand/src/perl/repoperls/installed-perls/host/k93jammy/v5.39.6/322f/lib/site_perl/5.39.6/LWP/UserAgent.pm line 452
	LWP::UserAgent::get(Test::WWW::Mechanize::Catalyst=HASH(0x56094ed1a150), "http://localhost/testmodel/baz/id/1/update") called at /home/sand/src/perl/repoperls/installed-perls/host/k93jammy/v5.39.6/322f/lib/site_perl/5.39.6/WWW/Mechanize.pm line 124
	WWW::Mechanize::get(Test::WWW::Mechanize::Catalyst=HASH(0x56094ed1a150), "http://localhost/testmodel/baz/id/1/update") called at /home/sand/src/perl/repoperls/installed-perls/host/k93jammy/v5.39.6/322f/lib/site_perl/5.39.6/Test/WWW/Mechanize.pm line 192
	Test::WWW::Mechanize::get_ok(Test::WWW::Mechanize::Catalyst=HASH(0x56094ed1a150), "http://localhost/testmodel/baz/id/1/update") called at t/uncheck_bool_field.t line 9
Class::MOP::load_class is deprecated at /home/sand/src/perl/repoperls/installed-perls/host/k93jammy/v5.39.6/322f/lib/site_perl/5.39.6/x86_64-linux-thread-multi-ld/Class/MOP.pm line 69.
	Class::MOP::load_class("Reaction::UI::Widget::SiteLayout") called at /tmp/loop_over_bdir-736987-_wdjIk/Reaction-0.002005-0/blib/lib/Reaction/UI/Skin.pm line 181
	eval {...} called at /tmp/loop_over_bdir-736987-_wdjIk/Reaction-0.002005-0/blib/lib/Reaction/UI/Skin.pm line 181
	Reaction::UI::Skin::widget_class_for(Reaction::UI::Skin=HASH(0x560956ea1438), Reaction::UI::LayoutSet::TT=HASH(0x560957166de8)) called at /tmp/loop_over_bdir-736987-_wdjIk/Reaction-0.002005-0/blib/lib/Reaction/UI/LayoutSet.pm line 29
	Reaction::UI::LayoutSet::BUILD(Reaction::UI::LayoutSet::TT=HASH(0x560957166de8), HASH(0x560957166dd0)) called at constructor Reaction::UI::LayoutSet::TT::new (defined at /tmp/loop_over_bdir-736987-_wdjIk/Reaction-0.002005-0/blib/lib/Reaction/UI/LayoutSet/TT.pm line 43) line 80
	Reaction::UI::LayoutSet::TT::new("Reaction::UI::LayoutSet::TT", "name", "site_layout", "skin", Reaction::UI::Skin=HASH(0x560956ea1438), "tt_object", Template=HASH(0x560955520518), "source_file", ...) called at /tmp/loop_over_bdir-736987-_wdjIk/Reaction-0.002005-0/blib/lib/Reaction/UI/Skin.pm line 115
	Reaction::UI::Skin::_create_layout_set(Reaction::UI::Skin=HASH(0x560956ea1438), "site_layout", ARRAY(0x5609571550d8), Reaction::UI::Skin=HASH(0x560956ea1438)) called at /tmp/loop_over_bdir-736987-_wdjIk/Reaction-0.002005-0/blib/lib/Reaction/UI/Skin.pm line 110
	Reaction::UI::Skin::create_layout_set(Reaction::UI::Skin=HASH(0x560956ea1438), "site_layout") called at /tmp/loop_over_bdir-736987-_wdjIk/Reaction-0.002005-0/blib/lib/Reaction/UI/LayoutSet.pm line 83
	Reaction::UI::LayoutSet::_load_file(Reaction::UI::LayoutSet::TT=HASH(0x560957139078), Path::Class::File=HASH(0x5609570fcf90), HASH(0x5609571386b8)) called at /tmp/loop_over_bdir-736987-_wdjIk/Reaction-0.002005-0/blib/lib/Reaction/UI/LayoutSet.pm line 27
	Reaction::UI::LayoutSet::BUILD(Reaction::UI::LayoutSet::TT=HASH(0x560957139078), HASH(0x5609571386b8)) called at constructor Reaction::UI::LayoutSet::TT::new (defined at /tmp/loop_over_bdir-736987-_wdjIk/Reaction-0.002005-0/blib/lib/Reaction/UI/LayoutSet/TT.pm line 43) line 80
	Reaction::UI::LayoutSet::TT::new("Reaction::UI::LayoutSet::TT", "name", "site_layout", "skin", Reaction::UI::Skin=HASH(0x560957134740), "next_skin", Reaction::UI::Skin=HASH(0x560956ea1438), "tt_object", ...) called at /tmp/loop_over_bdir-736987-_wdjIk/Reaction-0.002005-0/blib/lib/Reaction/UI/Skin.pm line 115
	Reaction::UI::Skin::_create_layout_set(Reaction::UI::Skin=HASH(0x560957134740), "site_layout", ARRAY(0x5609570e6c58), Reaction::UI::Skin=HASH(0x560957134740)) called at /tmp/loop_over_bdir-736987-_wdjIk/Reaction-0.002005-0/blib/lib/Reaction/UI/Skin.pm line 110
	Reaction::UI::Skin::create_layout_set(Reaction::UI::Skin=HASH(0x560957134740), "site_layout") called at /tmp/loop_over_bdir-736987-_wdjIk/Reaction-0.002005-0/blib/lib/Reaction/UI/LayoutSet.pm line 83
	Reaction::UI::LayoutSet::_load_file(Reaction::UI::LayoutSet::TT=HASH(0x560956f38418), Path::Class::File=HASH(0x5609570e24c8), HASH(0x560956ced6a8)) called at /tmp/loop_over_bdir-736987-_wdjIk/Reaction-0.002005-0/blib/lib/Reaction/UI/LayoutSet.pm line 27
	Reaction::UI::LayoutSet::BUILD(Reaction::UI::LayoutSet::TT=HASH(0x560956f38418), HASH(0x560956ced6a8)) called at constructor Reaction::UI::LayoutSet::TT::new (defined at /tmp/loop_over_bdir-736987-_wdjIk/Reaction-0.002005-0/blib/lib/Reaction/UI/LayoutSet/TT.pm line 43) line 80
	Reaction::UI::LayoutSet::TT::new("Reaction::UI::LayoutSet::TT", "name", "site_layout", "skin", Reaction::UI::Skin=HASH(0x5609564fda28), "next_skin", Reaction::UI::Skin=HASH(0x560957134740), "tt_object", ...) called at /tmp/loop_over_bdir-736987-_wdjIk/Reaction-0.002005-0/blib/lib/Reaction/UI/Skin.pm line 115
	Reaction::UI::Skin::_create_layout_set(Reaction::UI::Skin=HASH(0x5609564fda28), "site_layout", ARRAY(0x5609570fc540), Reaction::UI::Skin=HASH(0x5609564fda28)) called at /tmp/loop_over_bdir-736987-_wdjIk/Reaction-0.002005-0/blib/lib/Reaction/UI/Skin.pm line 110
	Reaction::UI::Skin::create_layout_set(Reaction::UI::Skin=HASH(0x5609564fda28), "site_layout") called at inline delegation in Reaction::UI::View for skin->create_layout_set (attribute declared in /tmp/loop_over_bdir-736987-_wdjIk/Reaction-0.002005-0/blib/lib/Reaction/UI/View.pm at line 22) line 18
	Reaction::UI::View::create_layout_set(ComponentUI::View::Site=HASH(0x5609526385f8), "site_layout") called at /tmp/loop_over_bdir-736987-_wdjIk/Reaction-0.002005-0/blib/lib/Reaction/UI/View.pm line 99
	Reaction::UI::View::layout_set_for(ComponentUI::View::Site=HASH(0x5609526385f8), Reaction::UI::ViewPort::SiteLayout=HASH(0x560956c92038)) called at /tmp/loop_over_bdir-736987-_wdjIk/Reaction-0.002005-0/blib/lib/Reaction/UI/View.pm line 78
	Reaction::UI::View::render_viewport_args(ComponentUI::View::Site=HASH(0x5609526385f8), Reaction::UI::ViewPort::SiteLayout=HASH(0x560956c92038)) called at /tmp/loop_over_bdir-736987-_wdjIk/Reaction-0.002005-0/blib/lib/Reaction/UI/View.pm line 61
	Reaction::UI::View::render_window(ComponentUI::View::Site=HASH(0x5609526385f8), Reaction::UI::Window=HASH(0x560956c917c8)) called at /tmp/loop_over_bdir-736987-_wdjIk/Reaction-0.002005-0/blib/lib/Reaction/UI/Window.pm line 74
	Reaction::UI::Window::flush_view(Reaction::UI::Window=HASH(0x560956c917c8)) called at /tmp/loop_over_bdir-736987-_wdjIk/Reaction-0.002005-0/blib/lib/Reaction/UI/Window.pm line 36
	Reaction::UI::Window::flush(Reaction::UI::Window=HASH(0x560956c917c8)) called at /tmp/loop_over_bdir-736987-_wdjIk/Reaction-0.002005-0/blib/lib/Reaction/UI/Controller/Root.pm line 38
	Reaction::UI::Controller::Root::end(ComponentUI::Controller::Root=HASH(0x560956c918e8), ComponentUI=HASH(0x560956c506f0)) called at /home/sand/src/perl/repoperls/installed-perls/host/k93jammy/v5.39.6/322f/lib/site_perl/5.39.6/Catalyst/Action.pm line 374
	Catalyst::Action::execute(Catalyst::Action=HASH(0x560956988780), ComponentUI::Controller::Root=HASH(0x560956c918e8), ComponentUI=HASH(0x560956c506f0)) called at /home/sand/src/perl/repoperls/installed-perls/host/k93jammy/v5.39.6/322f/lib/site_perl/5.39.6/Catalyst.pm line 2067
	eval {...} called at /home/sand/src/perl/repoperls/installed-perls/host/k93jammy/v5.39.6/322f/lib/site_perl/5.39.6/Catalyst.pm line 2067
	Catalyst::execute(ComponentUI=HASH(0x560956c506f0), "ComponentUI::Controller::Root", Catalyst::Action=HASH(0x560956988780)) called at /home/sand/src/perl/repoperls/installed-perls/host/k93jammy/v5.39.6/322f/lib/site_perl/5.39.6/Catalyst/Action.pm line 368
	Catalyst::Action::dispatch(Catalyst::Action=HASH(0x560956988780), ComponentUI=HASH(0x560956c506f0)) called at /home/sand/src/perl/repoperls/installed-perls/host/k93jammy/v5.39.6/322f/lib/site_perl/5.39.6/Catalyst/Controller.pm line 188
	Catalyst::Controller::_END(ComponentUI::Controller::TestModel::Baz=HASH(0x560956c4b970), ComponentUI=HASH(0x560956c506f0)) called at /home/sand/src/perl/repoperls/installed-perls/host/k93jammy/v5.39.6/322f/lib/site_perl/5.39.6/Catalyst/Action.pm line 374
	Catalyst::Action::execute(Catalyst::Action=HASH(0x560956a4e3a8), ComponentUI::Controller::TestModel::Baz=HASH(0x560956c4b970), ComponentUI=HASH(0x560956c506f0)) called at /home/sand/src/perl/repoperls/installed-perls/host/k93jammy/v5.39.6/322f/lib/site_perl/5.39.6/Catalyst.pm line 2067
	eval {...} called at /home/sand/src/perl/repoperls/installed-perls/host/k93jammy/v5.39.6/322f/lib/site_perl/5.39.6/Catalyst.pm line 2067
	Catalyst::execute(ComponentUI=HASH(0x560956c506f0), "ComponentUI::Controller::TestModel::Baz", Catalyst::Action=HASH(0x560956a4e3a8)) called at /home/sand/src/perl/repoperls/installed-perls/host/k93jammy/v5.39.6/322f/lib/site_perl/5.39.6/Catalyst/Action.pm line 368
	Catalyst::Action::dispatch(Catalyst::Action=HASH(0x560956a4e3a8), ComponentUI=HASH(0x560956c506f0)) called at /home/sand/src/perl/repoperls/installed-perls/host/k93jammy/v5.39.6/322f/lib/site_perl/5.39.6/Catalyst/Dispatcher.pm line 261
	Catalyst::Dispatcher::_do_forward(Catalyst::Dispatcher=HASH(0x56095121c6f0), "forward", ComponentUI=HASH(0x560956c506f0), "_END") called at /home/sand/src/perl/repoperls/installed-perls/host/k93jammy/v5.39.6/322f/lib/site_perl/5.39.6/Catalyst/Dispatcher.pm line 241
	Catalyst::Dispatcher::forward(Catalyst::Dispatcher=HASH(0x56095121c6f0), ComponentUI=HASH(0x560956c506f0), "_END") called at /home/sand/src/perl/repoperls/installed-perls/host/k93jammy/v5.39.6/322f/lib/site_perl/5.39.6/Catalyst.pm line 489
	Catalyst::forward(ComponentUI=HASH(0x560956c506f0), "_END") called at /home/sand/src/perl/repoperls/installed-perls/host/k93jammy/v5.39.6/322f/lib/site_perl/5.39.6/Catalyst/Controller.pm line 137
	Catalyst::Controller::_DISPATCH(ComponentUI::Controller::TestModel::Baz=HASH(0x560956c4b970), ComponentUI=HASH(0x560956c506f0)) called at /home/sand/src/perl/repoperls/installed-perls/host/k93jammy/v5.39.6/322f/lib/site_perl/5.39.6/Catalyst/Action.pm line 374
	Catalyst::Action::execute(Catalyst::Action=HASH(0x560956a439d0), ComponentUI::Controller::TestModel::Baz=HASH(0x560956c4b970), ComponentUI=HASH(0x560956c506f0)) called at /home/sand/src/perl/repoperls/installed-perls/host/k93jammy/v5.39.6/322f/lib/site_perl/5.39.6/Catalyst.pm line 2067
	eval {...} called at /home/sand/src/perl/repoperls/installed-perls/host/k93jammy/v5.39.6/322f/lib/site_perl/5.39.6/Catalyst.pm line 2067
	Catalyst::execute(ComponentUI=HASH(0x560956c506f0), "ComponentUI::Controller::TestModel::Baz", Catalyst::Action=HASH(0x560956a439d0)) called at /home/sand/src/perl/repoperls/installed-perls/host/k93jammy/v5.39.6/322f/lib/site_perl/5.39.6/Catalyst/Action.pm line 368
	Catalyst::Action::dispatch(Catalyst::Action=HASH(0x560956a439d0), ComponentUI=HASH(0x560956c506f0)) called at /home/sand/src/perl/repoperls/installed-perls/host/k93jammy/v5.39.6/322f/lib/site_perl/5.39.6/Catalyst/Dispatcher.pm line 261
	Catalyst::Dispatcher::_do_forward(Catalyst::Dispatcher=HASH(0x56095121c6f0), "forward", ComponentUI=HASH(0x560956c506f0), "/testmodel/baz/_DISPATCH") called at /home/sand/src/perl/repoperls/installed-perls/host/k93jammy/v5.39.6/322f/lib/site_perl/5.39.6/Catalyst/Dispatcher.pm line 241
	Catalyst::Dispatcher::forward(Catalyst::Dispatcher=HASH(0x56095121c6f0), ComponentUI=HASH(0x560956c506f0), "/testmodel/baz/_DISPATCH") called at /home/sand/src/perl/repoperls/installed-perls/host/k93jammy/v5.39.6/322f/lib/site_perl/5.39.6/Catalyst.pm line 489
	Catalyst::forward(ComponentUI=HASH(0x560956c506f0), "/testmodel/baz/_DISPATCH") called at /home/sand/src/perl/repoperls/installed-perls/host/k93jammy/v5.39.6/322f/lib/site_perl/5.39.6/Catalyst/Dispatcher.pm line 107
	Catalyst::Dispatcher::dispatch(Catalyst::Dispatcher=HASH(0x56095121c6f0), ComponentUI=HASH(0x560956c506f0)) called at /home/sand/src/perl/repoperls/installed-perls/host/k93jammy/v5.39.6/322f/lib/site_perl/5.39.6/Catalyst.pm line 2013
	Catalyst::dispatch(ComponentUI=HASH(0x560956c506f0)) called at /home/sand/src/perl/repoperls/installed-perls/host/k93jammy/v5.39.6/322f/lib/site_perl/5.39.6/Catalyst/Plugin/Static/Simple.pm line 85
	Class::MOP::Class:::around(CODE(0x5609516ac280), ComponentUI=HASH(0x560956c506f0)) called at /home/sand/src/perl/repoperls/installed-perls/host/k93jammy/v5.39.6/322f/lib/site_perl/5.39.6/x86_64-linux-thread-multi-ld/Class/MOP/Method/Wrapped.pm line 166
	ComponentUI::_wrapped_dispatch(ComponentUI=HASH(0x560956c506f0)) called at /home/sand/src/perl/repoperls/installed-perls/host/k93jammy/v5.39.6/322f/lib/site_perl/5.39.6/x86_64-linux-thread-multi-ld/Class/MOP/Method/Wrapped.pm line 97
	ComponentUI::dispatch(ComponentUI=HASH(0x560956c506f0)) called at /home/sand/src/perl/repoperls/installed-perls/host/k93jammy/v5.39.6/322f/lib/site_perl/5.39.6/Catalyst.pm line 2419
	Catalyst::try {...} () called at /home/sand/src/perl/repoperls/installed-perls/host/k93jammy/v5.39.6/322f/lib/site_perl/5.39.6/Try/Tiny.pm line 102
	eval {...} called at /home/sand/src/perl/repoperls/installed-perls/host/k93jammy/v5.39.6/322f/lib/site_perl/5.39.6/Try/Tiny.pm line 93
	Try::Tiny::try(CODE(0x560956c500a8), Try::Tiny::Catch=REF(0x560956c4feb0)) called at /home/sand/src/perl/repoperls/installed-perls/host/k93jammy/v5.39.6/322f/lib/site_perl/5.39.6/Catalyst.pm line 2428
	Catalyst::handle_request("ComponentUI", "env", HASH(0x560956c439c0), "response_cb", CODE(0x560956c4ff10)) called at /home/sand/src/perl/repoperls/installed-perls/host/k93jammy/v5.39.6/322f/lib/site_perl/5.39.6/Catalyst/Engine.pm line 807
	Catalyst::Engine::__ANON__(CODE(0x560956c4ff10)) called at /home/sand/src/perl/repoperls/installed-perls/host/k93jammy/v5.39.6/322f/lib/site_perl/5.39.6/Plack/Middleware/HTTPExceptions.pm line 32
	Plack::Middleware::HTTPExceptions::try {...} () called at /home/sand/src/perl/repoperls/installed-perls/host/k93jammy/v5.39.6/322f/lib/site_perl/5.39.6/Try/Tiny.pm line 102
	eval {...} called at /home/sand/src/perl/repoperls/installed-perls/host/k93jammy/v5.39.6/322f/lib/site_perl/5.39.6/Try/Tiny.pm line 93
	Try::Tiny::try(CODE(0x560956c4fd48), Try::Tiny::Catch=REF(0x560956c48788)) called at /home/sand/src/perl/repoperls/installed-perls/host/k93jammy/v5.39.6/322f/lib/site_perl/5.39.6/Plack/Middleware/HTTPExceptions.pm line 41
	Plack::Middleware::HTTPExceptions::__ANON__(CODE(0x560956c486e0)) called at /home/sand/src/perl/repoperls/installed-perls/host/k93jammy/v5.39.6/322f/lib/site_perl/5.39.6/Plack/Util.pm line 339
	Plack::Util::__ANON__(CODE(0x560956c43918)) called at /home/sand/src/perl/repoperls/installed-perls/host/k93jammy/v5.39.6/322f/lib/site_perl/5.39.6/Plack/Util.pm line 339
	Plack::Util::__ANON__(CODE(0x560956c437b0)) called at /home/sand/src/perl/repoperls/installed-perls/host/k93jammy/v5.39.6/322f/lib/site_perl/5.39.6/Plack/Util.pm line 339
	Plack::Util::__ANON__(CODE(0x5609544e3e78)) called at /home/sand/src/perl/repoperls/installed-perls/host/k93jammy/v5.39.6/322f/lib/site_perl/5.39.6/HTTP/Message/PSGI.pm line 100
	HTTP::Message::PSGI::res_from_psgi(CODE(0x560956c492c8)) called at /home/sand/src/perl/repoperls/installed-perls/host/k93jammy/v5.39.6/322f/lib/site_perl/5.39.6/HTTP/Message/PSGI.pm line 157
	HTTP::Response::from_psgi("HTTP::Response", CODE(0x560956c492c8)) called at /home/sand/src/perl/repoperls/installed-perls/host/k93jammy/v5.39.6/322f/lib/site_perl/5.39.6/Plack/Test/MockHTTP.pm line 24
	Plack::Test::MockHTTP::try {...} () called at /home/sand/src/perl/repoperls/installed-perls/host/k93jammy/v5.39.6/322f/lib/site_perl/5.39.6/Try/Tiny.pm line 100
	eval {...} called at /home/sand/src/perl/repoperls/installed-perls/host/k93jammy/v5.39.6/322f/lib/site_perl/5.39.6/Try/Tiny.pm line 93
	Try::Tiny::try(CODE(0x560956c36f70), Try::Tiny::Catch=REF(0x560956a790f8)) called at /home/sand/src/perl/repoperls/installed-perls/host/k93jammy/v5.39.6/322f/lib/site_perl/5.39.6/Plack/Test/MockHTTP.pm line 27
	Plack::Test::MockHTTP::request(Plack::Test::MockHTTP=HASH(0x560956c434e0), HTTP::Request=HASH(0x560956bf8b58)) called at /home/sand/src/perl/repoperls/installed-perls/host/k93jammy/v5.39.6/322f/lib/site_perl/5.39.6/Plack/Test.pm line 38
	Plack::Test::__ANON__(HTTP::Request=HASH(0x560956bf8b58)) called at /home/sand/src/perl/repoperls/installed-perls/host/k93jammy/v5.39.6/322f/lib/site_perl/5.39.6/Catalyst/Test.pm line 290
	Catalyst::Test::__ANON__(CODE(0x560956c43498)) called at /home/sand/src/perl/repoperls/installed-perls/host/k93jammy/v5.39.6/322f/lib/site_perl/5.39.6/Plack/Test.pm line 38
	Plack::Test::test_psgi("app", CODE(0x560956c15d88), "mangle_response", CODE(0x560950ad37d8), "app", CODE(0x560956c15d58), "client", CODE(0x560956c43330)) called at /home/sand/src/perl/repoperls/installed-perls/host/k93jammy/v5.39.6/322f/lib/site_perl/5.39.6/Catalyst/Test.pm line 293
	Catalyst::Test::_request(HASH(0x560956c36ef8), HTTP::Request=HASH(0x560956bf8b58)) called at /home/sand/src/perl/repoperls/installed-perls/host/k93jammy/v5.39.6/322f/lib/site_perl/5.39.6/Catalyst/Test.pm line 336
	Catalyst::Test::_local_request("ComponentUI", HTTP::Request=HASH(0x560956bf8b58)) called at /home/sand/src/perl/repoperls/installed-perls/host/k93jammy/v5.39.6/322f/lib/site_perl/5.39.6/Test/WWW/Mechanize/Catalyst.pm line 176
	Test::WWW::Mechanize::Catalyst::_do_catalyst_request(Test::WWW::Mechanize::Catalyst=HASH(0x56094ed1a150), HTTP::Request=HASH(0x560956bf8b58)) called at /home/sand/src/perl/repoperls/installed-perls/host/k93jammy/v5.39.6/322f/lib/site_perl/5.39.6/Test/WWW/Mechanize/Catalyst.pm line 78
	Test::WWW::Mechanize::Catalyst::_make_request(Test::WWW::Mechanize::Catalyst=HASH(0x56094ed1a150), HTTP::Request=HASH(0x560956bf8b58)) called at /home/sand/src/perl/repoperls/installed-perls/host/k93jammy/v5.39.6/322f/lib/site_perl/5.39.6/WWW/Mechanize.pm line 1532
	WWW::Mechanize::request(Test::WWW::Mechanize::Catalyst=HASH(0x56094ed1a150), HTTP::Request=HASH(0x560956bf8b58)) called at /home/sand/src/perl/repoperls/installed-perls/host/k93jammy/v5.39.6/322f/lib/site_perl/5.39.6/LWP/UserAgent.pm line 452
	LWP::UserAgent::get(Test::WWW::Mechanize::Catalyst=HASH(0x56094ed1a150), "http://localhost/testmodel/baz/id/1/update") called at /home/sand/src/perl/repoperls/installed-perls/host/k93jammy/v5.39.6/322f/lib/site_perl/5.39.6/WWW/Mechanize.pm line 124
	WWW::Mechanize::get(Test::WWW::Mechanize::Catalyst=HASH(0x56094ed1a150), "http://localhost/testmodel/baz/id/1/update") called at /home/sand/src/perl/repoperls/installed-perls/host/k93jammy/v5.39.6/322f/lib/site_perl/5.39.6/Test/WWW/Mechanize.pm line 192
	Test::WWW::Mechanize::get_ok(Test::WWW::Mechanize::Catalyst=HASH(0x56094ed1a150), "http://localhost/testmodel/baz/id/1/update") called at t/uncheck_bool_field.t line 9
t/uncheck_bool_field.t ...... ok
All tests successful.
Files=9, Tests=604, 16 wallclock secs ( 0.09 usr  0.02 sys + 13.42 cusr  1.64 csys = 15.17 CPU)
Result: PASS

------------------------------
PREREQUISITES
------------------------------

Prerequisite modules loaded:

requires:

    Module                                  Need      Have    
    --------------------------------------- --------- --------
    aliased                                 0.22      0.34    
    Catalyst                                5.80002   5.90131 
    Catalyst::Component::ACCEPT_CONTEXT     0.05      0.07    
    Catalyst::Component::InstancePerContext 0.001001  0.001001
    Catalyst::Model::DBIC::Schema           0.23      0.66    
    Catalyst::Plugin::ConfigLoader          0.23      0.35    
    Catalyst::Plugin::I18N                  0.09      0.10    
    Catalyst::Plugin::Static::Simple        0.21      0.37    
    Catalyst::View::TT                      0.29      0.46    
    Class::MOP                              0.81      2.2206  
    Config::General                         2.42      2.65    
    Crypt::Eksblowfish::Bcrypt              0.005     0.009   
    DateTime                                0.47      1.65    
    DateTime::Event::Recurrence             0.16      0.19    
    DateTime::Span                          0         0.3900  
    DBIx::Class                             0.08100   0.082843
    DBIx::Class::IntrospectableM2M          0.001001  0.001002
    Devel::Declare                          0.005000  0.006022
    Email::Valid                            0.181     1.203   
    ExtUtils::MakeMaker                     6.11      7.70    
    File::ShareDir                          1.00      1.118   
    File::Spec                              3.29      3.90    
    JSON                                    0         4.10    
    metaclass                               0.81      2.2206  
    Method::Signatures::Simple              0.03      1.07    
    Moose                                   0.74      2.2206  
    MooseX::MethodAttributes                0.18      0.32    
    MooseX::Role::Parameterized             0.24      1.11    
    MooseX::Types                           0.10      0.50    
    MooseX::Types::Common                   0.001000  0.001014
    MooseX::Types::DateTime                 0.03      0.13    
    MooseX::Types::URI                      0.02      0.09    
    namespace::clean                        0.11      0.27    
    Path::Class::Dir                        0         0.37    
    Path::Class::File                       0         0.37    
    perl                                    5.008001  5.039006
    Scalar::Util                            1.19      1.63    
    signatures                              0.05      0.14    
    SQL::Translator                         0.11002   1.64    
    Sub::Exporter                           0.982     0.991   
    Sub::Name                               0.04      0.27    
    Template                                2.20      3.101   
    Test::Class                             0.31      0.52    
    Test::Memory::Cycle                     1.04      1.06    
    Test::WWW::Mechanize::Catalyst          0.51      0.62    
    Time::ParseDate                         2006.0814 2015.103
    URI                                     1.37      5.21    

build_requires:

    Module                                  Need      Have    
    --------------------------------------- --------- --------
    ExtUtils::MakeMaker                     6.42      7.70    
    SQL::Translator                         0.11002   1.64    
    Test::Class                             0.31      0.52    
    Test::Memory::Cycle                     1.04      1.06    
    Test::WWW::Mechanize::Catalyst          0.51      0.62    

configure_requires:

    Module                                  Need      Have    
    --------------------------------------- --------- --------
    ExtUtils::MakeMaker                     6.42      7.70    


------------------------------
ENVIRONMENT AND OTHER CONTEXT
------------------------------

Environment variables:

    AUTOMATED_TESTING = 1
    LANG = en_US.UTF-8
    LC_ADDRESS = de_DE.UTF-8
    LC_IDENTIFICATION = de_DE.UTF-8
    LC_MEASUREMENT = de_DE.UTF-8
    LC_MONETARY = de_DE.UTF-8
    LC_NAME = de_DE.UTF-8
    LC_NUMERIC = de_DE.UTF-8
    LC_PAPER = de_DE.UTF-8
    LC_TELEPHONE = de_DE.UTF-8
    LC_TIME = de_DE.UTF-8
    PATH = /home/sand/bin:/usr/local/bin:/usr/local/sbin:/usr/sbin:/usr/bin:/sbin:/bin:/usr/games:/usr/local/games:/snap/bin:/usr/local/perl/bin:/usr/X11/bin
    PERL = /tmp/basesmoker-reloperl-Qlww/bin/perl
    PERL5LIB = /tmp/loop_over_bdir-736987-_wdjIk/HTML-Menu-TreeView-1.22-0/blib/arch:/tmp/loop_over_bdir-736987-_wdjIk/HTML-Menu-TreeView-1.22-0/blib/lib:/tmp/loop_over_bdir-736987-_wdjIk/Debian-Packages-0.03-0/blib/arch:/tmp/loop_over_bdir-736987-_wdjIk/Debian-Packages-0.03-0/blib/lib:/tmp/loop_over_bdir-736987-_wdjIk/shishi-0.0.1-0/blib/arch:/tmp/loop_over_bdir-736987-_wdjIk/shishi-0.0.1-0/blib/lib:/tmp/loop_over_bdir-736987-_wdjIk/Simulation-Automate-1.0.1-0/blib/arch:/tmp/loop_over_bdir-736987-_wdjIk/Simulation-Automate-1.0.1-0/blib/lib:/tmp/loop_over_bdir-736987-_wdjIk/dta-tokwrap-0.98-0/blib/arch:/tmp/loop_over_bdir-736987-_wdjIk/dta-tokwrap-0.98-0/blib/lib:/tmp/loop_over_bdir-736987-_wdjIk/Lingua-BioYaTeA-0.11-0/blib/arch:/tmp/loop_over_bdir-736987-_wdjIk/Lingua-BioYaTeA-0.11-0/blib/lib:/tmp/loop_over_bdir-736987-_wdjIk/Linux-InitFS-0.2-0/blib/arch:/tmp/loop_over_bdir-736987-_wdjIk/Linux-InitFS-0.2-0/blib/lib:/tmp/loop_over_bdir-736987-_wdjIk/js-app-0.13-0/blib/arch:/tmp/loop_over_bdir-736987-_wdjIk/js-app-0.13-0/blib/lib:/tmp/loop_over_bdir-736987-_wdjIk/DBIx-Migration-Directories-0.12-0/blib/arch:/tmp/loop_over_bdir-736987-_wdjIk/DBIx-Migration-Directories-0.12-0/blib/lib:/tmp/loop_over_bdir-736987-_wdjIk/App-oo_modulino_zsh_completion_helper-0.04-0/blib/arch:/tmp/loop_over_bdir-736987-_wdjIk/App-oo_modulino_zsh_completion_helper-0.04-0/blib/lib:/tmp/loop_over_bdir-736987-_wdjIk/Device-Kiln-0.03-0/blib/arch:/tmp/loop_over_bdir-736987-_wdjIk/Device-Kiln-0.03-0/blib/lib:/tmp/loop_over_bdir-736987-_wdjIk/RDF-NLP-SPARQLQuery-0.1-0/blib/arch:/tmp/loop_over_bdir-736987-_wdjIk/RDF-NLP-SPARQLQuery-0.1-0/blib/lib:/tmp/loop_over_bdir-736987-_wdjIk/CGI-Application-NetNewsIface-0.0204-0/blib/arch:/tmp/loop_over_bdir-736987-_wdjIk/CGI-Application-NetNewsIface-0.0204-0/blib/lib:/tmp/loop_over_bdir-736987-_wdjIk/NoZone-1.3-0/blib/arch:/tmp/loop_over_bdir-736987-_wdjIk/NoZone-1.3-0/blib/lib:/tmp/loop_over_bdir-736987-_wdjIk/Net-Async-WebService-lxd-0.03-0/blib/arch:/tmp/loop_over_bdir-736987-_wdjIk/Net-Async-WebService-lxd-0.03-0/blib/lib:/tmp/loop_over_bdir-736987-_wdjIk/App-rmcd-0.280-0/blib/arch:/tmp/loop_over_bdir-736987-_wdjIk/App-rmcd-0.280-0/blib/lib:/tmp/loop_over_bdir-736987-_wdjIk/EJBCA-CrlPublish-0.60-0/blib/arch:/tmp/loop_over_bdir-736987-_wdjIk/EJBCA-CrlPublish-0.60-0/blib/lib:/tmp/loop_over_bdir-736987-_wdjIk/triceps-2.1.0-0/blib/arch:/tmp/loop_over_bdir-736987-_wdjIk/triceps-2.1.0-0/blib/lib:/tmp/loop_over_bdir-736987-_wdjIk/AllKnowingDNS-1.7-0/blib/arch:/tmp/loop_over_bdir-736987-_wdjIk/AllKnowingDNS-1.7-0/blib/lib:/tmp/loop_over_bdir-736987-_wdjIk/CORBA-Python-2.66-0/blib/arch:/tmp/loop_over_bdir-736987-_wdjIk/CORBA-Python-2.66-0/blib/lib:/tmp/loop_over_bdir-736987-_wdjIk/Alien-SNMP-MIBDEV-2.020000-0/blib/arch:/tmp/loop_over_bdir-736987-_wdjIk/Alien-SNMP-MIBDEV-2.020000-0/blib/lib:/tmp/loop_over_bdir-736987-_wdjIk/Devel-Required-0.16-0/blib/arch:/tmp/loop_over_bdir-736987-_wdjIk/Devel-Required-0.16-0/blib/lib:/tmp/loop_over_bdir-736987-_wdjIk/Lingua-YaTeA-0.626-0/blib/arch:/tmp/loop_over_bdir-736987-_wdjIk/Lingua-YaTeA-0.626-0/blib/lib
    PERL5OPT = 
    PERL5_CPANPLUS_IS_RUNNING = 736995
    PERL5_CPAN_IS_RUNNING = 736995
    PERL_CANARY_STABILITY_NOPROMPT = 1
    PERL_MM_USE_DEFAULT = 1
    PERL_USE_UNSAFE_INC = 1
    SHELL = /usr/bin/zsh
    TERM = screen

Perl special variables (and OS-specific diagnostics, for MSWin32):

    $^X = /tmp/basesmoker-reloperl-Qlww/bin/perl
    $UID/$EUID = 1005 / 1005
    $GID = 1005 1005
    $EGID = 1005 1005

Perl module toolchain versions installed:

    Module              Have    
    ------------------- --------
    CPAN                2.36    
    CPAN::Meta          2.150010
    Cwd                 3.90    
    ExtUtils::CBuilder  0.280240
    ExtUtils::Command   7.70    
    ExtUtils::Install   2.22    
    ExtUtils::MakeMaker 7.70    
    ExtUtils::Manifest  1.75    
    ExtUtils::ParseXS   3.51    
    File::Spec          3.90    
    JSON                4.10    
    JSON::PP            4.16    
    Module::Build       0.4234  
    Module::Signature   0.88    
    Parse::CPAN::Meta   2.150010
    Test2               1.302198
    Test::Harness       3.48    
    Test::More          1.302198
    YAML                1.31    
    YAML::Syck          1.34    
    version             0.9930  


--

Summary of my perl5 (revision 5 version 39 subversion 6) configuration:
  Commit id: 19d146d89647634621ee2291d0baa267addfef3d
  Platform:
    osname=linux
    osvers=6.2.0-39-generic
    archname=x86_64-linux-thread-multi-ld
    uname='linux k93jammy 6.2.0-39-generic #40~22.04.1-ubuntu smp preempt_dynamic thu nov 16 10:53:04 utc 2 x86_64 x86_64 x86_64 gnulinux '
    config_args='-Dprefix=/home/sand/src/perl/repoperls/installed-perls/host/k93jammy/v5.39.6/322f -Dmyhostname=k93jammy -Dinstallusrbinperl=n -Uversiononly -Dusedevel -des -Ui_db -Dlibswanted=cl pthread socket inet nsl gdbm dbm malloc dl ld sun m crypt sec util c cposix posix ucb BSD gdbm_compat -Duseithreads -Duselongdouble -DEBUGGING=-g'
    hint=recommended
    useposix=true
    d_sigaction=define
    useithreads=define
    usemultiplicity=define
    use64bitint=define
    use64bitall=define
    uselongdouble=define
    usemymalloc=n
    default_inc_excludes_dot=define
  Compiler:
    cc='cc'
    ccflags ='-D_REENTRANT -D_GNU_SOURCE -fwrapv -fno-strict-aliasing -pipe -fstack-protector-strong -I/usr/local/include -D_LARGEFILE_SOURCE -D_FILE_OFFSET_BITS=64'
    optimize='-O2 -g'
    cppflags='-D_REENTRANT -D_GNU_SOURCE -fwrapv -fno-strict-aliasing -pipe -fstack-protector-strong -I/usr/local/include'
    ccversion=''
    gccversion='11.4.0'
    gccosandvers=''
    intsize=4
    longsize=8
    ptrsize=8
    doublesize=8
    byteorder=12345678
    doublekind=3
    d_longlong=define
    longlongsize=8
    d_longdbl=define
    longdblsize=16
    longdblkind=3
    ivtype='long'
    ivsize=8
    nvtype='long double'
    nvsize=16
    Off_t='off_t'
    lseeksize=8
    alignbytes=16
    prototype=define
  Linker and Libraries:
    ld='cc'
    ldflags =' -fstack-protector-strong -L/usr/local/lib'
    libpth=/usr/local/lib /usr/lib/x86_64-linux-gnu /usr/lib /usr/lib64
    libs=-lpthread -lnsl -ldl -lm -lcrypt -lutil -lc
    perllibs=-lpthread -lnsl -ldl -lm -lcrypt -lutil -lc
    libc=/lib/x86_64-linux-gnu/libc.so.6
    so=so
    useshrplib=false
    libperl=libperl.a
    gnulibc_version='2.35'
  Dynamic Linking:
    dlsrc=dl_dlopen.xs
    dlext=so
    d_dlsymun=undef
    ccdlflags='-Wl,-E'
    cccdlflags='-fPIC'
    lddlflags='-shared -O2 -g -L/usr/local/lib -fstack-protector-strong'


Characteristics of this binary (from libperl): 
  Compile-time options:
    HAS_LONG_DOUBLE
    HAS_STRTOLD
    HAS_TIMES
    MULTIPLICITY
    PERLIO_LAYERS
    PERL_COPY_ON_WRITE
    PERL_DONT_CREATE_GVSV
    PERL_HASH_FUNC_SIPHASH13
    PERL_HASH_USE_SBOX32
    PERL_MALLOC_WRAP
    PERL_OP_PARENT
    PERL_PRESERVE_IVUV
    PERL_USE_DEVEL
    PERL_USE_SAFE_PUTENV
    USE_64_BIT_ALL
    USE_64_BIT_INT
    USE_ITHREADS
    USE_LARGE_FILES
    USE_LOCALE
    USE_LOCALE_COLLATE
    USE_LOCALE_CTYPE
    USE_LOCALE_NUMERIC
    USE_LOCALE_TIME
    USE_LONG_DOUBLE
    USE_PERLIO
    USE_PERL_ATOF
    USE_REENTRANT_API
    USE_THREAD_SAFE_LOCALE
  Built under linux
  Compiled at Dec 31 2023 08:24:45
  %ENV:
    PERL="/tmp/basesmoker-reloperl-Qlww/bin/perl"
    PERL5LIB="/tmp/loop_over_bdir-736987-_wdjIk/HTML-Menu-TreeView-1.22-0/blib/arch:/tmp/loop_over_bdir-736987-_wdjIk/HTML-Menu-TreeView-1.22-0/blib/lib:/tmp/loop_over_bdir-736987-_wdjIk/Debian-Packages-0.03-0/blib/arch:/tmp/loop_over_bdir-736987-_wdjIk/Debian-Packages-0.03-0/blib/lib:/tmp/loop_over_bdir-736987-_wdjIk/shishi-0.0.1-0/blib/arch:/tmp/loop_over_bdir-736987-_wdjIk/shishi-0.0.1-0/blib/lib:/tmp/loop_over_bdir-736987-_wdjIk/Simulation-Automate-1.0.1-0/blib/arch:/tmp/loop_over_bdir-736987-_wdjIk/Simulation-Automate-1.0.1-0/blib/lib:/tmp/loop_over_bdir-736987-_wdjIk/dta-tokwrap-0.98-0/blib/arch:/tmp/loop_over_bdir-736987-_wdjIk/dta-tokwrap-0.98-0/blib/lib:/tmp/loop_over_bdir-736987-_wdjIk/Lingua-BioYaTeA-0.11-0/blib/arch:/tmp/loop_over_bdir-736987-_wdjIk/Lingua-BioYaTeA-0.11-0/blib/lib:/tmp/loop_over_bdir-736987-_wdjIk/Linux-InitFS-0.2-0/blib/arch:/tmp/loop_over_bdir-736987-_wdjIk/Linux-InitFS-0.2-0/blib/lib:/tmp/loop_over_bdir-736987-_wdjIk/js-app-0.13-0/blib/arch:/tmp/loop_over_bdir-736987-_wdjIk/js-app-0.13-0/blib/lib:/tmp/loop_over_bdir-736987-_wdjIk/DBIx-Migration-Directories-0.12-0/blib/arch:/tmp/loop_over_bdir-736987-_wdjIk/DBIx-Migration-Directories-0.12-0/blib/lib:/tmp/loop_over_bdir-736987-_wdjIk/App-oo_modulino_zsh_completion_helper-0.04-0/blib/arch:/tmp/loop_over_bdir-736987-_wdjIk/App-oo_modulino_zsh_completion_helper-0.04-0/blib/lib:/tmp/loop_over_bdir-736987-_wdjIk/Device-Kiln-0.03-0/blib/arch:/tmp/loop_over_bdir-736987-_wdjIk/Device-Kiln-0.03-0/blib/lib:/tmp/loop_over_bdir-736987-_wdjIk/RDF-NLP-SPARQLQuery-0.1-0/blib/arch:/tmp/loop_over_bdir-736987-_wdjIk/RDF-NLP-SPARQLQuery-0.1-0/blib/lib:/tmp/loop_over_bdir-736987-_wdjIk/CGI-Application-NetNewsIface-0.0204-0/blib/arch:/tmp/loop_over_bdir-736987-_wdjIk/CGI-Application-NetNewsIface-0.0204-0/blib/lib:/tmp/loop_over_bdir-736987-_wdjIk/NoZone-1.3-0/blib/arch:/tmp/loop_over_bdir-736987-_wdjIk/NoZone-1.3-0/blib/lib:/tmp/loop_over_bdir-736987-_wdjIk/Net-Async-WebService-lxd-0.03-0/blib/arch:/tmp/loop_over_bdir-736987-_wdjIk/Net-Async-WebService-lxd-0.03-0/blib/lib:/tmp/loop_over_bdir-736987-_wdjIk/App-rmcd-0.280-0/blib/arch:/tmp/loop_over_bdir-736987-_wdjIk/App-rmcd-0.280-0/blib/lib:/tmp/loop_over_bdir-736987-_wdjIk/EJBCA-CrlPublish-0.60-0/blib/arch:/tmp/loop_over_bdir-736987-_wdjIk/EJBCA-CrlPublish-0.60-0/blib/lib:/tmp/loop_over_bdir-736987-_wdjIk/triceps-2.1.0-0/blib/arch:/tmp/loop_over_bdir-736987-_wdjIk/triceps-2.1.0-0/blib/lib:/tmp/loop_over_bdir-736987-_wdjIk/AllKnowingDNS-1.7-0/blib/arch:/tmp/loop_over_bdir-736987-_wdjIk/AllKnowingDNS-1.7-0/blib/lib:/tmp/loop_over_bdir-736987-_wdjIk/CORBA-Python-2.66-0/blib/arch:/tmp/loop_over_bdir-736987-_wdjIk/CORBA-Python-2.66-0/blib/lib:/tmp/loop_over_bdir-736987-_wdjIk/Alien-SNMP-MIBDEV-2.020000-0/blib/arch:/tmp/loop_over_bdir-736987-_wdjIk/Alien-SNMP-MIBDEV-2.020000-0/blib/lib:/tmp/loop_over_bdir-736987-_wdjIk/Devel-Required-0.16-0/blib/arch:/tmp/loop_over_bdir-736987-_wdjIk/Devel-Required-0.16-0/blib/lib:/tmp/loop_over_bdir-736987-_wdjIk/Lingua-YaTeA-0.626-0/blib/arch:/tmp/loop_over_bdir-736987-_wdjIk/Lingua-YaTeA-0.626-0/blib/lib"
    PERL5OPT=""
    PERL5_CPANPLUS_IS_RUNNING="736995"
    PERL5_CPAN_IS_RUNNING="736995"
    PERL_CANARY_STABILITY_NOPROMPT="1"
    PERL_MM_USE_DEFAULT="1"
    PERL_USE_UNSAFE_INC="1"
  @INC:
    /tmp/loop_over_bdir-736987-_wdjIk/HTML-Menu-TreeView-1.22-0/blib/arch
    /tmp/loop_over_bdir-736987-_wdjIk/HTML-Menu-TreeView-1.22-0/blib/lib
    /tmp/loop_over_bdir-736987-_wdjIk/Debian-Packages-0.03-0/blib/arch
    /tmp/loop_over_bdir-736987-_wdjIk/Debian-Packages-0.03-0/blib/lib
    /tmp/loop_over_bdir-736987-_wdjIk/shishi-0.0.1-0/blib/arch
    /tmp/loop_over_bdir-736987-_wdjIk/shishi-0.0.1-0/blib/lib
    /tmp/loop_over_bdir-736987-_wdjIk/Simulation-Automate-1.0.1-0/blib/arch
    /tmp/loop_over_bdir-736987-_wdjIk/Simulation-Automate-1.0.1-0/blib/lib
    /tmp/loop_over_bdir-736987-_wdjIk/dta-tokwrap-0.98-0/blib/arch
    /tmp/loop_over_bdir-736987-_wdjIk/dta-tokwrap-0.98-0/blib/lib
    /tmp/loop_over_bdir-736987-_wdjIk/Lingua-BioYaTeA-0.11-0/blib/arch
    /tmp/loop_over_bdir-736987-_wdjIk/Lingua-BioYaTeA-0.11-0/blib/lib
    /tmp/loop_over_bdir-736987-_wdjIk/Linux-InitFS-0.2-0/blib/arch
    /tmp/loop_over_bdir-736987-_wdjIk/Linux-InitFS-0.2-0/blib/lib
    /tmp/loop_over_bdir-736987-_wdjIk/js-app-0.13-0/blib/arch
    /tmp/loop_over_bdir-736987-_wdjIk/js-app-0.13-0/blib/lib
    /tmp/loop_over_bdir-736987-_wdjIk/DBIx-Migration-Directories-0.12-0/blib/arch
    /tmp/loop_over_bdir-736987-_wdjIk/DBIx-Migration-Directories-0.12-0/blib/lib
    /tmp/loop_over_bdir-736987-_wdjIk/App-oo_modulino_zsh_completion_helper-0.04-0/blib/arch
    /tmp/loop_over_bdir-736987-_wdjIk/App-oo_modulino_zsh_completion_helper-0.04-0/blib/lib
    /tmp/loop_over_bdir-736987-_wdjIk/Device-Kiln-0.03-0/blib/arch
    /tmp/loop_over_bdir-736987-_wdjIk/Device-Kiln-0.03-0/blib/lib
    /tmp/loop_over_bdir-736987-_wdjIk/RDF-NLP-SPARQLQuery-0.1-0/blib/arch
    /tmp/loop_over_bdir-736987-_wdjIk/RDF-NLP-SPARQLQuery-0.1-0/blib/lib
    /tmp/loop_over_bdir-736987-_wdjIk/CGI-Application-NetNewsIface-0.0204-0/blib/arch
    /tmp/loop_over_bdir-736987-_wdjIk/CGI-Application-NetNewsIface-0.0204-0/blib/lib
    /tmp/loop_over_bdir-736987-_wdjIk/NoZone-1.3-0/blib/arch
    /tmp/loop_over_bdir-736987-_wdjIk/NoZone-1.3-0/blib/lib
    /tmp/loop_over_bdir-736987-_wdjIk/Net-Async-WebService-lxd-0.03-0/blib/arch
    /tmp/loop_over_bdir-736987-_wdjIk/Net-Async-WebService-lxd-0.03-0/blib/lib
    /tmp/loop_over_bdir-736987-_wdjIk/App-rmcd-0.280-0/blib/arch
    /tmp/loop_over_bdir-736987-_wdjIk/App-rmcd-0.280-0/blib/lib
    /tmp/loop_over_bdir-736987-_wdjIk/EJBCA-CrlPublish-0.60-0/blib/arch
    /tmp/loop_over_bdir-736987-_wdjIk/EJBCA-CrlPublish-0.60-0/blib/lib
    /tmp/loop_over_bdir-736987-_wdjIk/triceps-2.1.0-0/blib/arch
    /tmp/loop_over_bdir-736987-_wdjIk/triceps-2.1.0-0/blib/lib
    /tmp/loop_over_bdir-736987-_wdjIk/AllKnowingDNS-1.7-0/blib/arch
    /tmp/loop_over_bdir-736987-_wdjIk/AllKnowingDNS-1.7-0/blib/lib
    /tmp/loop_over_bdir-736987-_wdjIk/CORBA-Python-2.66-0/blib/arch
    /tmp/loop_over_bdir-736987-_wdjIk/CORBA-Python-2.66-0/blib/lib
    /tmp/loop_over_bdir-736987-_wdjIk/Alien-SNMP-MIBDEV-2.020000-0/blib/arch
    /tmp/loop_over_bdir-736987-_wdjIk/Alien-SNMP-MIBDEV-2.020000-0/blib/lib
    /tmp/loop_over_bdir-736987-_wdjIk/Devel-Required-0.16-0/blib/arch
    /tmp/loop_over_bdir-736987-_wdjIk/Devel-Required-0.16-0/blib/lib
    /tmp/loop_over_bdir-736987-_wdjIk/Lingua-YaTeA-0.626-0/blib/arch
    /tmp/loop_over_bdir-736987-_wdjIk/Lingua-YaTeA-0.626-0/blib/lib
    /home/sand/src/perl/repoperls/installed-perls/host/k93jammy/v5.39.6/322f/lib/site_perl/5.39.6/x86_64-linux-thread-multi-ld
    /home/sand/src/perl/repoperls/installed-perls/host/k93jammy/v5.39.6/322f/lib/site_perl/5.39.6
    /home/sand/src/perl/repoperls/installed-perls/host/k93jammy/v5.39.6/322f/lib/5.39.6/x86_64-linux-thread-multi-ld
    /home/sand/src/perl/repoperls/installed-perls/host/k93jammy/v5.39.6/322f/lib/5.39.6
    .