HTML-Parser v3.83 Perl 5 v5.41.11 amd64-midnightbsd-thread-multi
- Status
- Pass
- From
- Carlos Guevara
- Dist
-
HTML-Parser v3.83
- Platform
- Perl 5 v5.41.11 amd64-midnightbsd-thread-multi
- Date
- 2025-04-18 18:50:17
- ID
- f86ca35e-1c85-11f0-917c-c83ec94b0b43
This distribution has been tested as part of the CPAN Testers
project, supporting the Perl programming language. See
http://wiki.cpantesters.org/ for more information or email
questions to cpan-testers-discuss@perl.org
--
Dear Olaf Alders,
This is a computer-generated report for HTML-Parser-3.83
on perl 5.41.11, created by CPAN-Reporter-1.2020.
Thank you for uploading your work to CPAN. Congratulations!
All tests were successful.
Sections of this report:
* Tester comments
* Program output
* Prerequisites
* Environment and other context
------------------------------
TESTER COMMENTS
------------------------------
Additional comments from tester:
this report is from an automated smoke testing program
and was not reviewed by a human for accuracy
------------------------------
PROGRAM OUTPUT
------------------------------
Output from '/usr/bin/make test':
"/usr/home/cpan/bin/perl/bin/perl5.41.11" -MExtUtils::Command::MM -e 'cp_nonempty' -- Parser.bs blib/arch/auto/HTML/Parser/Parser.bs 644
PERL_DL_NONLAZY=1 "/usr/home/cpan/bin/perl/bin/perl5.41.11" "-MExtUtils::Command::MM" "-MTest::Harness" "-e" "undef *Test::Harness::Switches; test_harness(0, 'blib/lib', 'blib/arch')" t/*.t
#
# Versions for all modules listed in MYMETA.json (including optional ones):
#
# === Configure Requires ===
#
# Module Want Have
# ------------------- ----- --------
# ExtUtils::MakeMaker 6.52 7.74
# perl 5.008 5.041011
#
# === Configure Suggests ===
#
# Module Want Have
# -------- ------- ----
# JSON::PP 2.27300 4.16
#
# === Build Requires ===
#
# Module Want Have
# ------------------- ---- ----
# ExtUtils::MakeMaker any 7.74
#
# === Test Requires ===
#
# Module Want Have
# ------------------- ----- --------
# Config any 5.041011
# ExtUtils::MakeMaker any 7.74
# File::Spec any 3.94
# IO::File any 1.55
# SelectSaver any 1.02
# Test::More any 1.302210
# URI any 5.31
# perl 5.008 5.041011
# strict any 1.13
#
# === Test Recommends ===
#
# Module Want Have
# ---------- -------- --------
# CPAN::Meta 2.120900 2.150010
#
# === Runtime Requires ===
#
# Module Want Have
# ------------- ----- --------
# Carp any 1.54
# Exporter any 5.79
# HTML::Tagset any 3.24
# HTTP::Headers any 7.00
# IO::File any 1.55
# URI any 5.31
# URI::URL any 5.31
# XSLoader any 0.32
# perl 5.008 5.041011
# strict any 1.13
#
t/00-report-prereqs.t .. ok
t/api_version.t ........ ok
t/argspec-bad.t ........ ok
t/argspec.t ............ ok
t/argspec2.t ........... ok
t/attr-encoded.t ....... ok
t/callback.t ........... ok
t/case-sensitive.t ..... ok
t/cases.t .............. ok
t/comment.t ............ ok
t/crashme.t ............ ok
t/declaration.t ........ ok
t/default.t ............ ok
t/document.t ........... ok
t/dtext.t .............. ok
t/entities.t ........... ok
t/entities2.t .......... ok
t/filter-methods.t ..... ok
t/filter.t ............. ok
t/free.t ............... ok
t/handler-eof.t ........ ok
t/handler.t ............ ok
t/headparser-http.t .... ok
t/headparser.t ......... ok
t/ignore.t ............. ok
t/largetags.t .......... ok
t/linkextor-base.t ..... ok
t/linkextor-rel.t ...... ok
t/magic.t .............. ok
t/marked-sect.t ........ ok
t/msie-compat.t ........ ok
t/offset.t ............. ok
t/options.t ............ ok
t/parsefile.t .......... ok
t/parser.t ............. ok
t/plaintext.t .......... ok
t/process.t ............ ok
t/pullparser.t ......... ok
t/script.t ............. ok
t/skipped-text.t ....... ok
t/stack-realloc-eof.t .. ok
t/stack-realloc.t ...... ok
t/textarea.t ........... ok
t/threads.t ............ ok
t/tokeparser.t ......... ok
t/uentities.t .......... ok
t/unbroken-text.t ...... ok
t/unicode-bom.t ........ ok
t/unicode.t ............ ok
t/xml-mode.t ........... ok
All tests successful.
Files=50, Tests=464, 2 wallclock secs ( 0.11 usr 0.02 sys + 1.95 cusr 0.29 csys = 2.37 CPU)
Result: PASS
------------------------------
PREREQUISITES
------------------------------
Prerequisite modules loaded:
requires:
Module Need Have
------------------- ----- --------
Carp 0 1.54
Exporter 0 5.79
HTML::Tagset 0 3.24
HTTP::Headers 0 7.00
IO::File 0 1.55
strict 0 1.13
URI 0 5.31
URI::URL 0 5.31
XSLoader 0 0.32
build_requires:
Module Need Have
------------------- ----- --------
Config 0 5.041011
ExtUtils::MakeMaker 0 7.74
File::Spec 0 3.94
IO::File 0 1.55
SelectSaver 0 1.02
strict 0 1.13
Test::More 0 1.302210
URI 0 5.31
configure_requires:
Module Need Have
------------------- ----- --------
ExtUtils::MakeMaker 6.52 7.74
perl 5.008 5.041011
------------------------------
ENVIRONMENT AND OTHER CONTEXT
------------------------------
Environment variables:
AUTOMATED_TESTING = 1
DATE_MANIP_TEST_DM5 = 1
LC_ALL = C
NONINTERACTIVE_TESTING = 1
NO_NETWORK_TESTING = 1
PATH = /home/cpan/bin/perl/bin:/home/cpan/bin:/sbin:/bin:/usr/sbin:/usr/bin:/usr/games:/usr/local/sbin:/usr/local/bin:/home/cpan/bin
PERL5LIB =
PERL5OPT =
PERL5_CPANPLUS_IS_RUNNING = 50500
PERL5_CPAN_IS_RUNNING = 50500
PERL_MM_USE_DEFAULT = 1
PERL_USE_UNSAFE_INC = 1
SHELL = /usr/local/bin/bash
TERM = screen
TMPDIR = /home/cpan/tmp
Perl special variables (and OS-specific diagnostics, for MSWin32):
$^X = /usr/home/cpan/bin/perl/bin/perl5.41.11
$UID/$EUID = 1002 / 1002
$GID = 1002 1002
$EGID = 1002 1002
Perl module toolchain versions installed:
Module Have
------------------- --------
CPAN 2.38
CPAN::Meta 2.150010
Cwd 3.94
ExtUtils::CBuilder 0.280240
ExtUtils::Command 7.74
ExtUtils::Install 2.22
ExtUtils::MakeMaker 7.74
ExtUtils::Manifest 1.75
ExtUtils::ParseXS 3.57
File::Spec 3.94
JSON n/a
JSON::PP 4.16
Module::Build n/a
Module::Signature n/a
Parse::CPAN::Meta 2.150010
Test2 1.302210
Test::Harness 3.50
Test::More 1.302210
YAML 1.31
YAML::Syck n/a
version 0.9933
--
Summary of my perl5 (revision 5 version 41 subversion 11) configuration:
Commit id: 135abefda8f01c71feb2d24e5415f1d62b2a235a
Platform:
osname=midnightbsd
osvers=3.2.1
archname=amd64-midnightbsd-thread-multi
uname='midnightbsd cjg-midnightbsd3 3.2.1 midnightbsd 3.2.1 #15n13132-0869ed7092(stable3.2)-dirty: wed nov 6 12:53:25 est 2024 root@m3264:usrobjusrsrcamd64.amd64sysgeneric amd64 '
config_args='-des -Dprefix=/home/cpan/bin/perl -Dscriptdir=/home/cpan/bin/perl/bin -Dusedevel -Duse64bitall -Duseithreads'
hint=recommended
useposix=true
d_sigaction=define
useithreads=define
usemultiplicity=define
use64bitint=define
use64bitall=define
uselongdouble=undef
usemymalloc=n
default_inc_excludes_dot=define
Compiler:
cc='cc'
ccflags ='-DHAS_FPSETMASK -DHAS_FLOATINGPOINT_H -fno-strict-aliasing -pipe -fstack-protector-strong -I/usr/local/include'
optimize='-O'
cppflags='-DHAS_FPSETMASK -DHAS_FLOATINGPOINT_H -fno-strict-aliasing -pipe -fstack-protector-strong -I/usr/local/include'
ccversion=''
gccversion='MidnightBSD Clang 13.0.0 (git@github.com:llvm/llvm-project.git llvmorg-13.0.0-0-gd7b669b3a303)'
gccosandvers=''
intsize=4
longsize=8
ptrsize=8
doublesize=8
byteorder=12345678
doublekind=3
d_longlong=define
longlongsize=8
d_longdbl=define
longdblsize=16
longdblkind=3
ivtype='long'
ivsize=8
nvtype='double'
nvsize=8
Off_t='off_t'
lseeksize=8
alignbytes=8
prototype=define
Linker and Libraries:
ld='cc'
ldflags ='-pthread -Wl,-E -fstack-protector-strong -L/usr/local/lib'
libpth=/usr/lib /usr/local/lib /usr/lib/clang/13.0.0/lib
libs=-lpthread -lgdbm -ldl -lm -lcrypt
perllibs=-lpthread -ldl -lm -lcrypt
libc=
so=so
useshrplib=false
libperl=libperl.a
gnulibc_version=''
Dynamic Linking:
dlsrc=dl_dlopen.xs
dlext=so
d_dlsymun=undef
ccdlflags=' '
cccdlflags='-DPIC -fPIC'
lddlflags='-shared -L/usr/local/lib -fstack-protector-strong'
Characteristics of this binary (from libperl):
Compile-time options:
HAS_LONG_DOUBLE
HAS_STRTOLD
HAS_TIMES
MULTIPLICITY
PERLIO_LAYERS
PERL_COPY_ON_WRITE
PERL_DONT_CREATE_GVSV
PERL_HASH_FUNC_SIPHASH13
PERL_HASH_USE_SBOX32
PERL_MALLOC_WRAP
PERL_OP_PARENT
PERL_PRESERVE_IVUV
PERL_USE_DEVEL
PERL_USE_SAFE_PUTENV
USE_64_BIT_ALL
USE_64_BIT_INT
USE_ITHREADS
USE_LARGE_FILES
USE_LOCALE
USE_LOCALE_COLLATE
USE_LOCALE_CTYPE
USE_LOCALE_NUMERIC
USE_LOCALE_TIME
USE_PERLIO
USE_PERL_ATOF
USE_REENTRANT_API
USE_THREAD_SAFE_LOCALE
Built under midnightbsd
Compiled at Apr 18 2025 14:24:58
%ENV:
PERL5LIB=""
PERL5OPT=""
PERL5_CPANPLUS_IS_RUNNING="50500"
PERL5_CPAN_IS_RUNNING="50500"
PERL_MM_USE_DEFAULT="1"
PERL_USE_UNSAFE_INC="1"
@INC:
/home/cpan/bin/perl/lib/site_perl/5.41.11/amd64-midnightbsd-thread-multi
/home/cpan/bin/perl/lib/site_perl/5.41.11
/home/cpan/bin/perl/lib/5.41.11/amd64-midnightbsd-thread-multi
/home/cpan/bin/perl/lib/5.41.11
.