Class-Usul v0.84.1 Perl 5 v5.39.8 x86_64-linux

Status
Pass
From
Andreas J. König (ANDK)
Dist
Class-Usul v0.84.1
Platform
Perl 5 v5.39.8 x86_64-linux
Date
2024-02-29 15:26:55
ID
f855b94c-d716-11ee-a515-0b21de15a1d0
This distribution has been tested as part of the CPAN Testers
project, supporting the Perl programming language.  See
http://wiki.cpantesters.org/ for more information or email
questions to cpan-testers-discuss@perl.org


--
Dear Peter Flanigan,

This is a computer-generated report for Class-Usul-0.84.1
on perl 5.39.8, created by CPAN-Reporter-1.2019.

Thank you for uploading your work to CPAN.  Congratulations!
All tests were successful.

Sections of this report:

    * Tester comments
    * Program output
    * Prerequisites
    * Environment and other context

------------------------------
TESTER COMMENTS
------------------------------

Additional comments from tester:

this report is from an automated smoke testing program
and was not reviewed by a human for accuracy

------------------------------
PROGRAM OUTPUT
------------------------------

Output from './Build test':


OS: linux, Host: k93focal, Uptime:  15:21:39 up 3 days, 26 min, 19 users,  load average: 0.82, 0.91, 0.82


=== Environment variables ===

    $AUTHOR_TESTING                   undef
    $AUTOMATED_TESTING                1
    $EXTENDED_TESTING                 undef
    $NONINTERACTIVE_TESTING           undef
    $PERL_CPAN_REPORTER_CONFIG        undef
    $PERL_CR_SMOKER_CURRENT           undef
    $PERL5_CPAN_IS_RUNNING            2367
    $PERL5_CPANPLUS_IS_VERSION        undef
    $TEST_CRITIC                      undef
    $TEST_SPELLING                    undef

Versions for all modules listed in MYMETA.json (including optional ones):

=== Configure Requires ===

    Module          Want   Have
    ------------- ------ ------
    Module::Build 0.4004 0.4234
    version         0.88 0.9930

=== Build Requires ===

    Module          Want   Have
    ------------- ------ ------
    Module::Build 0.4004 0.4234
    version         0.88 0.9930

=== Test Requires ===

    Module             Want     Have
    ---------------- ------ --------
    Capture::Tiny      0.22     0.48
    File::Spec          any     3.90
    Hash::MoreUtils    0.05     0.06
    Module::Build    0.4004   0.4234
    Module::Metadata    any 1.000038
    Sys::Hostname       any     1.25
    Test::Deep        0.108    1.204
    Test::Requires     0.06     0.11
    version            0.88   0.9930

=== Test Recommends ===

    Module         Want     Have
    ---------- -------- --------
    CPAN::Meta 2.120900 2.150010

=== Runtime Requires ===

    Module                        Want     Have
    ------------------------- -------- --------
    Class::Inspector              1.28     1.36
    Class::Null               2.110730 2.110730
    Crypt::CBC                    2.33     3.04
    Crypt::Twofish2               1.02     1.03
    Data::Printer                 0.36 1.002001
    Data::Record                  0.02     0.02
    Date::Format                  2.24     2.24
    DateTime::Format::Epoch       0.16     0.16
    Exporter::Tiny               0.042 1.006002
    File::DataClass            v0.73.0   0.73.1
    File::Gettext              v0.33.0   0.33.1
    File::HomeDir                  1.0    1.006
    File::Which                   1.18     1.27
    Getopt::Long::Descriptive    0.099    0.114
    IO::Interactive             v0.0.6    1.025
    IPC::SRLock                v0.31.0   0.31.1
    JSON::MaybeXS                1.003 1.004005
    Log::Handler                  0.84     0.90
    Module::Runtime              0.014    0.016
    Moo                       2.000001 2.005005
    Pod::Eventual             0.094001 0.094003
    Sub::Install                 0.928    0.929
    Term::ReadKey                 2.33     2.38
    Text::Autoformat              1.72     1.75
    Time::Zone                    2.24     2.24
    Try::Tiny                     0.22     0.31
    Type::Tiny                1.000002 2.004000
    Unexpected                 v0.46.0    1.0.1
    namespace::autoclean          0.26     0.29
    namespace::clean              0.25     0.27

=== Runtime Recommends ===

    Module             Want       Have
    ------------------ ---- ----------
    IPC::Run           0.89 20231003.0
    Proc::ProcessTable 0.42      0.636

t/00report-metadata.t .. ok
t/02pod.t .............. skipped: POD test only for developers
t/03podcoverage.t ...... skipped: POD coverage test only for developers
t/05kwalitee.t ......... skipped: Kwalitee test only for developers
t/06yaml.t ............. skipped: YAML test only for developers
t/07podspelling.t ...... skipped: POD spelling test only for developers
t/10exception.t ........ ok
WARNING: The key derivation method "opensslv1" is deprecated. Using -pbkdf=>'pbkdf2' would be better.
Pass -nodeprecate=>1 to inhibit this message.
 at /tmp/loop_over_bdir-2354-ukUQqH/Class-Usul-0.84.1-0/t/../lib/Class/Usul/Crypt.pm line 73.
t/11functions.t ........ ok
t/12types.t ............ ok
t/13traits.t ........... ok
t/14time.t ............. ok
WARNING: The key derivation method "opensslv1" is deprecated. Using -pbkdf=>'pbkdf2' would be better.
Pass -nodeprecate=>1 to inhibit this message.
 at /tmp/loop_over_bdir-2354-ukUQqH/Class-Usul-0.84.1-0/t/../lib/Class/Usul/Crypt.pm line 73.
WARNING: The key derivation method "opensslv1" is deprecated. Using -pbkdf=>'pbkdf2' would be better.
Pass -nodeprecate=>1 to inhibit this message.
 at /tmp/loop_over_bdir-2354-ukUQqH/Class-Usul-0.84.1-0/t/../lib/Class/Usul/Crypt.pm line 73.
WARNING: The key derivation method "opensslv1" is deprecated. Using -pbkdf=>'pbkdf2' would be better.
Pass -nodeprecate=>1 to inhibit this message.
 at /tmp/loop_over_bdir-2354-ukUQqH/Class-Usul-0.84.1-0/t/../lib/Class/Usul/Crypt.pm line 73.
WARNING: The key derivation method "opensslv1" is deprecated. Using -pbkdf=>'pbkdf2' would be better.
Pass -nodeprecate=>1 to inhibit this message.
 at /tmp/loop_over_bdir-2354-ukUQqH/Class-Usul-0.84.1-0/t/../lib/Class/Usul/Crypt.pm line 73.
t/15crypt.t ............ ok
t/16log.t .............. ok
t/17l10n.t ............. ok
t/18config.t ........... ok
t/19file.t ............. ok
t/20options.t .......... ok
t/21programs.t ......... ok
t/22prompt.t ........... ok
t/23lock.t ............. ok
t/27ipc.t .............. ok
t/30schema.t ........... ok
All tests successful.
Files=22, Tests=262, 34 wallclock secs ( 0.09 usr  0.03 sys +  8.89 cusr  1.48 csys = 10.49 CPU)
Result: PASS

------------------------------
PREREQUISITES
------------------------------

Prerequisite modules loaded:

requires:

    Module                    Need     Have      
    ------------------------- -------- ----------
    Class::Inspector          1.28     1.36      
    Class::Null               2.110730 2.110730  
    Crypt::CBC                2.33     3.04      
    Crypt::Twofish2           1.02     1.03      
    Data::Printer             0.36     1.002001  
    Data::Record              0.02     0.02      
    Date::Format              2.24     2.24      
    DateTime::Format::Epoch   0.16     0.16      
    Exporter::Tiny            0.042    1.006002  
    File::DataClass           v0.73.0  0.73.1    
    File::Gettext             v0.33.0  0.33.1    
    File::HomeDir             1.0      1.006     
    File::Which               1.18     1.27      
    Getopt::Long::Descriptive 0.099    0.114     
    IO::Interactive           v0.0.6   1.025     
    IPC::SRLock               v0.31.0  0.31.1    
    JSON::MaybeXS             1.003    1.004005  
    Log::Handler              0.84     0.90      
    Module::Runtime           0.014    0.016     
    Moo                       2.000001 2.005005  
    namespace::autoclean      0.26     0.29      
    namespace::clean          0.25     0.27      
    perl                      5.010001 5.039008  
    Pod::Eventual             0.094001 0.094003  
    Sub::Install              0.928    0.929     
    Term::ReadKey             2.33     2.38      
    Text::Autoformat          1.72     1.75      
    Time::Zone                2.24     2.24      
    Try::Tiny                 0.22     0.31      
    Type::Tiny                1.000002 2.004000  
    Unexpected                v0.46.0  1.0.1     

build_requires:

    Module                    Need     Have      
    ------------------------- -------- ----------
    Capture::Tiny             0.22     0.48      
    File::Spec                0        3.90      
    Hash::MoreUtils           0.05     0.06      
    Module::Build             0.4004   0.4234    
    Module::Metadata          0        1.000038  
    Sys::Hostname             0        1.25      
    Test::Deep                0.108    1.204     
    Test::Requires            0.06     0.11      
    version                   0.88     0.9930    

configure_requires:

    Module                    Need     Have      
    ------------------------- -------- ----------
    Module::Build             0.4004   0.4234    
    version                   0.88     0.9930    

opt_requires:

    Module                    Need     Have      
    ------------------------- -------- ----------
    IPC::Run                  0.89     20231003.0
    Proc::ProcessTable        0.42     0.636     


------------------------------
ENVIRONMENT AND OTHER CONTEXT
------------------------------

Environment variables:

    AUTOMATED_TESTING = 1
    LANG = en_US.UTF-8
    PATH = /home/sand/bin:/usr/local/bin:/usr/local/sbin:/usr/sbin:/usr/bin:/sbin:/bin:/usr/games:/usr/local/games:/snap/bin:/usr/local/perl/bin:/usr/X11/bin
    PERL = /tmp/basesmoker-reloperl-57lK/bin/perl
    PERL5LIB = /tmp/loop_over_bdir-2354-ukUQqH/downsexta-0/blib/arch:/tmp/loop_over_bdir-2354-ukUQqH/downsexta-0/blib/lib:/tmp/loop_over_bdir-2354-ukUQqH/dta-tokwrap-0.98-0/blib/arch:/tmp/loop_over_bdir-2354-ukUQqH/dta-tokwrap-0.98-0/blib/lib:/tmp/loop_over_bdir-2354-ukUQqH/Debian-Packages-0.03-0/blib/arch:/tmp/loop_over_bdir-2354-ukUQqH/Debian-Packages-0.03-0/blib/lib:/tmp/loop_over_bdir-2354-ukUQqH/Business-Shipping-DataFiles-1.02-0/blib/arch:/tmp/loop_over_bdir-2354-ukUQqH/Business-Shipping-DataFiles-1.02-0/blib/lib:/tmp/loop_over_bdir-2354-ukUQqH/EJBCA-CrlPublish-0.60-0/blib/arch:/tmp/loop_over_bdir-2354-ukUQqH/EJBCA-CrlPublish-0.60-0/blib/lib:/tmp/loop_over_bdir-2354-ukUQqH/DBIx-Migration-Directories-0.12-0/blib/arch:/tmp/loop_over_bdir-2354-ukUQqH/DBIx-Migration-Directories-0.12-0/blib/lib:/tmp/loop_over_bdir-2354-ukUQqH/Devel-Required-0.16-0/blib/arch:/tmp/loop_over_bdir-2354-ukUQqH/Devel-Required-0.16-0/blib/lib:/tmp/loop_over_bdir-2354-ukUQqH/triceps-2.1.0-0/blib/arch:/tmp/loop_over_bdir-2354-ukUQqH/triceps-2.1.0-0/blib/lib:/tmp/loop_over_bdir-2354-ukUQqH/Dpkg-1.22.4-0/blib/arch:/tmp/loop_over_bdir-2354-ukUQqH/Dpkg-1.22.4-0/blib/lib:/tmp/loop_over_bdir-2354-ukUQqH/LCFG-Build-Skeleton-0.5.0-0/blib/arch:/tmp/loop_over_bdir-2354-ukUQqH/LCFG-Build-Skeleton-0.5.0-0/blib/lib:/tmp/loop_over_bdir-2354-ukUQqH/Lemonldap-NG-Cli-0.2-0/blib/arch:/tmp/loop_over_bdir-2354-ukUQqH/Lemonldap-NG-Cli-0.2-0/blib/lib
    PERL5OPT = 
    PERL5_CPANPLUS_IS_RUNNING = 2367
    PERL5_CPAN_IS_RUNNING = 2367
    PERL_CANARY_STABILITY_NOPROMPT = 1
    PERL_MM_USE_DEFAULT = 1
    PERL_USE_UNSAFE_INC = 1
    SHELL = /usr/bin/zsh
    TERM = screen

Perl special variables (and OS-specific diagnostics, for MSWin32):

    $^X = /tmp/basesmoker-reloperl-57lK/bin/perl
    $UID/$EUID = 1005 / 1005
    $GID = 1005 1005
    $EGID = 1005 1005

Perl module toolchain versions installed:

    Module              Have    
    ------------------- --------
    CPAN                2.36    
    CPAN::Meta          2.150010
    Cwd                 3.90    
    ExtUtils::CBuilder  0.280240
    ExtUtils::Command   7.70    
    ExtUtils::Install   2.22    
    ExtUtils::MakeMaker 7.70    
    ExtUtils::Manifest  1.75    
    ExtUtils::ParseXS   3.51    
    File::Spec          3.90    
    JSON                4.10    
    JSON::PP            4.16    
    Module::Build       0.4234  
    Module::Signature   0.88    
    Parse::CPAN::Meta   2.150010
    Test2               1.302198
    Test::Harness       3.48    
    Test::More          1.302198
    YAML                1.31    
    YAML::Syck          1.34    
    version             0.9930  


--

Summary of my perl5 (revision 5 version 39 subversion 8) configuration:
  Commit id: 78455e6e7fa235411fb2b931eda9d816b5ea880f
  Platform:
    osname=linux
    osvers=5.4.0-171-generic
    archname=x86_64-linux
    uname='linux k93focal 5.4.0-171-generic #189-ubuntu smp fri jan 5 14:23:02 utc 2024 x86_64 x86_64 x86_64 gnulinux '
    config_args='-Dprefix=/home/sand/src/perl/repoperls/installed-perls/host/k93focal/v5.39.8/b254 -Dmyhostname=k93focal -Dinstallusrbinperl=n -Uversiononly -Dusedevel -des -Ui_db -Dlibswanted=cl pthread socket inet nsl gdbm dbm malloc dl ld sun m crypt sec util c cposix posix ucb BSD gdbm_compat -Uuseithreads -Uuselongdouble -DEBUGGING=both'
    hint=recommended
    useposix=true
    d_sigaction=define
    useithreads=undef
    usemultiplicity=undef
    use64bitint=define
    use64bitall=define
    uselongdouble=undef
    usemymalloc=n
    default_inc_excludes_dot=define
  Compiler:
    cc='cc'
    ccflags ='-fwrapv -DDEBUGGING -fno-strict-aliasing -pipe -fstack-protector-strong -I/usr/local/include -D_LARGEFILE_SOURCE -D_FILE_OFFSET_BITS=64'
    optimize='-O2 -g'
    cppflags='-fwrapv -DDEBUGGING -fno-strict-aliasing -pipe -fstack-protector-strong -I/usr/local/include'
    ccversion=''
    gccversion='9.4.0'
    gccosandvers=''
    intsize=4
    longsize=8
    ptrsize=8
    doublesize=8
    byteorder=12345678
    doublekind=3
    d_longlong=define
    longlongsize=8
    d_longdbl=define
    longdblsize=16
    longdblkind=3
    ivtype='long'
    ivsize=8
    nvtype='double'
    nvsize=8
    Off_t='off_t'
    lseeksize=8
    alignbytes=8
    prototype=define
  Linker and Libraries:
    ld='cc'
    ldflags =' -fstack-protector-strong -L/usr/local/lib'
    libpth=/usr/local/lib /usr/lib/x86_64-linux-gnu /usr/lib /usr/lib64
    libs=-lpthread -lnsl -ldl -lm -lcrypt -lutil -lc
    perllibs=-lpthread -lnsl -ldl -lm -lcrypt -lutil -lc
    libc=libc-2.31.so
    so=so
    useshrplib=false
    libperl=libperl.a
    gnulibc_version='2.31'
  Dynamic Linking:
    dlsrc=dl_dlopen.xs
    dlext=so
    d_dlsymun=undef
    ccdlflags='-Wl,-E'
    cccdlflags='-fPIC'
    lddlflags='-shared -O2 -g -L/usr/local/lib -fstack-protector-strong'


Characteristics of this binary (from libperl): 
  Compile-time options:
    DEBUGGING
    HAS_LONG_DOUBLE
    HAS_STRTOLD
    HAS_TIMES
    PERLIO_LAYERS
    PERL_COPY_ON_WRITE
    PERL_DONT_CREATE_GVSV
    PERL_HASH_FUNC_SIPHASH13
    PERL_HASH_USE_SBOX32
    PERL_MALLOC_WRAP
    PERL_OP_PARENT
    PERL_PRESERVE_IVUV
    PERL_USE_DEVEL
    PERL_USE_SAFE_PUTENV
    USE_64_BIT_ALL
    USE_64_BIT_INT
    USE_LARGE_FILES
    USE_LOCALE
    USE_LOCALE_COLLATE
    USE_LOCALE_CTYPE
    USE_LOCALE_NUMERIC
    USE_LOCALE_TIME
    USE_PERLIO
    USE_PERL_ATOF
  Built under linux
  Compiled at Feb 24 2024 09:04:15
  %ENV:
    PERL="/tmp/basesmoker-reloperl-57lK/bin/perl"
    PERL5LIB="/tmp/loop_over_bdir-2354-ukUQqH/downsexta-0/blib/arch:/tmp/loop_over_bdir-2354-ukUQqH/downsexta-0/blib/lib:/tmp/loop_over_bdir-2354-ukUQqH/dta-tokwrap-0.98-0/blib/arch:/tmp/loop_over_bdir-2354-ukUQqH/dta-tokwrap-0.98-0/blib/lib:/tmp/loop_over_bdir-2354-ukUQqH/Debian-Packages-0.03-0/blib/arch:/tmp/loop_over_bdir-2354-ukUQqH/Debian-Packages-0.03-0/blib/lib:/tmp/loop_over_bdir-2354-ukUQqH/Business-Shipping-DataFiles-1.02-0/blib/arch:/tmp/loop_over_bdir-2354-ukUQqH/Business-Shipping-DataFiles-1.02-0/blib/lib:/tmp/loop_over_bdir-2354-ukUQqH/EJBCA-CrlPublish-0.60-0/blib/arch:/tmp/loop_over_bdir-2354-ukUQqH/EJBCA-CrlPublish-0.60-0/blib/lib:/tmp/loop_over_bdir-2354-ukUQqH/DBIx-Migration-Directories-0.12-0/blib/arch:/tmp/loop_over_bdir-2354-ukUQqH/DBIx-Migration-Directories-0.12-0/blib/lib:/tmp/loop_over_bdir-2354-ukUQqH/Devel-Required-0.16-0/blib/arch:/tmp/loop_over_bdir-2354-ukUQqH/Devel-Required-0.16-0/blib/lib:/tmp/loop_over_bdir-2354-ukUQqH/triceps-2.1.0-0/blib/arch:/tmp/loop_over_bdir-2354-ukUQqH/triceps-2.1.0-0/blib/lib:/tmp/loop_over_bdir-2354-ukUQqH/Dpkg-1.22.4-0/blib/arch:/tmp/loop_over_bdir-2354-ukUQqH/Dpkg-1.22.4-0/blib/lib:/tmp/loop_over_bdir-2354-ukUQqH/LCFG-Build-Skeleton-0.5.0-0/blib/arch:/tmp/loop_over_bdir-2354-ukUQqH/LCFG-Build-Skeleton-0.5.0-0/blib/lib:/tmp/loop_over_bdir-2354-ukUQqH/Lemonldap-NG-Cli-0.2-0/blib/arch:/tmp/loop_over_bdir-2354-ukUQqH/Lemonldap-NG-Cli-0.2-0/blib/lib"
    PERL5OPT=""
    PERL5_CPANPLUS_IS_RUNNING="2367"
    PERL5_CPAN_IS_RUNNING="2367"
    PERL_CANARY_STABILITY_NOPROMPT="1"
    PERL_MM_USE_DEFAULT="1"
    PERL_USE_UNSAFE_INC="1"
  @INC:
    /tmp/loop_over_bdir-2354-ukUQqH/downsexta-0/blib/arch
    /tmp/loop_over_bdir-2354-ukUQqH/downsexta-0/blib/lib
    /tmp/loop_over_bdir-2354-ukUQqH/dta-tokwrap-0.98-0/blib/arch
    /tmp/loop_over_bdir-2354-ukUQqH/dta-tokwrap-0.98-0/blib/lib
    /tmp/loop_over_bdir-2354-ukUQqH/Debian-Packages-0.03-0/blib/arch
    /tmp/loop_over_bdir-2354-ukUQqH/Debian-Packages-0.03-0/blib/lib
    /tmp/loop_over_bdir-2354-ukUQqH/Business-Shipping-DataFiles-1.02-0/blib/arch
    /tmp/loop_over_bdir-2354-ukUQqH/Business-Shipping-DataFiles-1.02-0/blib/lib
    /tmp/loop_over_bdir-2354-ukUQqH/EJBCA-CrlPublish-0.60-0/blib/arch
    /tmp/loop_over_bdir-2354-ukUQqH/EJBCA-CrlPublish-0.60-0/blib/lib
    /tmp/loop_over_bdir-2354-ukUQqH/DBIx-Migration-Directories-0.12-0/blib/arch
    /tmp/loop_over_bdir-2354-ukUQqH/DBIx-Migration-Directories-0.12-0/blib/lib
    /tmp/loop_over_bdir-2354-ukUQqH/Devel-Required-0.16-0/blib/arch
    /tmp/loop_over_bdir-2354-ukUQqH/Devel-Required-0.16-0/blib/lib
    /tmp/loop_over_bdir-2354-ukUQqH/triceps-2.1.0-0/blib/arch
    /tmp/loop_over_bdir-2354-ukUQqH/triceps-2.1.0-0/blib/lib
    /tmp/loop_over_bdir-2354-ukUQqH/Dpkg-1.22.4-0/blib/arch
    /tmp/loop_over_bdir-2354-ukUQqH/Dpkg-1.22.4-0/blib/lib
    /tmp/loop_over_bdir-2354-ukUQqH/LCFG-Build-Skeleton-0.5.0-0/blib/arch
    /tmp/loop_over_bdir-2354-ukUQqH/LCFG-Build-Skeleton-0.5.0-0/blib/lib
    /tmp/loop_over_bdir-2354-ukUQqH/Lemonldap-NG-Cli-0.2-0/blib/arch
    /tmp/loop_over_bdir-2354-ukUQqH/Lemonldap-NG-Cli-0.2-0/blib/lib
    /home/sand/src/perl/repoperls/installed-perls/host/k93focal/v5.39.8/b254/lib/site_perl/5.39.8/x86_64-linux
    /home/sand/src/perl/repoperls/installed-perls/host/k93focal/v5.39.8/b254/lib/site_perl/5.39.8
    /home/sand/src/perl/repoperls/installed-perls/host/k93focal/v5.39.8/b254/lib/5.39.8/x86_64-linux
    /home/sand/src/perl/repoperls/installed-perls/host/k93focal/v5.39.8/b254/lib/5.39.8
    .