Crypt-Password-Util v0.17 Perl 5 v5.33.4 riscv-freebsd

Status
Pass
From
Ryan Voots
Dist
Crypt-Password-Util v0.17
Platform
Perl 5 v5.33.4 riscv-freebsd
Date
2020-11-01 11:39:58
ID
f84f569a-1c36-11eb-9035-aa8cb38bf3b3
This distribution has been tested as part of the CPAN Testers
project, supporting the Perl programming language.  See
http://wiki.cpantesters.org/ for more information or email
questions to cpan-testers-discuss@perl.org


--
Dear perlancar,

This is a computer-generated report for Crypt-Password-Util-0.17
on perl 5.33.4, created by CPAN-Reporter-1.2018.

Thank you for uploading your work to CPAN.  Congratulations!
All tests were successful.

Sections of this report:

    * Tester comments
    * Program output
    * Prerequisites
    * Environment and other context

------------------------------
TESTER COMMENTS
------------------------------

Additional comments from tester:

this report is from an automated smoke testing program
and was not reviewed by a human for accuracy

------------------------------
PROGRAM OUTPUT
------------------------------

Output from '/usr/bin/make test':

PERL_DL_NONLAZY=1 "/usr/home/ryan/perl5/perlbrew/perls/perl-blead/bin/perl5.33.4" "-MExtUtils::Command::MM" "-MTest::Harness" "-e" "undef *Test::Harness::Switches; test_harness(0, 'blib/lib', 'blib/arch')" t/*.t
t/00-compile.t ........... ok
# Some crypt() results on this system: [
#   '$6$rounds=15000$dDhgr5Hc2FHcZZBL$isNnCrpr1UfPb9Gl/g2ICnP2LfVN/B6C5Qg5ZelDtfqqoDqW78ELJpDnSpNMNJSowu9BTKf8jKIQac5ObRn/l.',
#   '$6$rounds=15000$kQsPY0/WB1K4EInE$bNq50uf94HtSpi46D/zArz9oivm9VPMh8QNwTmmogLLimX6lhWci5BjuG90zVOC8fFusc5r4FcT1K/oyY2RtI1',
#   '$6$rounds=15000$qPaYju1sTNmva4/G$qa/DmetEpkJmL4bKFzMwbj1TpAg6lKR00jP81LZXfUQKf5H6mDS3/aKhp1tMM2uNW5YZ0TtwylwH6EbZfv3nl0',
#   '$6$rounds=15000$YxPAdbOvtPQsbxkP$OdzNpPhiw31b1NMDWwx36eOWHcRD7XtYbljnbO1YQ9RmwTT98XdwR1gWCJwGkwkilkzDKOkj2EM7QLUDsUGzf.',
#   '$6$rounds=15000$qvdC/tyxr7lgydpY$.kS5pkBcPC2jkQMmzpRS6uhTf7lBEFTZbivFbnwAPqFjcYsCDbGH8NH0uKeCZOnoVjVp7Tq5w.oYluJBOuNW6.'
# ]
t/01-basics.t ............ ok
t/author-pod-coverage.t .. skipped: these tests are for testing by the author
t/author-pod-syntax.t .... skipped: these tests are for testing by the author
All tests successful.
Files=4, Tests=26,  7 wallclock secs ( 0.48 usr  0.26 sys +  4.16 cusr  1.86 csys =  6.76 CPU)
Result: PASS

------------------------------
PREREQUISITES
------------------------------

Prerequisite modules loaded:

requires:

    Module                Need     Have    
    --------------------- -------- --------
    Bytes::Random::Secure 0        0.29    
    Config                0        5.033004
    perl                  5.010001 5.033004

build_requires:

    Module                Need     Have    
    --------------------- -------- --------
    ExtUtils::MakeMaker   0        7.48    
    File::Spec            0        3.78    
    IO::Handle            0        1.42    
    IPC::Open3            0        1.21    
    Sort::Versions        0        1.62    
    Test::More            0.98     1.302182

configure_requires:

    Module                Need     Have    
    --------------------- -------- --------
    ExtUtils::MakeMaker   0        7.48    


------------------------------
ENVIRONMENT AND OTHER CONTEXT
------------------------------

Environment variables:

    AUTOMATED_TESTING = 1
    PATH = /home/ryan/perl5/perlbrew/bin:/home/ryan/perl5/perlbrew/perls/perl-blead/bin:/sbin:/bin:/usr/sbin:/usr/bin:/usr/local/sbin:/usr/local/bin:/home/ryan/bin
    PERL5LIB = 
    PERL5OPT = 
    PERL5_CPANPLUS_IS_RUNNING = 2665
    PERL5_CPAN_IS_RUNNING = 2665
    PERL5_CPAN_IS_RUNNING_IN_RECURSION = 24415,2665
    PERLBREW_HOME = /home/ryan/.perlbrew
    PERLBREW_MANPATH = /home/ryan/perl5/perlbrew/perls/perl-blead/man
    PERLBREW_PATH = /home/ryan/perl5/perlbrew/bin:/home/ryan/perl5/perlbrew/perls/perl-blead/bin
    PERLBREW_PERL = perl-blead
    PERLBREW_ROOT = /home/ryan/perl5/perlbrew
    PERLBREW_SHELLRC_VERSION = 0.89
    PERLBREW_VERSION = 0.89
    PERL_CR_SMOKER_CURRENT = App-Netdisco-2.046006
    PERL_EXTUTILS_AUTOINSTALL = --defaultdeps
    PERL_MM_USE_DEFAULT = 1
    PERL_USE_UNSAFE_INC = 1
    SHELL = /usr/local/bin/bash
    TERM = screen.xterm-256color

Perl special variables (and OS-specific diagnostics, for MSWin32):

    $^X = /usr/home/ryan/perl5/perlbrew/perls/perl-blead/bin/perl5.33.4
    $UID/$EUID = 1001 / 1001
    $GID = 1001 1001 0
    $EGID = 1001 1001 0

Perl module toolchain versions installed:

    Module              Have    
    ------------------- --------
    CPAN                2.28    
    CPAN::Meta          2.150010
    Cwd                 3.78    
    ExtUtils::CBuilder  0.280234
    ExtUtils::Command   7.48    
    ExtUtils::Install   2.18    
    ExtUtils::MakeMaker 7.48    
    ExtUtils::Manifest  1.72    
    ExtUtils::ParseXS   3.41    
    File::Spec          3.78    
    JSON                4.02    
    JSON::PP            4.05    
    Module::Build       0.4231  
    Module::Signature   n/a     
    Parse::CPAN::Meta   2.150010
    Test::Harness       3.42    
    Test::More          1.302182
    YAML                1.30    
    YAML::Syck          n/a     
    version             0.9928  


--

Summary of my perl5 (revision 5 version 33 subversion 4) configuration:
  Snapshot of: fb072d007726c7ba114978a00f8f4f687ad7a55a
  Platform:
    osname=freebsd
    osvers=13.0-current
    archname=riscv-freebsd
    uname='freebsd freebsd-riscv 13.0-current freebsd 13.0-current #0 r367119: wed oct 28 22:41:32 utc 2020 root@freebsd-head-riscv64-build.jail.ci.freebsd.org:usrobjusrsrcriscv.riscv64sysqemu riscv '
    config_args='-de -Dprefix=/home/ryan/perl5/perlbrew/perls/perl-blead -Dusedevel -Aeval:scriptdir=/home/ryan/perl5/perlbrew/perls/perl-blead/bin'
    hint=recommended
    useposix=true
    d_sigaction=define
    useithreads=undef
    usemultiplicity=undef
    use64bitint=define
    use64bitall=define
    uselongdouble=undef
    usemymalloc=n
    default_inc_excludes_dot=define
  Compiler:
    cc='cc'
    ccflags ='-DHAS_FPSETMASK -DHAS_FLOATINGPOINT_H -fno-strict-aliasing -pipe -fstack-protector-strong -I/usr/local/include'
    optimize='-O2'
    cppflags='-DHAS_FPSETMASK -DHAS_FLOATINGPOINT_H -fno-strict-aliasing -pipe -fstack-protector-strong -I/usr/local/include'
    ccversion=''
    gccversion='FreeBSD Clang 11.0.0 (git@github.com:llvm/llvm-project.git llvmorg-11.0.0-0-g176249bd673)'
    gccosandvers=''
    intsize=4
    longsize=8
    ptrsize=8
    doublesize=8
    byteorder=12345678
    doublekind=3
    d_longlong=define
    longlongsize=8
    d_longdbl=define
    longdblsize=16
    longdblkind=1
    ivtype='long'
    ivsize=8
    nvtype='double'
    nvsize=8
    Off_t='off_t'
    lseeksize=8
    alignbytes=8
    prototype=define
  Linker and Libraries:
    ld='cc'
    ldflags ='-Wl,-E  -fstack-protector-strong -L/usr/local/lib'
    libpth=/usr/lib /usr/local/lib /usr/lib/clang/11.0.0/lib /usr/lib
    libs=-lpthread -ldl -lm -lcrypt -lutil -lc
    perllibs=-lpthread -ldl -lm -lcrypt -lutil -lc
    libc=
    so=so
    useshrplib=false
    libperl=libperl.a
    gnulibc_version=''
  Dynamic Linking:
    dlsrc=dl_dlopen.xs
    dlext=so
    d_dlsymun=undef
    ccdlflags=' '
    cccdlflags='-DPIC -fPIC'
    lddlflags='-shared  -L/usr/local/lib -fstack-protector-strong'


Characteristics of this binary (from libperl): 
  Compile-time options:
    HAS_TIMES
    PERLIO_LAYERS
    PERL_COPY_ON_WRITE
    PERL_DONT_CREATE_GVSV
    PERL_MALLOC_WRAP
    PERL_OP_PARENT
    PERL_PRESERVE_IVUV
    PERL_USE_DEVEL
    USE_64_BIT_ALL
    USE_64_BIT_INT
    USE_LARGE_FILES
    USE_LOCALE
    USE_LOCALE_COLLATE
    USE_LOCALE_CTYPE
    USE_LOCALE_NUMERIC
    USE_LOCALE_TIME
    USE_PERLIO
    USE_PERL_ATOF
  Built under freebsd
  Compiled at Oct 30 2020 09:02:51
  %ENV:
    PERL5LIB=""
    PERL5OPT=""
    PERL5_CPANPLUS_IS_RUNNING="2665"
    PERL5_CPAN_IS_RUNNING="2665"
    PERL5_CPAN_IS_RUNNING_IN_RECURSION="24415,2665"
    PERLBREW_HOME="/home/ryan/.perlbrew"
    PERLBREW_MANPATH="/home/ryan/perl5/perlbrew/perls/perl-blead/man"
    PERLBREW_PATH="/home/ryan/perl5/perlbrew/bin:/home/ryan/perl5/perlbrew/perls/perl-blead/bin"
    PERLBREW_PERL="perl-blead"
    PERLBREW_ROOT="/home/ryan/perl5/perlbrew"
    PERLBREW_SHELLRC_VERSION="0.89"
    PERLBREW_VERSION="0.89"
    PERL_CR_SMOKER_CURRENT="App-Netdisco-2.046006"
    PERL_EXTUTILS_AUTOINSTALL="--defaultdeps"
    PERL_MM_USE_DEFAULT="1"
    PERL_USE_UNSAFE_INC="1"
  @INC:
    /home/ryan/perl5/perlbrew/perls/perl-blead/lib/site_perl/5.33.4/riscv-freebsd
    /home/ryan/perl5/perlbrew/perls/perl-blead/lib/site_perl/5.33.4
    /home/ryan/perl5/perlbrew/perls/perl-blead/lib/5.33.4/riscv-freebsd
    /home/ryan/perl5/perlbrew/perls/perl-blead/lib/5.33.4
    .