Back
From: metabase:user:320bfe00-2aae-11df-837a-5e0a49663a4f
Subject: PASS Module-Setup-0.09 v5.22.3 RC3 GNU/Linux
Date: 2016-09-16T06:51:18Z
This distribution has been tested as part of the CPAN Testers
project, supporting the Perl programming language. See
http://wiki.cpantesters.org/ for more information or email
questions to cpan-testers-discuss@perl.org
--
Dear Kazuhiro Osawa,
This is a computer-generated report for Module-Setup-0.09
on perl 5.22.3, created by CPAN-Reporter-1.2018.
Thank you for uploading your work to CPAN. Congratulations!
All tests were successful.
Sections of this report:
* Tester comments
* Program output
* Prerequisites
* Environment and other context
------------------------------
TESTER COMMENTS
------------------------------
Additional comments from tester:
this report is from an automated smoke testing program
and was not reviewed by a human for accuracy
------------------------------
PROGRAM OUTPUT
------------------------------
Output from '/usr/bin/make test':
PERL_DL_NONLAZY=1 "/tmp/basesmoker-reloperl-Ngq5/bin/perl" "-MExtUtils::Command::MM" "-MTest::Harness" "-e" "undef *Test::Harness::Switches; test_harness(0, 'inc', 'blib/lib', 'blib/arch')" t/*.t t/*/*.t
Possible precedence issue with control flow operator at /tmp/loop_over_bdir-9270-MMvOoN/Module-Setup-0.09-0/inc/Test/Builder.pm line 858.
t/00_compile.t .................................... ok
Possible precedence issue with control flow operator at /tmp/loop_over_bdir-9270-MMvOoN/Module-Setup-0.09-0/inc/Test/Builder.pm line 858.
t/010_core/detect-flavor-tests-error.t ............ ok
Possible precedence issue with control flow operator at /tmp/loop_over_bdir-9270-MMvOoN/Module-Setup-0.09-0/inc/Test/Builder.pm line 858.
t/010_core/detect_module_and_flavor_name_error.t .. ok
Possible precedence issue with control flow operator at /tmp/loop_over_bdir-9270-MMvOoN/Module-Setup-0.09-0/inc/Test/Builder.pm line 858.
t/010_core/dialog.t ............................... ok
Possible precedence issue with control flow operator at /tmp/loop_over_bdir-9270-MMvOoN/Module-Setup-0.09-0/inc/Test/Builder.pm line 858.
t/010_core/distribute.t ........................... ok
Possible precedence issue with control flow operator at /tmp/loop_over_bdir-9270-MMvOoN/Module-Setup-0.09-0/inc/Test/Builder.pm line 858.
t/010_core/flavor.t ............................... ok
Possible precedence issue with control flow operator at /tmp/loop_over_bdir-9270-MMvOoN/Module-Setup-0.09-0/inc/Test/Builder.pm line 858.
t/010_core/load_argv.t ............................ ok
Possible precedence issue with control flow operator at /tmp/loop_over_bdir-9270-MMvOoN/Module-Setup-0.09-0/inc/Test/Builder.pm line 858.
t/010_core/path.t ................................. ok
Possible precedence issue with control flow operator at /tmp/loop_over_bdir-9270-MMvOoN/Module-Setup-0.09-0/inc/Test/Builder.pm line 858.
t/010_core/select-flavor.t ........................ ok
Possible precedence issue with control flow operator at /tmp/loop_over_bdir-9270-MMvOoN/Module-Setup-0.09-0/inc/Test/Builder.pm line 858.
t/010_core/setup_base_dir.t ....................... ok
Possible precedence issue with control flow operator at /tmp/loop_over_bdir-9270-MMvOoN/Module-Setup-0.09-0/inc/Test/Builder.pm line 858.
Redundant argument in sprintf at /tmp/loop_over_bdir-9270-MMvOoN/Module-Setup-0.09-0/inc/Spiffy.pm line 225.
Redundant argument in sprintf at /tmp/loop_over_bdir-9270-MMvOoN/Module-Setup-0.09-0/inc/Spiffy.pm line 225.
Redundant argument in sprintf at /tmp/loop_over_bdir-9270-MMvOoN/Module-Setup-0.09-0/inc/Spiffy.pm line 225.
Redundant argument in sprintf at /tmp/loop_over_bdir-9270-MMvOoN/Module-Setup-0.09-0/inc/Spiffy.pm line 225.
t/010_core/setup_options.t ........................ ok
Possible precedence issue with control flow operator at /tmp/loop_over_bdir-9270-MMvOoN/Module-Setup-0.09-0/inc/Test/Builder.pm line 858.
t/010_core/setup_options_code.t ................... ok
Possible precedence issue with control flow operator at /tmp/loop_over_bdir-9270-MMvOoN/Module-Setup-0.09-0/inc/Test/Builder.pm line 858.
t/010_core/stdout-log.t ........................... ok
Possible precedence issue with control flow operator at /tmp/loop_over_bdir-9270-MMvOoN/Module-Setup-0.09-0/inc/Test/Builder.pm line 858.
t/010_core/system.t ............................... ok
Possible precedence issue with control flow operator at /tmp/loop_over_bdir-9270-MMvOoN/Module-Setup-0.09-0/inc/Test/Builder.pm line 858.
t/010_core/test_util.t ............................ ok
Possible precedence issue with control flow operator at /tmp/loop_over_bdir-9270-MMvOoN/Module-Setup-0.09-0/inc/Test/Builder.pm line 858.
t/020_run/additional.t ............................ ok
Possible precedence issue with control flow operator at /tmp/loop_over_bdir-9270-MMvOoN/Module-Setup-0.09-0/inc/Test/Builder.pm line 858.
t/020_run/binary.t ................................ ok
Possible precedence issue with control flow operator at /tmp/loop_over_bdir-9270-MMvOoN/Module-Setup-0.09-0/inc/Test/Builder.pm line 858.
t/020_run/direct.t ................................ ok
Possible precedence issue with control flow operator at /tmp/loop_over_bdir-9270-MMvOoN/Module-Setup-0.09-0/inc/Test/Builder.pm line 858.
t/020_run/dupe-flavor.t ........................... ok
Possible precedence issue with control flow operator at /tmp/loop_over_bdir-9270-MMvOoN/Module-Setup-0.09-0/inc/Test/Builder.pm line 858.
t/020_run/dupe.t .................................. ok
Possible precedence issue with control flow operator at /tmp/loop_over_bdir-9270-MMvOoN/Module-Setup-0.09-0/inc/Test/Builder.pm line 858.
t/020_run/empty_dir.t ............................. ok
Possible precedence issue with control flow operator at /tmp/loop_over_bdir-9270-MMvOoN/Module-Setup-0.09-0/inc/Test/Builder.pm line 858.
t/020_run/fail_flavor.t ........................... ok
Possible precedence issue with control flow operator at /tmp/loop_over_bdir-9270-MMvOoN/Module-Setup-0.09-0/inc/Test/Builder.pm line 858.
t/020_run/hasnt-flavorclass.t ..................... ok
Possible precedence issue with control flow operator at /tmp/loop_over_bdir-9270-MMvOoN/Module-Setup-0.09-0/inc/Test/Builder.pm line 858.
Redundant argument in sprintf at /tmp/loop_over_bdir-9270-MMvOoN/Module-Setup-0.09-0/inc/Spiffy.pm line 225.
Redundant argument in sprintf at /tmp/loop_over_bdir-9270-MMvOoN/Module-Setup-0.09-0/inc/Spiffy.pm line 225.
Redundant argument in sprintf at /tmp/loop_over_bdir-9270-MMvOoN/Module-Setup-0.09-0/inc/Spiffy.pm line 225.
Redundant argument in sprintf at /tmp/loop_over_bdir-9270-MMvOoN/Module-Setup-0.09-0/inc/Spiffy.pm line 225.
t/020_run/init.t .................................. ok
Possible precedence issue with control flow operator at /tmp/loop_over_bdir-9270-MMvOoN/Module-Setup-0.09-0/inc/Test/Builder.pm line 858.
t/020_run/nullflavors.t ........................... ok
Possible precedence issue with control flow operator at /tmp/loop_over_bdir-9270-MMvOoN/Module-Setup-0.09-0/inc/Test/Builder.pm line 858.
t/020_run/pack-additional.t ....................... ok
Possible precedence issue with control flow operator at /tmp/loop_over_bdir-9270-MMvOoN/Module-Setup-0.09-0/inc/Test/Builder.pm line 858.
Redundant argument in sprintf at /tmp/loop_over_bdir-9270-MMvOoN/Module-Setup-0.09-0/inc/Spiffy.pm line 225.
Redundant argument in sprintf at /tmp/loop_over_bdir-9270-MMvOoN/Module-Setup-0.09-0/inc/Spiffy.pm line 225.
Redundant argument in sprintf at /tmp/loop_over_bdir-9270-MMvOoN/Module-Setup-0.09-0/inc/Spiffy.pm line 225.
Redundant argument in sprintf at /tmp/loop_over_bdir-9270-MMvOoN/Module-Setup-0.09-0/inc/Spiffy.pm line 225.
t/020_run/pack.t .................................. ok
Possible precedence issue with control flow operator at /tmp/loop_over_bdir-9270-MMvOoN/Module-Setup-0.09-0/inc/Test/Builder.pm line 858.
Redundant argument in sprintf at /tmp/loop_over_bdir-9270-MMvOoN/Module-Setup-0.09-0/inc/Spiffy.pm line 225.
Redundant argument in sprintf at /tmp/loop_over_bdir-9270-MMvOoN/Module-Setup-0.09-0/inc/Spiffy.pm line 225.
Redundant argument in sprintf at /tmp/loop_over_bdir-9270-MMvOoN/Module-Setup-0.09-0/inc/Spiffy.pm line 225.
Redundant argument in sprintf at /tmp/loop_over_bdir-9270-MMvOoN/Module-Setup-0.09-0/inc/Spiffy.pm line 225.
t/020_run/simple.t ................................ ok
Possible precedence issue with control flow operator at /tmp/loop_over_bdir-9270-MMvOoN/Module-Setup-0.09-0/inc/Test/Builder.pm line 858.
t/030_plugin/append_template_file.t ............... ok
Possible precedence issue with control flow operator at /tmp/loop_over_bdir-9270-MMvOoN/Module-Setup-0.09-0/inc/Test/Builder.pm line 858.
t/030_plugin/append_template_file2.t .............. ok
Possible precedence issue with control flow operator at /tmp/loop_over_bdir-9270-MMvOoN/Module-Setup-0.09-0/inc/Test/Builder.pm line 858.
t/030_plugin/illegalplugin.t ...................... ok
Possible precedence issue with control flow operator at /tmp/loop_over_bdir-9270-MMvOoN/Module-Setup-0.09-0/inc/Test/Builder.pm line 858.
t/030_plugin/illegalpluginconfig.t ................ ok
Possible precedence issue with control flow operator at /tmp/loop_over_bdir-9270-MMvOoN/Module-Setup-0.09-0/inc/Test/Builder.pm line 858.
t/030_plugin/localplugin.t ........................ ok
Possible precedence issue with control flow operator at /tmp/loop_over_bdir-9270-MMvOoN/Module-Setup-0.09-0/inc/Test/Builder.pm line 858.
t/030_plugin/plain.t .............................. ok
Possible precedence issue with control flow operator at /tmp/loop_over_bdir-9270-MMvOoN/Module-Setup-0.09-0/inc/Test/Builder.pm line 858.
t/030_plugin/site_github.t ........................ ok
Possible precedence issue with control flow operator at /tmp/loop_over_bdir-9270-MMvOoN/Module-Setup-0.09-0/inc/Test/Builder.pm line 858.
t/030_plugin/template.t ........................... ok
Possible precedence issue with control flow operator at /tmp/loop_over_bdir-9270-MMvOoN/Module-Setup-0.09-0/inc/Test/Builder.pm line 858.
cannot remove path when cwd is /tmp/pTeBMGnycI/Test-Makefile3_3 for /tmp/pTeBMGnycI: at /home/sand/src/perl/repoperls/installed-perls/host/k93x64sid/v5.22.3-RC3/29a83/lib/5.22.3/File/Temp.pm line 1616.
t/030_plugin/test_makefile.t ...................... ok
Possible precedence issue with control flow operator at /tmp/loop_over_bdir-9270-MMvOoN/Module-Setup-0.09-0/inc/Test/Builder.pm line 858.
error: pathspec 'commit' did not match any file(s) known to git.
cannot remove path when cwd is /tmp/UZ4puN3H1j/VC-Git3_2 for /tmp/UZ4puN3H1j: at /home/sand/src/perl/repoperls/installed-perls/host/k93x64sid/v5.22.3-RC3/29a83/lib/5.22.3/File/Temp.pm line 1616.
t/030_plugin/vc_git.t ............................. ok
Possible precedence issue with control flow operator at /tmp/loop_over_bdir-9270-MMvOoN/Module-Setup-0.09-0/inc/Test/Builder.pm line 858.
Name "Module::Setup::Flavor::Default::setup_config" used only once: possible typo at t/030_plugin/vc_svk.t line 17.
t/030_plugin/vc_svk.t ............................. ok
Possible precedence issue with control flow operator at /tmp/loop_over_bdir-9270-MMvOoN/Module-Setup-0.09-0/inc/Test/Builder.pm line 858.
t/030_plugin/vc_svn.t ............................. ok
Possible precedence issue with control flow operator at /tmp/loop_over_bdir-9270-MMvOoN/Module-Setup-0.09-0/inc/Test/Builder.pm line 858.
t/040_flavor/coderepos.t .......................... ok
Possible precedence issue with control flow operator at /tmp/loop_over_bdir-9270-MMvOoN/Module-Setup-0.09-0/inc/Test/Builder.pm line 858.
t/040_flavor/default-setup_config.t ............... ok
Possible precedence issue with control flow operator at /tmp/loop_over_bdir-9270-MMvOoN/Module-Setup-0.09-0/inc/Test/Builder.pm line 858.
t/040_flavor/default.t ............................ ok
Possible precedence issue with control flow operator at /tmp/loop_over_bdir-9270-MMvOoN/Module-Setup-0.09-0/inc/Test/Builder.pm line 858.
t/040_flavor/github.t ............................. ok
Possible precedence issue with control flow operator at /tmp/loop_over_bdir-9270-MMvOoN/Module-Setup-0.09-0/inc/Test/Builder.pm line 858.
t/050_helper/basic-callback.t ..................... ok
Possible precedence issue with control flow operator at /tmp/loop_over_bdir-9270-MMvOoN/Module-Setup-0.09-0/inc/Test/Builder.pm line 858.
t/050_helper/basic-foo.t .......................... ok
Possible precedence issue with control flow operator at /tmp/loop_over_bdir-9270-MMvOoN/Module-Setup-0.09-0/inc/Test/Builder.pm line 858.
t/050_helper/basic.t .............................. ok
All tests successful.
Files=47, Tests=467, 10 wallclock secs ( 0.09 usr 0.19 sys + 8.42 cusr 1.13 csys = 9.83 CPU)
Result: PASS
------------------------------
PREREQUISITES
------------------------------
Prerequisite modules loaded:
requires:
Module Need Have
---------------------------- ---- --------
Class::Trigger 0 0.14
Cwd 0 3.62
ExtUtils::MakeMaker 0 7.24
File::Basename 0 2.85
File::Find::Rule 0 0.34
File::HomeDir 0 1.00
File::Path 0 2.09
File::Temp 0.2 0.2304
Filter::Util::Call 0 1.54
Getopt::Long 0 2.45
IO::Scalar 0 2.111
LWP::UserAgent 0 6.15
Module::Collect 0.06 0.06
Module::Install::AuthorTests 0 0.002
Module::Install::Repository 0 0.06
Path::Class 0 0.37
Pod::Usage 0 1.69
Scalar::Util 0 1.45
Storable 0 2.53_02
Template 2.2 2.26
Test::More 0 1.302056
Test::Requires 0 0.10
Text::Patch 0 1.8
YAML 0 1.18
build_requires:
Module Need Have
---------------------------- ---- --------
ExtUtils::MakeMaker 0 7.24
configure_requires:
Module Need Have
---------------------------- ---- --------
ExtUtils::MakeMaker 6.42 7.24
------------------------------
ENVIRONMENT AND OTHER CONTEXT
------------------------------
Environment variables:
AUTOMATED_TESTING = 1
LANG = C
PATH = /home/sand/bin:/usr/local/bin:/usr/bin:/bin:/usr/games:/usr/local/perl/bin:/usr/X11/bin:/sbin:/usr/sbin
PERL5LIB =
PERL5OPT =
PERL5_CPANPLUS_IS_RUNNING = 2481
PERL5_CPAN_IS_RUNNING = 2481
PERL_CANARY_STABILITY_NOPROMPT = 1
PERL_MM_USE_DEFAULT = 1
SHELL = /usr/bin/zsh
TERM = screen
Perl special variables (and OS-specific diagnostics, for MSWin32):
$^X = /tmp/basesmoker-reloperl-Ngq5/bin/perl
$UID/$EUID = 1005 / 1005
$GID = 1005 1005
$EGID = 1005 1005
Perl module toolchain versions installed:
Module Have
------------------- ----------
CPAN 2.15
CPAN::Meta 2.150010
Cwd 3.62
ExtUtils::CBuilder 0.280224
ExtUtils::Command 7.24
ExtUtils::Install 2.04
ExtUtils::MakeMaker 7.24
ExtUtils::Manifest 1.70
ExtUtils::ParseXS 3.28
File::Spec 3.62
JSON 2.90
JSON::PP 2.27300_01
Module::Build 0.4220
Module::Signature 0.81
Parse::CPAN::Meta 2.150010
Test::Harness 3.36
Test::More 1.302056
YAML 1.18
YAML::Syck 1.29
version 0.9917
--
Summary of my perl5 (revision 5 version 22 subversion 3) configuration:
Commit id: caf571efd1ab92ed6c7334a30070c0d96f5dfe7e
Platform:
osname=linux, osvers=4.7.0-1-amd64, archname=x86_64-linux
uname='linux k93x64sid 4.7.0-1-amd64 #1 smp debian 4.7.2-1 (2016-08-28) x86_64 gnulinux '
config_args='-Dprefix=/home/sand/src/perl/repoperls/installed-perls/host/k93x64sid/v5.22.3-RC3/29a83 -Dmyhostname=k93x64sid -Dinstallusrbinperl=n -Uversiononly -Dusedevel -des -Ui_db -Dlibswanted=cl pthread socket inet nsl gdbm dbm malloc dl ld sun m crypt sec util c cposix posix ucb BSD gdbm_compat -Uuseithreads -Uuselongdouble -DDEBUGGING=-g'
hint=recommended, useposix=true, d_sigaction=define
useithreads=undef, usemultiplicity=undef
use64bitint=define, use64bitall=define, uselongdouble=undef
usemymalloc=n, bincompat5005=undef
Compiler:
cc='cc', ccflags ='-fwrapv -fno-strict-aliasing -pipe -fstack-protector-strong -I/usr/local/include -D_LARGEFILE_SOURCE -D_FILE_OFFSET_BITS=64',
optimize='-O2 -g',
cppflags='-fwrapv -fno-strict-aliasing -pipe -fstack-protector-strong -I/usr/local/include'
ccversion='', gccversion='6.2.0 20160901', gccosandvers=''
intsize=4, longsize=8, ptrsize=8, doublesize=8, byteorder=12345678, doublekind=3
d_longlong=define, longlongsize=8, d_longdbl=define, longdblsize=16, longdblkind=3
ivtype='long', ivsize=8, nvtype='double', nvsize=8, Off_t='off_t', lseeksize=8
alignbytes=8, prototype=define
Linker and Libraries:
ld='cc', ldflags =' -fstack-protector-strong -L/usr/local/lib'
libpth=/usr/local/lib /usr/lib/gcc/x86_64-linux-gnu/6/include-fixed /usr/include/x86_64-linux-gnu /usr/lib /lib/x86_64-linux-gnu /lib/../lib /usr/lib/x86_64-linux-gnu /usr/lib/../lib /lib
libs=-lpthread -lnsl -ldl -lm -lcrypt -lutil -lc
perllibs=-lpthread -lnsl -ldl -lm -lcrypt -lutil -lc
libc=libc-2.24.so, so=so, useshrplib=false, libperl=libperl.a
gnulibc_version='2.24'
Dynamic Linking:
dlsrc=dl_dlopen.xs, dlext=so, d_dlsymun=undef, ccdlflags='-Wl,-E'
cccdlflags='-fPIC', lddlflags='-shared -O2 -g -L/usr/local/lib -fstack-protector-strong'
Characteristics of this binary (from libperl):
Compile-time options: HAS_TIMES PERLIO_LAYERS PERL_DONT_CREATE_GVSV
PERL_HASH_FUNC_ONE_AT_A_TIME_HARD PERL_MALLOC_WRAP
PERL_NEW_COPY_ON_WRITE PERL_PRESERVE_IVUV
PERL_USE_DEVEL USE_64_BIT_ALL USE_64_BIT_INT
USE_LARGE_FILES USE_LOCALE USE_LOCALE_COLLATE
USE_LOCALE_CTYPE USE_LOCALE_NUMERIC USE_LOCALE_TIME
USE_PERLIO USE_PERL_ATOF
Locally applied patches:
RC3
Built under linux
Compiled at Sep 15 2016 18:55:46
%ENV:
PERL5LIB=""
PERL5OPT=""
PERL5_CPANPLUS_IS_RUNNING="2481"
PERL5_CPAN_IS_RUNNING="2481"
PERL_CANARY_STABILITY_NOPROMPT="1"
PERL_MM_USE_DEFAULT="1"
@INC:
/home/sand/src/perl/repoperls/installed-perls/host/k93x64sid/v5.22.3-RC3/29a83/lib/site_perl/5.22.3/x86_64-linux
/home/sand/src/perl/repoperls/installed-perls/host/k93x64sid/v5.22.3-RC3/29a83/lib/site_perl/5.22.3
/home/sand/src/perl/repoperls/installed-perls/host/k93x64sid/v5.22.3-RC3/29a83/lib/5.22.3/x86_64-linux
/home/sand/src/perl/repoperls/installed-perls/host/k93x64sid/v5.22.3-RC3/29a83/lib/5.22.3
.