Report for Reaction-0.002005

Back
From: metabase:user:314402c4-2aae-11df-837a-5e0a49663a4f
Subject: PASS Reaction-0.002005 v5.24.0 GNU/Linux
Date: 2017-03-17T16:51:30Z

This distribution has been tested as part of the CPAN Testers
project, supporting the Perl programming language.  See
http://wiki.cpantesters.org/ for more information or email
questions to cpan-testers-discuss@perl.org


--
Dear Justin Hunter,

This is a computer-generated report for Reaction-0.002005
on perl 5.24.0, created by CPAN-Reporter-1.2018.

Thank you for uploading your work to CPAN.  Congratulations!
All tests were successful.

Sections of this report:

    * Tester comments
    * Program output
    * Prerequisites
    * Environment and other context

------------------------------
TESTER COMMENTS
------------------------------

Additional comments from tester:

none provided

------------------------------
PROGRAM OUTPUT
------------------------------

Output from '/usr/bin/make test':

PERL_DL_NONLAZY=1 "/opt/perl-5.24.0/bin/perl" "-MExtUtils::Command::MM" "-MTest::Harness" "-e" "undef *Test::Harness::Switches; test_harness(0, 'inc', 'blib/lib', 'blib/arch')" t/00componentui_compiles.t t/01app.t t/04load_all.t t/05reflect_attr_from.t t/im_dbic.t t/ui_focus_stack.t t/ui_view.t t/ui_viewport.t t/uncheck_bool_field.t
Class::MOP::load_class is deprecated at /opt/perl-5.24.0/lib/site_perl/5.24.0/x86_64-linux/Class/MOP.pm line 69.
	Class::MOP::load_class("ComponentUI::TestModel") called at /home/cpansand/.cpan/build/2017031715/Reaction-0.002005-0/blib/lib/Catalyst/Model/Reaction/InterfaceModel/DBIC.pm line 24
	Catalyst::Model::Reaction::InterfaceModel::DBIC::COMPONENT("ComponentUI::Model::TestModel", "ComponentUI", HASH(0x75b1aa0)) called at /opt/perl-5.24.0/lib/site_perl/5.24.0/Catalyst.pm line 3209
	eval {...} called at /opt/perl-5.24.0/lib/site_perl/5.24.0/Catalyst.pm line 3210
	Catalyst::setup_component("ComponentUI", "ComponentUI::Model::TestModel") called at /opt/perl-5.24.0/lib/site_perl/5.24.0/Catalyst.pm line 3187
	Catalyst::__ANON__() called at /opt/perl-5.24.0/lib/site_perl/5.24.0/Catalyst.pm line 3034
	Catalyst::setup_components("ComponentUI") called at /opt/perl-5.24.0/lib/site_perl/5.24.0/Catalyst.pm line 1427
	Catalyst::setup("ComponentUI") called at /home/cpansand/.cpan/build/2017031715/Reaction-0.002005-0/blib/lib/ComponentUI.pm line 32
	require ComponentUI.pm called at t/00componentui_compiles.t line 7
	main::BEGIN() called at /home/cpansand/.cpan/build/2017031715/Reaction-0.002005-0/blib/lib/ComponentUI.pm line 0
	eval {...} called at /home/cpansand/.cpan/build/2017031715/Reaction-0.002005-0/blib/lib/ComponentUI.pm line 0
	eval 'package main;
BEGIN { ${^WARNING_BITS} = $args[-1] if defined $args[-1] }
#line 7 t/00componentui_compiles.t
use ComponentUI @{$args[0]};
1;
' called at /opt/perl-5.24.0/lib/site_perl/5.24.0/Test/More.pm line 1032
	Test::More::_eval("package main;\x{a}BEGIN { \${^WARNING_BITS} = \$args[-1] if defined"..., ARRAY(0x1c506b0), "UUUUUUUUUUUUUUUU\x{15}") called at /opt/perl-5.24.0/lib/site_perl/5.24.0/Test/More.pm line 1007
	Test::More::use_ok("ComponentUI") called at t/00componentui_compiles.t line 7
Class::MOP::load_class is deprecated at /opt/perl-5.24.0/lib/site_perl/5.24.0/x86_64-linux/Class/MOP.pm line 69.
	Class::MOP::load_class("Reaction::InterfaceModel::Object") called at /home/cpansand/.cpan/build/2017031715/Reaction-0.002005-0/blib/lib/Reaction/InterfaceModel/Reflector/DBIC.pm line 149
	Reaction::InterfaceModel::Reflector::DBIC::reflect_schema(Reaction::InterfaceModel::Reflector::DBIC=HASH(0x81dac50), "model_class", "ComponentUI::TestModel", "schema_class", "RTest::TestDB", "sources", ARRAY(0x81ea618)) called at /home/cpansand/.cpan/build/2017031715/Reaction-0.002005-0/blib/lib/ComponentUI/TestModel.pm line 10
	require ComponentUI/TestModel.pm called at /opt/perl-5.24.0/lib/site_perl/5.24.0/Module/Runtime.pm line 317
	Module::Runtime::require_module("ComponentUI::TestModel") called at /opt/perl-5.24.0/lib/site_perl/5.24.0/Class/Load.pm line 174
	Class::Load::try {...} () called at /opt/perl-5.24.0/lib/site_perl/5.24.0/Try/Tiny.pm line 99
	eval {...} called at /opt/perl-5.24.0/lib/site_perl/5.24.0/Try/Tiny.pm line 94
	Try::Tiny::try(CODE(0x752e970), Try::Tiny::Catch=REF(0x7c77548)) called at /opt/perl-5.24.0/lib/site_perl/5.24.0/Class/Load.pm line 180
	Class::Load::try_load_class("ComponentUI::TestModel", undef) called at /opt/perl-5.24.0/lib/site_perl/5.24.0/Class/Load.pm line 35
	Class::Load::load_class("ComponentUI::TestModel") called at /home/cpansand/.cpan/build/2017031715/Reaction-0.002005-0/blib/lib/Catalyst/Model/Reaction/InterfaceModel/DBIC.pm line 24
	Catalyst::Model::Reaction::InterfaceModel::DBIC::COMPONENT("ComponentUI::Model::TestModel", "ComponentUI", HASH(0x75b1aa0)) called at /opt/perl-5.24.0/lib/site_perl/5.24.0/Catalyst.pm line 3209
	eval {...} called at /opt/perl-5.24.0/lib/site_perl/5.24.0/Catalyst.pm line 3210
	Catalyst::setup_component("ComponentUI", "ComponentUI::Model::TestModel") called at /opt/perl-5.24.0/lib/site_perl/5.24.0/Catalyst.pm line 3187
	Catalyst::__ANON__() called at /opt/perl-5.24.0/lib/site_perl/5.24.0/Catalyst.pm line 3034
	Catalyst::setup_components("ComponentUI") called at /opt/perl-5.24.0/lib/site_perl/5.24.0/Catalyst.pm line 1427
	Catalyst::setup("ComponentUI") called at /home/cpansand/.cpan/build/2017031715/Reaction-0.002005-0/blib/lib/ComponentUI.pm line 32
	require ComponentUI.pm called at t/00componentui_compiles.t line 7
	main::BEGIN() called at /home/cpansand/.cpan/build/2017031715/Reaction-0.002005-0/blib/lib/ComponentUI/TestModel.pm line 0
	eval {...} called at /home/cpansand/.cpan/build/2017031715/Reaction-0.002005-0/blib/lib/ComponentUI/TestModel.pm line 0
	eval 'package main;
BEGIN { ${^WARNING_BITS} = $args[-1] if defined $args[-1] }
#line 7 t/00componentui_compiles.t
use ComponentUI @{$args[0]};
1;
' called at /opt/perl-5.24.0/lib/site_perl/5.24.0/Test/More.pm line 1032
	Test::More::_eval("package main;\x{a}BEGIN { \${^WARNING_BITS} = \$args[-1] if defined"..., ARRAY(0x1c506b0), "UUUUUUUUUUUUUUUU\x{15}") called at /opt/perl-5.24.0/lib/site_perl/5.24.0/Test/More.pm line 1007
	Test::More::use_ok("ComponentUI") called at t/00componentui_compiles.t line 7
Class::MOP::load_class is deprecated at /opt/perl-5.24.0/lib/site_perl/5.24.0/x86_64-linux/Class/MOP.pm line 69.
	Class::MOP::load_class("Reaction::InterfaceModel::Object") called at /home/cpansand/.cpan/build/2017031715/Reaction-0.002005-0/blib/lib/Reaction/Class.pm line 123
	Reaction::Class::do_class_sub("Reaction::Class", "ComponentUI::TestModel::Foo", "ComponentUI::TestModel::Foo", "is", "Reaction::InterfaceModel::Object", "which", CODE(0x82fcd40)) called at /home/cpansand/.cpan/build/2017031715/Reaction-0.002005-0/blib/lib/Reaction/Class.pm line 86
	Reaction::Class::("ComponentUI::TestModel::Foo", "is", "Reaction::InterfaceModel::Object", "which", CODE(0x82fcd40)) called at /home/cpansand/.cpan/build/2017031715/Reaction-0.002005-0/blib/lib/ComponentUI/TestModel/Foo.pm line 8
	require ComponentUI/TestModel/Foo.pm called at /opt/perl-5.24.0/lib/site_perl/5.24.0/Module/Runtime.pm line 317
	Module::Runtime::require_module("ComponentUI::TestModel::Foo") called at /opt/perl-5.24.0/lib/site_perl/5.24.0/Class/Load.pm line 174
	Class::Load::try {...} () called at /opt/perl-5.24.0/lib/site_perl/5.24.0/Try/Tiny.pm line 99
	eval {...} called at /opt/perl-5.24.0/lib/site_perl/5.24.0/Try/Tiny.pm line 94
	Try::Tiny::try(CODE(0x82b84e0), Try::Tiny::Catch=REF(0x82b80f0)) called at /opt/perl-5.24.0/lib/site_perl/5.24.0/Class/Load.pm line 180
	Class::Load::try_load_class("ComponentUI::TestModel::Foo", undef) called at /opt/perl-5.24.0/lib/site_perl/5.24.0/Class/Load.pm line 35
	Class::Load::load_class("ComponentUI::TestModel::Foo") called at /home/cpansand/.cpan/build/2017031715/Reaction-0.002005-0/blib/lib/Reaction/InterfaceModel/Reflector/DBIC.pm line 892
	eval {...} called at /home/cpansand/.cpan/build/2017031715/Reaction-0.002005-0/blib/lib/Reaction/InterfaceModel/Reflector/DBIC.pm line 892
	Reaction::InterfaceModel::Reflector::DBIC::_maybe_load_class(Reaction::InterfaceModel::Reflector::DBIC=HASH(0x81dac50), "ComponentUI::TestModel::Foo") called at /home/cpansand/.cpan/build/2017031715/Reaction-0.002005-0/blib/lib/Reaction/InterfaceModel/Reflector/DBIC.pm line 876
	Reaction::InterfaceModel::Reflector::DBIC::_load_or_create(Reaction::InterfaceModel::Reflector::DBIC=HASH(0x81dac50), "ComponentUI::TestModel::Foo", "superclasses", ARRAY(0x81da5a8)) called at /home/cpansand/.cpan/build/2017031715/Reaction-0.002005-0/blib/lib/Reaction/InterfaceModel/Reflector/DBIC.pm line 448
	Reaction::InterfaceModel::Reflector::DBIC::reflect_source_object(Reaction::InterfaceModel::Reflector::DBIC=HASH(0x81dac50), "source_name", "Foo", "parent_class", "ComponentUI::TestModel", "parent_domain_model_name", "_rtest_test_db_store", "schema_class", ...) called at /home/cpansand/.cpan/build/2017031715/Reaction-0.002005-0/blib/lib/Reaction/InterfaceModel/Reflector/DBIC.pm line 323
	Reaction::InterfaceModel::Reflector::DBIC::reflect_source(Reaction::InterfaceModel::Reflector::DBIC=HASH(0x81dac50), "source_name", "Foo", "parent_class", "ComponentUI::TestModel", "schema_class", "RTest::TestDB", "source_class", ...) called at /home/cpansand/.cpan/build/2017031715/Reaction-0.002005-0/blib/lib/Reaction/InterfaceModel/Reflector/DBIC.pm line 185
	Reaction::InterfaceModel::Reflector::DBIC::reflect_schema(Reaction::InterfaceModel::Reflector::DBIC=HASH(0x81dac50), "model_class", "ComponentUI::TestModel", "schema_class", "RTest::TestDB", "sources", ARRAY(0x81ea618)) called at /home/cpansand/.cpan/build/2017031715/Reaction-0.002005-0/blib/lib/ComponentUI/TestModel.pm line 10
	require ComponentUI/TestModel.pm called at /opt/perl-5.24.0/lib/site_perl/5.24.0/Module/Runtime.pm line 317
	Module::Runtime::require_module("ComponentUI::TestModel") called at /opt/perl-5.24.0/lib/site_perl/5.24.0/Class/Load.pm line 174
	Class::Load::try {...} () called at /opt/perl-5.24.0/lib/site_perl/5.24.0/Try/Tiny.pm line 99
	eval {...} called at /opt/perl-5.24.0/lib/site_perl/5.24.0/Try/Tiny.pm line 94
	Try::Tiny::try(CODE(0x752e970), Try::Tiny::Catch=REF(0x7c77548)) called at /opt/perl-5.24.0/lib/site_perl/5.24.0/Class/Load.pm line 180
	Class::Load::try_load_class("ComponentUI::TestModel", undef) called at /opt/perl-5.24.0/lib/site_perl/5.24.0/Class/Load.pm line 35
	Class::Load::load_class("ComponentUI::TestModel") called at /home/cpansand/.cpan/build/2017031715/Reaction-0.002005-0/blib/lib/Catalyst/Model/Reaction/InterfaceModel/DBIC.pm line 24
	Catalyst::Model::Reaction::InterfaceModel::DBIC::COMPONENT("ComponentUI::Model::TestModel", "ComponentUI", HASH(0x75b1aa0)) called at /opt/perl-5.24.0/lib/site_perl/5.24.0/Catalyst.pm line 3209
	eval {...} called at /opt/perl-5.24.0/lib/site_perl/5.24.0/Catalyst.pm line 3210
	Catalyst::setup_component("ComponentUI", "ComponentUI::Model::TestModel") called at /opt/perl-5.24.0/lib/site_perl/5.24.0/Catalyst.pm line 3187
	Catalyst::__ANON__() called at /opt/perl-5.24.0/lib/site_perl/5.24.0/Catalyst.pm line 3034
	Catalyst::setup_components("ComponentUI") called at /opt/perl-5.24.0/lib/site_perl/5.24.0/Catalyst.pm line 1427
	Catalyst::setup("ComponentUI") called at /home/cpansand/.cpan/build/2017031715/Reaction-0.002005-0/blib/lib/ComponentUI.pm line 32
	require ComponentUI.pm called at t/00componentui_compiles.t line 7
	main::BEGIN() called at /home/cpansand/.cpan/build/2017031715/Reaction-0.002005-0/blib/lib/ComponentUI/TestModel/Foo.pm line 0
	eval {...} called at /home/cpansand/.cpan/build/2017031715/Reaction-0.002005-0/blib/lib/ComponentUI/TestModel/Foo.pm line 0
	eval 'package main;
BEGIN { ${^WARNING_BITS} = $args[-1] if defined $args[-1] }
#line 7 t/00componentui_compiles.t
use ComponentUI @{$args[0]};
1;
' called at /opt/perl-5.24.0/lib/site_perl/5.24.0/Test/More.pm line 1032
	Test::More::_eval("package main;\x{a}BEGIN { \${^WARNING_BITS} = \$args[-1] if defined"..., ARRAY(0x1c506b0), "UUUUUUUUUUUUUUUU\x{15}") called at /opt/perl-5.24.0/lib/site_perl/5.24.0/Test/More.pm line 1007
	Test::More::use_ok("ComponentUI") called at t/00componentui_compiles.t line 7
t/00componentui_compiles.t .. ok
Class::MOP::load_class is deprecated at /opt/perl-5.24.0/lib/site_perl/5.24.0/x86_64-linux/Class/MOP.pm line 69.
	Class::MOP::load_class("ComponentUI::TestModel") called at /home/cpansand/.cpan/build/2017031715/Reaction-0.002005-0/blib/lib/Catalyst/Model/Reaction/InterfaceModel/DBIC.pm line 24
	Catalyst::Model::Reaction::InterfaceModel::DBIC::COMPONENT("ComponentUI::Model::TestModel", "ComponentUI", HASH(0x8207860)) called at /opt/perl-5.24.0/lib/site_perl/5.24.0/Catalyst.pm line 3209
	eval {...} called at /opt/perl-5.24.0/lib/site_perl/5.24.0/Catalyst.pm line 3210
	Catalyst::setup_component("ComponentUI", "ComponentUI::Model::TestModel") called at /opt/perl-5.24.0/lib/site_perl/5.24.0/Catalyst.pm line 3187
	Catalyst::__ANON__() called at /opt/perl-5.24.0/lib/site_perl/5.24.0/Catalyst.pm line 3034
	Catalyst::setup_components("ComponentUI") called at /opt/perl-5.24.0/lib/site_perl/5.24.0/Catalyst.pm line 1427
	Catalyst::setup("ComponentUI") called at /home/cpansand/.cpan/build/2017031715/Reaction-0.002005-0/blib/lib/ComponentUI.pm line 32
	require ComponentUI.pm called at /opt/perl-5.24.0/lib/site_perl/5.24.0/Module/Runtime.pm line 317
	Module::Runtime::require_module("ComponentUI") called at /opt/perl-5.24.0/lib/site_perl/5.24.0/Class/Load.pm line 174
	Class::Load::try {...} () called at /opt/perl-5.24.0/lib/site_perl/5.24.0/Try/Tiny.pm line 99
	eval {...} called at /opt/perl-5.24.0/lib/site_perl/5.24.0/Try/Tiny.pm line 94
	Try::Tiny::try(CODE(0x28b67d0), Try::Tiny::Catch=REF(0x35f1d20)) called at /opt/perl-5.24.0/lib/site_perl/5.24.0/Class/Load.pm line 180
	Class::Load::try_load_class("ComponentUI", undef) called at /opt/perl-5.24.0/lib/site_perl/5.24.0/Class/Load.pm line 35
	Class::Load::load_class("ComponentUI") called at /opt/perl-5.24.0/lib/site_perl/5.24.0/Catalyst/Test.pm line 29
	Catalyst::Test::_build_request_export("Catalyst::Test", HASH(0x2409610)) called at /opt/perl-5.24.0/lib/site_perl/5.24.0/Catalyst/Test.pm line 95
	Catalyst::Test::__ANON__("Catalyst::Test", "all", HASH(0x24095e0), HASH(0x24093e8)) called at /opt/perl-5.24.0/lib/site_perl/5.24.0/Sub/Exporter.pm line 108
	Sub::Exporter::_expand_group("Catalyst::Test", HASH(0x3b99be8), ARRAY(0x2409400), HASH(0x24093e8), HASH(0x2409640), HASH(0x24093b8)) called at /opt/perl-5.24.0/lib/site_perl/5.24.0/Sub/Exporter.pm line 39
	Sub::Exporter::_expand_groups("Catalyst::Test", HASH(0x3b99be8), ARRAY(0x3b9a020), HASH(0x24093e8)) called at /opt/perl-5.24.0/lib/site_perl/5.24.0/Sub/Exporter.pm line 323
	Sub::Exporter::__ANON__("Catalyst::Test", "-all", HASH(0x2409340)) called at /opt/perl-5.24.0/lib/site_perl/5.24.0/Catalyst/Test.pm line 155
	Catalyst::Test::import("Catalyst::Test", "ComponentUI") called at t/01app.t line 7
	main::BEGIN() called at /home/cpansand/.cpan/build/2017031715/Reaction-0.002005-0/blib/lib/ComponentUI.pm line 0
	eval {...} called at /home/cpansand/.cpan/build/2017031715/Reaction-0.002005-0/blib/lib/ComponentUI.pm line 0
	eval 'package main;
BEGIN { ${^WARNING_BITS} = $args[-1] if defined $args[-1] }
#line 7 t/01app.t
use Catalyst::Test @{$args[0]};
1;
' called at /opt/perl-5.24.0/lib/site_perl/5.24.0/Test/More.pm line 1032
	Test::More::_eval("package main;\x{a}BEGIN { \${^WARNING_BITS} = \$args[-1] if defined"..., ARRAY(0x28745e0), "UUUUUUUUUUUUUUUU\x{15}") called at /opt/perl-5.24.0/lib/site_perl/5.24.0/Test/More.pm line 1007
	Test::More::use_ok("Catalyst::Test", "ComponentUI") called at t/01app.t line 7
	main::BEGIN() called at /home/cpansand/.cpan/build/2017031715/Reaction-0.002005-0/blib/lib/ComponentUI.pm line 0
	eval {...} called at /home/cpansand/.cpan/build/2017031715/Reaction-0.002005-0/blib/lib/ComponentUI.pm line 0
Class::MOP::load_class is deprecated at /opt/perl-5.24.0/lib/site_perl/5.24.0/x86_64-linux/Class/MOP.pm line 69.
	Class::MOP::load_class("Reaction::InterfaceModel::Object") called at /home/cpansand/.cpan/build/2017031715/Reaction-0.002005-0/blib/lib/Reaction/InterfaceModel/Reflector/DBIC.pm line 149
	Reaction::InterfaceModel::Reflector::DBIC::reflect_schema(Reaction::InterfaceModel::Reflector::DBIC=HASH(0x8e44678), "model_class", "ComponentUI::TestModel", "schema_class", "RTest::TestDB", "sources", ARRAY(0x8d6cc58)) called at /home/cpansand/.cpan/build/2017031715/Reaction-0.002005-0/blib/lib/ComponentUI/TestModel.pm line 10
	require ComponentUI/TestModel.pm called at /opt/perl-5.24.0/lib/site_perl/5.24.0/Module/Runtime.pm line 317
	Module::Runtime::require_module("ComponentUI::TestModel") called at /opt/perl-5.24.0/lib/site_perl/5.24.0/Class/Load.pm line 174
	Class::Load::try {...} () called at /opt/perl-5.24.0/lib/site_perl/5.24.0/Try/Tiny.pm line 99
	eval {...} called at /opt/perl-5.24.0/lib/site_perl/5.24.0/Try/Tiny.pm line 94
	Try::Tiny::try(CODE(0x8206d38), Try::Tiny::Catch=REF(0x88de868)) called at /opt/perl-5.24.0/lib/site_perl/5.24.0/Class/Load.pm line 180
	Class::Load::try_load_class("ComponentUI::TestModel", undef) called at /opt/perl-5.24.0/lib/site_perl/5.24.0/Class/Load.pm line 35
	Class::Load::load_class("ComponentUI::TestModel") called at /home/cpansand/.cpan/build/2017031715/Reaction-0.002005-0/blib/lib/Catalyst/Model/Reaction/InterfaceModel/DBIC.pm line 24
	Catalyst::Model::Reaction::InterfaceModel::DBIC::COMPONENT("ComponentUI::Model::TestModel", "ComponentUI", HASH(0x8207860)) called at /opt/perl-5.24.0/lib/site_perl/5.24.0/Catalyst.pm line 3209
	eval {...} called at /opt/perl-5.24.0/lib/site_perl/5.24.0/Catalyst.pm line 3210
	Catalyst::setup_component("ComponentUI", "ComponentUI::Model::TestModel") called at /opt/perl-5.24.0/lib/site_perl/5.24.0/Catalyst.pm line 3187
	Catalyst::__ANON__() called at /opt/perl-5.24.0/lib/site_perl/5.24.0/Catalyst.pm line 3034
	Catalyst::setup_components("ComponentUI") called at /opt/perl-5.24.0/lib/site_perl/5.24.0/Catalyst.pm line 1427
	Catalyst::setup("ComponentUI") called at /home/cpansand/.cpan/build/2017031715/Reaction-0.002005-0/blib/lib/ComponentUI.pm line 32
	require ComponentUI.pm called at /opt/perl-5.24.0/lib/site_perl/5.24.0/Module/Runtime.pm line 317
	Module::Runtime::require_module("ComponentUI") called at /opt/perl-5.24.0/lib/site_perl/5.24.0/Class/Load.pm line 174
	Class::Load::try {...} () called at /opt/perl-5.24.0/lib/site_perl/5.24.0/Try/Tiny.pm line 99
	eval {...} called at /opt/perl-5.24.0/lib/site_perl/5.24.0/Try/Tiny.pm line 94
	Try::Tiny::try(CODE(0x28b67d0), Try::Tiny::Catch=REF(0x35f1d20)) called at /opt/perl-5.24.0/lib/site_perl/5.24.0/Class/Load.pm line 180
	Class::Load::try_load_class("ComponentUI", undef) called at /opt/perl-5.24.0/lib/site_perl/5.24.0/Class/Load.pm line 35
	Class::Load::load_class("ComponentUI") called at /opt/perl-5.24.0/lib/site_perl/5.24.0/Catalyst/Test.pm line 29
	Catalyst::Test::_build_request_export("Catalyst::Test", HASH(0x2409610)) called at /opt/perl-5.24.0/lib/site_perl/5.24.0/Catalyst/Test.pm line 95
	Catalyst::Test::__ANON__("Catalyst::Test", "all", HASH(0x24095e0), HASH(0x24093e8)) called at /opt/perl-5.24.0/lib/site_perl/5.24.0/Sub/Exporter.pm line 108
	Sub::Exporter::_expand_group("Catalyst::Test", HASH(0x3b99be8), ARRAY(0x2409400), HASH(0x24093e8), HASH(0x2409640), HASH(0x24093b8)) called at /opt/perl-5.24.0/lib/site_perl/5.24.0/Sub/Exporter.pm line 39
	Sub::Exporter::_expand_groups("Catalyst::Test", HASH(0x3b99be8), ARRAY(0x3b9a020), HASH(0x24093e8)) called at /opt/perl-5.24.0/lib/site_perl/5.24.0/Sub/Exporter.pm line 323
	Sub::Exporter::__ANON__("Catalyst::Test", "-all", HASH(0x2409340)) called at /opt/perl-5.24.0/lib/site_perl/5.24.0/Catalyst/Test.pm line 155
	Catalyst::Test::import("Catalyst::Test", "ComponentUI") called at t/01app.t line 7
	main::BEGIN() called at /home/cpansand/.cpan/build/2017031715/Reaction-0.002005-0/blib/lib/ComponentUI/TestModel.pm line 0
	eval {...} called at /home/cpansand/.cpan/build/2017031715/Reaction-0.002005-0/blib/lib/ComponentUI/TestModel.pm line 0
	eval 'package main;
BEGIN { ${^WARNING_BITS} = $args[-1] if defined $args[-1] }
#line 7 t/01app.t
use Catalyst::Test @{$args[0]};
1;
' called at /opt/perl-5.24.0/lib/site_perl/5.24.0/Test/More.pm line 1032
	Test::More::_eval("package main;\x{a}BEGIN { \${^WARNING_BITS} = \$args[-1] if defined"..., ARRAY(0x28745e0), "UUUUUUUUUUUUUUUU\x{15}") called at /opt/perl-5.24.0/lib/site_perl/5.24.0/Test/More.pm line 1007
	Test::More::use_ok("Catalyst::Test", "ComponentUI") called at t/01app.t line 7
	main::BEGIN() called at /home/cpansand/.cpan/build/2017031715/Reaction-0.002005-0/blib/lib/ComponentUI/TestModel.pm line 0
	eval {...} called at /home/cpansand/.cpan/build/2017031715/Reaction-0.002005-0/blib/lib/ComponentUI/TestModel.pm line 0
Class::MOP::load_class is deprecated at /opt/perl-5.24.0/lib/site_perl/5.24.0/x86_64-linux/Class/MOP.pm line 69.
	Class::MOP::load_class("Reaction::InterfaceModel::Object") called at /home/cpansand/.cpan/build/2017031715/Reaction-0.002005-0/blib/lib/Reaction/Class.pm line 123
	Reaction::Class::do_class_sub("Reaction::Class", "ComponentUI::TestModel::Foo", "ComponentUI::TestModel::Foo", "is", "Reaction::InterfaceModel::Object", "which", CODE(0x91aed48)) called at /home/cpansand/.cpan/build/2017031715/Reaction-0.002005-0/blib/lib/Reaction/Class.pm line 86
	Reaction::Class::("ComponentUI::TestModel::Foo", "is", "Reaction::InterfaceModel::Object", "which", CODE(0x91aed48)) called at /home/cpansand/.cpan/build/2017031715/Reaction-0.002005-0/blib/lib/ComponentUI/TestModel/Foo.pm line 8
	require ComponentUI/TestModel/Foo.pm called at /opt/perl-5.24.0/lib/site_perl/5.24.0/Module/Runtime.pm line 317
	Module::Runtime::require_module("ComponentUI::TestModel::Foo") called at /opt/perl-5.24.0/lib/site_perl/5.24.0/Class/Load.pm line 174
	Class::Load::try {...} () called at /opt/perl-5.24.0/lib/site_perl/5.24.0/Try/Tiny.pm line 99
	eval {...} called at /opt/perl-5.24.0/lib/site_perl/5.24.0/Try/Tiny.pm line 94
	Try::Tiny::try(CODE(0x90a70d8), Try::Tiny::Catch=REF(0x91572f0)) called at /opt/perl-5.24.0/lib/site_perl/5.24.0/Class/Load.pm line 180
	Class::Load::try_load_class("ComponentUI::TestModel::Foo", undef) called at /opt/perl-5.24.0/lib/site_perl/5.24.0/Class/Load.pm line 35
	Class::Load::load_class("ComponentUI::TestModel::Foo") called at /home/cpansand/.cpan/build/2017031715/Reaction-0.002005-0/blib/lib/Reaction/InterfaceModel/Reflector/DBIC.pm line 892
	eval {...} called at /home/cpansand/.cpan/build/2017031715/Reaction-0.002005-0/blib/lib/Reaction/InterfaceModel/Reflector/DBIC.pm line 892
	Reaction::InterfaceModel::Reflector::DBIC::_maybe_load_class(Reaction::InterfaceModel::Reflector::DBIC=HASH(0x8e44678), "ComponentUI::TestModel::Foo") called at /home/cpansand/.cpan/build/2017031715/Reaction-0.002005-0/blib/lib/Reaction/InterfaceModel/Reflector/DBIC.pm line 876
	Reaction::InterfaceModel::Reflector::DBIC::_load_or_create(Reaction::InterfaceModel::Reflector::DBIC=HASH(0x8e44678), "ComponentUI::TestModel::Foo", "superclasses", ARRAY(0x8f67308)) called at /home/cpansand/.cpan/build/2017031715/Reaction-0.002005-0/blib/lib/Reaction/InterfaceModel/Reflector/DBIC.pm line 448
	Reaction::InterfaceModel::Reflector::DBIC::reflect_source_object(Reaction::InterfaceModel::Reflector::DBIC=HASH(0x8e44678), "source_name", "Foo", "parent_domain_model_name", "_rtest_test_db_store", "parent_class", "ComponentUI::TestModel", "schema_class", ...) called at /home/cpansand/.cpan/build/2017031715/Reaction-0.002005-0/blib/lib/Reaction/InterfaceModel/Reflector/DBIC.pm line 323
	Reaction::InterfaceModel::Reflector::DBIC::reflect_source(Reaction::InterfaceModel::Reflector::DBIC=HASH(0x8e44678), "source_name", "Foo", "parent_class", "ComponentUI::TestModel", "schema_class", "RTest::TestDB", "source_class", ...) called at /home/cpansand/.cpan/build/2017031715/Reaction-0.002005-0/blib/lib/Reaction/InterfaceModel/Reflector/DBIC.pm line 185
	Reaction::InterfaceModel::Reflector::DBIC::reflect_schema(Reaction::InterfaceModel::Reflector::DBIC=HASH(0x8e44678), "model_class", "ComponentUI::TestModel", "schema_class", "RTest::TestDB", "sources", ARRAY(0x8d6cc58)) called at /home/cpansand/.cpan/build/2017031715/Reaction-0.002005-0/blib/lib/ComponentUI/TestModel.pm line 10
	require ComponentUI/TestModel.pm called at /opt/perl-5.24.0/lib/site_perl/5.24.0/Module/Runtime.pm line 317
	Module::Runtime::require_module("ComponentUI::TestModel") called at /opt/perl-5.24.0/lib/site_perl/5.24.0/Class/Load.pm line 174
	Class::Load::try {...} () called at /opt/perl-5.24.0/lib/site_perl/5.24.0/Try/Tiny.pm line 99
	eval {...} called at /opt/perl-5.24.0/lib/site_perl/5.24.0/Try/Tiny.pm line 94
	Try::Tiny::try(CODE(0x8206d38), Try::Tiny::Catch=REF(0x88de868)) called at /opt/perl-5.24.0/lib/site_perl/5.24.0/Class/Load.pm line 180
	Class::Load::try_load_class("ComponentUI::TestModel", undef) called at /opt/perl-5.24.0/lib/site_perl/5.24.0/Class/Load.pm line 35
	Class::Load::load_class("ComponentUI::TestModel") called at /home/cpansand/.cpan/build/2017031715/Reaction-0.002005-0/blib/lib/Catalyst/Model/Reaction/InterfaceModel/DBIC.pm line 24
	Catalyst::Model::Reaction::InterfaceModel::DBIC::COMPONENT("ComponentUI::Model::TestModel", "ComponentUI", HASH(0x8207860)) called at /opt/perl-5.24.0/lib/site_perl/5.24.0/Catalyst.pm line 3209
	eval {...} called at /opt/perl-5.24.0/lib/site_perl/5.24.0/Catalyst.pm line 3210
	Catalyst::setup_component("ComponentUI", "ComponentUI::Model::TestModel") called at /opt/perl-5.24.0/lib/site_perl/5.24.0/Catalyst.pm line 3187
	Catalyst::__ANON__() called at /opt/perl-5.24.0/lib/site_perl/5.24.0/Catalyst.pm line 3034
	Catalyst::setup_components("ComponentUI") called at /opt/perl-5.24.0/lib/site_perl/5.24.0/Catalyst.pm line 1427
	Catalyst::setup("ComponentUI") called at /home/cpansand/.cpan/build/2017031715/Reaction-0.002005-0/blib/lib/ComponentUI.pm line 32
	require ComponentUI.pm called at /opt/perl-5.24.0/lib/site_perl/5.24.0/Module/Runtime.pm line 317
	Module::Runtime::require_module("ComponentUI") called at /opt/perl-5.24.0/lib/site_perl/5.24.0/Class/Load.pm line 174
	Class::Load::try {...} () called at /opt/perl-5.24.0/lib/site_perl/5.24.0/Try/Tiny.pm line 99
	eval {...} called at /opt/perl-5.24.0/lib/site_perl/5.24.0/Try/Tiny.pm line 94
	Try::Tiny::try(CODE(0x28b67d0), Try::Tiny::Catch=REF(0x35f1d20)) called at /opt/perl-5.24.0/lib/site_perl/5.24.0/Class/Load.pm line 180
	Class::Load::try_load_class("ComponentUI", undef) called at /opt/perl-5.24.0/lib/site_perl/5.24.0/Class/Load.pm line 35
	Class::Load::load_class("ComponentUI") called at /opt/perl-5.24.0/lib/site_perl/5.24.0/Catalyst/Test.pm line 29
	Catalyst::Test::_build_request_export("Catalyst::Test", HASH(0x2409610)) called at /opt/perl-5.24.0/lib/site_perl/5.24.0/Catalyst/Test.pm line 95
	Catalyst::Test::__ANON__("Catalyst::Test", "all", HASH(0x24095e0), HASH(0x24093e8)) called at /opt/perl-5.24.0/lib/site_perl/5.24.0/Sub/Exporter.pm line 108
	Sub::Exporter::_expand_group("Catalyst::Test", HASH(0x3b99be8), ARRAY(0x2409400), HASH(0x24093e8), HASH(0x2409640), HASH(0x24093b8)) called at /opt/perl-5.24.0/lib/site_perl/5.24.0/Sub/Exporter.pm line 39
	Sub::Exporter::_expand_groups("Catalyst::Test", HASH(0x3b99be8), ARRAY(0x3b9a020), HASH(0x24093e8)) called at /opt/perl-5.24.0/lib/site_perl/5.24.0/Sub/Exporter.pm line 323
	Sub::Exporter::__ANON__("Catalyst::Test", "-all", HASH(0x2409340)) called at /opt/perl-5.24.0/lib/site_perl/5.24.0/Catalyst/Test.pm line 155
	Catalyst::Test::import("Catalyst::Test", "ComponentUI") called at t/01app.t line 7
	main::BEGIN() called at /home/cpansand/.cpan/build/2017031715/Reaction-0.002005-0/blib/lib/ComponentUI/TestModel/Foo.pm line 0
	eval {...} called at /home/cpansand/.cpan/build/2017031715/Reaction-0.002005-0/blib/lib/ComponentUI/TestModel/Foo.pm line 0
	eval 'package main;
BEGIN { ${^WARNING_BITS} = $args[-1] if defined $args[-1] }
#line 7 t/01app.t
use Catalyst::Test @{$args[0]};
1;
' called at /opt/perl-5.24.0/lib/site_perl/5.24.0/Test/More.pm line 1032
	Test::More::_eval("package main;\x{a}BEGIN { \${^WARNING_BITS} = \$args[-1] if defined"..., ARRAY(0x28745e0), "UUUUUUUUUUUUUUUU\x{15}") called at /opt/perl-5.24.0/lib/site_perl/5.24.0/Test/More.pm line 1007
	Test::More::use_ok("Catalyst::Test", "ComponentUI") called at t/01app.t line 7
	main::BEGIN() called at /home/cpansand/.cpan/build/2017031715/Reaction-0.002005-0/blib/lib/ComponentUI/TestModel/Foo.pm line 0
	eval {...} called at /home/cpansand/.cpan/build/2017031715/Reaction-0.002005-0/blib/lib/ComponentUI/TestModel/Foo.pm line 0
Class::MOP::load_class is deprecated at /opt/perl-5.24.0/lib/site_perl/5.24.0/x86_64-linux/Class/MOP.pm line 69.
	Class::MOP::load_class("ComponentUI::RenderingContext::Site") called at /home/cpansand/.cpan/build/2017031715/Reaction-0.002005-0/blib/lib/Reaction/UI/View.pm line 125
	eval {...} called at /home/cpansand/.cpan/build/2017031715/Reaction-0.002005-0/blib/lib/Reaction/UI/View.pm line 125
	Reaction::UI::View::find_related_class(ComponentUI::View::Site=HASH(0x5b0c8d8), "RenderingContext") called at /home/cpansand/.cpan/build/2017031715/Reaction-0.002005-0/blib/lib/Reaction/UI/View.pm line 43
	Reaction::UI::View::_build_rendering_context_class(ComponentUI::View::Site=HASH(0x5b0c8d8)) called at reader Reaction::UI::View::rendering_context_class (defined at /home/cpansand/.cpan/build/2017031715/Reaction-0.002005-0/blib/lib/Reaction/UI/View.pm line 29) line 8
	Reaction::UI::View::rendering_context_class(ComponentUI::View::Site=HASH(0x5b0c8d8)) called at /home/cpansand/.cpan/build/2017031715/Reaction-0.002005-0/blib/lib/Reaction/UI/View.pm line 134
	Reaction::UI::View::create_rendering_context(ComponentUI::View::Site=HASH(0x5b0c8d8)) called at /home/cpansand/.cpan/build/2017031715/Reaction-0.002005-0/blib/lib/Reaction/UI/View.pm line 60
	Reaction::UI::View::render_window(ComponentUI::View::Site=HASH(0x5b0c8d8), Reaction::UI::Window=HASH(0x95f42f8)) called at /home/cpansand/.cpan/build/2017031715/Reaction-0.002005-0/blib/lib/Reaction/UI/Window.pm line 74
	Reaction::UI::Window::flush_view(Reaction::UI::Window=HASH(0x95f42f8)) called at /home/cpansand/.cpan/build/2017031715/Reaction-0.002005-0/blib/lib/Reaction/UI/Window.pm line 36
	Reaction::UI::Window::flush(Reaction::UI::Window=HASH(0x95f42f8)) called at /home/cpansand/.cpan/build/2017031715/Reaction-0.002005-0/blib/lib/Reaction/UI/Controller/Root.pm line 38
	Reaction::UI::Controller::Root::end(ComponentUI::Controller::Root=HASH(0x95e7ba0), ComponentUI=HASH(0x9648db8)) called at /opt/perl-5.24.0/lib/site_perl/5.24.0/Catalyst/Action.pm line 358
	Catalyst::Action::execute(Catalyst::Action=HASH(0x93d2948), ComponentUI::Controller::Root=HASH(0x95e7ba0), ComponentUI=HASH(0x9648db8)) called at /opt/perl-5.24.0/lib/site_perl/5.24.0/Catalyst.pm line 2057
	eval {...} called at /opt/perl-5.24.0/lib/site_perl/5.24.0/Catalyst.pm line 2057
	Catalyst::execute(ComponentUI=HASH(0x9648db8), "ComponentUI::Controller::Root", Catalyst::Action=HASH(0x93d2948)) called at /opt/perl-5.24.0/lib/site_perl/5.24.0/Catalyst/Action.pm line 353
	Catalyst::Action::dispatch(Catalyst::Action=HASH(0x93d2948), ComponentUI=HASH(0x9648db8)) called at /opt/perl-5.24.0/lib/site_perl/5.24.0/Catalyst/Controller.pm line 189
	Catalyst::Controller::_END(ComponentUI::Controller::Root=HASH(0x95e7ba0), ComponentUI=HASH(0x9648db8)) called at /opt/perl-5.24.0/lib/site_perl/5.24.0/Catalyst/Action.pm line 358
	Catalyst::Action::execute(Catalyst::Action=HASH(0x93732f0), ComponentUI::Controller::Root=HASH(0x95e7ba0), ComponentUI=HASH(0x9648db8)) called at /opt/perl-5.24.0/lib/site_perl/5.24.0/Catalyst.pm line 2057
	eval {...} called at /opt/perl-5.24.0/lib/site_perl/5.24.0/Catalyst.pm line 2057
	Catalyst::execute(ComponentUI=HASH(0x9648db8), "ComponentUI::Controller::Root", Catalyst::Action=HASH(0x93732f0)) called at /opt/perl-5.24.0/lib/site_perl/5.24.0/Catalyst/Action.pm line 353
	Catalyst::Action::dispatch(Catalyst::Action=HASH(0x93732f0), ComponentUI=HASH(0x9648db8)) called at /opt/perl-5.24.0/lib/site_perl/5.24.0/Catalyst/Dispatcher.pm line 262
	Catalyst::Dispatcher::_do_forward(Catalyst::Dispatcher=HASH(0x4b23a60), "forward", ComponentUI=HASH(0x9648db8), "_END") called at /opt/perl-5.24.0/lib/site_perl/5.24.0/Catalyst/Dispatcher.pm line 242
	Catalyst::Dispatcher::forward(Catalyst::Dispatcher=HASH(0x4b23a60), ComponentUI=HASH(0x9648db8), "_END") called at /opt/perl-5.24.0/lib/site_perl/5.24.0/Catalyst.pm line 482
	Catalyst::forward(ComponentUI=HASH(0x9648db8), "_END") called at /opt/perl-5.24.0/lib/site_perl/5.24.0/Catalyst/Controller.pm line 138
	Catalyst::Controller::_DISPATCH(ComponentUI::Controller::Root=HASH(0x95e7ba0), ComponentUI=HASH(0x9648db8)) called at /opt/perl-5.24.0/lib/site_perl/5.24.0/Catalyst/Action.pm line 358
	Catalyst::Action::execute(Catalyst::Action=HASH(0x93d2888), ComponentUI::Controller::Root=HASH(0x95e7ba0), ComponentUI=HASH(0x9648db8)) called at /opt/perl-5.24.0/lib/site_perl/5.24.0/Catalyst.pm line 2057
	eval {...} called at /opt/perl-5.24.0/lib/site_perl/5.24.0/Catalyst.pm line 2057
	Catalyst::execute(ComponentUI=HASH(0x9648db8), "ComponentUI::Controller::Root", Catalyst::Action=HASH(0x93d2888)) called at /opt/perl-5.24.0/lib/site_perl/5.24.0/Catalyst/Action.pm line 353
	Catalyst::Action::dispatch(Catalyst::Action=HASH(0x93d2888), ComponentUI=HASH(0x9648db8)) called at /opt/perl-5.24.0/lib/site_perl/5.24.0/Catalyst/Dispatcher.pm line 262
	Catalyst::Dispatcher::_do_forward(Catalyst::Dispatcher=HASH(0x4b23a60), "forward", ComponentUI=HASH(0x9648db8), "//_DISPATCH") called at /opt/perl-5.24.0/lib/site_perl/5.24.0/Catalyst/Dispatcher.pm line 242
	Catalyst::Dispatcher::forward(Catalyst::Dispatcher=HASH(0x4b23a60), ComponentUI=HASH(0x9648db8), "//_DISPATCH") called at /opt/perl-5.24.0/lib/site_perl/5.24.0/Catalyst.pm line 482
	Catalyst::forward(ComponentUI=HASH(0x9648db8), "//_DISPATCH") called at /opt/perl-5.24.0/lib/site_perl/5.24.0/Catalyst/Dispatcher.pm line 108
	Catalyst::Dispatcher::dispatch(Catalyst::Dispatcher=HASH(0x4b23a60), ComponentUI=HASH(0x9648db8)) called at /opt/perl-5.24.0/lib/site_perl/5.24.0/Catalyst.pm line 2003
	Catalyst::dispatch(ComponentUI=HASH(0x9648db8)) called at /opt/perl-5.24.0/lib/site_perl/5.24.0/Catalyst/Plugin/Static/Simple.pm line 86
	Class::MOP::Class:::around(CODE(0x49ae978), ComponentUI=HASH(0x9648db8)) called at /opt/perl-5.24.0/lib/site_perl/5.24.0/x86_64-linux/Class/MOP/Method/Wrapped.pm line 164
	ComponentUI::_wrapped_dispatch(ComponentUI=HASH(0x9648db8)) called at /opt/perl-5.24.0/lib/site_perl/5.24.0/x86_64-linux/Class/MOP/Method/Wrapped.pm line 95
	ComponentUI::dispatch(ComponentUI=HASH(0x9648db8)) called at /opt/perl-5.24.0/lib/site_perl/5.24.0/Catalyst.pm line 2394
	Catalyst::try {...} () called at /opt/perl-5.24.0/lib/site_perl/5.24.0/Try/Tiny.pm line 103
	eval {...} called at /opt/perl-5.24.0/lib/site_perl/5.24.0/Try/Tiny.pm line 94
	Try::Tiny::try(CODE(0x9648728), Try::Tiny::Catch=REF(0x9648530)) called at /opt/perl-5.24.0/lib/site_perl/5.24.0/Catalyst.pm line 2403
	Catalyst::handle_request("ComponentUI", "env", HASH(0x3801128), "response_cb", CODE(0x9648590)) called at /opt/perl-5.24.0/lib/site_perl/5.24.0/Catalyst/Engine.pm line 800
	Catalyst::Engine::__ANON__(CODE(0x9648590)) called at /opt/perl-5.24.0/lib/site_perl/5.24.0/Plack/Middleware/HTTPExceptions.pm line 32
	Plack::Middleware::HTTPExceptions::try {...} () called at /opt/perl-5.24.0/lib/site_perl/5.24.0/Try/Tiny.pm line 103
	eval {...} called at /opt/perl-5.24.0/lib/site_perl/5.24.0/Try/Tiny.pm line 94
	Try::Tiny::try(CODE(0x96483c8), Try::Tiny::Catch=REF(0x38017a0)) called at /opt/perl-5.24.0/lib/site_perl/5.24.0/Plack/Middleware/HTTPExceptions.pm line 41
	Plack::Middleware::HTTPExceptions::__ANON__(CODE(0x3801788)) called at /opt/perl-5.24.0/lib/site_perl/5.24.0/Plack/Util.pm line 339
	Plack::Util::__ANON__(CODE(0x38010b0)) called at /opt/perl-5.24.0/lib/site_perl/5.24.0/Plack/Util.pm line 339
	Plack::Util::__ANON__(CODE(0x3800fc0)) called at /opt/perl-5.24.0/lib/site_perl/5.24.0/Plack/Util.pm line 339
	Plack::Util::__ANON__(CODE(0x3800f48)) called at /opt/perl-5.24.0/lib/site_perl/5.24.0/HTTP/Message/PSGI.pm line 100
	HTTP::Message::PSGI::res_from_psgi(CODE(0x95ee130)) called at /opt/perl-5.24.0/lib/site_perl/5.24.0/HTTP/Message/PSGI.pm line 156
	HTTP::Response::from_psgi("HTTP::Response", CODE(0x95ee130)) called at /opt/perl-5.24.0/lib/site_perl/5.24.0/Plack/Test/MockHTTP.pm line 24
	Plack::Test::MockHTTP::try {...} () called at /opt/perl-5.24.0/lib/site_perl/5.24.0/Try/Tiny.pm line 101
	eval {...} called at /opt/perl-5.24.0/lib/site_perl/5.24.0/Try/Tiny.pm line 94
	Try::Tiny::try(CODE(0x9547938), Try::Tiny::Catch=REF(0x95213b0)) called at /opt/perl-5.24.0/lib/site_perl/5.24.0/Plack/Test/MockHTTP.pm line 27
	Plack::Test::MockHTTP::request(Plack::Test::MockHTTP=HASH(0x9547fc8), HTTP::Request=HASH(0x9547ba8)) called at /opt/perl-5.24.0/lib/site_perl/5.24.0/Plack/Test.pm line 38
	Plack::Test::__ANON__(HTTP::Request=HASH(0x9547ba8)) called at /opt/perl-5.24.0/lib/site_perl/5.24.0/Catalyst/Test.pm line 281
	Catalyst::Test::__ANON__(CODE(0x9547e48)) called at /opt/perl-5.24.0/lib/site_perl/5.24.0/Plack/Test.pm line 38
	Plack::Test::test_psgi("mangle_response", CODE(0x28c2cb8), "app", CODE(0x9547680), "app", CODE(0x954a460), "client", CODE(0x9547d40)) called at /opt/perl-5.24.0/lib/site_perl/5.24.0/Catalyst/Test.pm line 284
	Catalyst::Test::_request(HASH(0x954f120), "/") called at /opt/perl-5.24.0/lib/site_perl/5.24.0/Catalyst/Test.pm line 327
	Catalyst::Test::_local_request("ComponentUI", "/") called at /opt/perl-5.24.0/lib/site_perl/5.24.0/Catalyst/Test.pm line 32
	Catalyst::Test::__ANON__("/") called at t/01app.t line 10
Class::MOP::is_class_loaded is deprecated at /opt/perl-5.24.0/lib/site_perl/5.24.0/x86_64-linux/Class/MOP.pm line 87.
	Class::MOP::is_class_loaded("ComponentUI::UI::Widget::SiteLayout") called at /home/cpansand/.cpan/build/2017031715/Reaction-0.002005-0/blib/lib/Reaction/UI/Skin.pm line 178
	Reaction::UI::Skin::widget_class_for(Reaction::UI::Skin=HASH(0x9657300), Reaction::UI::LayoutSet::TT=HASH(0x96736a0)) called at /home/cpansand/.cpan/build/2017031715/Reaction-0.002005-0/blib/lib/Reaction/UI/LayoutSet.pm line 29
	Reaction::UI::LayoutSet::BUILD(Reaction::UI::LayoutSet::TT=HASH(0x96736a0), HASH(0x9673dd0)) called at constructor Reaction::UI::LayoutSet::TT::new (defined at /home/cpansand/.cpan/build/2017031715/Reaction-0.002005-0/blib/lib/Reaction/UI/LayoutSet/TT.pm line 43) line 80
	Reaction::UI::LayoutSet::TT::new("Reaction::UI::LayoutSet::TT", "name", "site_layout", "skin", Reaction::UI::Skin=HASH(0x9657300), "tt_object", Template=HASH(0x7fb3008), "source_file", ...) called at /home/cpansand/.cpan/build/2017031715/Reaction-0.002005-0/blib/lib/Reaction/UI/Skin.pm line 115
	Reaction::UI::Skin::_create_layout_set(Reaction::UI::Skin=HASH(0x9657300), "site_layout", ARRAY(0x9673658), Reaction::UI::Skin=HASH(0x9657300)) called at /home/cpansand/.cpan/build/2017031715/Reaction-0.002005-0/blib/lib/Reaction/UI/Skin.pm line 110
	Reaction::UI::Skin::create_layout_set(Reaction::UI::Skin=HASH(0x9657300), "site_layout") called at /home/cpansand/.cpan/build/2017031715/Reaction-0.002005-0/blib/lib/Reaction/UI/LayoutSet.pm line 83
	Reaction::UI::LayoutSet::_load_file(Reaction::UI::LayoutSet::TT=HASH(0x96ae7a0), Path::Class::File=HASH(0x9658c00), HASH(0x9659a20)) called at /home/cpansand/.cpan/build/2017031715/Reaction-0.002005-0/blib/lib/Reaction/UI/LayoutSet.pm line 27
	Reaction::UI::LayoutSet::BUILD(Reaction::UI::LayoutSet::TT=HASH(0x96ae7a0), HASH(0x9659a20)) called at constructor Reaction::UI::LayoutSet::TT::new (defined at /home/cpansand/.cpan/build/2017031715/Reaction-0.002005-0/blib/lib/Reaction/UI/LayoutSet/TT.pm line 43) line 80
	Reaction::UI::LayoutSet::TT::new("Reaction::UI::LayoutSet::TT", "name", "site_layout", "skin", Reaction::UI::Skin=HASH(0x96ada50), "next_skin", Reaction::UI::Skin=HASH(0x9657300), "tt_object", ...) called at /home/cpansand/.cpan/build/2017031715/Reaction-0.002005-0/blib/lib/Reaction/UI/Skin.pm line 115
	Reaction::UI::Skin::_create_layout_set(Reaction::UI::Skin=HASH(0x96ada50), "site_layout", ARRAY(0x9661c50), Reaction::UI::Skin=HASH(0x96ada50)) called at /home/cpansand/.cpan/build/2017031715/Reaction-0.002005-0/blib/lib/Reaction/UI/Skin.pm line 110
	Reaction::UI::Skin::create_layout_set(Reaction::UI::Skin=HASH(0x96ada50), "site_layout") called at /home/cpansand/.cpan/build/2017031715/Reaction-0.002005-0/blib/lib/Reaction/UI/LayoutSet.pm line 83
	Reaction::UI::LayoutSet::_load_file(Reaction::UI::LayoutSet::TT=HASH(0x95f4f70), Path::Class::File=HASH(0x9662520), HASH(0x9542708)) called at /home/cpansand/.cpan/build/2017031715/Reaction-0.002005-0/blib/lib/Reaction/UI/LayoutSet.pm line 27
	Reaction::UI::LayoutSet::BUILD(Reaction::UI::LayoutSet::TT=HASH(0x95f4f70), HASH(0x9542708)) called at constructor Reaction::UI::LayoutSet::TT::new (defined at /home/cpansand/.cpan/build/2017031715/Reaction-0.002005-0/blib/lib/Reaction/UI/LayoutSet/TT.pm line 43) line 80
	Reaction::UI::LayoutSet::TT::new("Reaction::UI::LayoutSet::TT", "name", "site_layout", "skin", Reaction::UI::Skin=HASH(0x96628f8), "next_skin", Reaction::UI::Skin=HASH(0x96ada50), "tt_object", ...) called at /home/cpansand/.cpan/build/2017031715/Reaction-0.002005-0/blib/lib/Reaction/UI/Skin.pm line 115
	Reaction::UI::Skin::_create_layout_set(Reaction::UI::Skin=HASH(0x96628f8), "site_layout", ARRAY(0x9661c08), Reaction::UI::Skin=HASH(0x96628f8)) called at /home/cpansand/.cpan/build/2017031715/Reaction-0.002005-0/blib/lib/Reaction/UI/Skin.pm line 110
	Reaction::UI::Skin::create_layout_set(Reaction::UI::Skin=HASH(0x96628f8), "site_layout") called at inline delegation in Reaction::UI::View for skin->create_layout_set (attribute declared in /home/cpansand/.cpan/build/2017031715/Reaction-0.002005-0/blib/lib/Reaction/UI/View.pm at line 22) line 18
	Reaction::UI::View::create_layout_set(ComponentUI::View::Site=HASH(0x5b0c8d8), "site_layout") called at /home/cpansand/.cpan/build/2017031715/Reaction-0.002005-0/blib/lib/Reaction/UI/View.pm line 99
	Reaction::UI::View::layout_set_for(ComponentUI::View::Site=HASH(0x5b0c8d8), Reaction::UI::ViewPort::SiteLayout=HASH(0x95f4928)) called at /home/cpansand/.cpan/build/2017031715/Reaction-0.002005-0/blib/lib/Reaction/UI/View.pm line 78
	Reaction::UI::View::render_viewport_args(ComponentUI::View::Site=HASH(0x5b0c8d8), Reaction::UI::ViewPort::SiteLayout=HASH(0x95f4928)) called at /home/cpansand/.cpan/build/2017031715/Reaction-0.002005-0/blib/lib/Reaction/UI/View.pm line 61
	Reaction::UI::View::render_window(ComponentUI::View::Site=HASH(0x5b0c8d8), Reaction::UI::Window=HASH(0x95f42f8)) called at /home/cpansand/.cpan/build/2017031715/Reaction-0.002005-0/blib/lib/Reaction/UI/Window.pm line 74
	Reaction::UI::Window::flush_view(Reaction::UI::Window=HASH(0x95f42f8)) called at /home/cpansand/.cpan/build/2017031715/Reaction-0.002005-0/blib/lib/Reaction/UI/Window.pm line 36
	Reaction::UI::Window::flush(Reaction::UI::Window=HASH(0x95f42f8)) called at /home/cpansand/.cpan/build/2017031715/Reaction-0.002005-0/blib/lib/Reaction/UI/Controller/Root.pm line 38
	Reaction::UI::Controller::Root::end(ComponentUI::Controller::Root=HASH(0x95e7ba0), ComponentUI=HASH(0x9648db8)) called at /opt/perl-5.24.0/lib/site_perl/5.24.0/Catalyst/Action.pm line 358
	Catalyst::Action::execute(Catalyst::Action=HASH(0x93d2948), ComponentUI::Controller::Root=HASH(0x95e7ba0), ComponentUI=HASH(0x9648db8)) called at /opt/perl-5.24.0/lib/site_perl/5.24.0/Catalyst.pm line 2057
	eval {...} called at /opt/perl-5.24.0/lib/site_perl/5.24.0/Catalyst.pm line 2057
	Catalyst::execute(ComponentUI=HASH(0x9648db8), "ComponentUI::Controller::Root", Catalyst::Action=HASH(0x93d2948)) called at /opt/perl-5.24.0/lib/site_perl/5.24.0/Catalyst/Action.pm line 353
	Catalyst::Action::dispatch(Catalyst::Action=HASH(0x93d2948), ComponentUI=HASH(0x9648db8)) called at /opt/perl-5.24.0/lib/site_perl/5.24.0/Catalyst/Controller.pm line 189
	Catalyst::Controller::_END(ComponentUI::Controller::Root=HASH(0x95e7ba0), ComponentUI=HASH(0x9648db8)) called at /opt/perl-5.24.0/lib/site_perl/5.24.0/Catalyst/Action.pm line 358
	Catalyst::Action::execute(Catalyst::Action=HASH(0x93732f0), ComponentUI::Controller::Root=HASH(0x95e7ba0), ComponentUI=HASH(0x9648db8)) called at /opt/perl-5.24.0/lib/site_perl/5.24.0/Catalyst.pm line 2057
	eval {...} called at /opt/perl-5.24.0/lib/site_perl/5.24.0/Catalyst.pm line 2057
	Catalyst::execute(ComponentUI=HASH(0x9648db8), "ComponentUI::Controller::Root", Catalyst::Action=HASH(0x93732f0)) called at /opt/perl-5.24.0/lib/site_perl/5.24.0/Catalyst/Action.pm line 353
	Catalyst::Action::dispatch(Catalyst::Action=HASH(0x93732f0), ComponentUI=HASH(0x9648db8)) called at /opt/perl-5.24.0/lib/site_perl/5.24.0/Catalyst/Dispatcher.pm line 262
	Catalyst::Dispatcher::_do_forward(Catalyst::Dispatcher=HASH(0x4b23a60), "forward", ComponentUI=HASH(0x9648db8), "_END") called at /opt/perl-5.24.0/lib/site_perl/5.24.0/Catalyst/Dispatcher.pm line 242
	Catalyst::Dispatcher::forward(Catalyst::Dispatcher=HASH(0x4b23a60), ComponentUI=HASH(0x9648db8), "_END") called at /opt/perl-5.24.0/lib/site_perl/5.24.0/Catalyst.pm line 482
	Catalyst::forward(ComponentUI=HASH(0x9648db8), "_END") called at /opt/perl-5.24.0/lib/site_perl/5.24.0/Catalyst/Controller.pm line 138
	Catalyst::Controller::_DISPATCH(ComponentUI::Controller::Root=HASH(0x95e7ba0), ComponentUI=HASH(0x9648db8)) called at /opt/perl-5.24.0/lib/site_perl/5.24.0/Catalyst/Action.pm line 358
	Catalyst::Action::execute(Catalyst::Action=HASH(0x93d2888), ComponentUI::Controller::Root=HASH(0x95e7ba0), ComponentUI=HASH(0x9648db8)) called at /opt/perl-5.24.0/lib/site_perl/5.24.0/Catalyst.pm line 2057
	eval {...} called at /opt/perl-5.24.0/lib/site_perl/5.24.0/Catalyst.pm line 2057
	Catalyst::execute(ComponentUI=HASH(0x9648db8), "ComponentUI::Controller::Root", Catalyst::Action=HASH(0x93d2888)) called at /opt/perl-5.24.0/lib/site_perl/5.24.0/Catalyst/Action.pm line 353
	Catalyst::Action::dispatch(Catalyst::Action=HASH(0x93d2888), ComponentUI=HASH(0x9648db8)) called at /opt/perl-5.24.0/lib/site_perl/5.24.0/Catalyst/Dispatcher.pm line 262
	Catalyst::Dispatcher::_do_forward(Catalyst::Dispatcher=HASH(0x4b23a60), "forward", ComponentUI=HASH(0x9648db8), "//_DISPATCH") called at /opt/perl-5.24.0/lib/site_perl/5.24.0/Catalyst/Dispatcher.pm line 242
	Catalyst::Dispatcher::forward(Catalyst::Dispatcher=HASH(0x4b23a60), ComponentUI=HASH(0x9648db8), "//_DISPATCH") called at /opt/perl-5.24.0/lib/site_perl/5.24.0/Catalyst.pm line 482
	Catalyst::forward(ComponentUI=HASH(0x9648db8), "//_DISPATCH") called at /opt/perl-5.24.0/lib/site_perl/5.24.0/Catalyst/Dispatcher.pm line 108
	Catalyst::Dispatcher::dispatch(Catalyst::Dispatcher=HASH(0x4b23a60), ComponentUI=HASH(0x9648db8)) called at /opt/perl-5.24.0/lib/site_perl/5.24.0/Catalyst.pm line 2003
	Catalyst::dispatch(ComponentUI=HASH(0x9648db8)) called at /opt/perl-5.24.0/lib/site_perl/5.24.0/Catalyst/Plugin/Static/Simple.pm line 86
	Class::MOP::Class:::around(CODE(0x49ae978), ComponentUI=HASH(0x9648db8)) called at /opt/perl-5.24.0/lib/site_perl/5.24.0/x86_64-linux/Class/MOP/Method/Wrapped.pm line 164
	ComponentUI::_wrapped_dispatch(ComponentUI=HASH(0x9648db8)) called at /opt/perl-5.24.0/lib/site_perl/5.24.0/x86_64-linux/Class/MOP/Method/Wrapped.pm line 95
	ComponentUI::dispatch(ComponentUI=HASH(0x9648db8)) called at /opt/perl-5.24.0/lib/site_perl/5.24.0/Catalyst.pm line 2394
	Catalyst::try {...} () called at /opt/perl-5.24.0/lib/site_perl/5.24.0/Try/Tiny.pm line 103
	eval {...} called at /opt/perl-5.24.0/lib/site_perl/5.24.0/Try/Tiny.pm line 94
	Try::Tiny::try(CODE(0x9648728), Try::Tiny::Catch=REF(0x9648530)) called at /opt/perl-5.24.0/lib/site_perl/5.24.0/Catalyst.pm line 2403
	Catalyst::handle_request("ComponentUI", "env", HASH(0x3801128), "response_cb", CODE(0x9648590)) called at /opt/perl-5.24.0/lib/site_perl/5.24.0/Catalyst/Engine.pm line 800
	Catalyst::Engine::__ANON__(CODE(0x9648590)) called at /opt/perl-5.24.0/lib/site_perl/5.24.0/Plack/Middleware/HTTPExceptions.pm line 32
	Plack::Middleware::HTTPExceptions::try {...} () called at /opt/perl-5.24.0/lib/site_perl/5.24.0/Try/Tiny.pm line 103
	eval {...} called at /opt/perl-5.24.0/lib/site_perl/5.24.0/Try/Tiny.pm line 94
	Try::Tiny::try(CODE(0x96483c8), Try::Tiny::Catch=REF(0x38017a0)) called at /opt/perl-5.24.0/lib/site_perl/5.24.0/Plack/Middleware/HTTPExceptions.pm line 41
	Plack::Middleware::HTTPExceptions::__ANON__(CODE(0x3801788)) called at /opt/perl-5.24.0/lib/site_perl/5.24.0/Plack/Util.pm line 339
	Plack::Util::__ANON__(CODE(0x38010b0)) called at /opt/perl-5.24.0/lib/site_perl/5.24.0/Plack/Util.pm line 339
	Plack::Util::__ANON__(CODE(0x3800fc0)) called at /opt/perl-5.24.0/lib/site_perl/5.24.0/Plack/Util.pm line 339
	Plack::Util::__ANON__(CODE(0x3800f48)) called at /opt/perl-5.24.0/lib/site_perl/5.24.0/HTTP/Message/PSGI.pm line 100
	HTTP::Message::PSGI::res_from_psgi(CODE(0x95ee130)) called at /opt/perl-5.24.0/lib/site_perl/5.24.0/HTTP/Message/PSGI.pm line 156
	HTTP::Response::from_psgi("HTTP::Response", CODE(0x95ee130)) called at /opt/perl-5.24.0/lib/site_perl/5.24.0/Plack/Test/MockHTTP.pm line 24
	Plack::Test::MockHTTP::try {...} () called at /opt/perl-5.24.0/lib/site_perl/5.24.0/Try/Tiny.pm line 101
	eval {...} called at /opt/perl-5.24.0/lib/site_perl/5.24.0/Try/Tiny.pm line 94
	Try::Tiny::try(CODE(0x9547938), Try::Tiny::Catch=REF(0x95213b0)) called at /opt/perl-5.24.0/lib/site_perl/5.24.0/Plack/Test/MockHTTP.pm line 27
	Plack::Test::MockHTTP::request(Plack::Test::MockHTTP=HASH(0x9547fc8), HTTP::Request=HASH(0x9547ba8)) called at /opt/perl-5.24.0/lib/site_perl/5.24.0/Plack/Test.pm line 38
	Plack::Test::__ANON__(HTTP::Request=HASH(0x9547ba8)) called at /opt/perl-5.24.0/lib/site_perl/5.24.0/Catalyst/Test.pm line 281
	Catalyst::Test::__ANON__(CODE(0x9547e48)) called at /opt/perl-5.24.0/lib/site_perl/5.24.0/Plack/Test.pm line 38
	Plack::Test::test_psgi("mangle_response", CODE(0x28c2cb8), "app", CODE(0x9547680), "app", CODE(0x954a460), "client", CODE(0x9547d40)) called at /opt/perl-5.24.0/lib/site_perl/5.24.0/Catalyst/Test.pm line 284
	Catalyst::Test::_request(HASH(0x954f120), "/") called at /opt/perl-5.24.0/lib/site_perl/5.24.0/Catalyst/Test.pm line 327
	Catalyst::Test::_local_request("ComponentUI", "/") called at /opt/perl-5.24.0/lib/site_perl/5.24.0/Catalyst/Test.pm line 32
	Catalyst::Test::__ANON__("/") called at t/01app.t line 10
Class::MOP::load_class is deprecated at /opt/perl-5.24.0/lib/site_perl/5.24.0/x86_64-linux/Class/MOP.pm line 69.
	Class::MOP::load_class("Reaction::UI::Widget::SiteLayout") called at /home/cpansand/.cpan/build/2017031715/Reaction-0.002005-0/blib/lib/Reaction/UI/Skin.pm line 181
	eval {...} called at /home/cpansand/.cpan/build/2017031715/Reaction-0.002005-0/blib/lib/Reaction/UI/Skin.pm line 181
	Reaction::UI::Skin::widget_class_for(Reaction::UI::Skin=HASH(0x9657300), Reaction::UI::LayoutSet::TT=HASH(0x96736a0)) called at /home/cpansand/.cpan/build/2017031715/Reaction-0.002005-0/blib/lib/Reaction/UI/LayoutSet.pm line 29
	Reaction::UI::LayoutSet::BUILD(Reaction::UI::LayoutSet::TT=HASH(0x96736a0), HASH(0x9673dd0)) called at constructor Reaction::UI::LayoutSet::TT::new (defined at /home/cpansand/.cpan/build/2017031715/Reaction-0.002005-0/blib/lib/Reaction/UI/LayoutSet/TT.pm line 43) line 80
	Reaction::UI::LayoutSet::TT::new("Reaction::UI::LayoutSet::TT", "name", "site_layout", "skin", Reaction::UI::Skin=HASH(0x9657300), "tt_object", Template=HASH(0x7fb3008), "source_file", ...) called at /home/cpansand/.cpan/build/2017031715/Reaction-0.002005-0/blib/lib/Reaction/UI/Skin.pm line 115
	Reaction::UI::Skin::_create_layout_set(Reaction::UI::Skin=HASH(0x9657300), "site_layout", ARRAY(0x9673658), Reaction::UI::Skin=HASH(0x9657300)) called at /home/cpansand/.cpan/build/2017031715/Reaction-0.002005-0/blib/lib/Reaction/UI/Skin.pm line 110
	Reaction::UI::Skin::create_layout_set(Reaction::UI::Skin=HASH(0x9657300), "site_layout") called at /home/cpansand/.cpan/build/2017031715/Reaction-0.002005-0/blib/lib/Reaction/UI/LayoutSet.pm line 83
	Reaction::UI::LayoutSet::_load_file(Reaction::UI::LayoutSet::TT=HASH(0x96ae7a0), Path::Class::File=HASH(0x9658c00), HASH(0x9659a20)) called at /home/cpansand/.cpan/build/2017031715/Reaction-0.002005-0/blib/lib/Reaction/UI/LayoutSet.pm line 27
	Reaction::UI::LayoutSet::BUILD(Reaction::UI::LayoutSet::TT=HASH(0x96ae7a0), HASH(0x9659a20)) called at constructor Reaction::UI::LayoutSet::TT::new (defined at /home/cpansand/.cpan/build/2017031715/Reaction-0.002005-0/blib/lib/Reaction/UI/LayoutSet/TT.pm line 43) line 80
	Reaction::UI::LayoutSet::TT::new("Reaction::UI::LayoutSet::TT", "name", "site_layout", "skin", Reaction::UI::Skin=HASH(0x96ada50), "next_skin", Reaction::UI::Skin=HASH(0x9657300), "tt_object", ...) called at /home/cpansand/.cpan/build/2017031715/Reaction-0.002005-0/blib/lib/Reaction/UI/Skin.pm line 115
	Reaction::UI::Skin::_create_layout_set(Reaction::UI::Skin=HASH(0x96ada50), "site_layout", ARRAY(0x9661c50), Reaction::UI::Skin=HASH(0x96ada50)) called at /home/cpansand/.cpan/build/2017031715/Reaction-0.002005-0/blib/lib/Reaction/UI/Skin.pm line 110
	Reaction::UI::Skin::create_layout_set(Reaction::UI::Skin=HASH(0x96ada50), "site_layout") called at /home/cpansand/.cpan/build/2017031715/Reaction-0.002005-0/blib/lib/Reaction/UI/LayoutSet.pm line 83
	Reaction::UI::LayoutSet::_load_file(Reaction::UI::LayoutSet::TT=HASH(0x95f4f70), Path::Class::File=HASH(0x9662520), HASH(0x9542708)) called at /home/cpansand/.cpan/build/2017031715/Reaction-0.002005-0/blib/lib/Reaction/UI/LayoutSet.pm line 27
	Reaction::UI::LayoutSet::BUILD(Reaction::UI::LayoutSet::TT=HASH(0x95f4f70), HASH(0x9542708)) called at constructor Reaction::UI::LayoutSet::TT::new (defined at /home/cpansand/.cpan/build/2017031715/Reaction-0.002005-0/blib/lib/Reaction/UI/LayoutSet/TT.pm line 43) line 80
	Reaction::UI::LayoutSet::TT::new("Reaction::UI::LayoutSet::TT", "name", "site_layout", "skin", Reaction::UI::Skin=HASH(0x96628f8), "next_skin", Reaction::UI::Skin=HASH(0x96ada50), "tt_object", ...) called at /home/cpansand/.cpan/build/2017031715/Reaction-0.002005-0/blib/lib/Reaction/UI/Skin.pm line 115
	Reaction::UI::Skin::_create_layout_set(Reaction::UI::Skin=HASH(0x96628f8), "site_layout", ARRAY(0x9661c08), Reaction::UI::Skin=HASH(0x96628f8)) called at /home/cpansand/.cpan/build/2017031715/Reaction-0.002005-0/blib/lib/Reaction/UI/Skin.pm line 110
	Reaction::UI::Skin::create_layout_set(Reaction::UI::Skin=HASH(0x96628f8), "site_layout") called at inline delegation in Reaction::UI::View for skin->create_layout_set (attribute declared in /home/cpansand/.cpan/build/2017031715/Reaction-0.002005-0/blib/lib/Reaction/UI/View.pm at line 22) line 18
	Reaction::UI::View::create_layout_set(ComponentUI::View::Site=HASH(0x5b0c8d8), "site_layout") called at /home/cpansand/.cpan/build/2017031715/Reaction-0.002005-0/blib/lib/Reaction/UI/View.pm line 99
	Reaction::UI::View::layout_set_for(ComponentUI::View::Site=HASH(0x5b0c8d8), Reaction::UI::ViewPort::SiteLayout=HASH(0x95f4928)) called at /home/cpansand/.cpan/build/2017031715/Reaction-0.002005-0/blib/lib/Reaction/UI/View.pm line 78
	Reaction::UI::View::render_viewport_args(ComponentUI::View::Site=HASH(0x5b0c8d8), Reaction::UI::ViewPort::SiteLayout=HASH(0x95f4928)) called at /home/cpansand/.cpan/build/2017031715/Reaction-0.002005-0/blib/lib/Reaction/UI/View.pm line 61
	Reaction::UI::View::render_window(ComponentUI::View::Site=HASH(0x5b0c8d8), Reaction::UI::Window=HASH(0x95f42f8)) called at /home/cpansand/.cpan/build/2017031715/Reaction-0.002005-0/blib/lib/Reaction/UI/Window.pm line 74
	Reaction::UI::Window::flush_view(Reaction::UI::Window=HASH(0x95f42f8)) called at /home/cpansand/.cpan/build/2017031715/Reaction-0.002005-0/blib/lib/Reaction/UI/Window.pm line 36
	Reaction::UI::Window::flush(Reaction::UI::Window=HASH(0x95f42f8)) called at /home/cpansand/.cpan/build/2017031715/Reaction-0.002005-0/blib/lib/Reaction/UI/Controller/Root.pm line 38
	Reaction::UI::Controller::Root::end(ComponentUI::Controller::Root=HASH(0x95e7ba0), ComponentUI=HASH(0x9648db8)) called at /opt/perl-5.24.0/lib/site_perl/5.24.0/Catalyst/Action.pm line 358
	Catalyst::Action::execute(Catalyst::Action=HASH(0x93d2948), ComponentUI::Controller::Root=HASH(0x95e7ba0), ComponentUI=HASH(0x9648db8)) called at /opt/perl-5.24.0/lib/site_perl/5.24.0/Catalyst.pm line 2057
	eval {...} called at /opt/perl-5.24.0/lib/site_perl/5.24.0/Catalyst.pm line 2057
	Catalyst::execute(ComponentUI=HASH(0x9648db8), "ComponentUI::Controller::Root", Catalyst::Action=HASH(0x93d2948)) called at /opt/perl-5.24.0/lib/site_perl/5.24.0/Catalyst/Action.pm line 353
	Catalyst::Action::dispatch(Catalyst::Action=HASH(0x93d2948), ComponentUI=HASH(0x9648db8)) called at /opt/perl-5.24.0/lib/site_perl/5.24.0/Catalyst/Controller.pm line 189
	Catalyst::Controller::_END(ComponentUI::Controller::Root=HASH(0x95e7ba0), ComponentUI=HASH(0x9648db8)) called at /opt/perl-5.24.0/lib/site_perl/5.24.0/Catalyst/Action.pm line 358
	Catalyst::Action::execute(Catalyst::Action=HASH(0x93732f0), ComponentUI::Controller::Root=HASH(0x95e7ba0), ComponentUI=HASH(0x9648db8)) called at /opt/perl-5.24.0/lib/site_perl/5.24.0/Catalyst.pm line 2057
	eval {...} called at /opt/perl-5.24.0/lib/site_perl/5.24.0/Catalyst.pm line 2057
	Catalyst::execute(ComponentUI=HASH(0x9648db8), "ComponentUI::Controller::Root", Catalyst::Action=HASH(0x93732f0)) called at /opt/perl-5.24.0/lib/site_perl/5.24.0/Catalyst/Action.pm line 353
	Catalyst::Action::dispatch(Catalyst::Action=HASH(0x93732f0), ComponentUI=HASH(0x9648db8)) called at /opt/perl-5.24.0/lib/site_perl/5.24.0/Catalyst/Dispatcher.pm line 262
	Catalyst::Dispatcher::_do_forward(Catalyst::Dispatcher=HASH(0x4b23a60), "forward", ComponentUI=HASH(0x9648db8), "_END") called at /opt/perl-5.24.0/lib/site_perl/5.24.0/Catalyst/Dispatcher.pm line 242
	Catalyst::Dispatcher::forward(Catalyst::Dispatcher=HASH(0x4b23a60), ComponentUI=HASH(0x9648db8), "_END") called at /opt/perl-5.24.0/lib/site_perl/5.24.0/Catalyst.pm line 482
	Catalyst::forward(ComponentUI=HASH(0x9648db8), "_END") called at /opt/perl-5.24.0/lib/site_perl/5.24.0/Catalyst/Controller.pm line 138
	Catalyst::Controller::_DISPATCH(ComponentUI::Controller::Root=HASH(0x95e7ba0), ComponentUI=HASH(0x9648db8)) called at /opt/perl-5.24.0/lib/site_perl/5.24.0/Catalyst/Action.pm line 358
	Catalyst::Action::execute(Catalyst::Action=HASH(0x93d2888), ComponentUI::Controller::Root=HASH(0x95e7ba0), ComponentUI=HASH(0x9648db8)) called at /opt/perl-5.24.0/lib/site_perl/5.24.0/Catalyst.pm line 2057
	eval {...} called at /opt/perl-5.24.0/lib/site_perl/5.24.0/Catalyst.pm line 2057
	Catalyst::execute(ComponentUI=HASH(0x9648db8), "ComponentUI::Controller::Root", Catalyst::Action=HASH(0x93d2888)) called at /opt/perl-5.24.0/lib/site_perl/5.24.0/Catalyst/Action.pm line 353
	Catalyst::Action::dispatch(Catalyst::Action=HASH(0x93d2888), ComponentUI=HASH(0x9648db8)) called at /opt/perl-5.24.0/lib/site_perl/5.24.0/Catalyst/Dispatcher.pm line 262
	Catalyst::Dispatcher::_do_forward(Catalyst::Dispatcher=HASH(0x4b23a60), "forward", ComponentUI=HASH(0x9648db8), "//_DISPATCH") called at /opt/perl-5.24.0/lib/site_perl/5.24.0/Catalyst/Dispatcher.pm line 242
	Catalyst::Dispatcher::forward(Catalyst::Dispatcher=HASH(0x4b23a60), ComponentUI=HASH(0x9648db8), "//_DISPATCH") called at /opt/perl-5.24.0/lib/site_perl/5.24.0/Catalyst.pm line 482
	Catalyst::forward(ComponentUI=HASH(0x9648db8), "//_DISPATCH") called at /opt/perl-5.24.0/lib/site_perl/5.24.0/Catalyst/Dispatcher.pm line 108
	Catalyst::Dispatcher::dispatch(Catalyst::Dispatcher=HASH(0x4b23a60), ComponentUI=HASH(0x9648db8)) called at /opt/perl-5.24.0/lib/site_perl/5.24.0/Catalyst.pm line 2003
	Catalyst::dispatch(ComponentUI=HASH(0x9648db8)) called at /opt/perl-5.24.0/lib/site_perl/5.24.0/Catalyst/Plugin/Static/Simple.pm line 86
	Class::MOP::Class:::around(CODE(0x49ae978), ComponentUI=HASH(0x9648db8)) called at /opt/perl-5.24.0/lib/site_perl/5.24.0/x86_64-linux/Class/MOP/Method/Wrapped.pm line 164
	ComponentUI::_wrapped_dispatch(ComponentUI=HASH(0x9648db8)) called at /opt/perl-5.24.0/lib/site_perl/5.24.0/x86_64-linux/Class/MOP/Method/Wrapped.pm line 95
	ComponentUI::dispatch(ComponentUI=HASH(0x9648db8)) called at /opt/perl-5.24.0/lib/site_perl/5.24.0/Catalyst.pm line 2394
	Catalyst::try {...} () called at /opt/perl-5.24.0/lib/site_perl/5.24.0/Try/Tiny.pm line 103
	eval {...} called at /opt/perl-5.24.0/lib/site_perl/5.24.0/Try/Tiny.pm line 94
	Try::Tiny::try(CODE(0x9648728), Try::Tiny::Catch=REF(0x9648530)) called at /opt/perl-5.24.0/lib/site_perl/5.24.0/Catalyst.pm line 2403
	Catalyst::handle_request("ComponentUI", "env", HASH(0x3801128), "response_cb", CODE(0x9648590)) called at /opt/perl-5.24.0/lib/site_perl/5.24.0/Catalyst/Engine.pm line 800
	Catalyst::Engine::__ANON__(CODE(0x9648590)) called at /opt/perl-5.24.0/lib/site_perl/5.24.0/Plack/Middleware/HTTPExceptions.pm line 32
	Plack::Middleware::HTTPExceptions::try {...} () called at /opt/perl-5.24.0/lib/site_perl/5.24.0/Try/Tiny.pm line 103
	eval {...} called at /opt/perl-5.24.0/lib/site_perl/5.24.0/Try/Tiny.pm line 94
	Try::Tiny::try(CODE(0x96483c8), Try::Tiny::Catch=REF(0x38017a0)) called at /opt/perl-5.24.0/lib/site_perl/5.24.0/Plack/Middleware/HTTPExceptions.pm line 41
	Plack::Middleware::HTTPExceptions::__ANON__(CODE(0x3801788)) called at /opt/perl-5.24.0/lib/site_perl/5.24.0/Plack/Util.pm line 339
	Plack::Util::__ANON__(CODE(0x38010b0)) called at /opt/perl-5.24.0/lib/site_perl/5.24.0/Plack/Util.pm line 339
	Plack::Util::__ANON__(CODE(0x3800fc0)) called at /opt/perl-5.24.0/lib/site_perl/5.24.0/Plack/Util.pm line 339
	Plack::Util::__ANON__(CODE(0x3800f48)) called at /opt/perl-5.24.0/lib/site_perl/5.24.0/HTTP/Message/PSGI.pm line 100
	HTTP::Message::PSGI::res_from_psgi(CODE(0x95ee130)) called at /opt/perl-5.24.0/lib/site_perl/5.24.0/HTTP/Message/PSGI.pm line 156
	HTTP::Response::from_psgi("HTTP::Response", CODE(0x95ee130)) called at /opt/perl-5.24.0/lib/site_perl/5.24.0/Plack/Test/MockHTTP.pm line 24
	Plack::Test::MockHTTP::try {...} () called at /opt/perl-5.24.0/lib/site_perl/5.24.0/Try/Tiny.pm line 101
	eval {...} called at /opt/perl-5.24.0/lib/site_perl/5.24.0/Try/Tiny.pm line 94
	Try::Tiny::try(CODE(0x9547938), Try::Tiny::Catch=REF(0x95213b0)) called at /opt/perl-5.24.0/lib/site_perl/5.24.0/Plack/Test/MockHTTP.pm line 27
	Plack::Test::MockHTTP::request(Plack::Test::MockHTTP=HASH(0x9547fc8), HTTP::Request=HASH(0x9547ba8)) called at /opt/perl-5.24.0/lib/site_perl/5.24.0/Plack/Test.pm line 38
	Plack::Test::__ANON__(HTTP::Request=HASH(0x9547ba8)) called at /opt/perl-5.24.0/lib/site_perl/5.24.0/Catalyst/Test.pm line 281
	Catalyst::Test::__ANON__(CODE(0x9547e48)) called at /opt/perl-5.24.0/lib/site_perl/5.24.0/Plack/Test.pm line 38
	Plack::Test::test_psgi("mangle_response", CODE(0x28c2cb8), "app", CODE(0x9547680), "app", CODE(0x954a460), "client", CODE(0x9547d40)) called at /opt/perl-5.24.0/lib/site_perl/5.24.0/Catalyst/Test.pm line 284
	Catalyst::Test::_request(HASH(0x954f120), "/") called at /opt/perl-5.24.0/lib/site_perl/5.24.0/Catalyst/Test.pm line 327
	Catalyst::Test::_local_request("ComponentUI", "/") called at /opt/perl-5.24.0/lib/site_perl/5.24.0/Catalyst/Test.pm line 32
	Catalyst::Test::__ANON__("/") called at t/01app.t line 10
[debug] remote
t/01app.t ................... ok
t/04load_all.t .............. ok
t/05reflect_attr_from.t ..... ok
Class::MOP::load_class is deprecated at /opt/perl-5.24.0/lib/site_perl/5.24.0/x86_64-linux/Class/MOP.pm line 69.
	Class::MOP::load_class("Reaction::InterfaceModel::Object") called at /home/cpansand/.cpan/build/2017031715/Reaction-0.002005-0/blib/lib/Reaction/InterfaceModel/Reflector/DBIC.pm line 149
	Reaction::InterfaceModel::Reflector::DBIC::reflect_schema(Reaction::InterfaceModel::Reflector::DBIC=HASH(0x2f76e38), "model_class", "ComponentUI::TestModel", "schema_class", "RTest::TestDB", "sources", ARRAY(0x26c1eb0)) called at /home/cpansand/.cpan/build/2017031715/Reaction-0.002005-0/blib/lib/ComponentUI/TestModel.pm line 10
	require ComponentUI/TestModel.pm called at t/lib/RTest/InterfaceModel/Reflector/DBIC.pm line 6
	RTest::InterfaceModel::Reflector::DBIC::BEGIN() called at /home/cpansand/.cpan/build/2017031715/Reaction-0.002005-0/blib/lib/ComponentUI/TestModel.pm line 0
	eval {...} called at /home/cpansand/.cpan/build/2017031715/Reaction-0.002005-0/blib/lib/ComponentUI/TestModel.pm line 0
	require RTest/InterfaceModel/Reflector/DBIC.pm called at t/im_dbic.t line 7
	main::BEGIN() called at /home/cpansand/.cpan/build/2017031715/Reaction-0.002005-0/blib/lib/ComponentUI/TestModel.pm line 0
	eval {...} called at /home/cpansand/.cpan/build/2017031715/Reaction-0.002005-0/blib/lib/ComponentUI/TestModel.pm line 0
Class::MOP::load_class is deprecated at /opt/perl-5.24.0/lib/site_perl/5.24.0/x86_64-linux/Class/MOP.pm line 69, <DATA> line 1.
	Class::MOP::load_class("Reaction::InterfaceModel::Object") called at /home/cpansand/.cpan/build/2017031715/Reaction-0.002005-0/blib/lib/Reaction/Class.pm line 123
	Reaction::Class::do_class_sub("Reaction::Class", "ComponentUI::TestModel::Foo", "ComponentUI::TestModel::Foo", "is", "Reaction::InterfaceModel::Object", "which", CODE(0x45c9340)) called at /home/cpansand/.cpan/build/2017031715/Reaction-0.002005-0/blib/lib/Reaction/Class.pm line 86
	Reaction::Class::("ComponentUI::TestModel::Foo", "is", "Reaction::InterfaceModel::Object", "which", CODE(0x45c9340)) called at /home/cpansand/.cpan/build/2017031715/Reaction-0.002005-0/blib/lib/ComponentUI/TestModel/Foo.pm line 8
	require ComponentUI/TestModel/Foo.pm called at /opt/perl-5.24.0/lib/site_perl/5.24.0/Module/Runtime.pm line 317
	Module::Runtime::require_module("ComponentUI::TestModel::Foo") called at /opt/perl-5.24.0/lib/site_perl/5.24.0/Class/Load.pm line 174
	Class::Load::try {...} () called at /opt/perl-5.24.0/lib/site_perl/5.24.0/Try/Tiny.pm line 99
	eval {...} called at /opt/perl-5.24.0/lib/site_perl/5.24.0/Try/Tiny.pm line 94
	Try::Tiny::try(CODE(0x4501ce8), Try::Tiny::Catch=REF(0x455d730)) called at /opt/perl-5.24.0/lib/site_perl/5.24.0/Class/Load.pm line 180
	Class::Load::try_load_class("ComponentUI::TestModel::Foo", undef) called at /opt/perl-5.24.0/lib/site_perl/5.24.0/Class/Load.pm line 35
	Class::Load::load_class("ComponentUI::TestModel::Foo") called at /home/cpansand/.cpan/build/2017031715/Reaction-0.002005-0/blib/lib/Reaction/InterfaceModel/Reflector/DBIC.pm line 892
	eval {...} called at /home/cpansand/.cpan/build/2017031715/Reaction-0.002005-0/blib/lib/Reaction/InterfaceModel/Reflector/DBIC.pm line 892
	Reaction::InterfaceModel::Reflector::DBIC::_maybe_load_class(Reaction::InterfaceModel::Reflector::DBIC=HASH(0x2f76e38), "ComponentUI::TestModel::Foo") called at /home/cpansand/.cpan/build/2017031715/Reaction-0.002005-0/blib/lib/Reaction/InterfaceModel/Reflector/DBIC.pm line 876
	Reaction::InterfaceModel::Reflector::DBIC::_load_or_create(Reaction::InterfaceModel::Reflector::DBIC=HASH(0x2f76e38), "ComponentUI::TestModel::Foo", "superclasses", ARRAY(0x44cf450)) called at /home/cpansand/.cpan/build/2017031715/Reaction-0.002005-0/blib/lib/Reaction/InterfaceModel/Reflector/DBIC.pm line 448
	Reaction::InterfaceModel::Reflector::DBIC::reflect_source_object(Reaction::InterfaceModel::Reflector::DBIC=HASH(0x2f76e38), "schema_class", "RTest::TestDB", "source_class", "RTest::TestDB::Foo", "parent_class", "ComponentUI::TestModel", "source_name", ...) called at /home/cpansand/.cpan/build/2017031715/Reaction-0.002005-0/blib/lib/Reaction/InterfaceModel/Reflector/DBIC.pm line 323
	Reaction::InterfaceModel::Reflector::DBIC::reflect_source(Reaction::InterfaceModel::Reflector::DBIC=HASH(0x2f76e38), "source_name", "Foo", "parent_class", "ComponentUI::TestModel", "schema_class", "RTest::TestDB", "source_class", ...) called at /home/cpansand/.cpan/build/2017031715/Reaction-0.002005-0/blib/lib/Reaction/InterfaceModel/Reflector/DBIC.pm line 185
	Reaction::InterfaceModel::Reflector::DBIC::reflect_schema(Reaction::InterfaceModel::Reflector::DBIC=HASH(0x2f76e38), "model_class", "ComponentUI::TestModel", "schema_class", "RTest::TestDB", "sources", ARRAY(0x26c1eb0)) called at /home/cpansand/.cpan/build/2017031715/Reaction-0.002005-0/blib/lib/ComponentUI/TestModel.pm line 10
	require ComponentUI/TestModel.pm called at t/lib/RTest/InterfaceModel/Reflector/DBIC.pm line 6
	RTest::InterfaceModel::Reflector::DBIC::BEGIN() called at /home/cpansand/.cpan/build/2017031715/Reaction-0.002005-0/blib/lib/ComponentUI/TestModel/Foo.pm line 0
	eval {...} called at /home/cpansand/.cpan/build/2017031715/Reaction-0.002005-0/blib/lib/ComponentUI/TestModel/Foo.pm line 0
	require RTest/InterfaceModel/Reflector/DBIC.pm called at t/im_dbic.t line 7
	main::BEGIN() called at /home/cpansand/.cpan/build/2017031715/Reaction-0.002005-0/blib/lib/ComponentUI/TestModel/Foo.pm line 0
	eval {...} called at /home/cpansand/.cpan/build/2017031715/Reaction-0.002005-0/blib/lib/ComponentUI/TestModel/Foo.pm line 0
Class::MOP::is_class_loaded is deprecated at /opt/perl-5.24.0/lib/site_perl/5.24.0/x86_64-linux/Class/MOP.pm line 87, <DATA> line 1.
	Class::MOP::is_class_loaded("RTest::TestIM::Foo") called at t/lib/RTest/InterfaceModel/Reflector/DBIC.pm line 74
	RTest::InterfaceModel::Reflector::DBIC::test_reflect_schema(RTest::InterfaceModel::Reflector::DBIC=HASH(0x4785830)) called at /opt/perl-5.24.0/lib/site_perl/5.24.0/Test/Class.pm line 293
	Test::Class::try {...} () called at /opt/perl-5.24.0/lib/site_perl/5.24.0/Try/Tiny.pm line 101
	eval {...} called at /opt/perl-5.24.0/lib/site_perl/5.24.0/Try/Tiny.pm line 94
	Try::Tiny::try(CODE(0x55651a8), Try::Tiny::Catch=REF(0x5abd518)) called at /opt/perl-5.24.0/lib/site_perl/5.24.0/Test/Class.pm line 293
	Test::Class::_run_method(RTest::InterfaceModel::Reflector::DBIC=HASH(0x4785830), "test_reflect_schema", ARRAY(0x175c370)) called at /opt/perl-5.24.0/lib/site_perl/5.24.0/Test/Class.pm line 395
	Test::Class::runtests("Test::Class", RTest::InterfaceModel::Reflector::DBIC=HASH(0x4785830)) called at t/im_dbic.t line 10
t/im_dbic.t ................. ok
t/ui_focus_stack.t .......... ok
t/ui_view.t ................. ok
t/ui_viewport.t ............. ok
Class::MOP::load_class is deprecated at /opt/perl-5.24.0/lib/site_perl/5.24.0/x86_64-linux/Class/MOP.pm line 69.
	Class::MOP::load_class("ComponentUI::TestModel") called at /home/cpansand/.cpan/build/2017031715/Reaction-0.002005-0/blib/lib/Catalyst/Model/Reaction/InterfaceModel/DBIC.pm line 24
	Catalyst::Model::Reaction::InterfaceModel::DBIC::COMPONENT("ComponentUI::Model::TestModel", "ComponentUI", HASH(0x7eefc40)) called at /opt/perl-5.24.0/lib/site_perl/5.24.0/Catalyst.pm line 3209
	eval {...} called at /opt/perl-5.24.0/lib/site_perl/5.24.0/Catalyst.pm line 3210
	Catalyst::setup_component("ComponentUI", "ComponentUI::Model::TestModel") called at /opt/perl-5.24.0/lib/site_perl/5.24.0/Catalyst.pm line 3187
	Catalyst::__ANON__() called at /opt/perl-5.24.0/lib/site_perl/5.24.0/Catalyst.pm line 3034
	Catalyst::setup_components("ComponentUI") called at /opt/perl-5.24.0/lib/site_perl/5.24.0/Catalyst.pm line 1427
	Catalyst::setup("ComponentUI") called at /home/cpansand/.cpan/build/2017031715/Reaction-0.002005-0/blib/lib/ComponentUI.pm line 32
	require ComponentUI.pm called at /opt/perl-5.24.0/lib/site_perl/5.24.0/Module/Runtime.pm line 317
	Module::Runtime::require_module("ComponentUI") called at /opt/perl-5.24.0/lib/site_perl/5.24.0/Class/Load.pm line 174
	Class::Load::try {...} () called at /opt/perl-5.24.0/lib/site_perl/5.24.0/Try/Tiny.pm line 99
	eval {...} called at /opt/perl-5.24.0/lib/site_perl/5.24.0/Try/Tiny.pm line 94
	Try::Tiny::try(CODE(0x1961ae8), Try::Tiny::Catch=REF(0x39ba848)) called at /opt/perl-5.24.0/lib/site_perl/5.24.0/Class/Load.pm line 180
	Class::Load::try_load_class("ComponentUI", undef) called at /opt/perl-5.24.0/lib/site_perl/5.24.0/Class/Load.pm line 35
	Class::Load::load_class("ComponentUI") called at /opt/perl-5.24.0/lib/site_perl/5.24.0/Test/WWW/Mechanize/Catalyst.pm line 245
	Test::WWW::Mechanize::Catalyst::import("Test::WWW::Mechanize::Catalyst", "ComponentUI") called at t/uncheck_bool_field.t line 6
	main::BEGIN() called at /home/cpansand/.cpan/build/2017031715/Reaction-0.002005-0/blib/lib/ComponentUI.pm line 0
	eval {...} called at /home/cpansand/.cpan/build/2017031715/Reaction-0.002005-0/blib/lib/ComponentUI.pm line 0
Class::MOP::load_class is deprecated at /opt/perl-5.24.0/lib/site_perl/5.24.0/x86_64-linux/Class/MOP.pm line 69.
	Class::MOP::load_class("Reaction::InterfaceModel::Object") called at /home/cpansand/.cpan/build/2017031715/Reaction-0.002005-0/blib/lib/Reaction/InterfaceModel/Reflector/DBIC.pm line 149
	Reaction::InterfaceModel::Reflector::DBIC::reflect_schema(Reaction::InterfaceModel::Reflector::DBIC=HASH(0x8b49fb0), "model_class", "ComponentUI::TestModel", "schema_class", "RTest::TestDB", "sources", ARRAY(0x8b33350)) called at /home/cpansand/.cpan/build/2017031715/Reaction-0.002005-0/blib/lib/ComponentUI/TestModel.pm line 10
	require ComponentUI/TestModel.pm called at /opt/perl-5.24.0/lib/site_perl/5.24.0/Module/Runtime.pm line 317
	Module::Runtime::require_module("ComponentUI::TestModel") called at /opt/perl-5.24.0/lib/site_perl/5.24.0/Class/Load.pm line 174
	Class::Load::try {...} () called at /opt/perl-5.24.0/lib/site_perl/5.24.0/Try/Tiny.pm line 99
	eval {...} called at /opt/perl-5.24.0/lib/site_perl/5.24.0/Try/Tiny.pm line 94
	Try::Tiny::try(CODE(0x4e4d160), Try::Tiny::Catch=REF(0x85c8ee8)) called at /opt/perl-5.24.0/lib/site_perl/5.24.0/Class/Load.pm line 180
	Class::Load::try_load_class("ComponentUI::TestModel", undef) called at /opt/perl-5.24.0/lib/site_perl/5.24.0/Class/Load.pm line 35
	Class::Load::load_class("ComponentUI::TestModel") called at /home/cpansand/.cpan/build/2017031715/Reaction-0.002005-0/blib/lib/Catalyst/Model/Reaction/InterfaceModel/DBIC.pm line 24
	Catalyst::Model::Reaction::InterfaceModel::DBIC::COMPONENT("ComponentUI::Model::TestModel", "ComponentUI", HASH(0x7eefc40)) called at /opt/perl-5.24.0/lib/site_perl/5.24.0/Catalyst.pm line 3209
	eval {...} called at /opt/perl-5.24.0/lib/site_perl/5.24.0/Catalyst.pm line 3210
	Catalyst::setup_component("ComponentUI", "ComponentUI::Model::TestModel") called at /opt/perl-5.24.0/lib/site_perl/5.24.0/Catalyst.pm line 3187
	Catalyst::__ANON__() called at /opt/perl-5.24.0/lib/site_perl/5.24.0/Catalyst.pm line 3034
	Catalyst::setup_components("ComponentUI") called at /opt/perl-5.24.0/lib/site_perl/5.24.0/Catalyst.pm line 1427
	Catalyst::setup("ComponentUI") called at /home/cpansand/.cpan/build/2017031715/Reaction-0.002005-0/blib/lib/ComponentUI.pm line 32
	require ComponentUI.pm called at /opt/perl-5.24.0/lib/site_perl/5.24.0/Module/Runtime.pm line 317
	Module::Runtime::require_module("ComponentUI") called at /opt/perl-5.24.0/lib/site_perl/5.24.0/Class/Load.pm line 174
	Class::Load::try {...} () called at /opt/perl-5.24.0/lib/site_perl/5.24.0/Try/Tiny.pm line 99
	eval {...} called at /opt/perl-5.24.0/lib/site_perl/5.24.0/Try/Tiny.pm line 94
	Try::Tiny::try(CODE(0x1961ae8), Try::Tiny::Catch=REF(0x39ba848)) called at /opt/perl-5.24.0/lib/site_perl/5.24.0/Class/Load.pm line 180
	Class::Load::try_load_class("ComponentUI", undef) called at /opt/perl-5.24.0/lib/site_perl/5.24.0/Class/Load.pm line 35
	Class::Load::load_class("ComponentUI") called at /opt/perl-5.24.0/lib/site_perl/5.24.0/Test/WWW/Mechanize/Catalyst.pm line 245
	Test::WWW::Mechanize::Catalyst::import("Test::WWW::Mechanize::Catalyst", "ComponentUI") called at t/uncheck_bool_field.t line 6
	main::BEGIN() called at /home/cpansand/.cpan/build/2017031715/Reaction-0.002005-0/blib/lib/ComponentUI/TestModel.pm line 0
	eval {...} called at /home/cpansand/.cpan/build/2017031715/Reaction-0.002005-0/blib/lib/ComponentUI/TestModel.pm line 0
Class::MOP::load_class is deprecated at /opt/perl-5.24.0/lib/site_perl/5.24.0/x86_64-linux/Class/MOP.pm line 69.
	Class::MOP::load_class("Reaction::InterfaceModel::Object") called at /home/cpansand/.cpan/build/2017031715/Reaction-0.002005-0/blib/lib/Reaction/Class.pm line 123
	Reaction::Class::do_class_sub("Reaction::Class", "ComponentUI::TestModel::Foo", "ComponentUI::TestModel::Foo", "is", "Reaction::InterfaceModel::Object", "which", CODE(0x8e73460)) called at /home/cpansand/.cpan/build/2017031715/Reaction-0.002005-0/blib/lib/Reaction/Class.pm line 86
	Reaction::Class::("ComponentUI::TestModel::Foo", "is", "Reaction::InterfaceModel::Object", "which", CODE(0x8e73460)) called at /home/cpansand/.cpan/build/2017031715/Reaction-0.002005-0/blib/lib/ComponentUI/TestModel/Foo.pm line 8
	require ComponentUI/TestModel/Foo.pm called at /opt/perl-5.24.0/lib/site_perl/5.24.0/Module/Runtime.pm line 317
	Module::Runtime::require_module("ComponentUI::TestModel::Foo") called at /opt/perl-5.24.0/lib/site_perl/5.24.0/Class/Load.pm line 174
	Class::Load::try {...} () called at /opt/perl-5.24.0/lib/site_perl/5.24.0/Try/Tiny.pm line 99
	eval {...} called at /opt/perl-5.24.0/lib/site_perl/5.24.0/Try/Tiny.pm line 94
	Try::Tiny::try(CODE(0x8e42598), Try::Tiny::Catch=REF(0x8dd1fc0)) called at /opt/perl-5.24.0/lib/site_perl/5.24.0/Class/Load.pm line 180
	Class::Load::try_load_class("ComponentUI::TestModel::Foo", undef) called at /opt/perl-5.24.0/lib/site_perl/5.24.0/Class/Load.pm line 35
	Class::Load::load_class("ComponentUI::TestModel::Foo") called at /home/cpansand/.cpan/build/2017031715/Reaction-0.002005-0/blib/lib/Reaction/InterfaceModel/Reflector/DBIC.pm line 892
	eval {...} called at /home/cpansand/.cpan/build/2017031715/Reaction-0.002005-0/blib/lib/Reaction/InterfaceModel/Reflector/DBIC.pm line 892
	Reaction::InterfaceModel::Reflector::DBIC::_maybe_load_class(Reaction::InterfaceModel::Reflector::DBIC=HASH(0x8b49fb0), "ComponentUI::TestModel::Foo") called at /home/cpansand/.cpan/build/2017031715/Reaction-0.002005-0/blib/lib/Reaction/InterfaceModel/Reflector/DBIC.pm line 876
	Reaction::InterfaceModel::Reflector::DBIC::_load_or_create(Reaction::InterfaceModel::Reflector::DBIC=HASH(0x8b49fb0), "ComponentUI::TestModel::Foo", "superclasses", ARRAY(0x8d950a8)) called at /home/cpansand/.cpan/build/2017031715/Reaction-0.002005-0/blib/lib/Reaction/InterfaceModel/Reflector/DBIC.pm line 448
	Reaction::InterfaceModel::Reflector::DBIC::reflect_source_object(Reaction::InterfaceModel::Reflector::DBIC=HASH(0x8b49fb0), "parent_class", "ComponentUI::TestModel", "schema_class", "RTest::TestDB", "source_class", "RTest::TestDB::Foo", "parent_domain_model_name", ...) called at /home/cpansand/.cpan/build/2017031715/Reaction-0.002005-0/blib/lib/Reaction/InterfaceModel/Reflector/DBIC.pm line 323
	Reaction::InterfaceModel::Reflector::DBIC::reflect_source(Reaction::InterfaceModel::Reflector::DBIC=HASH(0x8b49fb0), "source_name", "Foo", "parent_class", "ComponentUI::TestModel", "schema_class", "RTest::TestDB", "source_class", ...) called at /home/cpansand/.cpan/build/2017031715/Reaction-0.002005-0/blib/lib/Reaction/InterfaceModel/Reflector/DBIC.pm line 185
	Reaction::InterfaceModel::Reflector::DBIC::reflect_schema(Reaction::InterfaceModel::Reflector::DBIC=HASH(0x8b49fb0), "model_class", "ComponentUI::TestModel", "schema_class", "RTest::TestDB", "sources", ARRAY(0x8b33350)) called at /home/cpansand/.cpan/build/2017031715/Reaction-0.002005-0/blib/lib/ComponentUI/TestModel.pm line 10
	require ComponentUI/TestModel.pm called at /opt/perl-5.24.0/lib/site_perl/5.24.0/Module/Runtime.pm line 317
	Module::Runtime::require_module("ComponentUI::TestModel") called at /opt/perl-5.24.0/lib/site_perl/5.24.0/Class/Load.pm line 174
	Class::Load::try {...} () called at /opt/perl-5.24.0/lib/site_perl/5.24.0/Try/Tiny.pm line 99
	eval {...} called at /opt/perl-5.24.0/lib/site_perl/5.24.0/Try/Tiny.pm line 94
	Try::Tiny::try(CODE(0x4e4d160), Try::Tiny::Catch=REF(0x85c8ee8)) called at /opt/perl-5.24.0/lib/site_perl/5.24.0/Class/Load.pm line 180
	Class::Load::try_load_class("ComponentUI::TestModel", undef) called at /opt/perl-5.24.0/lib/site_perl/5.24.0/Class/Load.pm line 35
	Class::Load::load_class("ComponentUI::TestModel") called at /home/cpansand/.cpan/build/2017031715/Reaction-0.002005-0/blib/lib/Catalyst/Model/Reaction/InterfaceModel/DBIC.pm line 24
	Catalyst::Model::Reaction::InterfaceModel::DBIC::COMPONENT("ComponentUI::Model::TestModel", "ComponentUI", HASH(0x7eefc40)) called at /opt/perl-5.24.0/lib/site_perl/5.24.0/Catalyst.pm line 3209
	eval {...} called at /opt/perl-5.24.0/lib/site_perl/5.24.0/Catalyst.pm line 3210
	Catalyst::setup_component("ComponentUI", "ComponentUI::Model::TestModel") called at /opt/perl-5.24.0/lib/site_perl/5.24.0/Catalyst.pm line 3187
	Catalyst::__ANON__() called at /opt/perl-5.24.0/lib/site_perl/5.24.0/Catalyst.pm line 3034
	Catalyst::setup_components("ComponentUI") called at /opt/perl-5.24.0/lib/site_perl/5.24.0/Catalyst.pm line 1427
	Catalyst::setup("ComponentUI") called at /home/cpansand/.cpan/build/2017031715/Reaction-0.002005-0/blib/lib/ComponentUI.pm line 32
	require ComponentUI.pm called at /opt/perl-5.24.0/lib/site_perl/5.24.0/Module/Runtime.pm line 317
	Module::Runtime::require_module("ComponentUI") called at /opt/perl-5.24.0/lib/site_perl/5.24.0/Class/Load.pm line 174
	Class::Load::try {...} () called at /opt/perl-5.24.0/lib/site_perl/5.24.0/Try/Tiny.pm line 99
	eval {...} called at /opt/perl-5.24.0/lib/site_perl/5.24.0/Try/Tiny.pm line 94
	Try::Tiny::try(CODE(0x1961ae8), Try::Tiny::Catch=REF(0x39ba848)) called at /opt/perl-5.24.0/lib/site_perl/5.24.0/Class/Load.pm line 180
	Class::Load::try_load_class("ComponentUI", undef) called at /opt/perl-5.24.0/lib/site_perl/5.24.0/Class/Load.pm line 35
	Class::Load::load_class("ComponentUI") called at /opt/perl-5.24.0/lib/site_perl/5.24.0/Test/WWW/Mechanize/Catalyst.pm line 245
	Test::WWW::Mechanize::Catalyst::import("Test::WWW::Mechanize::Catalyst", "ComponentUI") called at t/uncheck_bool_field.t line 6
	main::BEGIN() called at /home/cpansand/.cpan/build/2017031715/Reaction-0.002005-0/blib/lib/ComponentUI/TestModel/Foo.pm line 0
	eval {...} called at /home/cpansand/.cpan/build/2017031715/Reaction-0.002005-0/blib/lib/ComponentUI/TestModel/Foo.pm line 0
Class::MOP::load_class is deprecated at /opt/perl-5.24.0/lib/site_perl/5.24.0/x86_64-linux/Class/MOP.pm line 69.
	Class::MOP::load_class("ComponentUI::RenderingContext::Site") called at /home/cpansand/.cpan/build/2017031715/Reaction-0.002005-0/blib/lib/Reaction/UI/View.pm line 125
	eval {...} called at /home/cpansand/.cpan/build/2017031715/Reaction-0.002005-0/blib/lib/Reaction/UI/View.pm line 125
	Reaction::UI::View::find_related_class(ComponentUI::View::Site=HASH(0x5814048), "RenderingContext") called at /home/cpansand/.cpan/build/2017031715/Reaction-0.002005-0/blib/lib/Reaction/UI/View.pm line 43
	Reaction::UI::View::_build_rendering_context_class(ComponentUI::View::Site=HASH(0x5814048)) called at reader Reaction::UI::View::rendering_context_class (defined at /home/cpansand/.cpan/build/2017031715/Reaction-0.002005-0/blib/lib/Reaction/UI/View.pm line 29) line 8
	Reaction::UI::View::rendering_context_class(ComponentUI::View::Site=HASH(0x5814048)) called at /home/cpansand/.cpan/build/2017031715/Reaction-0.002005-0/blib/lib/Reaction/UI/View.pm line 134
	Reaction::UI::View::create_rendering_context(ComponentUI::View::Site=HASH(0x5814048)) called at /home/cpansand/.cpan/build/2017031715/Reaction-0.002005-0/blib/lib/Reaction/UI/View.pm line 60
	Reaction::UI::View::render_window(ComponentUI::View::Site=HASH(0x5814048), Reaction::UI::Window=HASH(0x93fab30)) called at /home/cpansand/.cpan/build/2017031715/Reaction-0.002005-0/blib/lib/Reaction/UI/Window.pm line 74
	Reaction::UI::Window::flush_view(Reaction::UI::Window=HASH(0x93fab30)) called at /home/cpansand/.cpan/build/2017031715/Reaction-0.002005-0/blib/lib/Reaction/UI/Window.pm line 36
	Reaction::UI::Window::flush(Reaction::UI::Window=HASH(0x93fab30)) called at /home/cpansand/.cpan/build/2017031715/Reaction-0.002005-0/blib/lib/Reaction/UI/Controller/Root.pm line 38
	Reaction::UI::Controller::Root::end(ComponentUI::Controller::Root=HASH(0x93fac50), ComponentUI=HASH(0x93bbf18)) called at /opt/perl-5.24.0/lib/site_perl/5.24.0/Catalyst/Action.pm line 358
	Catalyst::Action::execute(Catalyst::Action=HASH(0x90c0208), ComponentUI::Controller::Root=HASH(0x93fac50), ComponentUI=HASH(0x93bbf18)) called at /opt/perl-5.24.0/lib/site_perl/5.24.0/Catalyst.pm line 2057
	eval {...} called at /opt/perl-5.24.0/lib/site_perl/5.24.0/Catalyst.pm line 2057
	Catalyst::execute(ComponentUI=HASH(0x93bbf18), "ComponentUI::Controller::Root", Catalyst::Action=HASH(0x90c0208)) called at /opt/perl-5.24.0/lib/site_perl/5.24.0/Catalyst/Action.pm line 353
	Catalyst::Action::dispatch(Catalyst::Action=HASH(0x90c0208), ComponentUI=HASH(0x93bbf18)) called at /opt/perl-5.24.0/lib/site_perl/5.24.0/Catalyst/Controller.pm line 189
	Catalyst::Controller::_END(ComponentUI::Controller::TestModel::Baz=HASH(0x93c5810), ComponentUI=HASH(0x93bbf18)) called at /opt/perl-5.24.0/lib/site_perl/5.24.0/Catalyst/Action.pm line 358
	Catalyst::Action::execute(Catalyst::Action=HASH(0x8f79a70), ComponentUI::Controller::TestModel::Baz=HASH(0x93c5810), ComponentUI=HASH(0x93bbf18)) called at /opt/perl-5.24.0/lib/site_perl/5.24.0/Catalyst.pm line 2057
	eval {...} called at /opt/perl-5.24.0/lib/site_perl/5.24.0/Catalyst.pm line 2057
	Catalyst::execute(ComponentUI=HASH(0x93bbf18), "ComponentUI::Controller::TestModel::Baz", Catalyst::Action=HASH(0x8f79a70)) called at /opt/perl-5.24.0/lib/site_perl/5.24.0/Catalyst/Action.pm line 353
	Catalyst::Action::dispatch(Catalyst::Action=HASH(0x8f79a70), ComponentUI=HASH(0x93bbf18)) called at /opt/perl-5.24.0/lib/site_perl/5.24.0/Catalyst/Dispatcher.pm line 262
	Catalyst::Dispatcher::_do_forward(Catalyst::Dispatcher=HASH(0x4883d88), "forward", ComponentUI=HASH(0x93bbf18), "_END") called at /opt/perl-5.24.0/lib/site_perl/5.24.0/Catalyst/Dispatcher.pm line 242
	Catalyst::Dispatcher::forward(Catalyst::Dispatcher=HASH(0x4883d88), ComponentUI=HASH(0x93bbf18), "_END") called at /opt/perl-5.24.0/lib/site_perl/5.24.0/Catalyst.pm line 482
	Catalyst::forward(ComponentUI=HASH(0x93bbf18), "_END") called at /opt/perl-5.24.0/lib/site_perl/5.24.0/Catalyst/Controller.pm line 138
	Catalyst::Controller::_DISPATCH(ComponentUI::Controller::TestModel::Baz=HASH(0x93c5810), ComponentUI=HASH(0x93bbf18)) called at /opt/perl-5.24.0/lib/site_perl/5.24.0/Catalyst/Action.pm line 358
	Catalyst::Action::execute(Catalyst::Action=HASH(0x8f79818), ComponentUI::Controller::TestModel::Baz=HASH(0x93c5810), ComponentUI=HASH(0x93bbf18)) called at /opt/perl-5.24.0/lib/site_perl/5.24.0/Catalyst.pm line 2057
	eval {...} called at /opt/perl-5.24.0/lib/site_perl/5.24.0/Catalyst.pm line 2057
	Catalyst::execute(ComponentUI=HASH(0x93bbf18), "ComponentUI::Controller::TestModel::Baz", Catalyst::Action=HASH(0x8f79818)) called at /opt/perl-5.24.0/lib/site_perl/5.24.0/Catalyst/Action.pm line 353
	Catalyst::Action::dispatch(Catalyst::Action=HASH(0x8f79818), ComponentUI=HASH(0x93bbf18)) called at /opt/perl-5.24.0/lib/site_perl/5.24.0/Catalyst/Dispatcher.pm line 262
	Catalyst::Dispatcher::_do_forward(Catalyst::Dispatcher=HASH(0x4883d88), "forward", ComponentUI=HASH(0x93bbf18), "/testmodel/baz/_DISPATCH") called at /opt/perl-5.24.0/lib/site_perl/5.24.0/Catalyst/Dispatcher.pm line 242
	Catalyst::Dispatcher::forward(Catalyst::Dispatcher=HASH(0x4883d88), ComponentUI=HASH(0x93bbf18), "/testmodel/baz/_DISPATCH") called at /opt/perl-5.24.0/lib/site_perl/5.24.0/Catalyst.pm line 482
	Catalyst::forward(ComponentUI=HASH(0x93bbf18), "/testmodel/baz/_DISPATCH") called at /opt/perl-5.24.0/lib/site_perl/5.24.0/Catalyst/Dispatcher.pm line 108
	Catalyst::Dispatcher::dispatch(Catalyst::Dispatcher=HASH(0x4883d88), ComponentUI=HASH(0x93bbf18)) called at /opt/perl-5.24.0/lib/site_perl/5.24.0/Catalyst.pm line 2003
	Catalyst::dispatch(ComponentUI=HASH(0x93bbf18)) called at /opt/perl-5.24.0/lib/site_perl/5.24.0/Catalyst/Plugin/Static/Simple.pm line 86
	Class::MOP::Class:::around(CODE(0x47027f0), ComponentUI=HASH(0x93bbf18)) called at /opt/perl-5.24.0/lib/site_perl/5.24.0/x86_64-linux/Class/MOP/Method/Wrapped.pm line 164
	ComponentUI::_wrapped_dispatch(ComponentUI=HASH(0x93bbf18)) called at /opt/perl-5.24.0/lib/site_perl/5.24.0/x86_64-linux/Class/MOP/Method/Wrapped.pm line 95
	ComponentUI::dispatch(ComponentUI=HASH(0x93bbf18)) called at /opt/perl-5.24.0/lib/site_perl/5.24.0/Catalyst.pm line 2394
	Catalyst::try {...} () called at /opt/perl-5.24.0/lib/site_perl/5.24.0/Try/Tiny.pm line 103
	eval {...} called at /opt/perl-5.24.0/lib/site_perl/5.24.0/Try/Tiny.pm line 94
	Try::Tiny::try(CODE(0x93bb888), Try::Tiny::Catch=REF(0x93cece8)) called at /opt/perl-5.24.0/lib/site_perl/5.24.0/Catalyst.pm line 2403
	Catalyst::handle_request("ComponentUI", "env", HASH(0x92cbcf8), "response_cb", CODE(0x93cee68)) called at /opt/perl-5.24.0/lib/site_perl/5.24.0/Catalyst/Engine.pm line 800
	Catalyst::Engine::__ANON__(CODE(0x93cee68)) called at /opt/perl-5.24.0/lib/site_perl/5.24.0/Plack/Middleware/HTTPExceptions.pm line 32
	Plack::Middleware::HTTPExceptions::try {...} () called at /opt/perl-5.24.0/lib/site_perl/5.24.0/Try/Tiny.pm line 103
	eval {...} called at /opt/perl-5.24.0/lib/site_perl/5.24.0/Try/Tiny.pm line 94
	Try::Tiny::try(CODE(0x93ceb80), Try::Tiny::Catch=REF(0x92cb7e8)) called at /opt/perl-5.24.0/lib/site_perl/5.24.0/Plack/Middleware/HTTPExceptions.pm line 41
	Plack::Middleware::HTTPExceptions::__ANON__(CODE(0x92cc118)) called at /opt/perl-5.24.0/lib/site_perl/5.24.0/Plack/Util.pm line 339
	Plack::Util::__ANON__(CODE(0x92cbc50)) called at /opt/perl-5.24.0/lib/site_perl/5.24.0/Plack/Util.pm line 339
	Plack::Util::__ANON__(CODE(0x92cbb60)) called at /opt/perl-5.24.0/lib/site_perl/5.24.0/Plack/Util.pm line 339
	Plack::Util::__ANON__(CODE(0x92cbae8)) called at /opt/perl-5.24.0/lib/site_perl/5.24.0/HTTP/Message/PSGI.pm line 100
	HTTP::Message::PSGI::res_from_psgi(CODE(0x93ce928)) called at /opt/perl-5.24.0/lib/site_perl/5.24.0/HTTP/Message/PSGI.pm line 156
	HTTP::Response::from_psgi("HTTP::Response", CODE(0x93ce928)) called at /opt/perl-5.24.0/lib/site_perl/5.24.0/Plack/Test/MockHTTP.pm line 24
	Plack::Test::MockHTTP::try {...} () called at /opt/perl-5.24.0/lib/site_perl/5.24.0/Try/Tiny.pm line 101
	eval {...} called at /opt/perl-5.24.0/lib/site_perl/5.24.0/Try/Tiny.pm line 94
	Try::Tiny::try(CODE(0x93cee38), Try::Tiny::Catch=REF(0x9230e00)) called at /opt/perl-5.24.0/lib/site_perl/5.24.0/Plack/Test/MockHTTP.pm line 27
	Plack::Test::MockHTTP::request(Plack::Test::MockHTTP=HASH(0x92cb8f0), HTTP::Request=HASH(0x196f080)) called at /opt/perl-5.24.0/lib/site_perl/5.24.0/Plack/Test.pm line 38
	Plack::Test::__ANON__(HTTP::Request=HASH(0x196f080)) called at /opt/perl-5.24.0/lib/site_perl/5.24.0/Catalyst/Test.pm line 281
	Catalyst::Test::__ANON__(CODE(0x92cb758)) called at /opt/perl-5.24.0/lib/site_perl/5.24.0/Plack/Test.pm line 38
	Plack::Test::test_psgi("app", CODE(0x92cb3b0), "mangle_response", CODE(0x35aecb8), "app", CODE(0x92cb5f0), "client", CODE(0x92cb668)) called at /opt/perl-5.24.0/lib/site_perl/5.24.0/Catalyst/Test.pm line 284
	Catalyst::Test::_request(HASH(0x9380c40), HTTP::Request=HASH(0x196f080)) called at /opt/perl-5.24.0/lib/site_perl/5.24.0/Catalyst/Test.pm line 327
	Catalyst::Test::_local_request("ComponentUI", HTTP::Request=HASH(0x196f080)) called at /opt/perl-5.24.0/lib/site_perl/5.24.0/Test/WWW/Mechanize/Catalyst.pm line 176
	Test::WWW::Mechanize::Catalyst::_do_catalyst_request(Test::WWW::Mechanize::Catalyst=HASH(0x9207af8), HTTP::Request=HASH(0x196f080)) called at /opt/perl-5.24.0/lib/site_perl/5.24.0/Test/WWW/Mechanize/Catalyst.pm line 78
	Test::WWW::Mechanize::Catalyst::_make_request(Test::WWW::Mechanize::Catalyst=HASH(0x9207af8), HTTP::Request=HASH(0x196f080)) called at /opt/perl-5.24.0/lib/site_perl/5.24.0/WWW/Mechanize.pm line 1252
	WWW::Mechanize::request(Test::WWW::Mechanize::Catalyst=HASH(0x9207af8), HTTP::Request=HASH(0x196f080)) called at /opt/perl-5.24.0/lib/site_perl/5.24.0/LWP/UserAgent.pm line 435
	LWP::UserAgent::get(Test::WWW::Mechanize::Catalyst=HASH(0x9207af8), "http://localhost/testmodel/baz/id/1/update") called at /opt/perl-5.24.0/lib/site_perl/5.24.0/WWW/Mechanize.pm line 116
	WWW::Mechanize::get(Test::WWW::Mechanize::Catalyst=HASH(0x9207af8), "http://localhost/testmodel/baz/id/1/update") called at /opt/perl-5.24.0/lib/site_perl/5.24.0/Test/WWW/Mechanize.pm line 160
	Test::WWW::Mechanize::get_ok(Test::WWW::Mechanize::Catalyst=HASH(0x9207af8), "http://localhost/testmodel/baz/id/1/update") called at t/uncheck_bool_field.t line 9
Class::MOP::is_class_loaded is deprecated at /opt/perl-5.24.0/lib/site_perl/5.24.0/x86_64-linux/Class/MOP.pm line 87.
	Class::MOP::is_class_loaded("ComponentUI::UI::Widget::SiteLayout") called at /home/cpansand/.cpan/build/2017031715/Reaction-0.002005-0/blib/lib/Reaction/UI/Skin.pm line 178
	Reaction::UI::Skin::widget_class_for(Reaction::UI::Skin=HASH(0x2b92a78), Reaction::UI::LayoutSet::TT=HASH(0x97b3e88)) called at /home/cpansand/.cpan/build/2017031715/Reaction-0.002005-0/blib/lib/Reaction/UI/LayoutSet.pm line 29
	Reaction::UI::LayoutSet::BUILD(Reaction::UI::LayoutSet::TT=HASH(0x97b3e88), HASH(0x97b4488)) called at constructor Reaction::UI::LayoutSet::TT::new (defined at /home/cpansand/.cpan/build/2017031715/Reaction-0.002005-0/blib/lib/Reaction/UI/LayoutSet/TT.pm line 43) line 80
	Reaction::UI::LayoutSet::TT::new("Reaction::UI::LayoutSet::TT", "name", "site_layout", "skin", Reaction::UI::Skin=HASH(0x2b92a78), "tt_object", Template=HASH(0x7c90190), "source_file", ...) called at /home/cpansand/.cpan/build/2017031715/Reaction-0.002005-0/blib/lib/Reaction/UI/Skin.pm line 115
	Reaction::UI::Skin::_create_layout_set(Reaction::UI::Skin=HASH(0x2b92a78), "site_layout", ARRAY(0x97c9050), Reaction::UI::Skin=HASH(0x2b92a78)) called at /home/cpansand/.cpan/build/2017031715/Reaction-0.002005-0/blib/lib/Reaction/UI/Skin.pm line 110
	Reaction::UI::Skin::create_layout_set(Reaction::UI::Skin=HASH(0x2b92a78), "site_layout") called at /home/cpansand/.cpan/build/2017031715/Reaction-0.002005-0/blib/lib/Reaction/UI/LayoutSet.pm line 83
	Reaction::UI::LayoutSet::_load_file(Reaction::UI::LayoutSet::TT=HASH(0x2b91b68), Path::Class::File=HASH(0x9401158), HASH(0x9775fe0)) called at /home/cpansand/.cpan/build/2017031715/Reaction-0.002005-0/blib/lib/Reaction/UI/LayoutSet.pm line 27
	Reaction::UI::LayoutSet::BUILD(Reaction::UI::LayoutSet::TT=HASH(0x2b91b68), HASH(0x9775fe0)) called at constructor Reaction::UI::LayoutSet::TT::new (defined at /home/cpansand/.cpan/build/2017031715/Reaction-0.002005-0/blib/lib/Reaction/UI/LayoutSet/TT.pm line 43) line 80
	Reaction::UI::LayoutSet::TT::new("Reaction::UI::LayoutSet::TT", "name", "site_layout", "skin", Reaction::UI::Skin=HASH(0x97a9828), "next_skin", Reaction::UI::Skin=HASH(0x2b92a78), "tt_object", ...) called at /home/cpansand/.cpan/build/2017031715/Reaction-0.002005-0/blib/lib/Reaction/UI/Skin.pm line 115
	Reaction::UI::Skin::_create_layout_set(Reaction::UI::Skin=HASH(0x97a9828), "site_layout", ARRAY(0x9775b78), Reaction::UI::Skin=HASH(0x97a9828)) called at /home/cpansand/.cpan/build/2017031715/Reaction-0.002005-0/blib/lib/Reaction/UI/Skin.pm line 110
	Reaction::UI::Skin::create_layout_set(Reaction::UI::Skin=HASH(0x97a9828), "site_layout") called at /home/cpansand/.cpan/build/2017031715/Reaction-0.002005-0/blib/lib/Reaction/UI/LayoutSet.pm line 83
	Reaction::UI::LayoutSet::_load_file(Reaction::UI::LayoutSet::TT=HASH(0x8e73688), Path::Class::File=HASH(0x97610c0), HASH(0x8dbefe8)) called at /home/cpansand/.cpan/build/2017031715/Reaction-0.002005-0/blib/lib/Reaction/UI/LayoutSet.pm line 27
	Reaction::UI::LayoutSet::BUILD(Reaction::UI::LayoutSet::TT=HASH(0x8e73688), HASH(0x8dbefe8)) called at constructor Reaction::UI::LayoutSet::TT::new (defined at /home/cpansand/.cpan/build/2017031715/Reaction-0.002005-0/blib/lib/Reaction/UI/LayoutSet/TT.pm line 43) line 80
	Reaction::UI::LayoutSet::TT::new("Reaction::UI::LayoutSet::TT", "name", "site_layout", "skin", Reaction::UI::Skin=HASH(0x2b94c60), "next_skin", Reaction::UI::Skin=HASH(0x97a9828), "tt_object", ...) called at /home/cpansand/.cpan/build/2017031715/Reaction-0.002005-0/blib/lib/Reaction/UI/Skin.pm line 115
	Reaction::UI::Skin::_create_layout_set(Reaction::UI::Skin=HASH(0x2b94c60), "site_layout", ARRAY(0x97a9780), Reaction::UI::Skin=HASH(0x2b94c60)) called at /home/cpansand/.cpan/build/2017031715/Reaction-0.002005-0/blib/lib/Reaction/UI/Skin.pm line 110
	Reaction::UI::Skin::create_layout_set(Reaction::UI::Skin=HASH(0x2b94c60), "site_layout") called at inline delegation in Reaction::UI::View for skin->create_layout_set (attribute declared in /home/cpansand/.cpan/build/2017031715/Reaction-0.002005-0/blib/lib/Reaction/UI/View.pm at line 22) line 18
	Reaction::UI::View::create_layout_set(ComponentUI::View::Site=HASH(0x5814048), "site_layout") called at /home/cpansand/.cpan/build/2017031715/Reaction-0.002005-0/blib/lib/Reaction/UI/View.pm line 99
	Reaction::UI::View::layout_set_for(ComponentUI::View::Site=HASH(0x5814048), Reaction::UI::ViewPort::SiteLayout=HASH(0x93fbc98)) called at /home/cpansand/.cpan/build/2017031715/Reaction-0.002005-0/blib/lib/Reaction/UI/View.pm line 78
	Reaction::UI::View::render_viewport_args(ComponentUI::View::Site=HASH(0x5814048), Reaction::UI::ViewPort::SiteLayout=HASH(0x93fbc98)) called at /home/cpansand/.cpan/build/2017031715/Reaction-0.002005-0/blib/lib/Reaction/UI/View.pm line 61
	Reaction::UI::View::render_window(ComponentUI::View::Site=HASH(0x5814048), Reaction::UI::Window=HASH(0x93fab30)) called at /home/cpansand/.cpan/build/2017031715/Reaction-0.002005-0/blib/lib/Reaction/UI/Window.pm line 74
	Reaction::UI::Window::flush_view(Reaction::UI::Window=HASH(0x93fab30)) called at /home/cpansand/.cpan/build/2017031715/Reaction-0.002005-0/blib/lib/Reaction/UI/Window.pm line 36
	Reaction::UI::Window::flush(Reaction::UI::Window=HASH(0x93fab30)) called at /home/cpansand/.cpan/build/2017031715/Reaction-0.002005-0/blib/lib/Reaction/UI/Controller/Root.pm line 38
	Reaction::UI::Controller::Root::end(ComponentUI::Controller::Root=HASH(0x93fac50), ComponentUI=HASH(0x93bbf18)) called at /opt/perl-5.24.0/lib/site_perl/5.24.0/Catalyst/Action.pm line 358
	Catalyst::Action::execute(Catalyst::Action=HASH(0x90c0208), ComponentUI::Controller::Root=HASH(0x93fac50), ComponentUI=HASH(0x93bbf18)) called at /opt/perl-5.24.0/lib/site_perl/5.24.0/Catalyst.pm line 2057
	eval {...} called at /opt/perl-5.24.0/lib/site_perl/5.24.0/Catalyst.pm line 2057
	Catalyst::execute(ComponentUI=HASH(0x93bbf18), "ComponentUI::Controller::Root", Catalyst::Action=HASH(0x90c0208)) called at /opt/perl-5.24.0/lib/site_perl/5.24.0/Catalyst/Action.pm line 353
	Catalyst::Action::dispatch(Catalyst::Action=HASH(0x90c0208), ComponentUI=HASH(0x93bbf18)) called at /opt/perl-5.24.0/lib/site_perl/5.24.0/Catalyst/Controller.pm line 189
	Catalyst::Controller::_END(ComponentUI::Controller::TestModel::Baz=HASH(0x93c5810), ComponentUI=HASH(0x93bbf18)) called at /opt/perl-5.24.0/lib/site_perl/5.24.0/Catalyst/Action.pm line 358
	Catalyst::Action::execute(Catalyst::Action=HASH(0x8f79a70), ComponentUI::Controller::TestModel::Baz=HASH(0x93c5810), ComponentUI=HASH(0x93bbf18)) called at /opt/perl-5.24.0/lib/site_perl/5.24.0/Catalyst.pm line 2057
	eval {...} called at /opt/perl-5.24.0/lib/site_perl/5.24.0/Catalyst.pm line 2057
	Catalyst::execute(ComponentUI=HASH(0x93bbf18), "ComponentUI::Controller::TestModel::Baz", Catalyst::Action=HASH(0x8f79a70)) called at /opt/perl-5.24.0/lib/site_perl/5.24.0/Catalyst/Action.pm line 353
	Catalyst::Action::dispatch(Catalyst::Action=HASH(0x8f79a70), ComponentUI=HASH(0x93bbf18)) called at /opt/perl-5.24.0/lib/site_perl/5.24.0/Catalyst/Dispatcher.pm line 262
	Catalyst::Dispatcher::_do_forward(Catalyst::Dispatcher=HASH(0x4883d88), "forward", ComponentUI=HASH(0x93bbf18), "_END") called at /opt/perl-5.24.0/lib/site_perl/5.24.0/Catalyst/Dispatcher.pm line 242
	Catalyst::Dispatcher::forward(Catalyst::Dispatcher=HASH(0x4883d88), ComponentUI=HASH(0x93bbf18), "_END") called at /opt/perl-5.24.0/lib/site_perl/5.24.0/Catalyst.pm line 482
	Catalyst::forward(ComponentUI=HASH(0x93bbf18), "_END") called at /opt/perl-5.24.0/lib/site_perl/5.24.0/Catalyst/Controller.pm line 138
	Catalyst::Controller::_DISPATCH(ComponentUI::Controller::TestModel::Baz=HASH(0x93c5810), ComponentUI=HASH(0x93bbf18)) called at /opt/perl-5.24.0/lib/site_perl/5.24.0/Catalyst/Action.pm line 358
	Catalyst::Action::execute(Catalyst::Action=HASH(0x8f79818), ComponentUI::Controller::TestModel::Baz=HASH(0x93c5810), ComponentUI=HASH(0x93bbf18)) called at /opt/perl-5.24.0/lib/site_perl/5.24.0/Catalyst.pm line 2057
	eval {...} called at /opt/perl-5.24.0/lib/site_perl/5.24.0/Catalyst.pm line 2057
	Catalyst::execute(ComponentUI=HASH(0x93bbf18), "ComponentUI::Controller::TestModel::Baz", Catalyst::Action=HASH(0x8f79818)) called at /opt/perl-5.24.0/lib/site_perl/5.24.0/Catalyst/Action.pm line 353
	Catalyst::Action::dispatch(Catalyst::Action=HASH(0x8f79818), ComponentUI=HASH(0x93bbf18)) called at /opt/perl-5.24.0/lib/site_perl/5.24.0/Catalyst/Dispatcher.pm line 262
	Catalyst::Dispatcher::_do_forward(Catalyst::Dispatcher=HASH(0x4883d88), "forward", ComponentUI=HASH(0x93bbf18), "/testmodel/baz/_DISPATCH") called at /opt/perl-5.24.0/lib/site_perl/5.24.0/Catalyst/Dispatcher.pm line 242
	Catalyst::Dispatcher::forward(Catalyst::Dispatcher=HASH(0x4883d88), ComponentUI=HASH(0x93bbf18), "/testmodel/baz/_DISPATCH") called at /opt/perl-5.24.0/lib/site_perl/5.24.0/Catalyst.pm line 482
	Catalyst::forward(ComponentUI=HASH(0x93bbf18), "/testmodel/baz/_DISPATCH") called at /opt/perl-5.24.0/lib/site_perl/5.24.0/Catalyst/Dispatcher.pm line 108
	Catalyst::Dispatcher::dispatch(Catalyst::Dispatcher=HASH(0x4883d88), ComponentUI=HASH(0x93bbf18)) called at /opt/perl-5.24.0/lib/site_perl/5.24.0/Catalyst.pm line 2003
	Catalyst::dispatch(ComponentUI=HASH(0x93bbf18)) called at /opt/perl-5.24.0/lib/site_perl/5.24.0/Catalyst/Plugin/Static/Simple.pm line 86
	Class::MOP::Class:::around(CODE(0x47027f0), ComponentUI=HASH(0x93bbf18)) called at /opt/perl-5.24.0/lib/site_perl/5.24.0/x86_64-linux/Class/MOP/Method/Wrapped.pm line 164
	ComponentUI::_wrapped_dispatch(ComponentUI=HASH(0x93bbf18)) called at /opt/perl-5.24.0/lib/site_perl/5.24.0/x86_64-linux/Class/MOP/Method/Wrapped.pm line 95
	ComponentUI::dispatch(ComponentUI=HASH(0x93bbf18)) called at /opt/perl-5.24.0/lib/site_perl/5.24.0/Catalyst.pm line 2394
	Catalyst::try {...} () called at /opt/perl-5.24.0/lib/site_perl/5.24.0/Try/Tiny.pm line 103
	eval {...} called at /opt/perl-5.24.0/lib/site_perl/5.24.0/Try/Tiny.pm line 94
	Try::Tiny::try(CODE(0x93bb888), Try::Tiny::Catch=REF(0x93cece8)) called at /opt/perl-5.24.0/lib/site_perl/5.24.0/Catalyst.pm line 2403
	Catalyst::handle_request("ComponentUI", "env", HASH(0x92cbcf8), "response_cb", CODE(0x93cee68)) called at /opt/perl-5.24.0/lib/site_perl/5.24.0/Catalyst/Engine.pm line 800
	Catalyst::Engine::__ANON__(CODE(0x93cee68)) called at /opt/perl-5.24.0/lib/site_perl/5.24.0/Plack/Middleware/HTTPExceptions.pm line 32
	Plack::Middleware::HTTPExceptions::try {...} () called at /opt/perl-5.24.0/lib/site_perl/5.24.0/Try/Tiny.pm line 103
	eval {...} called at /opt/perl-5.24.0/lib/site_perl/5.24.0/Try/Tiny.pm line 94
	Try::Tiny::try(CODE(0x93ceb80), Try::Tiny::Catch=REF(0x92cb7e8)) called at /opt/perl-5.24.0/lib/site_perl/5.24.0/Plack/Middleware/HTTPExceptions.pm line 41
	Plack::Middleware::HTTPExceptions::__ANON__(CODE(0x92cc118)) called at /opt/perl-5.24.0/lib/site_perl/5.24.0/Plack/Util.pm line 339
	Plack::Util::__ANON__(CODE(0x92cbc50)) called at /opt/perl-5.24.0/lib/site_perl/5.24.0/Plack/Util.pm line 339
	Plack::Util::__ANON__(CODE(0x92cbb60)) called at /opt/perl-5.24.0/lib/site_perl/5.24.0/Plack/Util.pm line 339
	Plack::Util::__ANON__(CODE(0x92cbae8)) called at /opt/perl-5.24.0/lib/site_perl/5.24.0/HTTP/Message/PSGI.pm line 100
	HTTP::Message::PSGI::res_from_psgi(CODE(0x93ce928)) called at /opt/perl-5.24.0/lib/site_perl/5.24.0/HTTP/Message/PSGI.pm line 156
	HTTP::Response::from_psgi("HTTP::Response", CODE(0x93ce928)) called at /opt/perl-5.24.0/lib/site_perl/5.24.0/Plack/Test/MockHTTP.pm line 24
	Plack::Test::MockHTTP::try {...} () called at /opt/perl-5.24.0/lib/site_perl/5.24.0/Try/Tiny.pm line 101
	eval {...} called at /opt/perl-5.24.0/lib/site_perl/5.24.0/Try/Tiny.pm line 94
	Try::Tiny::try(CODE(0x93cee38), Try::Tiny::Catch=REF(0x9230e00)) called at /opt/perl-5.24.0/lib/site_perl/5.24.0/Plack/Test/MockHTTP.pm line 27
	Plack::Test::MockHTTP::request(Plack::Test::MockHTTP=HASH(0x92cb8f0), HTTP::Request=HASH(0x196f080)) called at /opt/perl-5.24.0/lib/site_perl/5.24.0/Plack/Test.pm line 38
	Plack::Test::__ANON__(HTTP::Request=HASH(0x196f080)) called at /opt/perl-5.24.0/lib/site_perl/5.24.0/Catalyst/Test.pm line 281
	Catalyst::Test::__ANON__(CODE(0x92cb758)) called at /opt/perl-5.24.0/lib/site_perl/5.24.0/Plack/Test.pm line 38
	Plack::Test::test_psgi("app", CODE(0x92cb3b0), "mangle_response", CODE(0x35aecb8), "app", CODE(0x92cb5f0), "client", CODE(0x92cb668)) called at /opt/perl-5.24.0/lib/site_perl/5.24.0/Catalyst/Test.pm line 284
	Catalyst::Test::_request(HASH(0x9380c40), HTTP::Request=HASH(0x196f080)) called at /opt/perl-5.24.0/lib/site_perl/5.24.0/Catalyst/Test.pm line 327
	Catalyst::Test::_local_request("ComponentUI", HTTP::Request=HASH(0x196f080)) called at /opt/perl-5.24.0/lib/site_perl/5.24.0/Test/WWW/Mechanize/Catalyst.pm line 176
	Test::WWW::Mechanize::Catalyst::_do_catalyst_request(Test::WWW::Mechanize::Catalyst=HASH(0x9207af8), HTTP::Request=HASH(0x196f080)) called at /opt/perl-5.24.0/lib/site_perl/5.24.0/Test/WWW/Mechanize/Catalyst.pm line 78
	Test::WWW::Mechanize::Catalyst::_make_request(Test::WWW::Mechanize::Catalyst=HASH(0x9207af8), HTTP::Request=HASH(0x196f080)) called at /opt/perl-5.24.0/lib/site_perl/5.24.0/WWW/Mechanize.pm line 1252
	WWW::Mechanize::request(Test::WWW::Mechanize::Catalyst=HASH(0x9207af8), HTTP::Request=HASH(0x196f080)) called at /opt/perl-5.24.0/lib/site_perl/5.24.0/LWP/UserAgent.pm line 435
	LWP::UserAgent::get(Test::WWW::Mechanize::Catalyst=HASH(0x9207af8), "http://localhost/testmodel/baz/id/1/update") called at /opt/perl-5.24.0/lib/site_perl/5.24.0/WWW/Mechanize.pm line 116
	WWW::Mechanize::get(Test::WWW::Mechanize::Catalyst=HASH(0x9207af8), "http://localhost/testmodel/baz/id/1/update") called at /opt/perl-5.24.0/lib/site_perl/5.24.0/Test/WWW/Mechanize.pm line 160
	Test::WWW::Mechanize::get_ok(Test::WWW::Mechanize::Catalyst=HASH(0x9207af8), "http://localhost/testmodel/baz/id/1/update") called at t/uncheck_bool_field.t line 9
Class::MOP::load_class is deprecated at /opt/perl-5.24.0/lib/site_perl/5.24.0/x86_64-linux/Class/MOP.pm line 69.
	Class::MOP::load_class("Reaction::UI::Widget::SiteLayout") called at /home/cpansand/.cpan/build/2017031715/Reaction-0.002005-0/blib/lib/Reaction/UI/Skin.pm line 181
	eval {...} called at /home/cpansand/.cpan/build/2017031715/Reaction-0.002005-0/blib/lib/Reaction/UI/Skin.pm line 181
	Reaction::UI::Skin::widget_class_for(Reaction::UI::Skin=HASH(0x2b92a78), Reaction::UI::LayoutSet::TT=HASH(0x97b3e88)) called at /home/cpansand/.cpan/build/2017031715/Reaction-0.002005-0/blib/lib/Reaction/UI/LayoutSet.pm line 29
	Reaction::UI::LayoutSet::BUILD(Reaction::UI::LayoutSet::TT=HASH(0x97b3e88), HASH(0x97b4488)) called at constructor Reaction::UI::LayoutSet::TT::new (defined at /home/cpansand/.cpan/build/2017031715/Reaction-0.002005-0/blib/lib/Reaction/UI/LayoutSet/TT.pm line 43) line 80
	Reaction::UI::LayoutSet::TT::new("Reaction::UI::LayoutSet::TT", "name", "site_layout", "skin", Reaction::UI::Skin=HASH(0x2b92a78), "tt_object", Template=HASH(0x7c90190), "source_file", ...) called at /home/cpansand/.cpan/build/2017031715/Reaction-0.002005-0/blib/lib/Reaction/UI/Skin.pm line 115
	Reaction::UI::Skin::_create_layout_set(Reaction::UI::Skin=HASH(0x2b92a78), "site_layout", ARRAY(0x97c9050), Reaction::UI::Skin=HASH(0x2b92a78)) called at /home/cpansand/.cpan/build/2017031715/Reaction-0.002005-0/blib/lib/Reaction/UI/Skin.pm line 110
	Reaction::UI::Skin::create_layout_set(Reaction::UI::Skin=HASH(0x2b92a78), "site_layout") called at /home/cpansand/.cpan/build/2017031715/Reaction-0.002005-0/blib/lib/Reaction/UI/LayoutSet.pm line 83
	Reaction::UI::LayoutSet::_load_file(Reaction::UI::LayoutSet::TT=HASH(0x2b91b68), Path::Class::File=HASH(0x9401158), HASH(0x9775fe0)) called at /home/cpansand/.cpan/build/2017031715/Reaction-0.002005-0/blib/lib/Reaction/UI/LayoutSet.pm line 27
	Reaction::UI::LayoutSet::BUILD(Reaction::UI::LayoutSet::TT=HASH(0x2b91b68), HASH(0x9775fe0)) called at constructor Reaction::UI::LayoutSet::TT::new (defined at /home/cpansand/.cpan/build/2017031715/Reaction-0.002005-0/blib/lib/Reaction/UI/LayoutSet/TT.pm line 43) line 80
	Reaction::UI::LayoutSet::TT::new("Reaction::UI::LayoutSet::TT", "name", "site_layout", "skin", Reaction::UI::Skin=HASH(0x97a9828), "next_skin", Reaction::UI::Skin=HASH(0x2b92a78), "tt_object", ...) called at /home/cpansand/.cpan/build/2017031715/Reaction-0.002005-0/blib/lib/Reaction/UI/Skin.pm line 115
	Reaction::UI::Skin::_create_layout_set(Reaction::UI::Skin=HASH(0x97a9828), "site_layout", ARRAY(0x9775b78), Reaction::UI::Skin=HASH(0x97a9828)) called at /home/cpansand/.cpan/build/2017031715/Reaction-0.002005-0/blib/lib/Reaction/UI/Skin.pm line 110
	Reaction::UI::Skin::create_layout_set(Reaction::UI::Skin=HASH(0x97a9828), "site_layout") called at /home/cpansand/.cpan/build/2017031715/Reaction-0.002005-0/blib/lib/Reaction/UI/LayoutSet.pm line 83
	Reaction::UI::LayoutSet::_load_file(Reaction::UI::LayoutSet::TT=HASH(0x8e73688), Path::Class::File=HASH(0x97610c0), HASH(0x8dbefe8)) called at /home/cpansand/.cpan/build/2017031715/Reaction-0.002005-0/blib/lib/Reaction/UI/LayoutSet.pm line 27
	Reaction::UI::LayoutSet::BUILD(Reaction::UI::LayoutSet::TT=HASH(0x8e73688), HASH(0x8dbefe8)) called at constructor Reaction::UI::LayoutSet::TT::new (defined at /home/cpansand/.cpan/build/2017031715/Reaction-0.002005-0/blib/lib/Reaction/UI/LayoutSet/TT.pm line 43) line 80
	Reaction::UI::LayoutSet::TT::new("Reaction::UI::LayoutSet::TT", "name", "site_layout", "skin", Reaction::UI::Skin=HASH(0x2b94c60), "next_skin", Reaction::UI::Skin=HASH(0x97a9828), "tt_object", ...) called at /home/cpansand/.cpan/build/2017031715/Reaction-0.002005-0/blib/lib/Reaction/UI/Skin.pm line 115
	Reaction::UI::Skin::_create_layout_set(Reaction::UI::Skin=HASH(0x2b94c60), "site_layout", ARRAY(0x97a9780), Reaction::UI::Skin=HASH(0x2b94c60)) called at /home/cpansand/.cpan/build/2017031715/Reaction-0.002005-0/blib/lib/Reaction/UI/Skin.pm line 110
	Reaction::UI::Skin::create_layout_set(Reaction::UI::Skin=HASH(0x2b94c60), "site_layout") called at inline delegation in Reaction::UI::View for skin->create_layout_set (attribute declared in /home/cpansand/.cpan/build/2017031715/Reaction-0.002005-0/blib/lib/Reaction/UI/View.pm at line 22) line 18
	Reaction::UI::View::create_layout_set(ComponentUI::View::Site=HASH(0x5814048), "site_layout") called at /home/cpansand/.cpan/build/2017031715/Reaction-0.002005-0/blib/lib/Reaction/UI/View.pm line 99
	Reaction::UI::View::layout_set_for(ComponentUI::View::Site=HASH(0x5814048), Reaction::UI::ViewPort::SiteLayout=HASH(0x93fbc98)) called at /home/cpansand/.cpan/build/2017031715/Reaction-0.002005-0/blib/lib/Reaction/UI/View.pm line 78
	Reaction::UI::View::render_viewport_args(ComponentUI::View::Site=HASH(0x5814048), Reaction::UI::ViewPort::SiteLayout=HASH(0x93fbc98)) called at /home/cpansand/.cpan/build/2017031715/Reaction-0.002005-0/blib/lib/Reaction/UI/View.pm line 61
	Reaction::UI::View::render_window(ComponentUI::View::Site=HASH(0x5814048), Reaction::UI::Window=HASH(0x93fab30)) called at /home/cpansand/.cpan/build/2017031715/Reaction-0.002005-0/blib/lib/Reaction/UI/Window.pm line 74
	Reaction::UI::Window::flush_view(Reaction::UI::Window=HASH(0x93fab30)) called at /home/cpansand/.cpan/build/2017031715/Reaction-0.002005-0/blib/lib/Reaction/UI/Window.pm line 36
	Reaction::UI::Window::flush(Reaction::UI::Window=HASH(0x93fab30)) called at /home/cpansand/.cpan/build/2017031715/Reaction-0.002005-0/blib/lib/Reaction/UI/Controller/Root.pm line 38
	Reaction::UI::Controller::Root::end(ComponentUI::Controller::Root=HASH(0x93fac50), ComponentUI=HASH(0x93bbf18)) called at /opt/perl-5.24.0/lib/site_perl/5.24.0/Catalyst/Action.pm line 358
	Catalyst::Action::execute(Catalyst::Action=HASH(0x90c0208), ComponentUI::Controller::Root=HASH(0x93fac50), ComponentUI=HASH(0x93bbf18)) called at /opt/perl-5.24.0/lib/site_perl/5.24.0/Catalyst.pm line 2057
	eval {...} called at /opt/perl-5.24.0/lib/site_perl/5.24.0/Catalyst.pm line 2057
	Catalyst::execute(ComponentUI=HASH(0x93bbf18), "ComponentUI::Controller::Root", Catalyst::Action=HASH(0x90c0208)) called at /opt/perl-5.24.0/lib/site_perl/5.24.0/Catalyst/Action.pm line 353
	Catalyst::Action::dispatch(Catalyst::Action=HASH(0x90c0208), ComponentUI=HASH(0x93bbf18)) called at /opt/perl-5.24.0/lib/site_perl/5.24.0/Catalyst/Controller.pm line 189
	Catalyst::Controller::_END(ComponentUI::Controller::TestModel::Baz=HASH(0x93c5810), ComponentUI=HASH(0x93bbf18)) called at /opt/perl-5.24.0/lib/site_perl/5.24.0/Catalyst/Action.pm line 358
	Catalyst::Action::execute(Catalyst::Action=HASH(0x8f79a70), ComponentUI::Controller::TestModel::Baz=HASH(0x93c5810), ComponentUI=HASH(0x93bbf18)) called at /opt/perl-5.24.0/lib/site_perl/5.24.0/Catalyst.pm line 2057
	eval {...} called at /opt/perl-5.24.0/lib/site_perl/5.24.0/Catalyst.pm line 2057
	Catalyst::execute(ComponentUI=HASH(0x93bbf18), "ComponentUI::Controller::TestModel::Baz", Catalyst::Action=HASH(0x8f79a70)) called at /opt/perl-5.24.0/lib/site_perl/5.24.0/Catalyst/Action.pm line 353
	Catalyst::Action::dispatch(Catalyst::Action=HASH(0x8f79a70), ComponentUI=HASH(0x93bbf18)) called at /opt/perl-5.24.0/lib/site_perl/5.24.0/Catalyst/Dispatcher.pm line 262
	Catalyst::Dispatcher::_do_forward(Catalyst::Dispatcher=HASH(0x4883d88), "forward", ComponentUI=HASH(0x93bbf18), "_END") called at /opt/perl-5.24.0/lib/site_perl/5.24.0/Catalyst/Dispatcher.pm line 242
	Catalyst::Dispatcher::forward(Catalyst::Dispatcher=HASH(0x4883d88), ComponentUI=HASH(0x93bbf18), "_END") called at /opt/perl-5.24.0/lib/site_perl/5.24.0/Catalyst.pm line 482
	Catalyst::forward(ComponentUI=HASH(0x93bbf18), "_END") called at /opt/perl-5.24.0/lib/site_perl/5.24.0/Catalyst/Controller.pm line 138
	Catalyst::Controller::_DISPATCH(ComponentUI::Controller::TestModel::Baz=HASH(0x93c5810), ComponentUI=HASH(0x93bbf18)) called at /opt/perl-5.24.0/lib/site_perl/5.24.0/Catalyst/Action.pm line 358
	Catalyst::Action::execute(Catalyst::Action=HASH(0x8f79818), ComponentUI::Controller::TestModel::Baz=HASH(0x93c5810), ComponentUI=HASH(0x93bbf18)) called at /opt/perl-5.24.0/lib/site_perl/5.24.0/Catalyst.pm line 2057
	eval {...} called at /opt/perl-5.24.0/lib/site_perl/5.24.0/Catalyst.pm line 2057
	Catalyst::execute(ComponentUI=HASH(0x93bbf18), "ComponentUI::Controller::TestModel::Baz", Catalyst::Action=HASH(0x8f79818)) called at /opt/perl-5.24.0/lib/site_perl/5.24.0/Catalyst/Action.pm line 353
	Catalyst::Action::dispatch(Catalyst::Action=HASH(0x8f79818), ComponentUI=HASH(0x93bbf18)) called at /opt/perl-5.24.0/lib/site_perl/5.24.0/Catalyst/Dispatcher.pm line 262
	Catalyst::Dispatcher::_do_forward(Catalyst::Dispatcher=HASH(0x4883d88), "forward", ComponentUI=HASH(0x93bbf18), "/testmodel/baz/_DISPATCH") called at /opt/perl-5.24.0/lib/site_perl/5.24.0/Catalyst/Dispatcher.pm line 242
	Catalyst::Dispatcher::forward(Catalyst::Dispatcher=HASH(0x4883d88), ComponentUI=HASH(0x93bbf18), "/testmodel/baz/_DISPATCH") called at /opt/perl-5.24.0/lib/site_perl/5.24.0/Catalyst.pm line 482
	Catalyst::forward(ComponentUI=HASH(0x93bbf18), "/testmodel/baz/_DISPATCH") called at /opt/perl-5.24.0/lib/site_perl/5.24.0/Catalyst/Dispatcher.pm line 108
	Catalyst::Dispatcher::dispatch(Catalyst::Dispatcher=HASH(0x4883d88), ComponentUI=HASH(0x93bbf18)) called at /opt/perl-5.24.0/lib/site_perl/5.24.0/Catalyst.pm line 2003
	Catalyst::dispatch(ComponentUI=HASH(0x93bbf18)) called at /opt/perl-5.24.0/lib/site_perl/5.24.0/Catalyst/Plugin/Static/Simple.pm line 86
	Class::MOP::Class:::around(CODE(0x47027f0), ComponentUI=HASH(0x93bbf18)) called at /opt/perl-5.24.0/lib/site_perl/5.24.0/x86_64-linux/Class/MOP/Method/Wrapped.pm line 164
	ComponentUI::_wrapped_dispatch(ComponentUI=HASH(0x93bbf18)) called at /opt/perl-5.24.0/lib/site_perl/5.24.0/x86_64-linux/Class/MOP/Method/Wrapped.pm line 95
	ComponentUI::dispatch(ComponentUI=HASH(0x93bbf18)) called at /opt/perl-5.24.0/lib/site_perl/5.24.0/Catalyst.pm line 2394
	Catalyst::try {...} () called at /opt/perl-5.24.0/lib/site_perl/5.24.0/Try/Tiny.pm line 103
	eval {...} called at /opt/perl-5.24.0/lib/site_perl/5.24.0/Try/Tiny.pm line 94
	Try::Tiny::try(CODE(0x93bb888), Try::Tiny::Catch=REF(0x93cece8)) called at /opt/perl-5.24.0/lib/site_perl/5.24.0/Catalyst.pm line 2403
	Catalyst::handle_request("ComponentUI", "env", HASH(0x92cbcf8), "response_cb", CODE(0x93cee68)) called at /opt/perl-5.24.0/lib/site_perl/5.24.0/Catalyst/Engine.pm line 800
	Catalyst::Engine::__ANON__(CODE(0x93cee68)) called at /opt/perl-5.24.0/lib/site_perl/5.24.0/Plack/Middleware/HTTPExceptions.pm line 32
	Plack::Middleware::HTTPExceptions::try {...} () called at /opt/perl-5.24.0/lib/site_perl/5.24.0/Try/Tiny.pm line 103
	eval {...} called at /opt/perl-5.24.0/lib/site_perl/5.24.0/Try/Tiny.pm line 94
	Try::Tiny::try(CODE(0x93ceb80), Try::Tiny::Catch=REF(0x92cb7e8)) called at /opt/perl-5.24.0/lib/site_perl/5.24.0/Plack/Middleware/HTTPExceptions.pm line 41
	Plack::Middleware::HTTPExceptions::__ANON__(CODE(0x92cc118)) called at /opt/perl-5.24.0/lib/site_perl/5.24.0/Plack/Util.pm line 339
	Plack::Util::__ANON__(CODE(0x92cbc50)) called at /opt/perl-5.24.0/lib/site_perl/5.24.0/Plack/Util.pm line 339
	Plack::Util::__ANON__(CODE(0x92cbb60)) called at /opt/perl-5.24.0/lib/site_perl/5.24.0/Plack/Util.pm line 339
	Plack::Util::__ANON__(CODE(0x92cbae8)) called at /opt/perl-5.24.0/lib/site_perl/5.24.0/HTTP/Message/PSGI.pm line 100
	HTTP::Message::PSGI::res_from_psgi(CODE(0x93ce928)) called at /opt/perl-5.24.0/lib/site_perl/5.24.0/HTTP/Message/PSGI.pm line 156
	HTTP::Response::from_psgi("HTTP::Response", CODE(0x93ce928)) called at /opt/perl-5.24.0/lib/site_perl/5.24.0/Plack/Test/MockHTTP.pm line 24
	Plack::Test::MockHTTP::try {...} () called at /opt/perl-5.24.0/lib/site_perl/5.24.0/Try/Tiny.pm line 101
	eval {...} called at /opt/perl-5.24.0/lib/site_perl/5.24.0/Try/Tiny.pm line 94
	Try::Tiny::try(CODE(0x93cee38), Try::Tiny::Catch=REF(0x9230e00)) called at /opt/perl-5.24.0/lib/site_perl/5.24.0/Plack/Test/MockHTTP.pm line 27
	Plack::Test::MockHTTP::request(Plack::Test::MockHTTP=HASH(0x92cb8f0), HTTP::Request=HASH(0x196f080)) called at /opt/perl-5.24.0/lib/site_perl/5.24.0/Plack/Test.pm line 38
	Plack::Test::__ANON__(HTTP::Request=HASH(0x196f080)) called at /opt/perl-5.24.0/lib/site_perl/5.24.0/Catalyst/Test.pm line 281
	Catalyst::Test::__ANON__(CODE(0x92cb758)) called at /opt/perl-5.24.0/lib/site_perl/5.24.0/Plack/Test.pm line 38
	Plack::Test::test_psgi("app", CODE(0x92cb3b0), "mangle_response", CODE(0x35aecb8), "app", CODE(0x92cb5f0), "client", CODE(0x92cb668)) called at /opt/perl-5.24.0/lib/site_perl/5.24.0/Catalyst/Test.pm line 284
	Catalyst::Test::_request(HASH(0x9380c40), HTTP::Request=HASH(0x196f080)) called at /opt/perl-5.24.0/lib/site_perl/5.24.0/Catalyst/Test.pm line 327
	Catalyst::Test::_local_request("ComponentUI", HTTP::Request=HASH(0x196f080)) called at /opt/perl-5.24.0/lib/site_perl/5.24.0/Test/WWW/Mechanize/Catalyst.pm line 176
	Test::WWW::Mechanize::Catalyst::_do_catalyst_request(Test::WWW::Mechanize::Catalyst=HASH(0x9207af8), HTTP::Request=HASH(0x196f080)) called at /opt/perl-5.24.0/lib/site_perl/5.24.0/Test/WWW/Mechanize/Catalyst.pm line 78
	Test::WWW::Mechanize::Catalyst::_make_request(Test::WWW::Mechanize::Catalyst=HASH(0x9207af8), HTTP::Request=HASH(0x196f080)) called at /opt/perl-5.24.0/lib/site_perl/5.24.0/WWW/Mechanize.pm line 1252
	WWW::Mechanize::request(Test::WWW::Mechanize::Catalyst=HASH(0x9207af8), HTTP::Request=HASH(0x196f080)) called at /opt/perl-5.24.0/lib/site_perl/5.24.0/LWP/UserAgent.pm line 435
	LWP::UserAgent::get(Test::WWW::Mechanize::Catalyst=HASH(0x9207af8), "http://localhost/testmodel/baz/id/1/update") called at /opt/perl-5.24.0/lib/site_perl/5.24.0/WWW/Mechanize.pm line 116
	WWW::Mechanize::get(Test::WWW::Mechanize::Catalyst=HASH(0x9207af8), "http://localhost/testmodel/baz/id/1/update") called at /opt/perl-5.24.0/lib/site_perl/5.24.0/Test/WWW/Mechanize.pm line 160
	Test::WWW::Mechanize::get_ok(Test::WWW::Mechanize::Catalyst=HASH(0x9207af8), "http://localhost/testmodel/baz/id/1/update") called at t/uncheck_bool_field.t line 9
t/uncheck_bool_field.t ...... ok
All tests successful.
Files=9, Tests=604, 26 wallclock secs ( 0.12 usr  0.03 sys + 21.93 cusr  3.29 csys = 25.37 CPU)
Result: PASS

------------------------------
PREREQUISITES
------------------------------

Prerequisite modules loaded:

requires:

    Module                                  Need      Have    
    --------------------------------------- --------- --------
    aliased                                 0.22      0.34    
    Catalyst                                5.80002   5.90114 
    Catalyst::Component::ACCEPT_CONTEXT     0.05      0.07    
    Catalyst::Component::InstancePerContext 0.001001  0.001001
    Catalyst::Model::DBIC::Schema           0.23      0.65    
    Catalyst::Plugin::ConfigLoader          0.23      0.34    
    Catalyst::Plugin::I18N                  0.09      0.10    
    Catalyst::Plugin::Static::Simple        0.21      0.33    
    Catalyst::View::TT                      0.29      0.44    
    Class::MOP                              0.81      2.2004  
    Config::General                         2.42      2.63    
    Crypt::Eksblowfish::Bcrypt              0.005     0.009   
    DateTime                                0.47      1.42    
    DateTime::Event::Recurrence             0.16      0.18    
    DateTime::Span                          0         0.3900  
    DBIx::Class                             0.08100   0.082840
    DBIx::Class::IntrospectableM2M          0.001001  0.001002
    Devel::Declare                          0.005000  0.006018
    Email::Valid                            0.181     1.202   
    ExtUtils::MakeMaker                     6.11      7.24    
    File::ShareDir                          1.00      1.102   
    File::Spec                              3.29      3.63    
    JSON                                    0         2.90    
    metaclass                               0.81      2.2004  
    Method::Signatures::Simple              0.03      1.07    
    Moose                                   0.74      2.2004  
    MooseX::MethodAttributes                0.18      0.31    
    MooseX::Role::Parameterized             0.24      1.09    
    MooseX::Types                           0.10      0.50    
    MooseX::Types::Common                   0.001000  0.001014
    MooseX::Types::DateTime                 0.03      0.13    
    MooseX::Types::URI                      0.02      0.08    
    namespace::clean                        0.11      0.27    
    Path::Class::Dir                        0         0.37    
    Path::Class::File                       0         0.37    
    perl                                    5.008001  5.024000
    Scalar::Util                            1.19      1.47    
    signatures                              0.05      0.13    
    SQL::Translator                         0.11002   0.11021 
    Sub::Exporter                           0.982     0.987   
    Sub::Name                               0.04      0.21    
    Template                                2.20      2.26    
    Test::Class                             0.31      0.50    
    Test::Memory::Cycle                     1.04      1.06    
    Test::WWW::Mechanize::Catalyst          0.51      0.60    
    Time::ParseDate                         2006.0814 2015.103
    URI                                     1.37      1.71    

build_requires:

    Module                                  Need      Have    
    --------------------------------------- --------- --------
    ExtUtils::MakeMaker                     6.42      7.24    
    SQL::Translator                         0.11002   0.11021 
    Test::Class                             0.31      0.50    
    Test::Memory::Cycle                     1.04      1.06    
    Test::WWW::Mechanize::Catalyst          0.51      0.60    

configure_requires:

    Module                                  Need      Have    
    --------------------------------------- --------- --------
    ExtUtils::MakeMaker                     6.42      7.24    


------------------------------
ENVIRONMENT AND OTHER CONTEXT
------------------------------

Environment variables:

    LANG = en_US.UTF-8
    PATH = /usr/local/bin:/usr/bin:/bin:/usr/local/sbin:/usr/sbin:/sbin:/home/cpansand/bin/linux-gnu:/home/cpansand/bin/sh:/home/cpansand/bin:/usr/games:/home/cpansand/devel:/home/eserte/src/srezic-misc/scripts
    PERL5LIB = /home/cpansand/.cpan/build/2017031715/signatures-0.13-0/blib/arch:/home/cpansand/.cpan/build/2017031715/signatures-0.13-0/blib/lib:/home/cpansand/.cpan/build/2017031715/B-Hooks-OP-PPAddr-0.05-1/blib/arch:/home/cpansand/.cpan/build/2017031715/B-Hooks-OP-PPAddr-0.05-1/blib/lib:/home/cpansand/.cpan/build/2017031715/Method-Signatures-Simple-1.07-1/blib/arch:/home/cpansand/.cpan/build/2017031715/Method-Signatures-Simple-1.07-1/blib/lib:/home/cpansand/.cpan/build/2017031715/Catalyst-Plugin-I18N-0.10-1/blib/arch:/home/cpansand/.cpan/build/2017031715/Catalyst-Plugin-I18N-0.10-1/blib/lib:/home/cpansand/.cpan/build/2017031715/Osgood-Server-2.0.1-0/blib/arch:/home/cpansand/.cpan/build/2017031715/Osgood-Server-2.0.1-0/blib/lib:/home/cpansand/.cpan/build/2017031715/Osgood-Client-2.0.7-0/blib/arch:/home/cpansand/.cpan/build/2017031715/Osgood-Client-2.0.7-0/blib/lib:/home/cpansand/.cpan/build/2017031715/MooseX-Iterator-0.11-1/blib/arch:/home/cpansand/.cpan/build/2017031715/MooseX-Iterator-0.11-1/blib/lib:/home/cpansand/.cpan/build/2017031715/MooseX-AttributeHelpers-0.25-0/blib/arch:/home/cpansand/.cpan/build/2017031715/MooseX-AttributeHelpers-0.25-0/blib/lib:/home/cpansand/.cpan/build/2017031715/DateTime-Format-DBI-0.041-0/blib/arch:/home/cpansand/.cpan/build/2017031715/DateTime-Format-DBI-0.041-0/blib/lib:/home/cpansand/.cpan/build/2017031715/Catalyst-Plugin-Params-Nested-0.05-0/blib/arch:/home/cpansand/.cpan/build/2017031715/Catalyst-Plugin-Params-Nested-0.05-0/blib/lib:/home/cpansand/.cpan/build/2017031715/Catalyst-Plugin-FormValidator-Simple-0.15-0/blib/arch:/home/cpansand/.cpan/build/2017031715/Catalyst-Plugin-FormValidator-Simple-0.15-0/blib/lib:/home/cpansand/.cpan/build/2017031715/FormValidator-Simple-0.29-0/blib/arch:/home/cpansand/.cpan/build/2017031715/FormValidator-Simple-0.29-0/blib/lib:/home/cpansand/.cpan/build/2017031715/Email-Valid-Loose-0.05-0/blib/arch:/home/cpansand/.cpan/build/2017031715/Email-Valid-Loose-0.05-0/blib/lib:/home/cpansand/.cpan/build/2017031715/Class-Data-Accessor-0.04004-0/blib/arch:/home/cpansand/.cpan/build/2017031715/Class-Data-Accessor-0.04004-0/blib/lib:/home/cpansand/.cpan/build/2017031715/Catalyst-Plugin-FormValidator-0.094-0/blib/arch:/home/cpansand/.cpan/build/2017031715/Catalyst-Plugin-FormValidator-0.094-0/blib/lib:/home/cpansand/.cpan/build/2017031715/CatalystX-Widget-Paginator-0.07-0/blib/arch:/home/cpansand/.cpan/build/2017031715/CatalystX-Widget-Paginator-0.07-0/blib/lib:/home/cpansand/.cpan/build/2017031715/Catalyst-Plugin-Widget-0.04-0/blib/arch:/home/cpansand/.cpan/build/2017031715/Catalyst-Plugin-Widget-0.04-0/blib/lib:/home/cpansand/.cpan/build/2017031715/CatalystX-InjectModule-0.12-0/blib/arch:/home/cpansand/.cpan/build/2017031715/CatalystX-InjectModule-0.12-0/blib/lib:/home/cpansand/.cpan/build/2017031715/Term-ANSIColor-4.06-0/blib/arch:/home/cpansand/.cpan/build/2017031715/Term-ANSIColor-4.06-0/blib/lib:/home/cpansand/.cpan/build/2017031715/Dependency-Resolver-0.07-0/blib/arch:/home/cpansand/.cpan/build/2017031715/Dependency-Resolver-0.07-0/blib/lib:/home/cpansand/.cpan/build/2017031715/DBIx-Class-Migration-0.058-0/blib/arch:/home/cpansand/.cpan/build/2017031715/DBIx-Class-Migration-0.058-0/blib/lib:/home/cpansand/.cpan/build/2017031715/Config-MySQL-0.02-0/blib/arch:/home/cpansand/.cpan/build/2017031715/Config-MySQL-0.02-0/blib/lib:/home/cpansand/.cpan/build/2017031715/DBIx-Class-Fixtures-1.001036-1/blib/arch:/home/cpansand/.cpan/build/2017031715/DBIx-Class-Fixtures-1.001036-1/blib/lib:/home/cpansand/.cpan/build/2017031715/DBIx-Class-InflateColumn-FS-0.01007-1/blib/arch:/home/cpansand/.cpan/build/2017031715/DBIx-Class-InflateColumn-FS-0.01007-1/blib/lib:/home/cpansand/.cpan/build/2017031715/DBIx-Class-DateTime-Epoch-0.10-1/blib/arch:/home/cpansand/.cpan/build/2017031715/DBIx-Class-DateTime-Epoch-0.10-1/blib/lib:/home/cpansand/.cpan/build/2017031715/Catalyst-Plugin-EnableMiddleware-0.006-0/blib/arch:/home/cpansand/.cpan/build/2017031715/Catalyst-Plugin-EnableMiddleware-0.006-0/blib/lib:/home/cpansand/.cpan/build/2017031715/CatalystX-Crudite-0.21-0/blib/arch:/home/cpansand/.cpan/build/2017031715/CatalystX-Crudite-0.21-0/blib/lib:/home/cpansand/.cpan/build/2017031715/Web-Library-jQueryUI-0.04-0/blib/arch:/home/cpansand/.cpan/build/2017031715/Web-Library-jQueryUI-0.04-0/blib/lib:/home/cpansand/.cpan/build/2017031715/Web-Library-jQuery-0.03-0/blib/arch:/home/cpansand/.cpan/build/2017031715/Web-Library-jQuery-0.03-0/blib/lib:/home/cpansand/.cpan/build/2017031715/Web-Library-DataTables-0.04-0/blib/arch:/home/cpansand/.cpan/build/2017031715/Web-Library-DataTables-0.04-0/blib/lib:/home/cpansand/.cpan/build/2017031715/Web-Library-Bootstrap-0.05-0/blib/arch:/home/cpansand/.cpan/build/2017031715/Web-Library-Bootstrap-0.05-0/blib/lib:/home/cpansand/.cpan/build/2017031715/Web-Library-0.06-0/blib/arch:/home/cpansand/.cpan/build/2017031715/Web-Library-0.06-0/blib/lib:/home/cpansand/.cpan/build/2017031715/CatalystX-SimpleLogin-0.19-1/blib/arch:/home/cpansand/.cpan/build/2017031715/CatalystX-SimpleLogin-0.19-1/blib/lib:/home/cpansand/.cpan/build/2017031715/MooseX-RelatedClassRoles-0.004-2/blib/arch:/home/cpansand/.cpan/build/2017031715/MooseX-RelatedClassRoles-0.004-2/blib/lib:/home/cpansand/.cpan/build/2017031715/CatalystX-Resource-0.02-0/blib/arch:/home/cpansand/.cpan/build/2017031715/CatalystX-Resource-0.02-0/blib/lib:/home/cpansand/.cpan/build/2017031715/HTML-FormHandler-Model-DBIC-0.29-0/blib/arch:/home/cpansand/.cpan/build/2017031715/HTML-FormHandler-Model-DBIC-0.29-0/blib/lib:/home/cpansand/.cpan/build/2017031715/DBIx-Class-ResultSet-RecursiveUpdate-0.34-0/blib/arch:/home/cpansand/.cpan/build/2017031715/DBIx-Class-ResultSet-RecursiveUpdate-0.34-0/blib/lib:/home/cpansand/.cpan/build/2017031715/HTML-FormHandler-0.40067-1/blib/arch:/home/cpansand/.cpan/build/2017031715/HTML-FormHandler-0.40067-1/blib/lib:/home/cpansand/.cpan/build/2017031715/Catalyst-Plugin-Session-Store-File-0.18-2/blib/arch:/home/cpansand/.cpan/build/2017031715/Catalyst-Plugin-Session-Store-File-0.18-2/blib/lib:/home/cpansand/.cpan/build/2017031715/Catalyst-Plugin-Session-Store-FastMmap-0.16-2/blib/arch:/home/cpansand/.cpan/build/2017031715/Catalyst-Plugin-Session-Store-FastMmap-0.16-2/blib/lib:/home/cpansand/.cpan/build/2017031715/Catalyst-ActionRole-ACL-0.07-1/blib/arch:/home/cpansand/.cpan/build/2017031715/Catalyst-ActionRole-ACL-0.07-1/blib/lib:/home/cpansand/.cpan/build/2017031715/Catalyst-Controller-ActionRole-0.17-1/blib/arch:/home/cpansand/.cpan/build/2017031715/Catalyst-Controller-ActionRole-0.17-1/blib/lib:/home/cpansand/.cpan/build/2017031715/CatalystX-CRUD-ModelAdapter-DBIC-0.15-0/blib/arch:/home/cpansand/.cpan/build/2017031715/CatalystX-CRUD-ModelAdapter-DBIC-0.15-0/blib/lib:/home/cpansand/.cpan/build/2017031715/DBIx-Class-RDBOHelpers-0.12-0/blib/arch:/home/cpansand/.cpan/build/2017031715/DBIx-Class-RDBOHelpers-0.12-0/blib/lib:/home/cpansand/.cpan/build/2017031715/CatalystX-CRUD-Controller-REST-0.005-0/blib/arch:/home/cpansand/.cpan/build/2017031715/CatalystX-CRUD-Controller-REST-0.005-0/blib/lib:/home/cpansand/.cpan/build/2017031715/Catalyst-Action-REST-1.20-1/blib/arch:/home/cpansand/.cpan/build/2017031715/Catalyst-Action-REST-1.20-1/blib/lib:/home/cpansand/.cpan/build/2017031715/CatalystX-CRUD-0.57-0/blib/arch:/home/cpansand/.cpan/build/2017031715/CatalystX-CRUD-0.57-0/blib/lib:/home/cpansand/.cpan/build/2017031715/Sort-SQL-0.08-0/blib/arch:/home/cpansand/.cpan/build/2017031715/Sort-SQL-0.08-0/blib/lib:/home/cpansand/.cpan/build/2017031715/Search-QueryParser-SQL-0.010-0/blib/arch:/home/cpansand/.cpan/build/2017031715/Search-QueryParser-SQL-0.010-0/blib/lib:/home/cpansand/.cpan/build/2017031715/Search-QueryParser-0.94-0/blib/arch:/home/cpansand/.cpan/build/2017031715/Search-QueryParser-0.94-0/blib/lib:/home/cpansand/.cpan/build/2017031715/Data-Pageset-1.06-1/blib/arch:/home/cpansand/.cpan/build/2017031715/Data-Pageset-1.06-1/blib/lib:/home/cpansand/.cpan/build/2017031715/Catalyst-Component-ACCEPT_CONTEXT-0.07-0/blib/arch:/home/cpansand/.cpan/build/2017031715/Catalyst-Component-ACCEPT_CONTEXT-0.07-0/blib/lib:/home/cpansand/.cpan/build/2017031715/Catalyst-View-CSV-1.7-0/blib/arch:/home/cpansand/.cpan/build/2017031715/Catalyst-View-CSV-1.7-0/blib/lib:/home/cpansand/.cpan/build/2017031715/Catalyst-TraitFor-Model-DBIC-Schema-WithCurrentUser-0.07-0/blib/arch:/home/cpansand/.cpan/build/2017031715/Catalyst-TraitFor-Model-DBIC-Schema-WithCurrentUser-0.07-0/blib/lib:/home/cpansand/.cpan/build/2017031715/Catalyst-TraitFor-Model-DBIC-Schema-Result-0.006-0/blib/arch:/home/cpansand/.cpan/build/2017031715/Catalyst-TraitFor-Model-DBIC-Schema-Result-0.006-0/blib/lib:/home/cpansand/.cpan/build/2017031715/Catalyst-TraitFor-Model-DBIC-Schema-RequestConnectionPool-0.1000-0/blib/arch:/home/cpansand/.cpan/build/2017031715/Catalyst-TraitFor-Model-DBIC-Schema-RequestConnectionPool-0.1000-0/blib/lib:/home/cpansand/.cpan/build/2017031715/Catalyst-TraitFor-Model-DBIC-Schema-QueryLog-0.03-0/blib/arch:/home/cpansand/.cpan/build/2017031715/Catalyst-TraitFor-Model-DBIC-Schema-QueryLog-0.03-0/blib/lib:/home/cpansand/.cpan/build/2017031715/Catalyst-TraitFor-Controller-DoesExtPaging-1.000001-0/blib/arch:/home/cpansand/.cpan/build/2017031715/Catalyst-TraitFor-Controller-DoesExtPaging-1.000001-0/blib/lib:/home/cpansand/.cpan/build/2017031715/Web-Util-ExtPaging-0.001003-0/blib/arch:/home/cpansand/.cpan/build/2017031715/Web-Util-ExtPaging-0.001003-0/blib/lib:/home/cpansand/.cpan/build/2017031715/Catalyst-TraitFor-Controller-DBIC-DoesPaging-1.001003-0/blib/arch:/home/cpansand/.cpan/build/2017031715/Catalyst-TraitFor-Controller-DBIC-DoesPaging-1.001003-0/blib/lib:/home/cpansand/.cpan/build/2017031715/Web-Util-DBIC-Paging-0.001003-0/blib/arch:/home/cpansand/.cpan/build/2017031715/Web-Util-DBIC-Paging-0.001003-0/blib/lib:/home/cpansand/.cpan/build/2017031715/Catalyst-Plugin-Session-Store-CHI-CHI-0.002-0/blib/arch:/home/cpansand/.cpan/build/2017031715/Catalyst-Plugin-Session-Store-CHI-CHI-0.002-0/blib/lib:/home/cpansand/.cpan/build/2017031715/Catalyst-Plugin-Bread-Board-0.03-0/blib/arch:/home/cpansand/.cpan/build/2017031715/Catalyst-Plugin-Bread-Board-0.03-0/blib/lib:/home/cpansand/.cpan/build/2017031715/Bread-Board-0.34-1/blib/arch:/home/cpansand/.cpan/build/2017031715/Bread-Board-0.34-1/blib/lib:/home/cpansand/.cpan/build/2017031715/Catalyst-Plugin-AutoCRUD-2.200002-0/blib/arch:/home/cpansand/.cpan/build/2017031715/Catalyst-Plugin-AutoCRUD-2.200002-0/blib/lib:/home/cpansand/.cpan/build/2017031715/Catalyst-View-JSON-0.36-1/blib/arch:/home/cpansand/.cpan/build/2017031715/Catalyst-View-JSON-0.36-1/blib/lib:/home/cpansand/.cpan/build/2017031715/Test2-Suite-0.000069-5/blib/arch:/home/cpansand/.cpan/build/2017031715/Test2-Suite-0.000069-5/blib/lib
    PERL5OPT = 
    PERL5_CPANPLUS_IS_RUNNING = 15374
    PERL5_CPAN_IS_RUNNING = 15374
    PERL5_CPAN_IS_RUNNING_IN_RECURSION = 2091,15374
    PERLDOC = -MPod::Perldoc::ToTextOverstrike
    PERL_BATCH = yes
    PERL_CANARY_STABILITY_NOPROMPT = 1
    PERL_CPAN_REPORTER_CONFIG = /var/tmp/cpansmoker-1002/2017031706/cpanreporter_000_config.ini
    PERL_EXTUTILS_AUTOINSTALL = --defaultdeps
    SHELL = /bin/zsh
    TERM = screen
    TMPDIR = /var/tmp/cpansmoker-1002/2017031706

Perl special variables (and OS-specific diagnostics, for MSWin32):

    $^X = /opt/perl-5.24.0/bin/perl
    $UID/$EUID = 1002 / 1002
    $GID = 1002 1002
    $EGID = 1002 1002

Perl module toolchain versions installed:

    Module              Have    
    ------------------- --------
    CPAN                2.16    
    CPAN::Meta          2.150005
    Cwd                 3.63    
    ExtUtils::CBuilder  0.280225
    ExtUtils::Command   7.24    
    ExtUtils::Install   2.04    
    ExtUtils::MakeMaker 7.24    
    ExtUtils::Manifest  1.70    
    ExtUtils::ParseXS   3.31    
    File::Spec          3.63    
    JSON                2.90    
    JSON::PP            2.27400 
    Module::Build       0.4220  
    Module::Signature   0.81    
    Parse::CPAN::Meta   1.4417  
    Test::Harness       3.36    
    Test::More          1.302075
    YAML                1.23    
    YAML::Syck          1.29    
    version             0.9916  


--

Summary of my perl5 (revision 5 version 24 subversion 0) configuration:
   
  Platform:
    osname=linux, osvers=3.10.0-514.6.2.el7.x86_64, archname=x86_64-linux
    uname='linux prod5 3.10.0-514.6.2.el7.x86_64 #1 smp thu feb 23 03:04:39 utc 2017 x86_64 x86_64 x86_64 gnulinux '
    config_args='-ds -e -Dprefix=/opt/perl-5.24.0 -Dcf_email=srezic@cpan.org'
    hint=recommended, useposix=true, d_sigaction=define
    useithreads=undef, usemultiplicity=undef
    use64bitint=define, use64bitall=define, uselongdouble=undef
    usemymalloc=n, bincompat5005=undef
  Compiler:
    cc='cc', ccflags ='-fwrapv -fno-strict-aliasing -pipe -fstack-protector-strong -I/usr/local/include -D_LARGEFILE_SOURCE -D_FILE_OFFSET_BITS=64 -D_FORTIFY_SOURCE=2',
    optimize='-O2',
    cppflags='-fwrapv -fno-strict-aliasing -pipe -fstack-protector-strong -I/usr/local/include'
    ccversion='', gccversion='4.8.5 20150623 (Red Hat 4.8.5-11)', gccosandvers=''
    intsize=4, longsize=8, ptrsize=8, doublesize=8, byteorder=12345678, doublekind=3
    d_longlong=define, longlongsize=8, d_longdbl=define, longdblsize=16, longdblkind=3
    ivtype='long', ivsize=8, nvtype='double', nvsize=8, Off_t='off_t', lseeksize=8
    alignbytes=8, prototype=define
  Linker and Libraries:
    ld='cc', ldflags =' -fstack-protector-strong -L/usr/local/lib'
    libpth=/usr/local/lib /usr/lib /lib/../lib64 /usr/lib/../lib64 /lib /lib64 /usr/lib64 /usr/local/lib64
    libs=-lpthread -lnsl -lgdbm -ldb -ldl -lm -lcrypt -lutil -lc -lgdbm_compat
    perllibs=-lpthread -lnsl -ldl -lm -lcrypt -lutil -lc
    libc=libc-2.17.so, so=so, useshrplib=false, libperl=libperl.a
    gnulibc_version='2.17'
  Dynamic Linking:
    dlsrc=dl_dlopen.xs, dlext=so, d_dlsymun=undef, ccdlflags='-Wl,-E'
    cccdlflags='-fPIC', lddlflags='-shared -O2 -L/usr/local/lib -fstack-protector-strong'


Characteristics of this binary (from libperl): 
  Compile-time options: HAS_TIMES PERLIO_LAYERS PERL_COPY_ON_WRITE
                        PERL_DONT_CREATE_GVSV
                        PERL_HASH_FUNC_ONE_AT_A_TIME_HARD PERL_MALLOC_WRAP
                        PERL_PRESERVE_IVUV USE_64_BIT_ALL USE_64_BIT_INT
                        USE_LARGE_FILES USE_LOCALE USE_LOCALE_COLLATE
                        USE_LOCALE_CTYPE USE_LOCALE_NUMERIC USE_LOCALE_TIME
                        USE_PERLIO USE_PERL_ATOF
  Built under linux
  Compiled at Feb 23 2017 19:17:45
  %ENV:
    PERL5LIB="/home/cpansand/.cpan/build/2017031715/signatures-0.13-0/blib/arch:/home/cpansand/.cpan/build/2017031715/signatures-0.13-0/blib/lib:/home/cpansand/.cpan/build/2017031715/B-Hooks-OP-PPAddr-0.05-1/blib/arch:/home/cpansand/.cpan/build/2017031715/B-Hooks-OP-PPAddr-0.05-1/blib/lib:/home/cpansand/.cpan/build/2017031715/Method-Signatures-Simple-1.07-1/blib/arch:/home/cpansand/.cpan/build/2017031715/Method-Signatures-Simple-1.07-1/blib/lib:/home/cpansand/.cpan/build/2017031715/Catalyst-Plugin-I18N-0.10-1/blib/arch:/home/cpansand/.cpan/build/2017031715/Catalyst-Plugin-I18N-0.10-1/blib/lib:/home/cpansand/.cpan/build/2017031715/Osgood-Server-2.0.1-0/blib/arch:/home/cpansand/.cpan/build/2017031715/Osgood-Server-2.0.1-0/blib/lib:/home/cpansand/.cpan/build/2017031715/Osgood-Client-2.0.7-0/blib/arch:/home/cpansand/.cpan/build/2017031715/Osgood-Client-2.0.7-0/blib/lib:/home/cpansand/.cpan/build/2017031715/MooseX-Iterator-0.11-1/blib/arch:/home/cpansand/.cpan/build/2017031715/MooseX-Iterator-0.11-1/blib/lib:/home/cpansand/.cpan/build/2017031715/MooseX-AttributeHelpers-0.25-0/blib/arch:/home/cpansand/.cpan/build/2017031715/MooseX-AttributeHelpers-0.25-0/blib/lib:/home/cpansand/.cpan/build/2017031715/DateTime-Format-DBI-0.041-0/blib/arch:/home/cpansand/.cpan/build/2017031715/DateTime-Format-DBI-0.041-0/blib/lib:/home/cpansand/.cpan/build/2017031715/Catalyst-Plugin-Params-Nested-0.05-0/blib/arch:/home/cpansand/.cpan/build/2017031715/Catalyst-Plugin-Params-Nested-0.05-0/blib/lib:/home/cpansand/.cpan/build/2017031715/Catalyst-Plugin-FormValidator-Simple-0.15-0/blib/arch:/home/cpansand/.cpan/build/2017031715/Catalyst-Plugin-FormValidator-Simple-0.15-0/blib/lib:/home/cpansand/.cpan/build/2017031715/FormValidator-Simple-0.29-0/blib/arch:/home/cpansand/.cpan/build/2017031715/FormValidator-Simple-0.29-0/blib/lib:/home/cpansand/.cpan/build/2017031715/Email-Valid-Loose-0.05-0/blib/arch:/home/cpansand/.cpan/build/2017031715/Email-Valid-Loose-0.05-0/blib/lib:/home/cpansand/.cpan/build/2017031715/Class-Data-Accessor-0.04004-0/blib/arch:/home/cpansand/.cpan/build/2017031715/Class-Data-Accessor-0.04004-0/blib/lib:/home/cpansand/.cpan/build/2017031715/Catalyst-Plugin-FormValidator-0.094-0/blib/arch:/home/cpansand/.cpan/build/2017031715/Catalyst-Plugin-FormValidator-0.094-0/blib/lib:/home/cpansand/.cpan/build/2017031715/CatalystX-Widget-Paginator-0.07-0/blib/arch:/home/cpansand/.cpan/build/2017031715/CatalystX-Widget-Paginator-0.07-0/blib/lib:/home/cpansand/.cpan/build/2017031715/Catalyst-Plugin-Widget-0.04-0/blib/arch:/home/cpansand/.cpan/build/2017031715/Catalyst-Plugin-Widget-0.04-0/blib/lib:/home/cpansand/.cpan/build/2017031715/CatalystX-InjectModule-0.12-0/blib/arch:/home/cpansand/.cpan/build/2017031715/CatalystX-InjectModule-0.12-0/blib/lib:/home/cpansand/.cpan/build/2017031715/Term-ANSIColor-4.06-0/blib/arch:/home/cpansand/.cpan/build/2017031715/Term-ANSIColor-4.06-0/blib/lib:/home/cpansand/.cpan/build/2017031715/Dependency-Resolver-0.07-0/blib/arch:/home/cpansand/.cpan/build/2017031715/Dependency-Resolver-0.07-0/blib/lib:/home/cpansand/.cpan/build/2017031715/DBIx-Class-Migration-0.058-0/blib/arch:/home/cpansand/.cpan/build/2017031715/DBIx-Class-Migration-0.058-0/blib/lib:/home/cpansand/.cpan/build/2017031715/Config-MySQL-0.02-0/blib/arch:/home/cpansand/.cpan/build/2017031715/Config-MySQL-0.02-0/blib/lib:/home/cpansand/.cpan/build/2017031715/DBIx-Class-Fixtures-1.001036-1/blib/arch:/home/cpansand/.cpan/build/2017031715/DBIx-Class-Fixtures-1.001036-1/blib/lib:/home/cpansand/.cpan/build/2017031715/DBIx-Class-InflateColumn-FS-0.01007-1/blib/arch:/home/cpansand/.cpan/build/2017031715/DBIx-Class-InflateColumn-FS-0.01007-1/blib/lib:/home/cpansand/.cpan/build/2017031715/DBIx-Class-DateTime-Epoch-0.10-1/blib/arch:/home/cpansand/.cpan/build/2017031715/DBIx-Class-DateTime-Epoch-0.10-1/blib/lib:/home/cpansand/.cpan/build/2017031715/Catalyst-Plugin-EnableMiddleware-0.006-0/blib/arch:/home/cpansand/.cpan/build/2017031715/Catalyst-Plugin-EnableMiddleware-0.006-0/blib/lib:/home/cpansand/.cpan/build/2017031715/CatalystX-Crudite-0.21-0/blib/arch:/home/cpansand/.cpan/build/2017031715/CatalystX-Crudite-0.21-0/blib/lib:/home/cpansand/.cpan/build/2017031715/Web-Library-jQueryUI-0.04-0/blib/arch:/home/cpansand/.cpan/build/2017031715/Web-Library-jQueryUI-0.04-0/blib/lib:/home/cpansand/.cpan/build/2017031715/Web-Library-jQuery-0.03-0/blib/arch:/home/cpansand/.cpan/build/2017031715/Web-Library-jQuery-0.03-0/blib/lib:/home/cpansand/.cpan/build/2017031715/Web-Library-DataTables-0.04-0/blib/arch:/home/cpansand/.cpan/build/2017031715/Web-Library-DataTables-0.04-0/blib/lib:/home/cpansand/.cpan/build/2017031715/Web-Library-Bootstrap-0.05-0/blib/arch:/home/cpansand/.cpan/build/2017031715/Web-Library-Bootstrap-0.05-0/blib/lib:/home/cpansand/.cpan/build/2017031715/Web-Library-0.06-0/blib/arch:/home/cpansand/.cpan/build/2017031715/Web-Library-0.06-0/blib/lib:/home/cpansand/.cpan/build/2017031715/CatalystX-SimpleLogin-0.19-1/blib/arch:/home/cpansand/.cpan/build/2017031715/CatalystX-SimpleLogin-0.19-1/blib/lib:/home/cpansand/.cpan/build/2017031715/MooseX-RelatedClassRoles-0.004-2/blib/arch:/home/cpansand/.cpan/build/2017031715/MooseX-RelatedClassRoles-0.004-2/blib/lib:/home/cpansand/.cpan/build/2017031715/CatalystX-Resource-0.02-0/blib/arch:/home/cpansand/.cpan/build/2017031715/CatalystX-Resource-0.02-0/blib/lib:/home/cpansand/.cpan/build/2017031715/HTML-FormHandler-Model-DBIC-0.29-0/blib/arch:/home/cpansand/.cpan/build/2017031715/HTML-FormHandler-Model-DBIC-0.29-0/blib/lib:/home/cpansand/.cpan/build/2017031715/DBIx-Class-ResultSet-RecursiveUpdate-0.34-0/blib/arch:/home/cpansand/.cpan/build/2017031715/DBIx-Class-ResultSet-RecursiveUpdate-0.34-0/blib/lib:/home/cpansand/.cpan/build/2017031715/HTML-FormHandler-0.40067-1/blib/arch:/home/cpansand/.cpan/build/2017031715/HTML-FormHandler-0.40067-1/blib/lib:/home/cpansand/.cpan/build/2017031715/Catalyst-Plugin-Session-Store-File-0.18-2/blib/arch:/home/cpansand/.cpan/build/2017031715/Catalyst-Plugin-Session-Store-File-0.18-2/blib/lib:/home/cpansand/.cpan/build/2017031715/Catalyst-Plugin-Session-Store-FastMmap-0.16-2/blib/arch:/home/cpansand/.cpan/build/2017031715/Catalyst-Plugin-Session-Store-FastMmap-0.16-2/blib/lib:/home/cpansand/.cpan/build/2017031715/Catalyst-ActionRole-ACL-0.07-1/blib/arch:/home/cpansand/.cpan/build/2017031715/Catalyst-ActionRole-ACL-0.07-1/blib/lib:/home/cpansand/.cpan/build/2017031715/Catalyst-Controller-ActionRole-0.17-1/blib/arch:/home/cpansand/.cpan/build/2017031715/Catalyst-Controller-ActionRole-0.17-1/blib/lib:/home/cpansand/.cpan/build/2017031715/CatalystX-CRUD-ModelAdapter-DBIC-0.15-0/blib/arch:/home/cpansand/.cpan/build/2017031715/CatalystX-CRUD-ModelAdapter-DBIC-0.15-0/blib/lib:/home/cpansand/.cpan/build/2017031715/DBIx-Class-RDBOHelpers-0.12-0/blib/arch:/home/cpansand/.cpan/build/2017031715/DBIx-Class-RDBOHelpers-0.12-0/blib/lib:/home/cpansand/.cpan/build/2017031715/CatalystX-CRUD-Controller-REST-0.005-0/blib/arch:/home/cpansand/.cpan/build/2017031715/CatalystX-CRUD-Controller-REST-0.005-0/blib/lib:/home/cpansand/.cpan/build/2017031715/Catalyst-Action-REST-1.20-1/blib/arch:/home/cpansand/.cpan/build/2017031715/Catalyst-Action-REST-1.20-1/blib/lib:/home/cpansand/.cpan/build/2017031715/CatalystX-CRUD-0.57-0/blib/arch:/home/cpansand/.cpan/build/2017031715/CatalystX-CRUD-0.57-0/blib/lib:/home/cpansand/.cpan/build/2017031715/Sort-SQL-0.08-0/blib/arch:/home/cpansand/.cpan/build/2017031715/Sort-SQL-0.08-0/blib/lib:/home/cpansand/.cpan/build/2017031715/Search-QueryParser-SQL-0.010-0/blib/arch:/home/cpansand/.cpan/build/2017031715/Search-QueryParser-SQL-0.010-0/blib/lib:/home/cpansand/.cpan/build/2017031715/Search-QueryParser-0.94-0/blib/arch:/home/cpansand/.cpan/build/2017031715/Search-QueryParser-0.94-0/blib/lib:/home/cpansand/.cpan/build/2017031715/Data-Pageset-1.06-1/blib/arch:/home/cpansand/.cpan/build/2017031715/Data-Pageset-1.06-1/blib/lib:/home/cpansand/.cpan/build/2017031715/Catalyst-Component-ACCEPT_CONTEXT-0.07-0/blib/arch:/home/cpansand/.cpan/build/2017031715/Catalyst-Component-ACCEPT_CONTEXT-0.07-0/blib/lib:/home/cpansand/.cpan/build/2017031715/Catalyst-View-CSV-1.7-0/blib/arch:/home/cpansand/.cpan/build/2017031715/Catalyst-View-CSV-1.7-0/blib/lib:/home/cpansand/.cpan/build/2017031715/Catalyst-TraitFor-Model-DBIC-Schema-WithCurrentUser-0.07-0/blib/arch:/home/cpansand/.cpan/build/2017031715/Catalyst-TraitFor-Model-DBIC-Schema-WithCurrentUser-0.07-0/blib/lib:/home/cpansand/.cpan/build/2017031715/Catalyst-TraitFor-Model-DBIC-Schema-Result-0.006-0/blib/arch:/home/cpansand/.cpan/build/2017031715/Catalyst-TraitFor-Model-DBIC-Schema-Result-0.006-0/blib/lib:/home/cpansand/.cpan/build/2017031715/Catalyst-TraitFor-Model-DBIC-Schema-RequestConnectionPool-0.1000-0/blib/arch:/home/cpansand/.cpan/build/2017031715/Catalyst-TraitFor-Model-DBIC-Schema-RequestConnectionPool-0.1000-0/blib/lib:/home/cpansand/.cpan/build/2017031715/Catalyst-TraitFor-Model-DBIC-Schema-QueryLog-0.03-0/blib/arch:/home/cpansand/.cpan/build/2017031715/Catalyst-TraitFor-Model-DBIC-Schema-QueryLog-0.03-0/blib/lib:/home/cpansand/.cpan/build/2017031715/Catalyst-TraitFor-Controller-DoesExtPaging-1.000001-0/blib/arch:/home/cpansand/.cpan/build/2017031715/Catalyst-TraitFor-Controller-DoesExtPaging-1.000001-0/blib/lib:/home/cpansand/.cpan/build/2017031715/Web-Util-ExtPaging-0.001003-0/blib/arch:/home/cpansand/.cpan/build/2017031715/Web-Util-ExtPaging-0.001003-0/blib/lib:/home/cpansand/.cpan/build/2017031715/Catalyst-TraitFor-Controller-DBIC-DoesPaging-1.001003-0/blib/arch:/home/cpansand/.cpan/build/2017031715/Catalyst-TraitFor-Controller-DBIC-DoesPaging-1.001003-0/blib/lib:/home/cpansand/.cpan/build/2017031715/Web-Util-DBIC-Paging-0.001003-0/blib/arch:/home/cpansand/.cpan/build/2017031715/Web-Util-DBIC-Paging-0.001003-0/blib/lib:/home/cpansand/.cpan/build/2017031715/Catalyst-Plugin-Session-Store-CHI-CHI-0.002-0/blib/arch:/home/cpansand/.cpan/build/2017031715/Catalyst-Plugin-Session-Store-CHI-CHI-0.002-0/blib/lib:/home/cpansand/.cpan/build/2017031715/Catalyst-Plugin-Bread-Board-0.03-0/blib/arch:/home/cpansand/.cpan/build/2017031715/Catalyst-Plugin-Bread-Board-0.03-0/blib/lib:/home/cpansand/.cpan/build/2017031715/Bread-Board-0.34-1/blib/arch:/home/cpansand/.cpan/build/2017031715/Bread-Board-0.34-1/blib/lib:/home/cpansand/.cpan/build/2017031715/Catalyst-Plugin-AutoCRUD-2.200002-0/blib/arch:/home/cpansand/.cpan/build/2017031715/Catalyst-Plugin-AutoCRUD-2.200002-0/blib/lib:/home/cpansand/.cpan/build/2017031715/Catalyst-View-JSON-0.36-1/blib/arch:/home/cpansand/.cpan/build/2017031715/Catalyst-View-JSON-0.36-1/blib/lib:/home/cpansand/.cpan/build/2017031715/Test2-Suite-0.000069-5/blib/arch:/home/cpansand/.cpan/build/2017031715/Test2-Suite-0.000069-5/blib/lib"
    PERL5OPT=""
    PERL5_CPANPLUS_IS_RUNNING="15374"
    PERL5_CPAN_IS_RUNNING="15374"
    PERL5_CPAN_IS_RUNNING_IN_RECURSION="2091,15374"
    PERLDOC="-MPod::Perldoc::ToTextOverstrike"
    PERL_BATCH="yes"
    PERL_CANARY_STABILITY_NOPROMPT="1"
    PERL_CPAN_REPORTER_CONFIG="/var/tmp/cpansmoker-1002/2017031706/cpanreporter_000_config.ini"
    PERL_EXTUTILS_AUTOINSTALL="--defaultdeps"
  @INC:
    /home/cpansand/.cpan/build/2017031715/signatures-0.13-0/blib/arch
    /home/cpansand/.cpan/build/2017031715/signatures-0.13-0/blib/lib
    /home/cpansand/.cpan/build/2017031715/B-Hooks-OP-PPAddr-0.05-1/blib/arch
    /home/cpansand/.cpan/build/2017031715/B-Hooks-OP-PPAddr-0.05-1/blib/lib
    /home/cpansand/.cpan/build/2017031715/Method-Signatures-Simple-1.07-1/blib/arch
    /home/cpansand/.cpan/build/2017031715/Method-Signatures-Simple-1.07-1/blib/lib
    /home/cpansand/.cpan/build/2017031715/Catalyst-Plugin-I18N-0.10-1/blib/arch
    /home/cpansand/.cpan/build/2017031715/Catalyst-Plugin-I18N-0.10-1/blib/lib
    /home/cpansand/.cpan/build/2017031715/Osgood-Server-2.0.1-0/blib/arch
    /home/cpansand/.cpan/build/2017031715/Osgood-Server-2.0.1-0/blib/lib
    /home/cpansand/.cpan/build/2017031715/Osgood-Client-2.0.7-0/blib/arch
    /home/cpansand/.cpan/build/2017031715/Osgood-Client-2.0.7-0/blib/lib
    /home/cpansand/.cpan/build/2017031715/MooseX-Iterator-0.11-1/blib/arch
    /home/cpansand/.cpan/build/2017031715/MooseX-Iterator-0.11-1/blib/lib
    /home/cpansand/.cpan/build/2017031715/MooseX-AttributeHelpers-0.25-0/blib/arch
    /home/cpansand/.cpan/build/2017031715/MooseX-AttributeHelpers-0.25-0/blib/lib
    /home/cpansand/.cpan/build/2017031715/DateTime-Format-DBI-0.041-0/blib/arch
    /home/cpansand/.cpan/build/2017031715/DateTime-Format-DBI-0.041-0/blib/lib
    /home/cpansand/.cpan/build/2017031715/Catalyst-Plugin-Params-Nested-0.05-0/blib/arch
    /home/cpansand/.cpan/build/2017031715/Catalyst-Plugin-Params-Nested-0.05-0/blib/lib
    /home/cpansand/.cpan/build/2017031715/Catalyst-Plugin-FormValidator-Simple-0.15-0/blib/arch
    /home/cpansand/.cpan/build/2017031715/Catalyst-Plugin-FormValidator-Simple-0.15-0/blib/lib
    /home/cpansand/.cpan/build/2017031715/FormValidator-Simple-0.29-0/blib/arch
    /home/cpansand/.cpan/build/2017031715/FormValidator-Simple-0.29-0/blib/lib
    /home/cpansand/.cpan/build/2017031715/Email-Valid-Loose-0.05-0/blib/arch
    /home/cpansand/.cpan/build/2017031715/Email-Valid-Loose-0.05-0/blib/lib
    /home/cpansand/.cpan/build/2017031715/Class-Data-Accessor-0.04004-0/blib/arch
    /home/cpansand/.cpan/build/2017031715/Class-Data-Accessor-0.04004-0/blib/lib
    /home/cpansand/.cpan/build/2017031715/Catalyst-Plugin-FormValidator-0.094-0/blib/arch
    /home/cpansand/.cpan/build/2017031715/Catalyst-Plugin-FormValidator-0.094-0/blib/lib
    /home/cpansand/.cpan/build/2017031715/CatalystX-Widget-Paginator-0.07-0/blib/arch
    /home/cpansand/.cpan/build/2017031715/CatalystX-Widget-Paginator-0.07-0/blib/lib
    /home/cpansand/.cpan/build/2017031715/Catalyst-Plugin-Widget-0.04-0/blib/arch
    /home/cpansand/.cpan/build/2017031715/Catalyst-Plugin-Widget-0.04-0/blib/lib
    /home/cpansand/.cpan/build/2017031715/CatalystX-InjectModule-0.12-0/blib/arch
    /home/cpansand/.cpan/build/2017031715/CatalystX-InjectModule-0.12-0/blib/lib
    /home/cpansand/.cpan/build/2017031715/Term-ANSIColor-4.06-0/blib/arch
    /home/cpansand/.cpan/build/2017031715/Term-ANSIColor-4.06-0/blib/lib
    /home/cpansand/.cpan/build/2017031715/Dependency-Resolver-0.07-0/blib/arch
    /home/cpansand/.cpan/build/2017031715/Dependency-Resolver-0.07-0/blib/lib
    /home/cpansand/.cpan/build/2017031715/DBIx-Class-Migration-0.058-0/blib/arch
    /home/cpansand/.cpan/build/2017031715/DBIx-Class-Migration-0.058-0/blib/lib
    /home/cpansand/.cpan/build/2017031715/Config-MySQL-0.02-0/blib/arch
    /home/cpansand/.cpan/build/2017031715/Config-MySQL-0.02-0/blib/lib
    /home/cpansand/.cpan/build/2017031715/DBIx-Class-Fixtures-1.001036-1/blib/arch
    /home/cpansand/.cpan/build/2017031715/DBIx-Class-Fixtures-1.001036-1/blib/lib
    /home/cpansand/.cpan/build/2017031715/DBIx-Class-InflateColumn-FS-0.01007-1/blib/arch
    /home/cpansand/.cpan/build/2017031715/DBIx-Class-InflateColumn-FS-0.01007-1/blib/lib
    /home/cpansand/.cpan/build/2017031715/DBIx-Class-DateTime-Epoch-0.10-1/blib/arch
    /home/cpansand/.cpan/build/2017031715/DBIx-Class-DateTime-Epoch-0.10-1/blib/lib
    /home/cpansand/.cpan/build/2017031715/Catalyst-Plugin-EnableMiddleware-0.006-0/blib/arch
    /home/cpansand/.cpan/build/2017031715/Catalyst-Plugin-EnableMiddleware-0.006-0/blib/lib
    /home/cpansand/.cpan/build/2017031715/CatalystX-Crudite-0.21-0/blib/arch
    /home/cpansand/.cpan/build/2017031715/CatalystX-Crudite-0.21-0/blib/lib
    /home/cpansand/.cpan/build/2017031715/Web-Library-jQueryUI-0.04-0/blib/arch
    /home/cpansand/.cpan/build/2017031715/Web-Library-jQueryUI-0.04-0/blib/lib
    /home/cpansand/.cpan/build/2017031715/Web-Library-jQuery-0.03-0/blib/arch
    /home/cpansand/.cpan/build/2017031715/Web-Library-jQuery-0.03-0/blib/lib
    /home/cpansand/.cpan/build/2017031715/Web-Library-DataTables-0.04-0/blib/arch
    /home/cpansand/.cpan/build/2017031715/Web-Library-DataTables-0.04-0/blib/lib
    /home/cpansand/.cpan/build/2017031715/Web-Library-Bootstrap-0.05-0/blib/arch
    /home/cpansand/.cpan/build/2017031715/Web-Library-Bootstrap-0.05-0/blib/lib
    /home/cpansand/.cpan/build/2017031715/Web-Library-0.06-0/blib/arch
    /home/cpansand/.cpan/build/2017031715/Web-Library-0.06-0/blib/lib
    /home/cpansand/.cpan/build/2017031715/CatalystX-SimpleLogin-0.19-1/blib/arch
    /home/cpansand/.cpan/build/2017031715/CatalystX-SimpleLogin-0.19-1/blib/lib
    /home/cpansand/.cpan/build/2017031715/MooseX-RelatedClassRoles-0.004-2/blib/arch
    /home/cpansand/.cpan/build/2017031715/MooseX-RelatedClassRoles-0.004-2/blib/lib
    /home/cpansand/.cpan/build/2017031715/CatalystX-Resource-0.02-0/blib/arch
    /home/cpansand/.cpan/build/2017031715/CatalystX-Resource-0.02-0/blib/lib
    /home/cpansand/.cpan/build/2017031715/HTML-FormHandler-Model-DBIC-0.29-0/blib/arch
    /home/cpansand/.cpan/build/2017031715/HTML-FormHandler-Model-DBIC-0.29-0/blib/lib
    /home/cpansand/.cpan/build/2017031715/DBIx-Class-ResultSet-RecursiveUpdate-0.34-0/blib/arch
    /home/cpansand/.cpan/build/2017031715/DBIx-Class-ResultSet-RecursiveUpdate-0.34-0/blib/lib
    /home/cpansand/.cpan/build/2017031715/HTML-FormHandler-0.40067-1/blib/arch
    /home/cpansand/.cpan/build/2017031715/HTML-FormHandler-0.40067-1/blib/lib
    /home/cpansand/.cpan/build/2017031715/Catalyst-Plugin-Session-Store-File-0.18-2/blib/arch
    /home/cpansand/.cpan/build/2017031715/Catalyst-Plugin-Session-Store-File-0.18-2/blib/lib
    /home/cpansand/.cpan/build/2017031715/Catalyst-Plugin-Session-Store-FastMmap-0.16-2/blib/arch
    /home/cpansand/.cpan/build/2017031715/Catalyst-Plugin-Session-Store-FastMmap-0.16-2/blib/lib
    /home/cpansand/.cpan/build/2017031715/Catalyst-ActionRole-ACL-0.07-1/blib/arch
    /home/cpansand/.cpan/build/2017031715/Catalyst-ActionRole-ACL-0.07-1/blib/lib
    /home/cpansand/.cpan/build/2017031715/Catalyst-Controller-ActionRole-0.17-1/blib/arch
    /home/cpansand/.cpan/build/2017031715/Catalyst-Controller-ActionRole-0.17-1/blib/lib
    /home/cpansand/.cpan/build/2017031715/CatalystX-CRUD-ModelAdapter-DBIC-0.15-0/blib/arch
    /home/cpansand/.cpan/build/2017031715/CatalystX-CRUD-ModelAdapter-DBIC-0.15-0/blib/lib
    /home/cpansand/.cpan/build/2017031715/DBIx-Class-RDBOHelpers-0.12-0/blib/arch
    /home/cpansand/.cpan/build/2017031715/DBIx-Class-RDBOHelpers-0.12-0/blib/lib
    /home/cpansand/.cpan/build/2017031715/CatalystX-CRUD-Controller-REST-0.005-0/blib/arch
    /home/cpansand/.cpan/build/2017031715/CatalystX-CRUD-Controller-REST-0.005-0/blib/lib
    /home/cpansand/.cpan/build/2017031715/Catalyst-Action-REST-1.20-1/blib/arch
    /home/cpansand/.cpan/build/2017031715/Catalyst-Action-REST-1.20-1/blib/lib
    /home/cpansand/.cpan/build/2017031715/CatalystX-CRUD-0.57-0/blib/arch
    /home/cpansand/.cpan/build/2017031715/CatalystX-CRUD-0.57-0/blib/lib
    /home/cpansand/.cpan/build/2017031715/Sort-SQL-0.08-0/blib/arch
    /home/cpansand/.cpan/build/2017031715/Sort-SQL-0.08-0/blib/lib
    /home/cpansand/.cpan/build/2017031715/Search-QueryParser-SQL-0.010-0/blib/arch
    /home/cpansand/.cpan/build/2017031715/Search-QueryParser-SQL-0.010-0/blib/lib
    /home/cpansand/.cpan/build/2017031715/Search-QueryParser-0.94-0/blib/arch
    /home/cpansand/.cpan/build/2017031715/Search-QueryParser-0.94-0/blib/lib
    /home/cpansand/.cpan/build/2017031715/Data-Pageset-1.06-1/blib/arch
    /home/cpansand/.cpan/build/2017031715/Data-Pageset-1.06-1/blib/lib
    /home/cpansand/.cpan/build/2017031715/Catalyst-Component-ACCEPT_CONTEXT-0.07-0/blib/arch
    /home/cpansand/.cpan/build/2017031715/Catalyst-Component-ACCEPT_CONTEXT-0.07-0/blib/lib
    /home/cpansand/.cpan/build/2017031715/Catalyst-View-CSV-1.7-0/blib/arch
    /home/cpansand/.cpan/build/2017031715/Catalyst-View-CSV-1.7-0/blib/lib
    /home/cpansand/.cpan/build/2017031715/Catalyst-TraitFor-Model-DBIC-Schema-WithCurrentUser-0.07-0/blib/arch
    /home/cpansand/.cpan/build/2017031715/Catalyst-TraitFor-Model-DBIC-Schema-WithCurrentUser-0.07-0/blib/lib
    /home/cpansand/.cpan/build/2017031715/Catalyst-TraitFor-Model-DBIC-Schema-Result-0.006-0/blib/arch
    /home/cpansand/.cpan/build/2017031715/Catalyst-TraitFor-Model-DBIC-Schema-Result-0.006-0/blib/lib
    /home/cpansand/.cpan/build/2017031715/Catalyst-TraitFor-Model-DBIC-Schema-RequestConnectionPool-0.1000-0/blib/arch
    /home/cpansand/.cpan/build/2017031715/Catalyst-TraitFor-Model-DBIC-Schema-RequestConnectionPool-0.1000-0/blib/lib
    /home/cpansand/.cpan/build/2017031715/Catalyst-TraitFor-Model-DBIC-Schema-QueryLog-0.03-0/blib/arch
    /home/cpansand/.cpan/build/2017031715/Catalyst-TraitFor-Model-DBIC-Schema-QueryLog-0.03-0/blib/lib
    /home/cpansand/.cpan/build/2017031715/Catalyst-TraitFor-Controller-DoesExtPaging-1.000001-0/blib/arch
    /home/cpansand/.cpan/build/2017031715/Catalyst-TraitFor-Controller-DoesExtPaging-1.000001-0/blib/lib
    /home/cpansand/.cpan/build/2017031715/Web-Util-ExtPaging-0.001003-0/blib/arch
    /home/cpansand/.cpan/build/2017031715/Web-Util-ExtPaging-0.001003-0/blib/lib
    /home/cpansand/.cpan/build/2017031715/Catalyst-TraitFor-Controller-DBIC-DoesPaging-1.001003-0/blib/arch
    /home/cpansand/.cpan/build/2017031715/Catalyst-TraitFor-Controller-DBIC-DoesPaging-1.001003-0/blib/lib
    /home/cpansand/.cpan/build/2017031715/Web-Util-DBIC-Paging-0.001003-0/blib/arch
    /home/cpansand/.cpan/build/2017031715/Web-Util-DBIC-Paging-0.001003-0/blib/lib
    /home/cpansand/.cpan/build/2017031715/Catalyst-Plugin-Session-Store-CHI-CHI-0.002-0/blib/arch
    /home/cpansand/.cpan/build/2017031715/Catalyst-Plugin-Session-Store-CHI-CHI-0.002-0/blib/lib
    /home/cpansand/.cpan/build/2017031715/Catalyst-Plugin-Bread-Board-0.03-0/blib/arch
    /home/cpansand/.cpan/build/2017031715/Catalyst-Plugin-Bread-Board-0.03-0/blib/lib
    /home/cpansand/.cpan/build/2017031715/Bread-Board-0.34-1/blib/arch
    /home/cpansand/.cpan/build/2017031715/Bread-Board-0.34-1/blib/lib
    /home/cpansand/.cpan/build/2017031715/Catalyst-Plugin-AutoCRUD-2.200002-0/blib/arch
    /home/cpansand/.cpan/build/2017031715/Catalyst-Plugin-AutoCRUD-2.200002-0/blib/lib
    /home/cpansand/.cpan/build/2017031715/Catalyst-View-JSON-0.36-1/blib/arch
    /home/cpansand/.cpan/build/2017031715/Catalyst-View-JSON-0.36-1/blib/lib
    /home/cpansand/.cpan/build/2017031715/Test2-Suite-0.000069-5/blib/arch
    /home/cpansand/.cpan/build/2017031715/Test2-Suite-0.000069-5/blib/lib
    /opt/perl-5.24.0/lib/site_perl/5.24.0/x86_64-linux
    /opt/perl-5.24.0/lib/site_perl/5.24.0
    /opt/perl-5.24.0/lib/5.24.0/x86_64-linux
    /opt/perl-5.24.0/lib/5.24.0
    .