Report for HTTP-Session2-1.09

Back
From: metabase:user:30ae4450-2aae-11df-837a-5e0a49663a4f
Subject: PASS HTTP-Session2-1.09 v5.18.0 
Date: 2014-11-16T17:13:22Z

This distribution has been tested as part of the CPAN Testers
project, supporting the Perl programming language.  See
http://wiki.cpantesters.org/ for more information or email
questions to cpan-testers-discuss@perl.org


--
Dear Tokuhiro Matsuno,

This is a computer-generated report for HTTP-Session2-1.09
on perl 5.18.0, created by CPAN-Reporter-1.2010_01.

Thank you for uploading your work to CPAN.  Congratulations!
All tests were successful.

Sections of this report:

    * Tester comments
    * Program output
    * Prerequisites
    * Environment and other context

------------------------------
TESTER COMMENTS
------------------------------

Additional comments from tester:

this report is from an automated smoke testing program
and was not reviewed by a human for accuracy

------------------------------
PROGRAM OUTPUT
------------------------------

Output from 'C:\strawberry180\perl\bin\perl.exe ./Build test':

Cannot open /dev/urandom: No such file or directory. at C:\strawberry180\cpan\build\HTTP-Session2-1.09-WWoBcP\blib\lib/HTTP/Session2/Random.pm line 19.
t\00_compile.t .............. ok
Cannot open /dev/urandom: No such file or directory. at C:\strawberry180\cpan\build\HTTP-Session2-1.09-WWoBcP\blib\lib/HTTP/Session2/Random.pm line 19.
Secret string too short at C:\strawberry180\cpan\build\HTTP-Session2-1.09-WWoBcP\blib\lib/HTTP/Session2/Base.pm line 79.
	HTTP::Session2::Base::__ANON__('HTTP::Session2::ServerStore=HASH(0xceee5c)', 's3cret') called at t\01_server_side.t line 23
	main::__ANON__('client -> server: request without cookie', 'CODE(0xcee9f4)') called at t\01_server_side.t line 25
	main::__ANON__() called at C:/strawberry180/perl/lib/Test/Builder.pm line 234
	Test::Builder::__ANON__() called at C:/strawberry180/perl/lib/Test/Builder.pm line 239
	eval {...} called at C:/strawberry180/perl/lib/Test/Builder.pm line 239
	Test::Builder::subtest('Test::Builder=HASH(0x9b86bc)', 'First request', 'CODE(0xcc1fcc)') called at C:/strawberry180/perl/lib/Test/More.pm line 747
	Test::More::subtest('First request', 'CODE(0xcc1fcc)') called at t\01_server_side.t line 11
	main::scenario('First request', 'CODE(0xcc1fcc)') called at t\01_server_side.t line 31
Secret string too short at C:\strawberry180\cpan\build\HTTP-Session2-1.09-WWoBcP\blib\lib/HTTP/Session2/Base.pm line 79.
	HTTP::Session2::Base::__ANON__('HTTP::Session2::ServerStore=HASH(0xceedfc)', 's3cret') called at t\01_server_side.t line 40
	main::__ANON__('client -> server: request without cookie', 'CODE(0xa94824)') called at t\01_server_side.t line 42
	main::__ANON__() called at C:/strawberry180/perl/lib/Test/Builder.pm line 234
	Test::Builder::__ANON__() called at C:/strawberry180/perl/lib/Test/Builder.pm line 239
	eval {...} called at C:/strawberry180/perl/lib/Test/Builder.pm line 239
	Test::Builder::subtest('Test::Builder=HASH(0x9b86bc)', 'Store something without login', 'CODE(0xcd6b5c)') called at C:/strawberry180/perl/lib/Test/More.pm line 747
	Test::More::subtest('Store something without login', 'CODE(0xcd6b5c)') called at t\01_server_side.t line 11
	main::scenario('Store something without login', 'CODE(0xcd6b5c)') called at t\01_server_side.t line 58
Secret string too short at C:\strawberry180\cpan\build\HTTP-Session2-1.09-WWoBcP\blib\lib/HTTP/Session2/Base.pm line 79.
	HTTP::Session2::Base::__ANON__('HTTP::Session2::ServerStore=HASH(0xceea6c)', 's3cret') called at t\01_server_side.t line 70
	main::__ANON__('client -> server: request without cookie', 'CODE(0xd09a8c)') called at t\01_server_side.t line 72
	main::__ANON__() called at C:/strawberry180/perl/lib/Test/Builder.pm line 234
	Test::Builder::__ANON__() called at C:/strawberry180/perl/lib/Test/Builder.pm line 239
	eval {...} called at C:/strawberry180/perl/lib/Test/Builder.pm line 239
	Test::Builder::subtest('Test::Builder=HASH(0x9b86bc)', 'Login', 'CODE(0xa94734)') called at C:/strawberry180/perl/lib/Test/More.pm line 747
	Test::More::subtest('Login', 'CODE(0xa94734)') called at t\01_server_side.t line 11
	main::scenario('Login', 'CODE(0xa94734)') called at t\01_server_side.t line 96
Secret string too short at C:\strawberry180\cpan\build\HTTP-Session2-1.09-WWoBcP\blib\lib/HTTP/Session2/Base.pm line 79.
	HTTP::Session2::Base::__ANON__('HTTP::Session2::ServerStore=HASH(0xd0a0bc)', 's3cret') called at t\01_server_side.t line 108
	main::__ANON__('client -> server: request without cookie', 'CODE(0xd09d74)') called at t\01_server_side.t line 110
	main::__ANON__() called at C:/strawberry180/perl/lib/Test/Builder.pm line 234
	Test::Builder::__ANON__() called at C:/strawberry180/perl/lib/Test/Builder.pm line 239
	eval {...} called at C:/strawberry180/perl/lib/Test/Builder.pm line 239
	Test::Builder::subtest('Test::Builder=HASH(0x9b86bc)', 'In a login session', 'CODE(0xa9507c)') called at C:/strawberry180/perl/lib/Test/More.pm line 747
	Test::More::subtest('In a login session', 'CODE(0xa9507c)') called at t\01_server_side.t line 11
	main::scenario('In a login session', 'CODE(0xa9507c)') called at t\01_server_side.t line 124
Secret string too short at C:\strawberry180\cpan\build\HTTP-Session2-1.09-WWoBcP\blib\lib/HTTP/Session2/Base.pm line 79.
	HTTP::Session2::Base::__ANON__('HTTP::Session2::ServerStore=HASH(0xd09f84)', 's3cret') called at t\01_server_side.t line 131
	main::__ANON__('client -> server: request without cookie', 'CODE(0xd09e34)') called at t\01_server_side.t line 138
	main::__ANON__() called at C:/strawberry180/perl/lib/Test/Builder.pm line 234
	Test::Builder::__ANON__() called at C:/strawberry180/perl/lib/Test/Builder.pm line 239
	eval {...} called at C:/strawberry180/perl/lib/Test/Builder.pm line 239
	Test::Builder::subtest('Test::Builder=HASH(0x9b86bc)', 'Logout', 'CODE(0xce55a4)') called at C:/strawberry180/perl/lib/Test/More.pm line 747
	Test::More::subtest('Logout', 'CODE(0xce55a4)') called at t\01_server_side.t line 11
	main::scenario('Logout', 'CODE(0xce55a4)') called at t\01_server_side.t line 153
t\01_server_side.t .......... ok
Cannot open /dev/urandom: No such file or directory. at C:\strawberry180\cpan\build\HTTP-Session2-1.09-WWoBcP\blib\lib/HTTP/Session2/Random.pm line 19.
Secret string too short at C:\strawberry180\cpan\build\HTTP-Session2-1.09-WWoBcP\blib\lib/HTTP/Session2/Base.pm line 79.
	HTTP::Session2::Base::__ANON__('HTTP::Session2::ClientStore=HASH(0xd1067c)', 's3cret') called at t\02_client_side.t line 17
	main::__ANON__('client -> server: request without cookie', 'CODE(0xd10544)') called at t\02_client_side.t line 22
	main::__ANON__() called at C:/strawberry180/perl/lib/Test/Builder.pm line 234
	Test::Builder::__ANON__() called at C:/strawberry180/perl/lib/Test/Builder.pm line 239
	eval {...} called at C:/strawberry180/perl/lib/Test/Builder.pm line 239
	Test::Builder::subtest('Test::Builder=HASH(0x9b84e4)', 'First request', 'CODE(0xbcab6c)') called at C:/strawberry180/perl/lib/Test/More.pm line 747
	Test::More::subtest('First request', 'CODE(0xbcab6c)') called at t\02_client_side.t line 9
	main::scenario('First request', 'CODE(0xbcab6c)') called at t\02_client_side.t line 28
Secret string too short at C:\strawberry180\cpan\build\HTTP-Session2-1.09-WWoBcP\blib\lib/HTTP/Session2/Base.pm line 79.
	HTTP::Session2::Base::__ANON__('HTTP::Session2::ClientStore=HASH(0xd107fc)', 's3cret') called at t\02_client_side.t line 33
	main::__ANON__('client -> server: request without cookie', 'CODE(0x999864)') called at t\02_client_side.t line 38
	main::__ANON__() called at C:/strawberry180/perl/lib/Test/Builder.pm line 234
	Test::Builder::__ANON__() called at C:/strawberry180/perl/lib/Test/Builder.pm line 239
	eval {...} called at C:/strawberry180/perl/lib/Test/Builder.pm line 239
	Test::Builder::subtest('Test::Builder=HASH(0x9b84e4)', 'Store something without login', 'CODE(0xd01ecc)') called at C:/strawberry180/perl/lib/Test/More.pm line 747
	Test::More::subtest('Store something without login', 'CODE(0xd01ecc)') called at t\02_client_side.t line 9
	main::scenario('Store something without login', 'CODE(0xd01ecc)') called at t\02_client_side.t line 54
Do not use HTTP::Session2::ClientStore. Use HTTP::Session2::ServerStore or HTTP::Session2::ClientStore2 instead. at C:\strawberry180\cpan\build\HTTP-Session2-1.09-WWoBcP\blib\lib/HTTP/Session2/ClientStore.pm line 25.
Secret string too short at C:\strawberry180\cpan\build\HTTP-Session2-1.09-WWoBcP\blib\lib/HTTP/Session2/Base.pm line 79.
	HTTP::Session2::Base::__ANON__('HTTP::Session2::ClientStore=HASH(0x9a02cc)', 's3cret') called at t\02_client_side.t line 60
	main::__ANON__('client -> server: request without cookie', 'CODE(0xd305c4)') called at t\02_client_side.t line 66
	main::__ANON__() called at C:/strawberry180/perl/lib/Test/Builder.pm line 234
	Test::Builder::__ANON__() called at C:/strawberry180/perl/lib/Test/Builder.pm line 239
	eval {...} called at C:/strawberry180/perl/lib/Test/Builder.pm line 239
	Test::Builder::subtest('Test::Builder=HASH(0x9b84e4)', 'Login', 'CODE(0xd022bc)') called at C:/strawberry180/perl/lib/Test/More.pm line 747
	Test::More::subtest('Login', 'CODE(0xd022bc)') called at t\02_client_side.t line 9
	main::scenario('Login', 'CODE(0xd022bc)') called at t\02_client_side.t line 86
Do not use HTTP::Session2::ClientStore. Use HTTP::Session2::ServerStore or HTTP::Session2::ClientStore2 instead. at C:\strawberry180\cpan\build\HTTP-Session2-1.09-WWoBcP\blib\lib/HTTP/Session2/ClientStore.pm line 35.
Do not use HTTP::Session2::ClientStore. Use HTTP::Session2::ServerStore or HTTP::Session2::ClientStore2 instead. at C:\strawberry180\cpan\build\HTTP-Session2-1.09-WWoBcP\blib\lib/HTTP/Session2/ClientStore.pm line 25.
Secret string too short at C:\strawberry180\cpan\build\HTTP-Session2-1.09-WWoBcP\blib\lib/HTTP/Session2/Base.pm line 79.
	HTTP::Session2::Base::__ANON__('HTTP::Session2::ClientStore=HASH(0xd308c4)', 's3cret') called at t\02_client_side.t line 92
	main::__ANON__('client -> server: request without cookie', 'CODE(0xd29514)') called at t\02_client_side.t line 98
	main::__ANON__() called at C:/strawberry180/perl/lib/Test/Builder.pm line 234
	Test::Builder::__ANON__() called at C:/strawberry180/perl/lib/Test/Builder.pm line 239
	eval {...} called at C:/strawberry180/perl/lib/Test/Builder.pm line 239
	Test::Builder::subtest('Test::Builder=HASH(0x9b84e4)', 'In a login session', 'CODE(0xd06ab4)') called at C:/strawberry180/perl/lib/Test/More.pm line 747
	Test::More::subtest('In a login session', 'CODE(0xd06ab4)') called at t\02_client_side.t line 9
	main::scenario('In a login session', 'CODE(0xd06ab4)') called at t\02_client_side.t line 107
Do not use HTTP::Session2::ClientStore. Use HTTP::Session2::ServerStore or HTTP::Session2::ClientStore2 instead. at C:\strawberry180\cpan\build\HTTP-Session2-1.09-WWoBcP\blib\lib/HTTP/Session2/ClientStore.pm line 35.
Do not use HTTP::Session2::ClientStore. Use HTTP::Session2::ServerStore or HTTP::Session2::ClientStore2 instead. at C:\strawberry180\cpan\build\HTTP-Session2-1.09-WWoBcP\blib\lib/HTTP/Session2/ClientStore.pm line 25.
Secret string too short at C:\strawberry180\cpan\build\HTTP-Session2-1.09-WWoBcP\blib\lib/HTTP/Session2/Base.pm line 79.
	HTTP::Session2::Base::__ANON__('HTTP::Session2::ClientStore=HASH(0xd1103c)', 's3cret') called at t\02_client_side.t line 112
	main::__ANON__('client -> server: request without cookie', 'CODE(0xd306fc)') called at t\02_client_side.t line 118
	main::__ANON__() called at C:/strawberry180/perl/lib/Test/Builder.pm line 234
	Test::Builder::__ANON__() called at C:/strawberry180/perl/lib/Test/Builder.pm line 239
	eval {...} called at C:/strawberry180/perl/lib/Test/Builder.pm line 239
	Test::Builder::subtest('Test::Builder=HASH(0x9b84e4)', 'Logout', 'CODE(0xd0718c)') called at C:/strawberry180/perl/lib/Test/More.pm line 747
	Test::More::subtest('Logout', 'CODE(0xd0718c)') called at t\02_client_side.t line 9
	main::scenario('Logout', 'CODE(0xd0718c)') called at t\02_client_side.t line 131
Use of uninitialized value in subroutine entry at C:/strawberry180/perl/vendor/lib/Digest/HMAC.pm line 59.
t\02_client_side.t .......... ok
Cannot open /dev/urandom: No such file or directory. at C:\strawberry180\cpan\build\HTTP-Session2-1.09-WWoBcP\blib\lib/HTTP/Session2/Random.pm line 19.
Secret string too short at C:\strawberry180\cpan\build\HTTP-Session2-1.09-WWoBcP\blib\lib/HTTP/Session2/Base.pm line 79.
	HTTP::Session2::Base::__ANON__('HTTP::Session2::ServerStore=HASH(0x160156c)', 's3cret') called at t\03_mech.t line 121
	main::server_session('HASH(0x16012b4)') called at t\03_mech.t line 17
	main::__ANON__('HASH(0x16012b4)') called at C:/strawberry180/perl/site/lib/Test/WWW/Mechanize/PSGI.pm line 39
	Test::WWW::Mechanize::PSGI::__ANON__() called at C:/strawberry180/perl/vendor/lib/Try/Tiny.pm line 76
	eval {...} called at C:/strawberry180/perl/vendor/lib/Try/Tiny.pm line 67
	Try::Tiny::try('CODE(0x1600edc)', 'Try::Tiny::Catch=REF(0xbfedcc)') called at C:/strawberry180/perl/site/lib/Test/WWW/Mechanize/PSGI.pm line 46
	Test::WWW::Mechanize::PSGI::simple_request('Test::WWW::Mechanize::PSGI=HASH(0x141bb7c)', 'HTTP::Request=HASH(0x15a1434)', undef, undef) called at C:/strawberry180/perl/vendor/lib/LWP/UserAgent.pm line 282
	LWP::UserAgent::request('Test::WWW::Mechanize::PSGI=HASH(0x141bb7c)', 'HTTP::Request=HASH(0x15a1434)') called at C:/strawberry180/perl/vendor/lib/WWW/Mechanize.pm line 2503
	WWW::Mechanize::_make_request('Test::WWW::Mechanize::PSGI=HASH(0x141bb7c)', 'HTTP::Request=HASH(0x15a1434)') called at C:/strawberry180/perl/vendor/lib/WWW/Mechanize.pm line 2217
	WWW::Mechanize::request('Test::WWW::Mechanize::PSGI=HASH(0x141bb7c)', 'HTTP::Request=HASH(0x15a1434)') called at C:/strawberry180/perl/vendor/lib/LWP/UserAgent.pm line 410
	LWP::UserAgent::get('Test::WWW::Mechanize::PSGI=HASH(0x141bb7c)', '/') called at C:/strawberry180/perl/vendor/lib/WWW/Mechanize.pm line 407
	WWW::Mechanize::get('Test::WWW::Mechanize::PSGI=HASH(0x141bb7c)', '/') called at C:/strawberry180/perl/site/lib/Test/WWW/Mechanize.pm line 159
	Test::WWW::Mechanize::get_ok('Test::WWW::Mechanize::PSGI=HASH(0x141bb7c)', '/') called at t\03_mech.t line 74
Secret string too short at C:\strawberry180\cpan\build\HTTP-Session2-1.09-WWoBcP\blib\lib/HTTP/Session2/Base.pm line 79.
	HTTP::Session2::Base::__ANON__('HTTP::Session2::ServerStore=HASH(0x1619bcc)', 's3cret') called at t\03_mech.t line 121
	main::server_session('HASH(0x1619794)') called at t\03_mech.t line 17
	main::__ANON__('HASH(0x1619794)') called at C:/strawberry180/perl/site/lib/Test/WWW/Mechanize/PSGI.pm line 39
	Test::WWW::Mechanize::PSGI::__ANON__() called at C:/strawberry180/perl/vendor/lib/Try/Tiny.pm line 76
	eval {...} called at C:/strawberry180/perl/vendor/lib/Try/Tiny.pm line 67
	Try::Tiny::try('CODE(0x16197ac)', 'Try::Tiny::Catch=REF(0x16014ac)') called at C:/strawberry180/perl/site/lib/Test/WWW/Mechanize/PSGI.pm line 46
	Test::WWW::Mechanize::PSGI::simple_request('Test::WWW::Mechanize::PSGI=HASH(0x141bb7c)', 'HTTP::Request=HASH(0x1619314)', undef, undef) called at C:/strawberry180/perl/vendor/lib/LWP/UserAgent.pm line 282
	LWP::UserAgent::request('Test::WWW::Mechanize::PSGI=HASH(0x141bb7c)', 'HTTP::Request=HASH(0x1619314)') called at C:/strawberry180/perl/vendor/lib/WWW/Mechanize.pm line 2503
	WWW::Mechanize::_make_request('Test::WWW::Mechanize::PSGI=HASH(0x141bb7c)', 'HTTP::Request=HASH(0x1619314)') called at C:/strawberry180/perl/vendor/lib/WWW/Mechanize.pm line 2217
	WWW::Mechanize::request('Test::WWW::Mechanize::PSGI=HASH(0x141bb7c)', 'HTTP::Request=HASH(0x1619314)') called at C:/strawberry180/perl/vendor/lib/LWP/UserAgent.pm line 418
	LWP::UserAgent::post('Test::WWW::Mechanize::PSGI=HASH(0x141bb7c)', '/wishlist?foo', 'HASH(0xc187b4)') called at C:/strawberry180/perl/site/lib/Test/WWW/Mechanize.pm line 236
	Test::WWW::Mechanize::post_ok('Test::WWW::Mechanize::PSGI=HASH(0x141bb7c)', '/wishlist?foo') called at t\03_mech.t line 75
Secret string too short at C:\strawberry180\cpan\build\HTTP-Session2-1.09-WWoBcP\blib\lib/HTTP/Session2/Base.pm line 79.
	HTTP::Session2::Base::__ANON__('HTTP::Session2::ServerStore=HASH(0x161fc94)', 's3cret') called at t\03_mech.t line 121
	main::server_session('HASH(0x1619e0c)') called at t\03_mech.t line 17
	main::__ANON__('HASH(0x1619e0c)') called at C:/strawberry180/perl/site/lib/Test/WWW/Mechanize/PSGI.pm line 39
	Test::WWW::Mechanize::PSGI::__ANON__() called at C:/strawberry180/perl/vendor/lib/Try/Tiny.pm line 76
	eval {...} called at C:/strawberry180/perl/vendor/lib/Try/Tiny.pm line 67
	Try::Tiny::try('CODE(0x161f94c)', 'Try::Tiny::Catch=REF(0x1619a64)') called at C:/strawberry180/perl/site/lib/Test/WWW/Mechanize/PSGI.pm line 46
	Test::WWW::Mechanize::PSGI::simple_request('Test::WWW::Mechanize::PSGI=HASH(0x141bb7c)', 'HTTP::Request=HASH(0x1619824)', undef, undef) called at C:/strawberry180/perl/vendor/lib/LWP/UserAgent.pm line 282
	LWP::UserAgent::request('Test::WWW::Mechanize::PSGI=HASH(0x141bb7c)', 'HTTP::Request=HASH(0x1619824)') called at C:/strawberry180/perl/vendor/lib/WWW/Mechanize.pm line 2503
	WWW::Mechanize::_make_request('Test::WWW::Mechanize::PSGI=HASH(0x141bb7c)', 'HTTP::Request=HASH(0x1619824)') called at C:/strawberry180/perl/vendor/lib/WWW/Mechanize.pm line 2217
	WWW::Mechanize::request('Test::WWW::Mechanize::PSGI=HASH(0x141bb7c)', 'HTTP::Request=HASH(0x1619824)') called at C:/strawberry180/perl/vendor/lib/LWP/UserAgent.pm line 410
	LWP::UserAgent::get('Test::WWW::Mechanize::PSGI=HASH(0x141bb7c)', 'http://localhost/wishlist') called at C:/strawberry180/perl/vendor/lib/WWW/Mechanize.pm line 407
	WWW::Mechanize::get('Test::WWW::Mechanize::PSGI=HASH(0x141bb7c)', '/wishlist') called at C:/strawberry180/perl/site/lib/Test/WWW/Mechanize.pm line 159
	Test::WWW::Mechanize::get_ok('Test::WWW::Mechanize::PSGI=HASH(0x141bb7c)', '/wishlist') called at t\03_mech.t line 76
Secret string too short at C:\strawberry180\cpan\build\HTTP-Session2-1.09-WWoBcP\blib\lib/HTTP/Session2/Base.pm line 79.
	HTTP::Session2::Base::__ANON__('HTTP::Session2::ServerStore=HASH(0x16200cc)', 's3cret') called at t\03_mech.t line 121
	main::server_session('HASH(0x161f8ec)') called at t\03_mech.t line 17
	main::__ANON__('HASH(0x161f8ec)') called at C:/strawberry180/perl/site/lib/Test/WWW/Mechanize/PSGI.pm line 39
	Test::WWW::Mechanize::PSGI::__ANON__() called at C:/strawberry180/perl/vendor/lib/Try/Tiny.pm line 76
	eval {...} called at C:/strawberry180/perl/vendor/lib/Try/Tiny.pm line 67
	Try::Tiny::try('CODE(0x1620174)', 'Try::Tiny::Catch=REF(0x161fb14)') called at C:/strawberry180/perl/site/lib/Test/WWW/Mechanize/PSGI.pm line 46
	Test::WWW::Mechanize::PSGI::simple_request('Test::WWW::Mechanize::PSGI=HASH(0x141bb7c)', 'HTTP::Request=HASH(0x161fa3c)', undef, undef) called at C:/strawberry180/perl/vendor/lib/LWP/UserAgent.pm line 282
	LWP::UserAgent::request('Test::WWW::Mechanize::PSGI=HASH(0x141bb7c)', 'HTTP::Request=HASH(0x161fa3c)') called at C:/strawberry180/perl/vendor/lib/WWW/Mechanize.pm line 2503
	WWW::Mechanize::_make_request('Test::WWW::Mechanize::PSGI=HASH(0x141bb7c)', 'HTTP::Request=HASH(0x161fa3c)') called at C:/strawberry180/perl/vendor/lib/WWW/Mechanize.pm line 2217
	WWW::Mechanize::request('Test::WWW::Mechanize::PSGI=HASH(0x141bb7c)', 'HTTP::Request=HASH(0x161fa3c)') called at C:/strawberry180/perl/vendor/lib/LWP/UserAgent.pm line 418
	LWP::UserAgent::post('Test::WWW::Mechanize::PSGI=HASH(0x141bb7c)', '/wishlist?bar') called at t\03_mech.t line 78
Secret string too short at C:\strawberry180\cpan\build\HTTP-Session2-1.09-WWoBcP\blib\lib/HTTP/Session2/Base.pm line 79.
	HTTP::Session2::Base::__ANON__('HTTP::Session2::ServerStore=HASH(0x162060c)', 's3cret') called at t\03_mech.t line 121
	main::server_session('HASH(0x161fe2c)') called at t\03_mech.t line 17
	main::__ANON__('HASH(0x161fe2c)') called at C:/strawberry180/perl/site/lib/Test/WWW/Mechanize/PSGI.pm line 39
	Test::WWW::Mechanize::PSGI::__ANON__() called at C:/strawberry180/perl/vendor/lib/Try/Tiny.pm line 76
	eval {...} called at C:/strawberry180/perl/vendor/lib/Try/Tiny.pm line 67
	Try::Tiny::try('CODE(0x1620144)', 'Try::Tiny::Catch=REF(0x161fcdc)') called at C:/strawberry180/perl/site/lib/Test/WWW/Mechanize/PSGI.pm line 46
	Test::WWW::Mechanize::PSGI::simple_request('Test::WWW::Mechanize::PSGI=HASH(0x141bb7c)', 'HTTP::Request=HASH(0x161fdfc)', undef, undef) called at C:/strawberry180/perl/vendor/lib/LWP/UserAgent.pm line 282
	LWP::UserAgent::request('Test::WWW::Mechanize::PSGI=HASH(0x141bb7c)', 'HTTP::Request=HASH(0x161fdfc)') called at C:/strawberry180/perl/vendor/lib/WWW/Mechanize.pm line 2503
	WWW::Mechanize::_make_request('Test::WWW::Mechanize::PSGI=HASH(0x141bb7c)', 'HTTP::Request=HASH(0x161fdfc)') called at C:/strawberry180/perl/vendor/lib/WWW/Mechanize.pm line 2217
	WWW::Mechanize::request('Test::WWW::Mechanize::PSGI=HASH(0x141bb7c)', 'HTTP::Request=HASH(0x161fdfc)') called at C:/strawberry180/perl/vendor/lib/LWP/UserAgent.pm line 418
	LWP::UserAgent::post('Test::WWW::Mechanize::PSGI=HASH(0x141bb7c)', '/wishlist?bar', 'HASH(0xc187b4)') called at C:/strawberry180/perl/site/lib/Test/WWW/Mechanize.pm line 236
	Test::WWW::Mechanize::post_ok('Test::WWW::Mechanize::PSGI=HASH(0x141bb7c)', '/wishlist?bar') called at t\03_mech.t line 81
Secret string too short at C:\strawberry180\cpan\build\HTTP-Session2-1.09-WWoBcP\blib\lib/HTTP/Session2/Base.pm line 79.
	HTTP::Session2::Base::__ANON__('HTTP::Session2::ServerStore=HASH(0x16262e4)', 's3cret') called at t\03_mech.t line 121
	main::server_session('HASH(0x161fc7c)') called at t\03_mech.t line 17
	main::__ANON__('HASH(0x161fc7c)') called at C:/strawberry180/perl/site/lib/Test/WWW/Mechanize/PSGI.pm line 39
	Test::WWW::Mechanize::PSGI::__ANON__() called at C:/strawberry180/perl/vendor/lib/Try/Tiny.pm line 76
	eval {...} called at C:/strawberry180/perl/vendor/lib/Try/Tiny.pm line 67
	Try::Tiny::try('CODE(0x162015c)', 'Try::Tiny::Catch=REF(0x1620504)') called at C:/strawberry180/perl/site/lib/Test/WWW/Mechanize/PSGI.pm line 46
	Test::WWW::Mechanize::PSGI::simple_request('Test::WWW::Mechanize::PSGI=HASH(0x141bb7c)', 'HTTP::Request=HASH(0x162033c)', undef, undef) called at C:/strawberry180/perl/vendor/lib/LWP/UserAgent.pm line 282
	LWP::UserAgent::request('Test::WWW::Mechanize::PSGI=HASH(0x141bb7c)', 'HTTP::Request=HASH(0x162033c)') called at C:/strawberry180/perl/vendor/lib/WWW/Mechanize.pm line 2503
	WWW::Mechanize::_make_request('Test::WWW::Mechanize::PSGI=HASH(0x141bb7c)', 'HTTP::Request=HASH(0x162033c)') called at C:/strawberry180/perl/vendor/lib/WWW/Mechanize.pm line 2217
	WWW::Mechanize::request('Test::WWW::Mechanize::PSGI=HASH(0x141bb7c)', 'HTTP::Request=HASH(0x162033c)') called at C:/strawberry180/perl/vendor/lib/LWP/UserAgent.pm line 410
	LWP::UserAgent::get('Test::WWW::Mechanize::PSGI=HASH(0x141bb7c)', 'http://localhost/wishlist') called at C:/strawberry180/perl/vendor/lib/WWW/Mechanize.pm line 407
	WWW::Mechanize::get('Test::WWW::Mechanize::PSGI=HASH(0x141bb7c)', '/wishlist') called at C:/strawberry180/perl/site/lib/Test/WWW/Mechanize.pm line 159
	Test::WWW::Mechanize::get_ok('Test::WWW::Mechanize::PSGI=HASH(0x141bb7c)', '/wishlist') called at t\03_mech.t line 82
Secret string too short at C:\strawberry180\cpan\build\HTTP-Session2-1.09-WWoBcP\blib\lib/HTTP/Session2/Base.pm line 79.
	HTTP::Session2::Base::__ANON__('HTTP::Session2::ServerStore=HASH(0x16264f4)', 's3cret') called at t\03_mech.t line 121
	main::server_session('HASH(0x1620684)') called at t\03_mech.t line 17
	main::__ANON__('HASH(0x1620684)') called at C:/strawberry180/perl/site/lib/Test/WWW/Mechanize/PSGI.pm line 39
	Test::WWW::Mechanize::PSGI::__ANON__() called at C:/strawberry180/perl/vendor/lib/Try/Tiny.pm line 76
	eval {...} called at C:/strawberry180/perl/vendor/lib/Try/Tiny.pm line 67
	Try::Tiny::try('CODE(0x1625f54)', 'Try::Tiny::Catch=REF(0x1620624)') called at C:/strawberry180/perl/site/lib/Test/WWW/Mechanize/PSGI.pm line 46
	Test::WWW::Mechanize::PSGI::simple_request('Test::WWW::Mechanize::PSGI=HASH(0x141bb7c)', 'HTTP::Request=HASH(0x1620324)', undef, undef) called at C:/strawberry180/perl/vendor/lib/LWP/UserAgent.pm line 282
	LWP::UserAgent::request('Test::WWW::Mechanize::PSGI=HASH(0x141bb7c)', 'HTTP::Request=HASH(0x1620324)') called at C:/strawberry180/perl/vendor/lib/WWW/Mechanize.pm line 2503
	WWW::Mechanize::_make_request('Test::WWW::Mechanize::PSGI=HASH(0x141bb7c)', 'HTTP::Request=HASH(0x1620324)') called at C:/strawberry180/perl/vendor/lib/WWW/Mechanize.pm line 2217
	WWW::Mechanize::request('Test::WWW::Mechanize::PSGI=HASH(0x141bb7c)', 'HTTP::Request=HASH(0x1620324)') called at C:/strawberry180/perl/vendor/lib/LWP/UserAgent.pm line 418
	LWP::UserAgent::post('Test::WWW::Mechanize::PSGI=HASH(0x141bb7c)', '/account/login?john', 'HASH(0xc187b4)') called at C:/strawberry180/perl/site/lib/Test/WWW/Mechanize.pm line 236
	Test::WWW::Mechanize::post_ok('Test::WWW::Mechanize::PSGI=HASH(0x141bb7c)', '/account/login?john') called at t\03_mech.t line 84
Secret string too short at C:\strawberry180\cpan\build\HTTP-Session2-1.09-WWoBcP\blib\lib/HTTP/Session2/Base.pm line 79.
	HTTP::Session2::Base::__ANON__('HTTP::Session2::ServerStore=HASH(0x16269d4)', 's3cret') called at t\03_mech.t line 121
	main::server_session('HASH(0x1620774)') called at t\03_mech.t line 17
	main::__ANON__('HASH(0x1620774)') called at C:/strawberry180/perl/site/lib/Test/WWW/Mechanize/PSGI.pm line 39
	Test::WWW::Mechanize::PSGI::__ANON__() called at C:/strawberry180/perl/vendor/lib/Try/Tiny.pm line 76
	eval {...} called at C:/strawberry180/perl/vendor/lib/Try/Tiny.pm line 67
	Try::Tiny::try('CODE(0x1620594)', 'Try::Tiny::Catch=REF(0x162644c)') called at C:/strawberry180/perl/site/lib/Test/WWW/Mechanize/PSGI.pm line 46
	Test::WWW::Mechanize::PSGI::simple_request('Test::WWW::Mechanize::PSGI=HASH(0x141bb7c)', 'HTTP::Request=HASH(0x16205ac)', undef, undef) called at C:/strawberry180/perl/vendor/lib/LWP/UserAgent.pm line 282
	LWP::UserAgent::request('Test::WWW::Mechanize::PSGI=HASH(0x141bb7c)', 'HTTP::Request=HASH(0x16205ac)') called at C:/strawberry180/perl/vendor/lib/WWW/Mechanize.pm line 2503
	WWW::Mechanize::_make_request('Test::WWW::Mechanize::PSGI=HASH(0x141bb7c)', 'HTTP::Request=HASH(0x16205ac)') called at C:/strawberry180/perl/vendor/lib/WWW/Mechanize.pm line 2217
	WWW::Mechanize::request('Test::WWW::Mechanize::PSGI=HASH(0x141bb7c)', 'HTTP::Request=HASH(0x16205ac)') called at C:/strawberry180/perl/vendor/lib/LWP/UserAgent.pm line 410
	LWP::UserAgent::get('Test::WWW::Mechanize::PSGI=HASH(0x141bb7c)', 'http://localhost/wishlist') called at C:/strawberry180/perl/vendor/lib/WWW/Mechanize.pm line 407
	WWW::Mechanize::get('Test::WWW::Mechanize::PSGI=HASH(0x141bb7c)', '/wishlist') called at C:/strawberry180/perl/site/lib/Test/WWW/Mechanize.pm line 159
	Test::WWW::Mechanize::get_ok('Test::WWW::Mechanize::PSGI=HASH(0x141bb7c)', '/wishlist', 'Wishlist is still available') called at t\03_mech.t line 85
Secret string too short at C:\strawberry180\cpan\build\HTTP-Session2-1.09-WWoBcP\blib\lib/HTTP/Session2/Base.pm line 79.
	HTTP::Session2::Base::__ANON__('HTTP::Session2::ServerStore=HASH(0x1628954)', 's3cret') called at t\03_mech.t line 121
	main::server_session('HASH(0x1625f9c)') called at t\03_mech.t line 17
	main::__ANON__('HASH(0x1625f9c)') called at C:/strawberry180/perl/site/lib/Test/WWW/Mechanize/PSGI.pm line 39
	Test::WWW::Mechanize::PSGI::__ANON__() called at C:/strawberry180/perl/vendor/lib/Try/Tiny.pm line 76
	eval {...} called at C:/strawberry180/perl/vendor/lib/Try/Tiny.pm line 67
	Try::Tiny::try('CODE(0x161f904)', 'Try::Tiny::Catch=REF(0x1626974)') called at C:/strawberry180/perl/site/lib/Test/WWW/Mechanize/PSGI.pm line 46
	Test::WWW::Mechanize::PSGI::simple_request('Test::WWW::Mechanize::PSGI=HASH(0x141bb7c)', 'HTTP::Request=HASH(0x1619c74)', undef, undef) called at C:/strawberry180/perl/vendor/lib/LWP/UserAgent.pm line 282
	LWP::UserAgent::request('Test::WWW::Mechanize::PSGI=HASH(0x141bb7c)', 'HTTP::Request=HASH(0x1619c74)') called at C:/strawberry180/perl/vendor/lib/WWW/Mechanize.pm line 2503
	WWW::Mechanize::_make_request('Test::WWW::Mechanize::PSGI=HASH(0x141bb7c)', 'HTTP::Request=HASH(0x1619c74)') called at C:/strawberry180/perl/vendor/lib/WWW/Mechanize.pm line 2217
	WWW::Mechanize::request('Test::WWW::Mechanize::PSGI=HASH(0x141bb7c)', 'HTTP::Request=HASH(0x1619c74)') called at C:/strawberry180/perl/vendor/lib/LWP/UserAgent.pm line 418
	LWP::UserAgent::post('Test::WWW::Mechanize::PSGI=HASH(0x141bb7c)', '/wishlist?baz') called at t\03_mech.t line 87
Secret string too short at C:\strawberry180\cpan\build\HTTP-Session2-1.09-WWoBcP\blib\lib/HTTP/Session2/Base.pm line 79.
	HTTP::Session2::Base::__ANON__('HTTP::Session2::ServerStore=HASH(0x1628f0c)', 's3cret') called at t\03_mech.t line 121
	main::server_session('HASH(0x1628b04)') called at t\03_mech.t line 17
	main::__ANON__('HASH(0x1628b04)') called at C:/strawberry180/perl/site/lib/Test/WWW/Mechanize/PSGI.pm line 39
	Test::WWW::Mechanize::PSGI::__ANON__() called at C:/strawberry180/perl/vendor/lib/Try/Tiny.pm line 76
	eval {...} called at C:/strawberry180/perl/vendor/lib/Try/Tiny.pm line 67
	Try::Tiny::try('CODE(0x16269ec)', 'Try::Tiny::Catch=REF(0x1626b54)') called at C:/strawberry180/perl/site/lib/Test/WWW/Mechanize/PSGI.pm line 46
	Test::WWW::Mechanize::PSGI::simple_request('Test::WWW::Mechanize::PSGI=HASH(0x141bb7c)', 'HTTP::Request=HASH(0x16207d4)', undef, undef) called at C:/strawberry180/perl/vendor/lib/LWP/UserAgent.pm line 282
	LWP::UserAgent::request('Test::WWW::Mechanize::PSGI=HASH(0x141bb7c)', 'HTTP::Request=HASH(0x16207d4)') called at C:/strawberry180/perl/vendor/lib/WWW/Mechanize.pm line 2503
	WWW::Mechanize::_make_request('Test::WWW::Mechanize::PSGI=HASH(0x141bb7c)', 'HTTP::Request=HASH(0x16207d4)') called at C:/strawberry180/perl/vendor/lib/WWW/Mechanize.pm line 2217
	WWW::Mechanize::request('Test::WWW::Mechanize::PSGI=HASH(0x141bb7c)', 'HTTP::Request=HASH(0x16207d4)') called at C:/strawberry180/perl/vendor/lib/LWP/UserAgent.pm line 418
	LWP::UserAgent::post('Test::WWW::Mechanize::PSGI=HASH(0x141bb7c)', '/wishlist?baz', 'HASH(0xc187b4)') called at C:/strawberry180/perl/site/lib/Test/WWW/Mechanize.pm line 236
	Test::WWW::Mechanize::post_ok('Test::WWW::Mechanize::PSGI=HASH(0x141bb7c)', '/wishlist?baz') called at t\03_mech.t line 90
Secret string too short at C:\strawberry180\cpan\build\HTTP-Session2-1.09-WWoBcP\blib\lib/HTTP/Session2/Base.pm line 79.
	HTTP::Session2::Base::__ANON__('HTTP::Session2::ServerStore=HASH(0x1629164)', 's3cret') called at t\03_mech.t line 121
	main::server_session('HASH(0x1626cec)') called at t\03_mech.t line 17
	main::__ANON__('HASH(0x1626cec)') called at C:/strawberry180/perl/site/lib/Test/WWW/Mechanize/PSGI.pm line 39
	Test::WWW::Mechanize::PSGI::__ANON__() called at C:/strawberry180/perl/vendor/lib/Try/Tiny.pm line 76
	eval {...} called at C:/strawberry180/perl/vendor/lib/Try/Tiny.pm line 67
	Try::Tiny::try('CODE(0x1626ee4)', 'Try::Tiny::Catch=REF(0x1628bc4)') called at C:/strawberry180/perl/site/lib/Test/WWW/Mechanize/PSGI.pm line 46
	Test::WWW::Mechanize::PSGI::simple_request('Test::WWW::Mechanize::PSGI=HASH(0x141bb7c)', 'HTTP::Request=HASH(0x1628bf4)', undef, undef) called at C:/strawberry180/perl/vendor/lib/LWP/UserAgent.pm line 282
	LWP::UserAgent::request('Test::WWW::Mechanize::PSGI=HASH(0x141bb7c)', 'HTTP::Request=HASH(0x1628bf4)') called at C:/strawberry180/perl/vendor/lib/WWW/Mechanize.pm line 2503
	WWW::Mechanize::_make_request('Test::WWW::Mechanize::PSGI=HASH(0x141bb7c)', 'HTTP::Request=HASH(0x1628bf4)') called at C:/strawberry180/perl/vendor/lib/WWW/Mechanize.pm line 2217
	WWW::Mechanize::request('Test::WWW::Mechanize::PSGI=HASH(0x141bb7c)', 'HTTP::Request=HASH(0x1628bf4)') called at C:/strawberry180/perl/vendor/lib/LWP/UserAgent.pm line 410
	LWP::UserAgent::get('Test::WWW::Mechanize::PSGI=HASH(0x141bb7c)', 'http://localhost/wishlist') called at C:/strawberry180/perl/vendor/lib/WWW/Mechanize.pm line 407
	WWW::Mechanize::get('Test::WWW::Mechanize::PSGI=HASH(0x141bb7c)', '/wishlist') called at C:/strawberry180/perl/site/lib/Test/WWW/Mechanize.pm line 159
	Test::WWW::Mechanize::get_ok('Test::WWW::Mechanize::PSGI=HASH(0x141bb7c)', '/wishlist', 'Wishlist is still available') called at t\03_mech.t line 91
Secret string too short at C:\strawberry180\cpan\build\HTTP-Session2-1.09-WWoBcP\blib\lib/HTTP/Session2/Base.pm line 79.
	HTTP::Session2::Base::__ANON__('HTTP::Session2::ServerStore=HASH(0x162986c)', 's3cret') called at t\03_mech.t line 121
	main::server_session('HASH(0x1629044)') called at t\03_mech.t line 17
	main::__ANON__('HASH(0x1629044)') called at C:/strawberry180/perl/site/lib/Test/WWW/Mechanize/PSGI.pm line 39
	Test::WWW::Mechanize::PSGI::__ANON__() called at C:/strawberry180/perl/vendor/lib/Try/Tiny.pm line 76
	eval {...} called at C:/strawberry180/perl/vendor/lib/Try/Tiny.pm line 67
	Try::Tiny::try('CODE(0x162911c)', 'Try::Tiny::Catch=REF(0x162905c)') called at C:/strawberry180/perl/site/lib/Test/WWW/Mechanize/PSGI.pm line 46
	Test::WWW::Mechanize::PSGI::simple_request('Test::WWW::Mechanize::PSGI=HASH(0x141bb7c)', 'HTTP::Request=HASH(0x162953c)', undef, undef) called at C:/strawberry180/perl/vendor/lib/LWP/UserAgent.pm line 282
	LWP::UserAgent::request('Test::WWW::Mechanize::PSGI=HASH(0x141bb7c)', 'HTTP::Request=HASH(0x162953c)') called at C:/strawberry180/perl/vendor/lib/WWW/Mechanize.pm line 2503
	WWW::Mechanize::_make_request('Test::WWW::Mechanize::PSGI=HASH(0x141bb7c)', 'HTTP::Request=HASH(0x162953c)') called at C:/strawberry180/perl/vendor/lib/WWW/Mechanize.pm line 2217
	WWW::Mechanize::request('Test::WWW::Mechanize::PSGI=HASH(0x141bb7c)', 'HTTP::Request=HASH(0x162953c)') called at C:/strawberry180/perl/vendor/lib/LWP/UserAgent.pm line 410
	LWP::UserAgent::get('Test::WWW::Mechanize::PSGI=HASH(0x141bb7c)', 'http://localhost/my/name') called at C:/strawberry180/perl/vendor/lib/WWW/Mechanize.pm line 407
	WWW::Mechanize::get('Test::WWW::Mechanize::PSGI=HASH(0x141bb7c)', '/my/name') called at C:/strawberry180/perl/site/lib/Test/WWW/Mechanize.pm line 159
	Test::WWW::Mechanize::get_ok('Test::WWW::Mechanize::PSGI=HASH(0x141bb7c)', '/my/name') called at t\03_mech.t line 93
Secret string too short at C:\strawberry180\cpan\build\HTTP-Session2-1.09-WWoBcP\blib\lib/HTTP/Session2/Base.pm line 79.
	HTTP::Session2::Base::__ANON__('HTTP::Session2::ServerStore=HASH(0x16296ec)', 's3cret') called at t\03_mech.t line 121
	main::server_session('HASH(0x16293d4)') called at t\03_mech.t line 17
	main::__ANON__('HASH(0x16293d4)') called at C:/strawberry180/perl/site/lib/Test/WWW/Mechanize/PSGI.pm line 39
	Test::WWW::Mechanize::PSGI::__ANON__() called at C:/strawberry180/perl/vendor/lib/Try/Tiny.pm line 76
	eval {...} called at C:/strawberry180/perl/vendor/lib/Try/Tiny.pm line 67
	Try::Tiny::try('CODE(0x162c6d4)', 'Try::Tiny::Catch=REF(0x1629224)') called at C:/strawberry180/perl/site/lib/Test/WWW/Mechanize/PSGI.pm line 46
	Test::WWW::Mechanize::PSGI::simple_request('Test::WWW::Mechanize::PSGI=HASH(0x141bb7c)', 'HTTP::Request=HASH(0x16291f4)', undef, undef) called at C:/strawberry180/perl/vendor/lib/LWP/UserAgent.pm line 282
	LWP::UserAgent::request('Test::WWW::Mechanize::PSGI=HASH(0x141bb7c)', 'HTTP::Request=HASH(0x16291f4)') called at C:/strawberry180/perl/vendor/lib/WWW/Mechanize.pm line 2503
	WWW::Mechanize::_make_request('Test::WWW::Mechanize::PSGI=HASH(0x141bb7c)', 'HTTP::Request=HASH(0x16291f4)') called at C:/strawberry180/perl/vendor/lib/WWW/Mechanize.pm line 2217
	WWW::Mechanize::request('Test::WWW::Mechanize::PSGI=HASH(0x141bb7c)', 'HTTP::Request=HASH(0x16291f4)') called at C:/strawberry180/perl/vendor/lib/LWP/UserAgent.pm line 418
	LWP::UserAgent::post('Test::WWW::Mechanize::PSGI=HASH(0x141bb7c)', '/account/logout?john') called at t\03_mech.t line 97
Secret string too short at C:\strawberry180\cpan\build\HTTP-Session2-1.09-WWoBcP\blib\lib/HTTP/Session2/Base.pm line 79.
	HTTP::Session2::Base::__ANON__('HTTP::Session2::ClientStore=HASH(0x1619cd4)', 's3cret') called at t\03_mech.t line 127
	main::client_session('HASH(0x16196ec)') called at t\03_mech.t line 17
	main::__ANON__('HASH(0x16196ec)') called at C:/strawberry180/perl/site/lib/Test/WWW/Mechanize/PSGI.pm line 39
	Test::WWW::Mechanize::PSGI::__ANON__() called at C:/strawberry180/perl/vendor/lib/Try/Tiny.pm line 76
	eval {...} called at C:/strawberry180/perl/vendor/lib/Try/Tiny.pm line 67
	Try::Tiny::try('CODE(0x1619adc)', 'Try::Tiny::Catch=REF(0x162c344)') called at C:/strawberry180/perl/site/lib/Test/WWW/Mechanize/PSGI.pm line 46
	Test::WWW::Mechanize::PSGI::simple_request('Test::WWW::Mechanize::PSGI=HASH(0x162c2cc)', 'HTTP::Request=HASH(0x1619be4)', undef, undef) called at C:/strawberry180/perl/vendor/lib/LWP/UserAgent.pm line 282
	LWP::UserAgent::request('Test::WWW::Mechanize::PSGI=HASH(0x162c2cc)', 'HTTP::Request=HASH(0x1619be4)') called at C:/strawberry180/perl/vendor/lib/WWW/Mechanize.pm line 2503
	WWW::Mechanize::_make_request('Test::WWW::Mechanize::PSGI=HASH(0x162c2cc)', 'HTTP::Request=HASH(0x1619be4)') called at C:/strawberry180/perl/vendor/lib/WWW/Mechanize.pm line 2217
	WWW::Mechanize::request('Test::WWW::Mechanize::PSGI=HASH(0x162c2cc)', 'HTTP::Request=HASH(0x1619be4)') called at C:/strawberry180/perl/vendor/lib/LWP/UserAgent.pm line 410
	LWP::UserAgent::get('Test::WWW::Mechanize::PSGI=HASH(0x162c2cc)', '/') called at C:/strawberry180/perl/vendor/lib/WWW/Mechanize.pm line 407
	WWW::Mechanize::get('Test::WWW::Mechanize::PSGI=HASH(0x162c2cc)', '/') called at C:/strawberry180/perl/site/lib/Test/WWW/Mechanize.pm line 159
	Test::WWW::Mechanize::get_ok('Test::WWW::Mechanize::PSGI=HASH(0x162c2cc)', '/') called at t\03_mech.t line 74
Secret string too short at C:\strawberry180\cpan\build\HTTP-Session2-1.09-WWoBcP\blib\lib/HTTP/Session2/Base.pm line 79.
	HTTP::Session2::Base::__ANON__('HTTP::Session2::ClientStore=HASH(0x16260d4)', 's3cret') called at t\03_mech.t line 127
	main::client_session('HASH(0x16199bc)') called at t\03_mech.t line 17
	main::__ANON__('HASH(0x16199bc)') called at C:/strawberry180/perl/site/lib/Test/WWW/Mechanize/PSGI.pm line 39
	Test::WWW::Mechanize::PSGI::__ANON__() called at C:/strawberry180/perl/vendor/lib/Try/Tiny.pm line 76
	eval {...} called at C:/strawberry180/perl/vendor/lib/Try/Tiny.pm line 67
	Try::Tiny::try('CODE(0x162066c)', 'Try::Tiny::Catch=REF(0x162003c)') called at C:/strawberry180/perl/site/lib/Test/WWW/Mechanize/PSGI.pm line 46
	Test::WWW::Mechanize::PSGI::simple_request('Test::WWW::Mechanize::PSGI=HASH(0x162c2cc)', 'HTTP::Request=HASH(0x1619ac4)', undef, undef) called at C:/strawberry180/perl/vendor/lib/LWP/UserAgent.pm line 282
	LWP::UserAgent::request('Test::WWW::Mechanize::PSGI=HASH(0x162c2cc)', 'HTTP::Request=HASH(0x1619ac4)') called at C:/strawberry180/perl/vendor/lib/WWW/Mechanize.pm line 2503
	WWW::Mechanize::_make_request('Test::WWW::Mechanize::PSGI=HASH(0x162c2cc)', 'HTTP::Request=HASH(0x1619ac4)') called at C:/strawberry180/perl/vendor/lib/WWW/Mechanize.pm line 2217
	WWW::Mechanize::request('Test::WWW::Mechanize::PSGI=HASH(0x162c2cc)', 'HTTP::Request=HASH(0x1619ac4)') called at C:/strawberry180/perl/vendor/lib/LWP/UserAgent.pm line 418
	LWP::UserAgent::post('Test::WWW::Mechanize::PSGI=HASH(0x162c2cc)', '/wishlist?foo', 'HASH(0xc187b4)') called at C:/strawberry180/perl/site/lib/Test/WWW/Mechanize.pm line 236
	Test::WWW::Mechanize::post_ok('Test::WWW::Mechanize::PSGI=HASH(0x162c2cc)', '/wishlist?foo') called at t\03_mech.t line 75
Do not use HTTP::Session2::ClientStore. Use HTTP::Session2::ServerStore or HTTP::Session2::ClientStore2 instead. at C:\strawberry180\cpan\build\HTTP-Session2-1.09-WWoBcP\blib\lib/HTTP/Session2/ClientStore.pm line 25.
Secret string too short at C:\strawberry180\cpan\build\HTTP-Session2-1.09-WWoBcP\blib\lib/HTTP/Session2/Base.pm line 79.
	HTTP::Session2::Base::__ANON__('HTTP::Session2::ClientStore=HASH(0x162662c)', 's3cret') called at t\03_mech.t line 127
	main::client_session('HASH(0x1626284)') called at t\03_mech.t line 17
	main::__ANON__('HASH(0x1626284)') called at C:/strawberry180/perl/site/lib/Test/WWW/Mechanize/PSGI.pm line 39
	Test::WWW::Mechanize::PSGI::__ANON__() called at C:/strawberry180/perl/vendor/lib/Try/Tiny.pm line 76
	eval {...} called at C:/strawberry180/perl/vendor/lib/Try/Tiny.pm line 67
	Try::Tiny::try('CODE(0x16266ec)', 'Try::Tiny::Catch=REF(0x162036c)') called at C:/strawberry180/perl/site/lib/Test/WWW/Mechanize/PSGI.pm line 46
	Test::WWW::Mechanize::PSGI::simple_request('Test::WWW::Mechanize::PSGI=HASH(0x162c2cc)', 'HTTP::Request=HASH(0x16206e4)', undef, undef) called at C:/strawberry180/perl/vendor/lib/LWP/UserAgent.pm line 282
	LWP::UserAgent::request('Test::WWW::Mechanize::PSGI=HASH(0x162c2cc)', 'HTTP::Request=HASH(0x16206e4)') called at C:/strawberry180/perl/vendor/lib/WWW/Mechanize.pm line 2503
	WWW::Mechanize::_make_request('Test::WWW::Mechanize::PSGI=HASH(0x162c2cc)', 'HTTP::Request=HASH(0x16206e4)') called at C:/strawberry180/perl/vendor/lib/WWW/Mechanize.pm line 2217
	WWW::Mechanize::request('Test::WWW::Mechanize::PSGI=HASH(0x162c2cc)', 'HTTP::Request=HASH(0x16206e4)') called at C:/strawberry180/perl/vendor/lib/LWP/UserAgent.pm line 410
	LWP::UserAgent::get('Test::WWW::Mechanize::PSGI=HASH(0x162c2cc)', 'http://localhost/wishlist') called at C:/strawberry180/perl/vendor/lib/WWW/Mechanize.pm line 407
	WWW::Mechanize::get('Test::WWW::Mechanize::PSGI=HASH(0x162c2cc)', '/wishlist') called at C:/strawberry180/perl/site/lib/Test/WWW/Mechanize.pm line 159
	Test::WWW::Mechanize::get_ok('Test::WWW::Mechanize::PSGI=HASH(0x162c2cc)', '/wishlist') called at t\03_mech.t line 76
Do not use HTTP::Session2::ClientStore. Use HTTP::Session2::ServerStore or HTTP::Session2::ClientStore2 instead. at C:\strawberry180\cpan\build\HTTP-Session2-1.09-WWoBcP\blib\lib/HTTP/Session2/ClientStore.pm line 35.
Secret string too short at C:\strawberry180\cpan\build\HTTP-Session2-1.09-WWoBcP\blib\lib/HTTP/Session2/Base.pm line 79.
	HTTP::Session2::Base::__ANON__('HTTP::Session2::ClientStore=HASH(0x144ce54)', 's3cret') called at t\03_mech.t line 127
	main::client_session('HASH(0x1626464)') called at t\03_mech.t line 17
	main::__ANON__('HASH(0x1626464)') called at C:/strawberry180/perl/site/lib/Test/WWW/Mechanize/PSGI.pm line 39
	Test::WWW::Mechanize::PSGI::__ANON__() called at C:/strawberry180/perl/vendor/lib/Try/Tiny.pm line 76
	eval {...} called at C:/strawberry180/perl/vendor/lib/Try/Tiny.pm line 67
	Try::Tiny::try('CODE(0x1626914)', 'Try::Tiny::Catch=REF(0x1620354)') called at C:/strawberry180/perl/site/lib/Test/WWW/Mechanize/PSGI.pm line 46
	Test::WWW::Mechanize::PSGI::simple_request('Test::WWW::Mechanize::PSGI=HASH(0x162c2cc)', 'HTTP::Request=HASH(0x1620444)', undef, undef) called at C:/strawberry180/perl/vendor/lib/LWP/UserAgent.pm line 282
	LWP::UserAgent::request('Test::WWW::Mechanize::PSGI=HASH(0x162c2cc)', 'HTTP::Request=HASH(0x1620444)') called at C:/strawberry180/perl/vendor/lib/WWW/Mechanize.pm line 2503
	WWW::Mechanize::_make_request('Test::WWW::Mechanize::PSGI=HASH(0x162c2cc)', 'HTTP::Request=HASH(0x1620444)') called at C:/strawberry180/perl/vendor/lib/WWW/Mechanize.pm line 2217
	WWW::Mechanize::request('Test::WWW::Mechanize::PSGI=HASH(0x162c2cc)', 'HTTP::Request=HASH(0x1620444)') called at C:/strawberry180/perl/vendor/lib/LWP/UserAgent.pm line 418
	LWP::UserAgent::post('Test::WWW::Mechanize::PSGI=HASH(0x162c2cc)', '/wishlist?bar') called at t\03_mech.t line 78
Do not use HTTP::Session2::ClientStore. Use HTTP::Session2::ServerStore or HTTP::Session2::ClientStore2 instead. at C:\strawberry180\cpan\build\HTTP-Session2-1.09-WWoBcP\blib\lib/HTTP/Session2/ClientStore.pm line 35.
Secret string too short at C:\strawberry180\cpan\build\HTTP-Session2-1.09-WWoBcP\blib\lib/HTTP/Session2/Base.pm line 79.
	HTTP::Session2::Base::__ANON__('HTTP::Session2::ClientStore=HASH(0x162899c)', 's3cret') called at t\03_mech.t line 127
	main::client_session('HASH(0x1620354)') called at t\03_mech.t line 17
	main::__ANON__('HASH(0x1620354)') called at C:/strawberry180/perl/site/lib/Test/WWW/Mechanize/PSGI.pm line 39
	Test::WWW::Mechanize::PSGI::__ANON__() called at C:/strawberry180/perl/vendor/lib/Try/Tiny.pm line 76
	eval {...} called at C:/strawberry180/perl/vendor/lib/Try/Tiny.pm line 67
	Try::Tiny::try('CODE(0x162060c)', 'Try::Tiny::Catch=REF(0x162039c)') called at C:/strawberry180/perl/site/lib/Test/WWW/Mechanize/PSGI.pm line 46
	Test::WWW::Mechanize::PSGI::simple_request('Test::WWW::Mechanize::PSGI=HASH(0x162c2cc)', 'HTTP::Request=HASH(0x1626644)', undef, undef) called at C:/strawberry180/perl/vendor/lib/LWP/UserAgent.pm line 282
	LWP::UserAgent::request('Test::WWW::Mechanize::PSGI=HASH(0x162c2cc)', 'HTTP::Request=HASH(0x1626644)') called at C:/strawberry180/perl/vendor/lib/WWW/Mechanize.pm line 2503
	WWW::Mechanize::_make_request('Test::WWW::Mechanize::PSGI=HASH(0x162c2cc)', 'HTTP::Request=HASH(0x1626644)') called at C:/strawberry180/perl/vendor/lib/WWW/Mechanize.pm line 2217
	WWW::Mechanize::request('Test::WWW::Mechanize::PSGI=HASH(0x162c2cc)', 'HTTP::Request=HASH(0x1626644)') called at C:/strawberry180/perl/vendor/lib/LWP/UserAgent.pm line 418
	LWP::UserAgent::post('Test::WWW::Mechanize::PSGI=HASH(0x162c2cc)', '/wishlist?bar', 'HASH(0xc187b4)') called at C:/strawberry180/perl/site/lib/Test/WWW/Mechanize.pm line 236
	Test::WWW::Mechanize::post_ok('Test::WWW::Mechanize::PSGI=HASH(0x162c2cc)', '/wishlist?bar') called at t\03_mech.t line 81
Do not use HTTP::Session2::ClientStore. Use HTTP::Session2::ServerStore or HTTP::Session2::ClientStore2 instead. at C:\strawberry180\cpan\build\HTTP-Session2-1.09-WWoBcP\blib\lib/HTTP/Session2/ClientStore.pm line 35.
Do not use HTTP::Session2::ClientStore. Use HTTP::Session2::ServerStore or HTTP::Session2::ClientStore2 instead. at C:\strawberry180\cpan\build\HTTP-Session2-1.09-WWoBcP\blib\lib/HTTP/Session2/ClientStore.pm line 25.
Secret string too short at C:\strawberry180\cpan\build\HTTP-Session2-1.09-WWoBcP\blib\lib/HTTP/Session2/Base.pm line 79.
	HTTP::Session2::Base::__ANON__('HTTP::Session2::ClientStore=HASH(0x162974c)', 's3cret') called at t\03_mech.t line 127
	main::client_session('HASH(0x16263d4)') called at t\03_mech.t line 17
	main::__ANON__('HASH(0x16263d4)') called at C:/strawberry180/perl/site/lib/Test/WWW/Mechanize/PSGI.pm line 39
	Test::WWW::Mechanize::PSGI::__ANON__() called at C:/strawberry180/perl/vendor/lib/Try/Tiny.pm line 76
	eval {...} called at C:/strawberry180/perl/vendor/lib/Try/Tiny.pm line 67
	Try::Tiny::try('CODE(0x1619a1c)', 'Try::Tiny::Catch=REF(0x1628eac)') called at C:/strawberry180/perl/site/lib/Test/WWW/Mechanize/PSGI.pm line 46
	Test::WWW::Mechanize::PSGI::simple_request('Test::WWW::Mechanize::PSGI=HASH(0x162c2cc)', 'HTTP::Request=HASH(0x1625fb4)', undef, undef) called at C:/strawberry180/perl/vendor/lib/LWP/UserAgent.pm line 282
	LWP::UserAgent::request('Test::WWW::Mechanize::PSGI=HASH(0x162c2cc)', 'HTTP::Request=HASH(0x1625fb4)') called at C:/strawberry180/perl/vendor/lib/WWW/Mechanize.pm line 2503
	WWW::Mechanize::_make_request('Test::WWW::Mechanize::PSGI=HASH(0x162c2cc)', 'HTTP::Request=HASH(0x1625fb4)') called at C:/strawberry180/perl/vendor/lib/WWW/Mechanize.pm line 2217
	WWW::Mechanize::request('Test::WWW::Mechanize::PSGI=HASH(0x162c2cc)', 'HTTP::Request=HASH(0x1625fb4)') called at C:/strawberry180/perl/vendor/lib/LWP/UserAgent.pm line 410
	LWP::UserAgent::get('Test::WWW::Mechanize::PSGI=HASH(0x162c2cc)', 'http://localhost/wishlist') called at C:/strawberry180/perl/vendor/lib/WWW/Mechanize.pm line 407
	WWW::Mechanize::get('Test::WWW::Mechanize::PSGI=HASH(0x162c2cc)', '/wishlist') called at C:/strawberry180/perl/site/lib/Test/WWW/Mechanize.pm line 159
	Test::WWW::Mechanize::get_ok('Test::WWW::Mechanize::PSGI=HASH(0x162c2cc)', '/wishlist') called at t\03_mech.t line 82
Do not use HTTP::Session2::ClientStore. Use HTTP::Session2::ServerStore or HTTP::Session2::ClientStore2 instead. at C:\strawberry180\cpan\build\HTTP-Session2-1.09-WWoBcP\blib\lib/HTTP/Session2/ClientStore.pm line 35.
Secret string too short at C:\strawberry180\cpan\build\HTTP-Session2-1.09-WWoBcP\blib\lib/HTTP/Session2/Base.pm line 79.
	HTTP::Session2::Base::__ANON__('HTTP::Session2::ClientStore=HASH(0x162c38c)', 's3cret') called at t\03_mech.t line 127
	main::client_session('HASH(0x1626e54)') called at t\03_mech.t line 17
	main::__ANON__('HASH(0x1626e54)') called at C:/strawberry180/perl/site/lib/Test/WWW/Mechanize/PSGI.pm line 39
	Test::WWW::Mechanize::PSGI::__ANON__() called at C:/strawberry180/perl/vendor/lib/Try/Tiny.pm line 76
	eval {...} called at C:/strawberry180/perl/vendor/lib/Try/Tiny.pm line 67
	Try::Tiny::try('CODE(0x16264c4)', 'Try::Tiny::Catch=REF(0x1628e04)') called at C:/strawberry180/perl/site/lib/Test/WWW/Mechanize/PSGI.pm line 46
	Test::WWW::Mechanize::PSGI::simple_request('Test::WWW::Mechanize::PSGI=HASH(0x162c2cc)', 'HTTP::Request=HASH(0x16297c4)', undef, undef) called at C:/strawberry180/perl/vendor/lib/LWP/UserAgent.pm line 282
	LWP::UserAgent::request('Test::WWW::Mechanize::PSGI=HASH(0x162c2cc)', 'HTTP::Request=HASH(0x16297c4)') called at C:/strawberry180/perl/vendor/lib/WWW/Mechanize.pm line 2503
	WWW::Mechanize::_make_request('Test::WWW::Mechanize::PSGI=HASH(0x162c2cc)', 'HTTP::Request=HASH(0x16297c4)') called at C:/strawberry180/perl/vendor/lib/WWW/Mechanize.pm line 2217
	WWW::Mechanize::request('Test::WWW::Mechanize::PSGI=HASH(0x162c2cc)', 'HTTP::Request=HASH(0x16297c4)') called at C:/strawberry180/perl/vendor/lib/LWP/UserAgent.pm line 418
	LWP::UserAgent::post('Test::WWW::Mechanize::PSGI=HASH(0x162c2cc)', '/account/login?john', 'HASH(0xc187b4)') called at C:/strawberry180/perl/site/lib/Test/WWW/Mechanize.pm line 236
	Test::WWW::Mechanize::post_ok('Test::WWW::Mechanize::PSGI=HASH(0x162c2cc)', '/account/login?john') called at t\03_mech.t line 84
Do not use HTTP::Session2::ClientStore. Use HTTP::Session2::ServerStore or HTTP::Session2::ClientStore2 instead. at C:\strawberry180\cpan\build\HTTP-Session2-1.09-WWoBcP\blib\lib/HTTP/Session2/ClientStore.pm line 35.
Do not use HTTP::Session2::ClientStore. Use HTTP::Session2::ServerStore or HTTP::Session2::ClientStore2 instead. at C:\strawberry180\cpan\build\HTTP-Session2-1.09-WWoBcP\blib\lib/HTTP/Session2/ClientStore.pm line 35.
Do not use HTTP::Session2::ClientStore. Use HTTP::Session2::ServerStore or HTTP::Session2::ClientStore2 instead. at C:\strawberry180\cpan\build\HTTP-Session2-1.09-WWoBcP\blib\lib/HTTP/Session2/ClientStore.pm line 25.
Secret string too short at C:\strawberry180\cpan\build\HTTP-Session2-1.09-WWoBcP\blib\lib/HTTP/Session2/Base.pm line 79.
	HTTP::Session2::Base::__ANON__('HTTP::Session2::ClientStore=HASH(0x1474fb4)', 's3cret') called at t\03_mech.t line 127
	main::client_session('HASH(0x162968c)') called at t\03_mech.t line 17
	main::__ANON__('HASH(0x162968c)') called at C:/strawberry180/perl/site/lib/Test/WWW/Mechanize/PSGI.pm line 39
	Test::WWW::Mechanize::PSGI::__ANON__() called at C:/strawberry180/perl/vendor/lib/Try/Tiny.pm line 76
	eval {...} called at C:/strawberry180/perl/vendor/lib/Try/Tiny.pm line 67
	Try::Tiny::try('CODE(0x1628a2c)', 'Try::Tiny::Catch=REF(0x1629194)') called at C:/strawberry180/perl/site/lib/Test/WWW/Mechanize/PSGI.pm line 46
	Test::WWW::Mechanize::PSGI::simple_request('Test::WWW::Mechanize::PSGI=HASH(0x162c2cc)', 'HTTP::Request=HASH(0x1626af4)', undef, undef) called at C:/strawberry180/perl/vendor/lib/LWP/UserAgent.pm line 282
	LWP::UserAgent::request('Test::WWW::Mechanize::PSGI=HASH(0x162c2cc)', 'HTTP::Request=HASH(0x1626af4)') called at C:/strawberry180/perl/vendor/lib/WWW/Mechanize.pm line 2503
	WWW::Mechanize::_make_request('Test::WWW::Mechanize::PSGI=HASH(0x162c2cc)', 'HTTP::Request=HASH(0x1626af4)') called at C:/strawberry180/perl/vendor/lib/WWW/Mechanize.pm line 2217
	WWW::Mechanize::request('Test::WWW::Mechanize::PSGI=HASH(0x162c2cc)', 'HTTP::Request=HASH(0x1626af4)') called at C:/strawberry180/perl/vendor/lib/LWP/UserAgent.pm line 410
	LWP::UserAgent::get('Test::WWW::Mechanize::PSGI=HASH(0x162c2cc)', 'http://localhost/wishlist') called at C:/strawberry180/perl/vendor/lib/WWW/Mechanize.pm line 407
	WWW::Mechanize::get('Test::WWW::Mechanize::PSGI=HASH(0x162c2cc)', '/wishlist') called at C:/strawberry180/perl/site/lib/Test/WWW/Mechanize.pm line 159
	Test::WWW::Mechanize::get_ok('Test::WWW::Mechanize::PSGI=HASH(0x162c2cc)', '/wishlist', 'Wishlist is still available') called at t\03_mech.t line 85
Do not use HTTP::Session2::ClientStore. Use HTTP::Session2::ServerStore or HTTP::Session2::ClientStore2 instead. at C:\strawberry180\cpan\build\HTTP-Session2-1.09-WWoBcP\blib\lib/HTTP/Session2/ClientStore.pm line 35.
Secret string too short at C:\strawberry180\cpan\build\HTTP-Session2-1.09-WWoBcP\blib\lib/HTTP/Session2/Base.pm line 79.
	HTTP::Session2::Base::__ANON__('HTTP::Session2::ClientStore=HASH(0x141bad4)', 's3cret') called at t\03_mech.t line 127
	main::client_session('HASH(0x1461eec)') called at t\03_mech.t line 17
	main::__ANON__('HASH(0x1461eec)') called at C:/strawberry180/perl/site/lib/Test/WWW/Mechanize/PSGI.pm line 39
	Test::WWW::Mechanize::PSGI::__ANON__() called at C:/strawberry180/perl/vendor/lib/Try/Tiny.pm line 76
	eval {...} called at C:/strawberry180/perl/vendor/lib/Try/Tiny.pm line 67
	Try::Tiny::try('CODE(0x16297dc)', 'Try::Tiny::Catch=REF(0x162911c)') called at C:/strawberry180/perl/site/lib/Test/WWW/Mechanize/PSGI.pm line 46
	Test::WWW::Mechanize::PSGI::simple_request('Test::WWW::Mechanize::PSGI=HASH(0x162c2cc)', 'HTTP::Request=HASH(0x1620714)', undef, undef) called at C:/strawberry180/perl/vendor/lib/LWP/UserAgent.pm line 282
	LWP::UserAgent::request('Test::WWW::Mechanize::PSGI=HASH(0x162c2cc)', 'HTTP::Request=HASH(0x1620714)') called at C:/strawberry180/perl/vendor/lib/WWW/Mechanize.pm line 2503
	WWW::Mechanize::_make_request('Test::WWW::Mechanize::PSGI=HASH(0x162c2cc)', 'HTTP::Request=HASH(0x1620714)') called at C:/strawberry180/perl/vendor/lib/WWW/Mechanize.pm line 2217
	WWW::Mechanize::request('Test::WWW::Mechanize::PSGI=HASH(0x162c2cc)', 'HTTP::Request=HASH(0x1620714)') called at C:/strawberry180/perl/vendor/lib/LWP/UserAgent.pm line 418
	LWP::UserAgent::post('Test::WWW::Mechanize::PSGI=HASH(0x162c2cc)', '/wishlist?baz') called at t\03_mech.t line 87
Do not use HTTP::Session2::ClientStore. Use HTTP::Session2::ServerStore or HTTP::Session2::ClientStore2 instead. at C:\strawberry180\cpan\build\HTTP-Session2-1.09-WWoBcP\blib\lib/HTTP/Session2/ClientStore.pm line 35.
Secret string too short at C:\strawberry180\cpan\build\HTTP-Session2-1.09-WWoBcP\blib\lib/HTTP/Session2/Base.pm line 79.
	HTTP::Session2::Base::__ANON__('HTTP::Session2::ClientStore=HASH(0x1626104)', 's3cret') called at t\03_mech.t line 127
	main::client_session('HASH(0x141babc)') called at t\03_mech.t line 17
	main::__ANON__('HASH(0x141babc)') called at C:/strawberry180/perl/site/lib/Test/WWW/Mechanize/PSGI.pm line 39
	Test::WWW::Mechanize::PSGI::__ANON__() called at C:/strawberry180/perl/vendor/lib/Try/Tiny.pm line 76
	eval {...} called at C:/strawberry180/perl/vendor/lib/Try/Tiny.pm line 67
	Try::Tiny::try('CODE(0x1619ca4)', 'Try::Tiny::Catch=REF(0x141bf9c)') called at C:/strawberry180/perl/site/lib/Test/WWW/Mechanize/PSGI.pm line 46
	Test::WWW::Mechanize::PSGI::simple_request('Test::WWW::Mechanize::PSGI=HASH(0x162c2cc)', 'HTTP::Request=HASH(0x161f964)', undef, undef) called at C:/strawberry180/perl/vendor/lib/LWP/UserAgent.pm line 282
	LWP::UserAgent::request('Test::WWW::Mechanize::PSGI=HASH(0x162c2cc)', 'HTTP::Request=HASH(0x161f964)') called at C:/strawberry180/perl/vendor/lib/WWW/Mechanize.pm line 2503
	WWW::Mechanize::_make_request('Test::WWW::Mechanize::PSGI=HASH(0x162c2cc)', 'HTTP::Request=HASH(0x161f964)') called at C:/strawberry180/perl/vendor/lib/WWW/Mechanize.pm line 2217
	WWW::Mechanize::request('Test::WWW::Mechanize::PSGI=HASH(0x162c2cc)', 'HTTP::Request=HASH(0x161f964)') called at C:/strawberry180/perl/vendor/lib/LWP/UserAgent.pm line 418
	LWP::UserAgent::post('Test::WWW::Mechanize::PSGI=HASH(0x162c2cc)', '/wishlist?baz', 'HASH(0xc187b4)') called at C:/strawberry180/perl/site/lib/Test/WWW/Mechanize.pm line 236
	Test::WWW::Mechanize::post_ok('Test::WWW::Mechanize::PSGI=HASH(0x162c2cc)', '/wishlist?baz') called at t\03_mech.t line 90
Do not use HTTP::Session2::ClientStore. Use HTTP::Session2::ServerStore or HTTP::Session2::ClientStore2 instead. at C:\strawberry180\cpan\build\HTTP-Session2-1.09-WWoBcP\blib\lib/HTTP/Session2/ClientStore.pm line 35.
Do not use HTTP::Session2::ClientStore. Use HTTP::Session2::ServerStore or HTTP::Session2::ClientStore2 instead. at C:\strawberry180\cpan\build\HTTP-Session2-1.09-WWoBcP\blib\lib/HTTP/Session2/ClientStore.pm line 25.
Secret string too short at C:\strawberry180\cpan\build\HTTP-Session2-1.09-WWoBcP\blib\lib/HTTP/Session2/Base.pm line 79.
	HTTP::Session2::Base::__ANON__('HTTP::Session2::ClientStore=HASH(0x162cddc)', 's3cret') called at t\03_mech.t line 127
	main::client_session('HASH(0x141bbc4)') called at t\03_mech.t line 17
	main::__ANON__('HASH(0x141bbc4)') called at C:/strawberry180/perl/site/lib/Test/WWW/Mechanize/PSGI.pm line 39
	Test::WWW::Mechanize::PSGI::__ANON__() called at C:/strawberry180/perl/vendor/lib/Try/Tiny.pm line 76
	eval {...} called at C:/strawberry180/perl/vendor/lib/Try/Tiny.pm line 67
	Try::Tiny::try('CODE(0x162653c)', 'Try::Tiny::Catch=REF(0x141bbdc)') called at C:/strawberry180/perl/site/lib/Test/WWW/Mechanize/PSGI.pm line 46
	Test::WWW::Mechanize::PSGI::simple_request('Test::WWW::Mechanize::PSGI=HASH(0x162c2cc)', 'HTTP::Request=HASH(0x162c4f4)', undef, undef) called at C:/strawberry180/perl/vendor/lib/LWP/UserAgent.pm line 282
	LWP::UserAgent::request('Test::WWW::Mechanize::PSGI=HASH(0x162c2cc)', 'HTTP::Request=HASH(0x162c4f4)') called at C:/strawberry180/perl/vendor/lib/WWW/Mechanize.pm line 2503
	WWW::Mechanize::_make_request('Test::WWW::Mechanize::PSGI=HASH(0x162c2cc)', 'HTTP::Request=HASH(0x162c4f4)') called at C:/strawberry180/perl/vendor/lib/WWW/Mechanize.pm line 2217
	WWW::Mechanize::request('Test::WWW::Mechanize::PSGI=HASH(0x162c2cc)', 'HTTP::Request=HASH(0x162c4f4)') called at C:/strawberry180/perl/vendor/lib/LWP/UserAgent.pm line 410
	LWP::UserAgent::get('Test::WWW::Mechanize::PSGI=HASH(0x162c2cc)', 'http://localhost/wishlist') called at C:/strawberry180/perl/vendor/lib/WWW/Mechanize.pm line 407
	WWW::Mechanize::get('Test::WWW::Mechanize::PSGI=HASH(0x162c2cc)', '/wishlist') called at C:/strawberry180/perl/site/lib/Test/WWW/Mechanize.pm line 159
	Test::WWW::Mechanize::get_ok('Test::WWW::Mechanize::PSGI=HASH(0x162c2cc)', '/wishlist', 'Wishlist is still available') called at t\03_mech.t line 91
Do not use HTTP::Session2::ClientStore. Use HTTP::Session2::ServerStore or HTTP::Session2::ClientStore2 instead. at C:\strawberry180\cpan\build\HTTP-Session2-1.09-WWoBcP\blib\lib/HTTP/Session2/ClientStore.pm line 35.
Secret string too short at C:\strawberry180\cpan\build\HTTP-Session2-1.09-WWoBcP\blib\lib/HTTP/Session2/Base.pm line 79.
	HTTP::Session2::Base::__ANON__('HTTP::Session2::ClientStore=HASH(0x162d004)', 's3cret') called at t\03_mech.t line 127
	main::client_session('HASH(0x1636874)') called at t\03_mech.t line 17
	main::__ANON__('HASH(0x1636874)') called at C:/strawberry180/perl/site/lib/Test/WWW/Mechanize/PSGI.pm line 39
	Test::WWW::Mechanize::PSGI::__ANON__() called at C:/strawberry180/perl/vendor/lib/Try/Tiny.pm line 76
	eval {...} called at C:/strawberry180/perl/vendor/lib/Try/Tiny.pm line 67
	Try::Tiny::try('CODE(0x147c564)', 'Try::Tiny::Catch=REF(0x162ccd4)') called at C:/strawberry180/perl/site/lib/Test/WWW/Mechanize/PSGI.pm line 46
	Test::WWW::Mechanize::PSGI::simple_request('Test::WWW::Mechanize::PSGI=HASH(0x162c2cc)', 'HTTP::Request=HASH(0x162c5b4)', undef, undef) called at C:/strawberry180/perl/vendor/lib/LWP/UserAgent.pm line 282
	LWP::UserAgent::request('Test::WWW::Mechanize::PSGI=HASH(0x162c2cc)', 'HTTP::Request=HASH(0x162c5b4)') called at C:/strawberry180/perl/vendor/lib/WWW/Mechanize.pm line 2503
	WWW::Mechanize::_make_request('Test::WWW::Mechanize::PSGI=HASH(0x162c2cc)', 'HTTP::Request=HASH(0x162c5b4)') called at C:/strawberry180/perl/vendor/lib/WWW/Mechanize.pm line 2217
	WWW::Mechanize::request('Test::WWW::Mechanize::PSGI=HASH(0x162c2cc)', 'HTTP::Request=HASH(0x162c5b4)') called at C:/strawberry180/perl/vendor/lib/LWP/UserAgent.pm line 410
	LWP::UserAgent::get('Test::WWW::Mechanize::PSGI=HASH(0x162c2cc)', 'http://localhost/my/name') called at C:/strawberry180/perl/vendor/lib/WWW/Mechanize.pm line 407
	WWW::Mechanize::get('Test::WWW::Mechanize::PSGI=HASH(0x162c2cc)', '/my/name') called at C:/strawberry180/perl/site/lib/Test/WWW/Mechanize.pm line 159
	Test::WWW::Mechanize::get_ok('Test::WWW::Mechanize::PSGI=HASH(0x162c2cc)', '/my/name') called at t\03_mech.t line 93
Do not use HTTP::Session2::ClientStore. Use HTTP::Session2::ServerStore or HTTP::Session2::ClientStore2 instead. at C:\strawberry180\cpan\build\HTTP-Session2-1.09-WWoBcP\blib\lib/HTTP/Session2/ClientStore.pm line 35.
Secret string too short at C:\strawberry180\cpan\build\HTTP-Session2-1.09-WWoBcP\blib\lib/HTTP/Session2/Base.pm line 79.
	HTTP::Session2::Base::__ANON__('HTTP::Session2::ClientStore=HASH(0x1636d24)', 's3cret') called at t\03_mech.t line 127
	main::client_session('HASH(0x1636d6c)') called at t\03_mech.t line 17
	main::__ANON__('HASH(0x1636d6c)') called at C:/strawberry180/perl/site/lib/Test/WWW/Mechanize/PSGI.pm line 39
	Test::WWW::Mechanize::PSGI::__ANON__() called at C:/strawberry180/perl/vendor/lib/Try/Tiny.pm line 76
	eval {...} called at C:/strawberry180/perl/vendor/lib/Try/Tiny.pm line 67
	Try::Tiny::try('CODE(0x1636de4)', 'Try::Tiny::Catch=REF(0x16367b4)') called at C:/strawberry180/perl/site/lib/Test/WWW/Mechanize/PSGI.pm line 46
	Test::WWW::Mechanize::PSGI::simple_request('Test::WWW::Mechanize::PSGI=HASH(0x162c2cc)', 'HTTP::Request=HASH(0x147cfe4)', undef, undef) called at C:/strawberry180/perl/vendor/lib/LWP/UserAgent.pm line 282
	LWP::UserAgent::request('Test::WWW::Mechanize::PSGI=HASH(0x162c2cc)', 'HTTP::Request=HASH(0x147cfe4)') called at C:/strawberry180/perl/vendor/lib/WWW/Mechanize.pm line 2503
	WWW::Mechanize::_make_request('Test::WWW::Mechanize::PSGI=HASH(0x162c2cc)', 'HTTP::Request=HASH(0x147cfe4)') called at C:/strawberry180/perl/vendor/lib/WWW/Mechanize.pm line 2217
	WWW::Mechanize::request('Test::WWW::Mechanize::PSGI=HASH(0x162c2cc)', 'HTTP::Request=HASH(0x147cfe4)') called at C:/strawberry180/perl/vendor/lib/LWP/UserAgent.pm line 418
	LWP::UserAgent::post('Test::WWW::Mechanize::PSGI=HASH(0x162c2cc)', '/account/logout?john') called at t\03_mech.t line 97
Do not use HTTP::Session2::ClientStore. Use HTTP::Session2::ServerStore or HTTP::Session2::ClientStore2 instead. at C:\strawberry180\cpan\build\HTTP-Session2-1.09-WWoBcP\blib\lib/HTTP/Session2/ClientStore.pm line 35.
Do not use HTTP::Session2::ClientStore. Use HTTP::Session2::ServerStore or HTTP::Session2::ClientStore2 instead. at C:\strawberry180\cpan\build\HTTP-Session2-1.09-WWoBcP\blib\lib/HTTP/Session2/ClientStore.pm line 35.
t\03_mech.t ................. ok
Cannot open /dev/urandom: No such file or directory. at C:\strawberry180\cpan\build\HTTP-Session2-1.09-WWoBcP\blib\lib/HTTP/Session2/Random.pm line 19.
Do not use HTTP::Session2::ClientStore. Use HTTP::Session2::ServerStore or HTTP::Session2::ClientStore2 instead. at C:\strawberry180\cpan\build\HTTP-Session2-1.09-WWoBcP\blib\lib/HTTP/Session2/ClientStore.pm line 25.
t\04_plack_response.t ....... ok
Cannot open /dev/urandom: No such file or directory. at C:\strawberry180\cpan\build\HTTP-Session2-1.09-WWoBcP\blib\lib/HTTP/Session2/Random.pm line 19.
Secret string too short at C:\strawberry180\cpan\build\HTTP-Session2-1.09-WWoBcP\blib\lib/HTTP/Session2/Base.pm line 79.
	HTTP::Session2::Base::__ANON__('HTTP::Session2::ClientStore=HASH(0xcf8f74)', 's3cret') called at t\05_keep_me_signed_in.t line 15
Do not use HTTP::Session2::ClientStore. Use HTTP::Session2::ServerStore or HTTP::Session2::ClientStore2 instead. at C:\strawberry180\cpan\build\HTTP-Session2-1.09-WWoBcP\blib\lib/HTTP/Session2/ClientStore.pm line 25.
t\05_keep_me_signed_in.t .... ok
Secret string too short at C:\strawberry180\cpan\build\HTTP-Session2-1.09-WWoBcP\blib\lib/HTTP/Session2/Base.pm line 79.
	HTTP::Session2::Base::__ANON__('HTTP::Session2::Base=HASH(0x9998a4)', 'i am secret') called at t\06_base_abstract.t line 7
t\06_base_abstract.t ........ ok
Cannot open /dev/urandom: No such file or directory. at C:\strawberry180\cpan\build\HTTP-Session2-1.09-WWoBcP\blib\lib/HTTP/Session2/Random.pm line 19.
Secret string too short at C:\strawberry180\cpan\build\HTTP-Session2-1.09-WWoBcP\blib\lib/HTTP/Session2/Base.pm line 79.
	HTTP::Session2::Base::__ANON__('HTTP::Session2::ClientStore=HASH(0x103e1c4)', 'secret') called at t\07_client_store.t line 23
	main::__ANON__() called at C:/strawberry180/perl/lib/Test/Builder.pm line 234
	Test::Builder::__ANON__() called at C:/strawberry180/perl/lib/Test/Builder.pm line 239
	eval {...} called at C:/strawberry180/perl/lib/Test/Builder.pm line 239
	Test::Builder::subtest('Test::Builder=HASH(0x9b7f74)', 'get/set/remove', 'CODE(0xcf9cb4)') called at C:/strawberry180/perl/lib/Test/More.pm line 747
	Test::More::subtest('get/set/remove', 'CODE(0xcf9cb4)') called at t\07_client_store.t line 31
Secret string too short at C:\strawberry180\cpan\build\HTTP-Session2-1.09-WWoBcP\blib\lib/HTTP/Session2/Base.pm line 79.
	HTTP::Session2::Base::__ANON__('HTTP::Session2::ClientStore=HASH(0x99996c)', 'secret') called at t\07_client_store.t line 35
	main::__ANON__() called at C:/strawberry180/perl/lib/Test/Builder.pm line 234
	Test::Builder::__ANON__() called at C:/strawberry180/perl/lib/Test/Builder.pm line 239
	eval {...} called at C:/strawberry180/perl/lib/Test/Builder.pm line 239
	Test::Builder::subtest('Test::Builder=HASH(0x9b7f74)', 'validate_token', 'CODE(0x103c3c4)') called at C:/strawberry180/perl/lib/Test/More.pm line 747
	Test::More::subtest('validate_token', 'CODE(0x103c3c4)') called at t\07_client_store.t line 71
Do not use HTTP::Session2::ClientStore. Use HTTP::Session2::ServerStore or HTTP::Session2::ClientStore2 instead. at C:\strawberry180\cpan\build\HTTP-Session2-1.09-WWoBcP\blib\lib/HTTP/Session2/ClientStore.pm line 25.
Secret string too short at C:\strawberry180\cpan\build\HTTP-Session2-1.09-WWoBcP\blib\lib/HTTP/Session2/Base.pm line 79.
	HTTP::Session2::Base::__ANON__('HTTP::Session2::ClientStore=HASH(0x9a4544)', 'secret') called at t\07_client_store.t line 51
	main::__ANON__() called at C:/strawberry180/perl/lib/Test/Builder.pm line 234
	Test::Builder::__ANON__() called at C:/strawberry180/perl/lib/Test/Builder.pm line 239
	eval {...} called at C:/strawberry180/perl/lib/Test/Builder.pm line 239
	Test::Builder::subtest('Test::Builder=HASH(0x9b7f74)', 'bad', 'CODE(0x9a3d94)') called at C:/strawberry180/perl/lib/Test/More.pm line 747
	Test::More::subtest('bad', 'CODE(0x9a3d94)') called at t\07_client_store.t line 57
	main::__ANON__() called at C:/strawberry180/perl/lib/Test/Builder.pm line 234
	Test::Builder::__ANON__() called at C:/strawberry180/perl/lib/Test/Builder.pm line 239
	eval {...} called at C:/strawberry180/perl/lib/Test/Builder.pm line 239
	Test::Builder::subtest('Test::Builder=HASH(0x9b7f74)', 'validate_token', 'CODE(0x103c3c4)') called at C:/strawberry180/perl/lib/Test/More.pm line 747
	Test::More::subtest('validate_token', 'CODE(0x103c3c4)') called at t\07_client_store.t line 71
Do not use HTTP::Session2::ClientStore. Use HTTP::Session2::ServerStore or HTTP::Session2::ClientStore2 instead. at C:\strawberry180\cpan\build\HTTP-Session2-1.09-WWoBcP\blib\lib/HTTP/Session2/ClientStore.pm line 35.
Secret string too short at C:\strawberry180\cpan\build\HTTP-Session2-1.09-WWoBcP\blib\lib/HTTP/Session2/Base.pm line 79.
	HTTP::Session2::Base::__ANON__('HTTP::Session2::ClientStore=HASH(0x9a48d4)', 'secret') called at t\07_client_store.t line 65
	main::__ANON__() called at C:/strawberry180/perl/lib/Test/Builder.pm line 234
	Test::Builder::__ANON__() called at C:/strawberry180/perl/lib/Test/Builder.pm line 239
	eval {...} called at C:/strawberry180/perl/lib/Test/Builder.pm line 239
	Test::Builder::subtest('Test::Builder=HASH(0x9b7f74)', 'good', 'CODE(0x9a3d94)') called at C:/strawberry180/perl/lib/Test/More.pm line 747
	Test::More::subtest('good', 'CODE(0x9a3d94)') called at t\07_client_store.t line 70
	main::__ANON__() called at C:/strawberry180/perl/lib/Test/Builder.pm line 234
	Test::Builder::__ANON__() called at C:/strawberry180/perl/lib/Test/Builder.pm line 239
	eval {...} called at C:/strawberry180/perl/lib/Test/Builder.pm line 239
	Test::Builder::subtest('Test::Builder=HASH(0x9b7f74)', 'validate_token', 'CODE(0x103c3c4)') called at C:/strawberry180/perl/lib/Test/More.pm line 747
	Test::More::subtest('validate_token', 'CODE(0x103c3c4)') called at t\07_client_store.t line 71
Do not use HTTP::Session2::ClientStore. Use HTTP::Session2::ServerStore or HTTP::Session2::ClientStore2 instead. at C:\strawberry180\cpan\build\HTTP-Session2-1.09-WWoBcP\blib\lib/HTTP/Session2/ClientStore.pm line 35.
Secret string too short at C:\strawberry180\cpan\build\HTTP-Session2-1.09-WWoBcP\blib\lib/HTTP/Session2/Base.pm line 79.
	HTTP::Session2::Base::__ANON__('HTTP::Session2::ClientStore=HASH(0x9999e4)', 'secret') called at t\07_client_store.t line 76
	main::__ANON__() called at C:/strawberry180/perl/lib/Test/Builder.pm line 234
	Test::Builder::__ANON__() called at C:/strawberry180/perl/lib/Test/Builder.pm line 239
	eval {...} called at C:/strawberry180/perl/lib/Test/Builder.pm line 239
	Test::Builder::subtest('Test::Builder=HASH(0x9b7f74)', 'ignore_old', 'CODE(0x103ca0c)') called at C:/strawberry180/perl/lib/Test/More.pm line 747
	Test::More::subtest('ignore_old', 'CODE(0x103ca0c)') called at t\07_client_store.t line 106
Do not use HTTP::Session2::ClientStore. Use HTTP::Session2::ServerStore or HTTP::Session2::ClientStore2 instead. at C:\strawberry180\cpan\build\HTTP-Session2-1.09-WWoBcP\blib\lib/HTTP/Session2/ClientStore.pm line 25.
Secret string too short at C:\strawberry180\cpan\build\HTTP-Session2-1.09-WWoBcP\blib\lib/HTTP/Session2/Base.pm line 79.
	HTTP::Session2::Base::__ANON__('HTTP::Session2::ClientStore=HASH(0x9a4a3c)', 'secret') called at t\07_client_store.t line 87
	main::__ANON__() called at C:/strawberry180/perl/lib/Test/Builder.pm line 234
	Test::Builder::__ANON__() called at C:/strawberry180/perl/lib/Test/Builder.pm line 239
	eval {...} called at C:/strawberry180/perl/lib/Test/Builder.pm line 239
	Test::Builder::subtest('Test::Builder=HASH(0x9b7f74)', 'ignore_old disabled', 'CODE(0x9a437c)') called at C:/strawberry180/perl/lib/Test/More.pm line 747
	Test::More::subtest('ignore_old disabled', 'CODE(0x9a437c)') called at t\07_client_store.t line 95
	main::__ANON__() called at C:/strawberry180/perl/lib/Test/Builder.pm line 234
	Test::Builder::__ANON__() called at C:/strawberry180/perl/lib/Test/Builder.pm line 239
	eval {...} called at C:/strawberry180/perl/lib/Test/Builder.pm line 239
	Test::Builder::subtest('Test::Builder=HASH(0x9b7f74)', 'ignore_old', 'CODE(0x103ca0c)') called at C:/strawberry180/perl/lib/Test/More.pm line 747
	Test::More::subtest('ignore_old', 'CODE(0x103ca0c)') called at t\07_client_store.t line 106
Do not use HTTP::Session2::ClientStore. Use HTTP::Session2::ServerStore or HTTP::Session2::ClientStore2 instead. at C:\strawberry180\cpan\build\HTTP-Session2-1.09-WWoBcP\blib\lib/HTTP/Session2/ClientStore.pm line 35.
Secret string too short at C:\strawberry180\cpan\build\HTTP-Session2-1.09-WWoBcP\blib\lib/HTTP/Session2/Base.pm line 79.
	HTTP::Session2::Base::__ANON__('HTTP::Session2::ClientStore=HASH(0x9a44e4)', 'secret') called at t\07_client_store.t line 97
	main::__ANON__() called at C:/strawberry180/perl/lib/Test/Builder.pm line 234
	Test::Builder::__ANON__() called at C:/strawberry180/perl/lib/Test/Builder.pm line 239
	eval {...} called at C:/strawberry180/perl/lib/Test/Builder.pm line 239
	Test::Builder::subtest('Test::Builder=HASH(0x9b7f74)', 'ignore_old enabled', 'CODE(0x9a437c)') called at C:/strawberry180/perl/lib/Test/More.pm line 747
	Test::More::subtest('ignore_old enabled', 'CODE(0x9a437c)') called at t\07_client_store.t line 105
	main::__ANON__() called at C:/strawberry180/perl/lib/Test/Builder.pm line 234
	Test::Builder::__ANON__() called at C:/strawberry180/perl/lib/Test/Builder.pm line 239
	eval {...} called at C:/strawberry180/perl/lib/Test/Builder.pm line 239
	Test::Builder::subtest('Test::Builder=HASH(0x9b7f74)', 'ignore_old', 'CODE(0x103ca0c)') called at C:/strawberry180/perl/lib/Test/More.pm line 747
	Test::More::subtest('ignore_old', 'CODE(0x103ca0c)') called at t\07_client_store.t line 106
t\07_client_store.t ......... ok
Secret string too short at C:\strawberry180\cpan\build\HTTP-Session2-1.09-WWoBcP\blib\lib/HTTP/Session2/Base.pm line 79.
	HTTP::Session2::Base::__ANON__('HTTP::Session2::Expired=HASH(0xada844)', 33333) called at t\08_expired.t line 7
t\08_expired.t .............. ok
Cannot open /dev/urandom: No such file or directory. at C:\strawberry180\cpan\build\HTTP-Session2-1.09-WWoBcP\blib\lib/HTTP/Session2/Random.pm line 19.
# No /dev/urandom
t\09_random.t ............... ok
Cannot open /dev/urandom: No such file or directory. at C:\strawberry180\cpan\build\HTTP-Session2-1.09-WWoBcP\blib\lib/HTTP/Session2/Random.pm line 19.
t\11_secret_string.t ........ ok
Cannot open /dev/urandom: No such file or directory. at C:\strawberry180\cpan\build\HTTP-Session2-1.09-WWoBcP\blib\lib/HTTP/Session2/Random.pm line 19.
Secret string too short at C:\strawberry180\cpan\build\HTTP-Session2-1.09-WWoBcP\blib\lib/HTTP/Session2/Base.pm line 79.
	HTTP::Session2::Base::__ANON__('HTTP::Session2::ClientStore2=HASH(0xd7007c)', 's3cret') called at t\client_store2\01_basic.t line 24
	main::__ANON__('client -> server: request without cookie', 'CODE(0xd6fb9c)') called at t\client_store2\01_basic.t line 30
	main::__ANON__() called at C:/strawberry180/perl/lib/Test/Builder.pm line 234
	Test::Builder::__ANON__() called at C:/strawberry180/perl/lib/Test/Builder.pm line 239
	eval {...} called at C:/strawberry180/perl/lib/Test/Builder.pm line 239
	Test::Builder::subtest('Test::Builder=HASH(0x9b86d4)', 'First request', 'CODE(0x3f8c94)') called at C:/strawberry180/perl/lib/Test/More.pm line 747
	Test::More::subtest('First request', 'CODE(0x3f8c94)') called at t\client_store2\01_basic.t line 9
	main::scenario('First request', 'CODE(0x3f8c94)') called at t\client_store2\01_basic.t line 36
Secret string too short at C:\strawberry180\cpan\build\HTTP-Session2-1.09-WWoBcP\blib\lib/HTTP/Session2/Base.pm line 79.
	HTTP::Session2::Base::__ANON__('HTTP::Session2::ClientStore2=HASH(0xd7022c)', 's3cret') called at t\client_store2\01_basic.t line 41
	main::__ANON__('client -> server: request without cookie', 'CODE(0xd6f6ec)') called at t\client_store2\01_basic.t line 47
	main::__ANON__() called at C:/strawberry180/perl/lib/Test/Builder.pm line 234
	Test::Builder::__ANON__() called at C:/strawberry180/perl/lib/Test/Builder.pm line 239
	eval {...} called at C:/strawberry180/perl/lib/Test/Builder.pm line 239
	Test::Builder::subtest('Test::Builder=HASH(0x9b86d4)', 'Store something without login', 'CODE(0x3f8c94)') called at C:/strawberry180/perl/lib/Test/More.pm line 747
	Test::More::subtest('Store something without login', 'CODE(0x3f8c94)') called at t\client_store2\01_basic.t line 9
	main::scenario('Store something without login', 'CODE(0x3f8c94)') called at t\client_store2\01_basic.t line 63
Secret string too short at C:\strawberry180\cpan\build\HTTP-Session2-1.09-WWoBcP\blib\lib/HTTP/Session2/Base.pm line 79.
	HTTP::Session2::Base::__ANON__('HTTP::Session2::ClientStore2=HASH(0xd76194)', 's3cret') called at t\client_store2\01_basic.t line 69
	main::__ANON__('client -> server: request without cookie', 'CODE(0x9a3f7c)') called at t\client_store2\01_basic.t line 76
	main::__ANON__() called at C:/strawberry180/perl/lib/Test/Builder.pm line 234
	Test::Builder::__ANON__() called at C:/strawberry180/perl/lib/Test/Builder.pm line 239
	eval {...} called at C:/strawberry180/perl/lib/Test/Builder.pm line 239
	Test::Builder::subtest('Test::Builder=HASH(0x9b86d4)', 'Login', 'CODE(0x3f8c94)') called at C:/strawberry180/perl/lib/Test/More.pm line 747
	Test::More::subtest('Login', 'CODE(0x3f8c94)') called at t\client_store2\01_basic.t line 9
	main::scenario('Login', 'CODE(0x3f8c94)') called at t\client_store2\01_basic.t line 96
Ciphertext does not begin with a valid header for 'salt' header mode at C:\strawberry180\cpan\build\HTTP-Session2-1.09-WWoBcP\blib\lib/HTTP/Session2/ClientStore2.pm line 81.
Ciphertext does not begin with a valid header for 'salt' header mode at C:\strawberry180\cpan\build\HTTP-Session2-1.09-WWoBcP\blib\lib/HTTP/Session2/ClientStore2.pm line 81.
Secret string too short at C:\strawberry180\cpan\build\HTTP-Session2-1.09-WWoBcP\blib\lib/HTTP/Session2/Base.pm line 79.
	HTTP::Session2::Base::__ANON__('HTTP::Session2::ClientStore2=HASH(0xd760d4)', 's3cret') called at t\client_store2\01_basic.t line 102
	main::__ANON__('client -> server: request without cookie', 'CODE(0xd7611c)') called at t\client_store2\01_basic.t line 109
	main::__ANON__() called at C:/strawberry180/perl/lib/Test/Builder.pm line 234
	Test::Builder::__ANON__() called at C:/strawberry180/perl/lib/Test/Builder.pm line 239
	eval {...} called at C:/strawberry180/perl/lib/Test/Builder.pm line 239
	Test::Builder::subtest('Test::Builder=HASH(0x9b86d4)', 'In a login session', 'CODE(0x3f8c94)') called at C:/strawberry180/perl/lib/Test/More.pm line 747
	Test::More::subtest('In a login session', 'CODE(0x3f8c94)') called at t\client_store2\01_basic.t line 9
	main::scenario('In a login session', 'CODE(0x3f8c94)') called at t\client_store2\01_basic.t line 118
Ciphertext does not begin with a valid header for 'salt' header mode at C:\strawberry180\cpan\build\HTTP-Session2-1.09-WWoBcP\blib\lib/HTTP/Session2/ClientStore2.pm line 81.
Secret string too short at C:\strawberry180\cpan\build\HTTP-Session2-1.09-WWoBcP\blib\lib/HTTP/Session2/Base.pm line 79.
	HTTP::Session2::Base::__ANON__('HTTP::Session2::ClientStore2=HASH(0x9a403c)', 's3cret') called at t\client_store2\01_basic.t line 123
	main::__ANON__('client -> server: request without cookie', 'CODE(0xd6faac)') called at t\client_store2\01_basic.t line 130
	main::__ANON__() called at C:/strawberry180/perl/lib/Test/Builder.pm line 234
	Test::Builder::__ANON__() called at C:/strawberry180/perl/lib/Test/Builder.pm line 239
	eval {...} called at C:/strawberry180/perl/lib/Test/Builder.pm line 239
	Test::Builder::subtest('Test::Builder=HASH(0x9b86d4)', 'Logout', 'CODE(0x3f8c94)') called at C:/strawberry180/perl/lib/Test/More.pm line 747
	Test::More::subtest('Logout', 'CODE(0x3f8c94)') called at t\client_store2\01_basic.t line 9
	main::scenario('Logout', 'CODE(0x3f8c94)') called at t\client_store2\01_basic.t line 143
Ciphertext does not begin with a valid header for 'salt' header mode at C:\strawberry180\cpan\build\HTTP-Session2-1.09-WWoBcP\blib\lib/HTTP/Session2/ClientStore2.pm line 81.
t\client_store2\01_basic.t .. ok
Cannot open /dev/urandom: No such file or directory. at C:\strawberry180\cpan\build\HTTP-Session2-1.09-WWoBcP\blib\lib/HTTP/Session2/Random.pm line 19.
t\client_store2\02_mech.t ... ok
Cannot open /dev/urandom: No such file or directory. at C:\strawberry180\cpan\build\HTTP-Session2-1.09-WWoBcP\blib\lib/HTTP/Session2/Random.pm line 19.
t\client_store2\03_colon.t .. ok
All tests successful.
Files=14, Tests=81,  6 wallclock secs ( 0.07 usr +  0.10 sys =  0.17 CPU)
Result: PASS

------------------------------
PREREQUISITES
------------------------------

Prerequisite modules loaded:

requires:

    Module                     Need     Have    
    -------------------------- -------- --------
    Cookie::Baker              0        0.03    
    Crypt::CBC                 0        2.32    
    Data::MessagePack          0        0.47    
    Digest::HMAC               0        1.03    
    Digest::SHA                0        5.84    
    Digest::SHA1               0        2.13    
    MIME::Base64               3.11     3.13    
    Mouse                      0        1.11    
    parent                     0        0.225   
    perl                       5.008005 5.018000
    Time::HiRes                0        1.9725  

build_requires:

    Module                     Need     Have    
    -------------------------- -------- --------
    Crypt::Rijndael            0        1.11    
    Plack::Request             0        1.0028  
    Plack::Response            0        1.0028  
    Test::More                 0.98     0.98    
    Test::WWW::Mechanize::PSGI 0        0.35    

configure_requires:

    Module                     Need     Have    
    -------------------------- -------- --------
    Module::Build              0.38     0.4005  


------------------------------
ENVIRONMENT AND OTHER CONTEXT
------------------------------

Environment variables:

    AUTOMATED_TESTING = 1
    COMSPEC = C:\WINDOWS\system32\cmd.exe
    NUMBER_OF_PROCESSORS = 1
    PATH = C:\Program Files\Far Manager\;C:\WINDOWS\system32;C:\WINDOWS;C:\WINDOWS\System32\Wbem;C:\strawberry180\c\bin;C:\strawberry180\perl\site\bin;C:\strawberry180\perl\bin
    PERL5LIB = C:\strawberry180\cpan\build\Cookie-Baker-0.03-aAcUNX/blib/arch;C:\strawberry180\cpan\build\Cookie-Baker-0.03-aAcUNX/blib/lib;C:\strawberry180\cpan\build\Test-Time-0.04-G9QyR9/blib/arch;C:\strawberry180\cpan\build\Test-Time-0.04-G9QyR9/blib/lib;C:\strawberry180\cpan\build\Test-Name-FromLine-0.13-UJrXAq/blib/arch;C:\strawberry180\cpan\build\Test-Name-FromLine-0.13-UJrXAq/blib/lib
    PERL5OPT = 
    PERL5_CPANPLUS_IS_RUNNING = 292
    PERL5_CPAN_IS_RUNNING = 292
    PERL5_CPAN_IS_RUNNING_IN_RECURSION = 1288,292
    PERL_CR_SMOKER_CURRENT = HTTP-Session2-1.09
    PERL_EXTUTILS_AUTOINSTALL = --defaultdeps
    PERL_MM_USE_DEFAULT = 1
    PROCESSOR_IDENTIFIER = x86 Family 16 Model 5 Stepping 3, AuthenticAMD
    TEMP = C:\DOCUME~1\c\LOCALS~1\Temp
    TERM = dumb

Perl special variables (and OS-specific diagnostics, for MSWin32):

    $^X = C:\strawberry180\perl\bin\perl.exe
    $UID/$EUID = 0 / 0
    $GID = 0
    $EGID = 0
    Win32::GetOSName = WinXP/.Net
    Win32::GetOSVersion = Service Pack 3, 5, 1, 2600, 2, 3, 0, 256, 1
    Win32::FsType = NTFS
    Win32::IsAdminUser = 1

Perl module toolchain versions installed:

    Module              Have    
    ------------------- --------
    CPAN                2.00    
    CPAN::Meta          2.130880
    Cwd                 3.40    
    ExtUtils::CBuilder  0.280210
    ExtUtils::Command   1.17    
    ExtUtils::Install   1.59    
    ExtUtils::MakeMaker 6.66    
    ExtUtils::Manifest  1.63    
    ExtUtils::ParseXS   3.18    
    File::Spec          3.40    
    JSON                2.57    
    JSON::PP            2.27202 
    Module::Build       0.4005  
    Module::Signature   n/a     
    Parse::CPAN::Meta   1.4404  
    Test::Harness       3.28    
    Test::More          0.98    
    YAML                0.84    
    YAML::Syck          1.27    
    version             0.9902  


--

Summary of my perl5 (revision 5 version 18 subversion 0) configuration:
   
  Platform:
    osname=MSWin32, osvers=4.0, archname=MSWin32-x86-multi-thread-64int
    uname='Win32 strawberry-perl 5.18.0.1 #1 Sat May 18 17:46:00 2013 i386'
    config_args='undef'
    hint=recommended, useposix=true, d_sigaction=undef
    useithreads=define, usemultiplicity=define
    useperlio=define, d_sfio=undef, uselargefiles=define, usesocks=undef
    use64bitint=define, use64bitall=undef, uselongdouble=undef
    usemymalloc=n, bincompat5005=undef
  Compiler:
    cc='gcc', ccflags =' -s -O2 -DWIN32  -DPERL_TEXTMODE_SCRIPTS -DPERL_IMPLICIT_CONTEXT -DPERL_IMPLICIT_SYS -DUSE_PERLIO -fno-strict-aliasing -mms-bitfields',
    optimize='-s -O2',
    cppflags='-DWIN32'
    ccversion='', gccversion='4.6.3', gccosandvers=''
    intsize=4, longsize=4, ptrsize=4, doublesize=8, byteorder=12345678
    d_longlong=define, longlongsize=8, d_longdbl=define, longdblsize=12
    ivtype='long long', ivsize=8, nvtype='double', nvsize=8, Off_t='long long', lseeksize=8
    alignbytes=8, prototype=define
  Linker and Libraries:
    ld='g++', ldflags ='-s -L"C:\strawberry180\perl\lib\CORE" -L"C:\strawberry180\c\lib"'
    libpth=C:\strawberry180\c\lib C:\strawberry180\c\i686-w64-mingw32\lib
    libs=-lmoldname -lkernel32 -luser32 -lgdi32 -lwinspool -lcomdlg32 -ladvapi32 -lshell32 -lole32 -loleaut32 -lnetapi32 -luuid -lws2_32 -lmpr -lwinmm -lversion -lodbc32 -lodbccp32 -lcomctl32
    perllibs=-lmoldname -lkernel32 -luser32 -lgdi32 -lwinspool -lcomdlg32 -ladvapi32 -lshell32 -lole32 -loleaut32 -lnetapi32 -luuid -lws2_32 -lmpr -lwinmm -lversion -lodbc32 -lodbccp32 -lcomctl32
    libc=, so=dll, useshrplib=true, libperl=libperl518.a
    gnulibc_version=''
  Dynamic Linking:
    dlsrc=dl_win32.xs, dlext=dll, d_dlsymun=undef, ccdlflags=' '
    cccdlflags=' ', lddlflags='-mdll -s -L"C:\strawberry180\perl\lib\CORE" -L"C:\strawberry180\c\lib"'


Characteristics of this binary (from libperl): 
  Compile-time options: HAS_TIMES HAVE_INTERP_INTERN MULTIPLICITY
                        PERLIO_LAYERS PERL_DONT_CREATE_GVSV
                        PERL_HASH_FUNC_ONE_AT_A_TIME_HARD
                        PERL_IMPLICIT_CONTEXT PERL_IMPLICIT_SYS
                        PERL_MALLOC_WRAP PERL_PRESERVE_IVUV PERL_SAWAMPERSAND
                        USE_64_BIT_INT USE_ITHREADS USE_LARGE_FILES
                        USE_LOCALE USE_LOCALE_COLLATE USE_LOCALE_CTYPE
                        USE_LOCALE_NUMERIC USE_PERLIO USE_PERL_ATOF
  Built under MSWin32
  Compiled at May 18 2013 17:53:14
  %ENV:
    PERL5LIB="C:\strawberry180\cpan\build\Cookie-Baker-0.03-aAcUNX/blib/arch;C:\strawberry180\cpan\build\Cookie-Baker-0.03-aAcUNX/blib/lib;C:\strawberry180\cpan\build\Test-Time-0.04-G9QyR9/blib/arch;C:\strawberry180\cpan\build\Test-Time-0.04-G9QyR9/blib/lib;C:\strawberry180\cpan\build\Test-Name-FromLine-0.13-UJrXAq/blib/arch;C:\strawberry180\cpan\build\Test-Name-FromLine-0.13-UJrXAq/blib/lib"
    PERL5_CPANPLUS_IS_RUNNING="292"
    PERL5_CPAN_IS_RUNNING="292"
    PERL5_CPAN_IS_RUNNING_IN_RECURSION="1288,292"
    PERL_CR_SMOKER_CURRENT="HTTP-Session2-1.09"
    PERL_EXTUTILS_AUTOINSTALL="--defaultdeps"
    PERL_MM_USE_DEFAULT="1"
  @INC:
    C:\strawberry180\cpan\build\Cookie-Baker-0.03-aAcUNX/blib/arch
    C:\strawberry180\cpan\build\Cookie-Baker-0.03-aAcUNX/blib/lib
    C:\strawberry180\cpan\build\Test-Time-0.04-G9QyR9/blib/arch
    C:\strawberry180\cpan\build\Test-Time-0.04-G9QyR9/blib/lib
    C:\strawberry180\cpan\build\Test-Name-FromLine-0.13-UJrXAq/blib/arch
    C:\strawberry180\cpan\build\Test-Name-FromLine-0.13-UJrXAq/blib/lib
    C:/strawberry180/perl/site/lib
    C:/strawberry180/perl/vendor/lib
    C:/strawberry180/perl/lib
    .