Sub-Called v0.05 Perl 5 v5.24.4 x86_64-linux-thread-multi-ld

Status
Pass
From
Andreas J. König (ANDK)
Dist
Sub-Called v0.05
Platform
Perl 5 v5.24.4 x86_64-linux-thread-multi-ld
Date
2019-04-06 22:04:37
ID
f7f59f22-58b7-11e9-8b64-1df9e3e5c01a
This distribution has been tested as part of the CPAN Testers
project, supporting the Perl programming language.  See
http://wiki.cpantesters.org/ for more information or email
questions to cpan-testers-discuss@perl.org


--
Dear Renee Baecker,

This is a computer-generated report for Sub-Called-0.05
on perl 5.24.4, created by CPAN-Reporter-1.2018.

Thank you for uploading your work to CPAN.  Congratulations!
All tests were successful.

Sections of this report:

    * Tester comments
    * Program output
    * Prerequisites
    * Environment and other context

------------------------------
TESTER COMMENTS
------------------------------

Additional comments from tester:

this report is from an automated smoke testing program
and was not reviewed by a human for accuracy

------------------------------
PROGRAM OUTPUT
------------------------------

Output from '/usr/bin/make test':

PERL_DL_NONLAZY=1 "/home/sand/src/perl/repoperls/installed-perls/host/k93msid/v5.24.4/ac75/bin/perl" "-MExtUtils::Command::MM" "-MTest::Harness" "-e" "undef *Test::Harness::Switches; test_harness(0, 'blib/lib', 'blib/arch')" t/*.t
# Testing Sub::Called 0.05, Perl 5.024004, /home/sand/src/perl/repoperls/installed-perls/host/k93msid/v5.24.4/ac75/bin/perl
t/00_load.t .................... ok
B::CV  {
    Parents       B::PVMG
    public methods (16) : CONST, const_sv, CvFLAGS, DEPTH, FILE, GV, HSCXT, NAME_HEK, OUTSIDE, OUTSIDE_SEQ, PADLIST, ROOT, START, STASH, XSUB, XSUBANY
    private methods (0)
    internals: 93931489673272
}
[
    [0] "main",
    [1] 8,
    [2] "main::test"
]
[]
[
    [0]  "main",
    [1]  "t/01_base.t",
    [2]  8,
    [3]  "main::test",
    [4]  1,
    [5]  undef,
    [6]  undef,
    [7]  undef,
    [8]  2018,
    [9]  "UUUUUUUUUUUUUUUUU",
    [10] undef
]
B::CV  {
    Parents       B::PVMG
    public methods (16) : CONST, const_sv, CvFLAGS, DEPTH, FILE, GV, HSCXT, NAME_HEK, OUTSIDE, OUTSIDE_SEQ, PADLIST, ROOT, START, STASH, XSUB, XSUBANY
    private methods (0)
    internals: 93931489673272
}
[
    [0] "main",
    [1] 9,
    [2] "main::test2"
]
[]
[
    [0]  "main",
    [1]  "t/01_base.t",
    [2]  9,
    [3]  "main::test2",
    [4]  "",
    [5]  undef,
    [6]  undef,
    [7]  undef,
    [8]  2018,
    [9]  "UUUUUUUUUUUUUUUUU",
    [10] undef
]
B::CV  {
    Parents       B::PVMG
    public methods (16) : CONST, const_sv, CvFLAGS, DEPTH, FILE, GV, HSCXT, NAME_HEK, OUTSIDE, OUTSIDE_SEQ, PADLIST, ROOT, START, STASH, XSUB, XSUBANY
    private methods (0)
    internals: 93931489673272
}
[
    [0] "main",
    [1] 10,
    [2] "main::test2"
]
[]
[
    [0]  "main",
    [1]  "t/01_base.t",
    [2]  10,
    [3]  "main::test2",
    [4]  1,
    [5]  undef,
    [6]  undef,
    [7]  undef,
    [8]  2018,
    [9]  "UUUUUUUUUUUUUUUUU",
    [10] undef
]
B::CV  {
    Parents       B::PVMG
    public methods (16) : CONST, const_sv, CvFLAGS, DEPTH, FILE, GV, HSCXT, NAME_HEK, OUTSIDE, OUTSIDE_SEQ, PADLIST, ROOT, START, STASH, XSUB, XSUBANY
    private methods (0)
    internals: 93931501157216
}
[
    [0] "main::agent",
    [1] 15,
    [2] "main::test"
]
[
    [0]  "main",
    [1]  "t/01_base.t",
    [2]  12,
    [3]  "main::agent",
    [4]  1,
    [5]  undef,
    [6]  undef,
    [7]  undef,
    [8]  2018,
    [9]  "UUUUUUUUUUUUUUUUU",
    [10] undef
]
[
    [0]  "main",
    [1]  "t/01_base.t",
    [2]  15,
    [3]  "main::test",
    [4]  1,
    [5]  undef,
    [6]  undef,
    [7]  undef,
    [8]  1762,
    [9]  "UUUUUUUUUUUUUUUUU",
    [10] undef
]
B::CV  {
    Parents       B::PVMG
    public methods (16) : CONST, const_sv, CvFLAGS, DEPTH, FILE, GV, HSCXT, NAME_HEK, OUTSIDE, OUTSIDE_SEQ, PADLIST, ROOT, START, STASH, XSUB, XSUBANY
    private methods (0)
    internals: 93931501157216
}
[
    [0] "main::agent",
    [1] 16,
    [2] "main::test2"
]
[
    [0]  "main",
    [1]  "t/01_base.t",
    [2]  12,
    [3]  "main::agent",
    [4]  1,
    [5]  undef,
    [6]  undef,
    [7]  undef,
    [8]  2018,
    [9]  "UUUUUUUUUUUUUUUUU",
    [10] undef
]
[
    [0]  "main",
    [1]  "t/01_base.t",
    [2]  16,
    [3]  "main::test2",
    [4]  1,
    [5]  undef,
    [6]  undef,
    [7]  undef,
    [8]  1762,
    [9]  "UUUUUUUUUUUUUUUUU",
    [10] undef
]
B::CV  {
    Parents       B::PVMG
    public methods (16) : CONST, const_sv, CvFLAGS, DEPTH, FILE, GV, HSCXT, NAME_HEK, OUTSIDE, OUTSIDE_SEQ, PADLIST, ROOT, START, STASH, XSUB, XSUBANY
    private methods (0)
    internals: 93931501157216
}
[
    [0] "main::agent",
    [1] 17,
    [2] "main::test2"
]
[
    [0]  "main",
    [1]  "t/01_base.t",
    [2]  12,
    [3]  "main::agent",
    [4]  1,
    [5]  undef,
    [6]  undef,
    [7]  undef,
    [8]  2018,
    [9]  "UUUUUUUUUUUUUUUUU",
    [10] undef
]
[
    [0]  "main",
    [1]  "t/01_base.t",
    [2]  17,
    [3]  "main::test2",
    [4]  "",
    [5]  undef,
    [6]  undef,
    [7]  undef,
    [8]  2018,
    [9]  "UUUUUUUUUUUUUUUUU",
    [10] undef
]
t/01_base.t .................... ok
B::CV  {
    Parents       B::PVMG
    public methods (16) : CONST, const_sv, CvFLAGS, DEPTH, FILE, GV, HSCXT, NAME_HEK, OUTSIDE, OUTSIDE_SEQ, PADLIST, ROOT, START, STASH, XSUB, XSUBANY
    private methods (0)
    internals: 94327338487864
}
[
    [0] "main",
    [1] 22,
    [2] "SubCallerCheck::test"
]
[]
[
    [0]  "main",
    [1]  "t/02_module.t",
    [2]  22,
    [3]  "SubCallerCheck::test",
    [4]  1,
    [5]  undef,
    [6]  undef,
    [7]  undef,
    [8]  2018,
    [9]  "UUUUUUUUUUUUUUUUU",
    [10] undef
]
B::CV  {
    Parents       B::PVMG
    public methods (16) : CONST, const_sv, CvFLAGS, DEPTH, FILE, GV, HSCXT, NAME_HEK, OUTSIDE, OUTSIDE_SEQ, PADLIST, ROOT, START, STASH, XSUB, XSUBANY
    private methods (0)
    internals: 94327338487864
}
[
    [0] "main",
    [1] 23,
    [2] "SubCallerCheck::test2"
]
[]
[
    [0]  "main",
    [1]  "t/02_module.t",
    [2]  23,
    [3]  "SubCallerCheck::test2",
    [4]  1,
    [5]  undef,
    [6]  undef,
    [7]  undef,
    [8]  2018,
    [9]  "UUUUUUUUUUUUUUUUU",
    [10] undef
]
t/02_module.t .................. ok
B::CV  {
    Parents       B::PVMG
    public methods (16) : CONST, const_sv, CvFLAGS, DEPTH, FILE, GV, HSCXT, NAME_HEK, OUTSIDE, OUTSIDE_SEQ, PADLIST, ROOT, START, STASH, XSUB, XSUBANY
    private methods (0)
    internals: 94116251596104
}
[
    [0] "main",
    [1] 24,
    [2] "SubCallerCheck::test"
]
[]
[
    [0]  "main",
    [1]  "t/03_module2.t",
    [2]  24,
    [3]  "SubCallerCheck::test",
    [4]  1,
    [5]  undef,
    [6]  undef,
    [7]  undef,
    [8]  1762,
    [9]  "UUUUUUUUUUUUUUUUU",
    [10] undef
]
B::CV  {
    Parents       B::PVMG
    public methods (16) : CONST, const_sv, CvFLAGS, DEPTH, FILE, GV, HSCXT, NAME_HEK, OUTSIDE, OUTSIDE_SEQ, PADLIST, ROOT, START, STASH, XSUB, XSUBANY
    private methods (0)
    internals: 94116251596104
}
[
    [0] "main",
    [1] 29,
    [2] "SubCallerCheck::test2"
]
[]
[
    [0]  "main",
    [1]  "t/03_module2.t",
    [2]  29,
    [3]  "SubCallerCheck::test2",
    [4]  "",
    [5]  undef,
    [6]  undef,
    [7]  undef,
    [8]  1762,
    [9]  "UUUUUUUUUUUUUUUUU",
    [10] undef
]
B::CV  {
    Parents       B::PVMG
    public methods (16) : CONST, const_sv, CvFLAGS, DEPTH, FILE, GV, HSCXT, NAME_HEK, OUTSIDE, OUTSIDE_SEQ, PADLIST, ROOT, START, STASH, XSUB, XSUBANY
    private methods (0)
    internals: 94116251596104
}
[
    [0] "main",
    [1] 30,
    [2] "SubCallerCheck::test2"
]
[]
[
    [0]  "main",
    [1]  "t/03_module2.t",
    [2]  30,
    [3]  "SubCallerCheck::test2",
    [4]  1,
    [5]  undef,
    [6]  undef,
    [7]  undef,
    [8]  1762,
    [9]  "UUUUUUUUUUUUUUUUU",
    [10] undef
]
t/03_module2.t ................. ok
B::CV  {
    Parents       B::PVMG
    public methods (16) : CONST, const_sv, CvFLAGS, DEPTH, FILE, GV, HSCXT, NAME_HEK, OUTSIDE, OUTSIDE_SEQ, PADLIST, ROOT, START, STASH, XSUB, XSUBANY
    private methods (0)
    internals: 94521207542800
}
[
    [0] "main",
    [1] 18,
    [2] "main::test"
]
[]
[
    [0]  "main",
    [1]  "t/04_main.t",
    [2]  18,
    [3]  "main::test",
    [4]  1,
    [5]  undef,
    [6]  undef,
    [7]  undef,
    [8]  2018,
    [9]  "UUUUUUUUUUUUUUUUU",
    [10] undef
]
B::CV  {
    Parents       B::PVMG
    public methods (16) : CONST, const_sv, CvFLAGS, DEPTH, FILE, GV, HSCXT, NAME_HEK, OUTSIDE, OUTSIDE_SEQ, PADLIST, ROOT, START, STASH, XSUB, XSUBANY
    private methods (0)
    internals: 94521207542800
}
[
    [0] "main",
    [1] 29,
    [2] "main::__ANON__"
]
[]
[
    [0]  "main",
    [1]  "t/04_main.t",
    [2]  29,
    [3]  "main::__ANON__",
    [4]  1,
    [5]  undef,
    [6]  undef,
    [7]  undef,
    [8]  2018,
    [9]  "UUUUUUUUUUUUUUUUU",
    [10] undef
]
B::CV  {
    Parents       B::PVMG
    public methods (16) : CONST, const_sv, CvFLAGS, DEPTH, FILE, GV, HSCXT, NAME_HEK, OUTSIDE, OUTSIDE_SEQ, PADLIST, ROOT, START, STASH, XSUB, XSUBANY
    private methods (0)
    internals: 94521207542800
}
[
    [0] "main",
    [1] 35,
    [2] "main::test2"
]
[]
[
    [0]  "main",
    [1]  "t/04_main.t",
    [2]  35,
    [3]  "main::test2",
    [4]  "",
    [5]  undef,
    [6]  undef,
    [7]  undef,
    [8]  2018,
    [9]  "UUUUUUUUUUUUUUUUU",
    [10] undef
]
B::CV  {
    Parents       B::PVMG
    public methods (16) : CONST, const_sv, CvFLAGS, DEPTH, FILE, GV, HSCXT, NAME_HEK, OUTSIDE, OUTSIDE_SEQ, PADLIST, ROOT, START, STASH, XSUB, XSUBANY
    private methods (0)
    internals: 94521207542800
}
[
    [0] "main",
    [1] 38,
    [2] "main::test2"
]
[]
[
    [0]  "main",
    [1]  "t/04_main.t",
    [2]  38,
    [3]  "main::test2",
    [4]  1,
    [5]  undef,
    [6]  undef,
    [7]  undef,
    [8]  2018,
    [9]  "UUUUUUUUUUUUUUUUU",
    [10] undef
]
B::CV  {
    Parents       B::PVMG
    public methods (16) : CONST, const_sv, CvFLAGS, DEPTH, FILE, GV, HSCXT, NAME_HEK, OUTSIDE, OUTSIDE_SEQ, PADLIST, ROOT, START, STASH, XSUB, XSUBANY
    private methods (0)
    internals: 94521207542800
}
[
    [0] "main",
    [1] 40,
    [2] "main::__ANON__"
]
[]
[
    [0]  "main",
    [1]  "t/04_main.t",
    [2]  40,
    [3]  "main::__ANON__",
    [4]  1,
    [5]  undef,
    [6]  undef,
    [7]  undef,
    [8]  2018,
    [9]  "UUUUUUUUUUUUUUUUU",
    [10] undef
]
B::CV  {
    Parents       B::PVMG
    public methods (16) : CONST, const_sv, CvFLAGS, DEPTH, FILE, GV, HSCXT, NAME_HEK, OUTSIDE, OUTSIDE_SEQ, PADLIST, ROOT, START, STASH, XSUB, XSUBANY
    private methods (0)
    internals: 94521207542800
}
[
    [0] "main",
    [1] 43,
    [2] "main::__ANON__"
]
[]
[
    [0]  "main",
    [1]  "t/04_main.t",
    [2]  43,
    [3]  "main::__ANON__",
    [4]  "",
    [5]  undef,
    [6]  undef,
    [7]  undef,
    [8]  2018,
    [9]  "UUUUUUUUUUUUUUUUU",
    [10] undef
]
t/04_main.t .................... ok
B::CV  {
    Parents       B::PVMG
    public methods (16) : CONST, const_sv, CvFLAGS, DEPTH, FILE, GV, HSCXT, NAME_HEK, OUTSIDE, OUTSIDE_SEQ, PADLIST, ROOT, START, STASH, XSUB, XSUBANY
    private methods (0)
    internals: 94777057881904
}
[
    [0] "main",
    [1] 19,
    [2] "main::dummy"
]
[]
[
    [0]  "main",
    [1]  "t/05_two_calls_in_one_line.t",
    [2]  19,
    [3]  "main::dummy",
    [4]  "",
    [5]  1,
    [6]  undef,
    [7]  undef,
    [8]  2018,
    [9]  "UUUUUUUUUUUUUUUUU",
    [10] undef
]
B::CV  {
    Parents       B::PVMG
    public methods (16) : CONST, const_sv, CvFLAGS, DEPTH, FILE, GV, HSCXT, NAME_HEK, OUTSIDE, OUTSIDE_SEQ, PADLIST, ROOT, START, STASH, XSUB, XSUBANY
    private methods (0)
    internals: 94777057881904
}
[
    [0] "main",
    [1] 19,
    [2] "main::foo"
]
[]
[
    [0]  "main",
    [1]  "t/05_two_calls_in_one_line.t",
    [2]  19,
    [3]  "main::foo",
    [4]  1,
    [5]  1,
    [6]  undef,
    [7]  undef,
    [8]  2018,
    [9]  "UUUUUUUUUUUUUUUUU",
    [10] undef
]
B::CV  {
    Parents       B::PVMG
    public methods (16) : CONST, const_sv, CvFLAGS, DEPTH, FILE, GV, HSCXT, NAME_HEK, OUTSIDE, OUTSIDE_SEQ, PADLIST, ROOT, START, STASH, XSUB, XSUBANY
    private methods (0)
    internals: 94777057881904
}
[
    [0] "main",
    [1] 24,
    [2] "main::dummy"
]
[]
[
    [0]  "main",
    [1]  "t/05_two_calls_in_one_line.t",
    [2]  24,
    [3]  "main::dummy",
    [4]  "",
    [5]  undef,
    [6]  undef,
    [7]  undef,
    [8]  2018,
    [9]  "UUUUUUUUUUUUUUUUU",
    [10] undef
]
B::CV  {
    Parents       B::PVMG
    public methods (16) : CONST, const_sv, CvFLAGS, DEPTH, FILE, GV, HSCXT, NAME_HEK, OUTSIDE, OUTSIDE_SEQ, PADLIST, ROOT, START, STASH, XSUB, XSUBANY
    private methods (0)
    internals: 94777057881904
}
[
    [0] "main",
    [1] 24,
    [2] "main::foo"
]
[]
[
    [0]  "main",
    [1]  "t/05_two_calls_in_one_line.t",
    [2]  24,
    [3]  "main::foo",
    [4]  1,
    [5]  undef,
    [6]  undef,
    [7]  undef,
    [8]  2018,
    [9]  "UUUUUUUUUUUUUUUUU",
    [10] undef
]
t/05_two_calls_in_one_line.t ... ok
t/06_called_at_module_start.t .. skipped: These are tests for the limitations.
B::CV  {
    Parents       B::PVMG
    public methods (16) : CONST, const_sv, CvFLAGS, DEPTH, FILE, GV, HSCXT, NAME_HEK, OUTSIDE, OUTSIDE_SEQ, PADLIST, ROOT, START, STASH, XSUB, XSUBANY
    private methods (0)
    internals: 94007202570296
}
[
    [0] "main",
    [1] 22,
    [2] "SubCaller::Check::test"
]
[]
[
    [0]  "main",
    [1]  "t/07_module3.t",
    [2]  22,
    [3]  "SubCaller::Check::test",
    [4]  1,
    [5]  undef,
    [6]  undef,
    [7]  undef,
    [8]  2018,
    [9]  "UUUUUUUUUUUUUUUUU",
    [10] undef
]
B::CV  {
    Parents       B::PVMG
    public methods (16) : CONST, const_sv, CvFLAGS, DEPTH, FILE, GV, HSCXT, NAME_HEK, OUTSIDE, OUTSIDE_SEQ, PADLIST, ROOT, START, STASH, XSUB, XSUBANY
    private methods (0)
    internals: 94007202570296
}
[
    [0] "main",
    [1] 23,
    [2] "SubCaller::Check::test2"
]
[]
[
    [0]  "main",
    [1]  "t/07_module3.t",
    [2]  23,
    [3]  "SubCaller::Check::test2",
    [4]  1,
    [5]  undef,
    [6]  undef,
    [7]  undef,
    [8]  2018,
    [9]  "UUUUUUUUUUUUUUUUU",
    [10] undef
]
t/07_module3.t ................. ok
B::CV  {
    Parents       B::PVMG
    public methods (16) : CONST, const_sv, CvFLAGS, DEPTH, FILE, GV, HSCXT, NAME_HEK, OUTSIDE, OUTSIDE_SEQ, PADLIST, ROOT, START, STASH, XSUB, XSUBANY
    private methods (0)
    internals: 94816880435256
}
[
    [0] "main",
    [1] 6,
    [2] "main::test"
]
[]
[
    [0]  "main",
    [1]  "t/08_without_strict.t",
    [2]  6,
    [3]  "main::test",
    [4]  1,
    [5]  undef,
    [6]  undef,
    [7]  undef,
    [8]  256,
    [9]  undef,
    [10] undef
]
B::CV  {
    Parents       B::PVMG
    public methods (16) : CONST, const_sv, CvFLAGS, DEPTH, FILE, GV, HSCXT, NAME_HEK, OUTSIDE, OUTSIDE_SEQ, PADLIST, ROOT, START, STASH, XSUB, XSUBANY
    private methods (0)
    internals: 94816880435256
}
[
    [0] "main",
    [1] 7,
    [2] "main::test2"
]
[]
[
    [0]  "main",
    [1]  "t/08_without_strict.t",
    [2]  7,
    [3]  "main::test2",
    [4]  1,
    [5]  undef,
    [6]  undef,
    [7]  undef,
    [8]  256,
    [9]  undef,
    [10] undef
]
t/08_without_strict.t .......... ok
B::CV  {
    Parents       B::PVMG
    public methods (16) : CONST, const_sv, CvFLAGS, DEPTH, FILE, GV, HSCXT, NAME_HEK, OUTSIDE, OUTSIDE_SEQ, PADLIST, ROOT, START, STASH, XSUB, XSUBANY
    private methods (0)
    internals: 93961607151672
}
[
    [0] "main",
    [1] 6,
    [2] "main::test"
]
[]
[
    [0]  "main",
    [1]  "t/09_export.t",
    [2]  6,
    [3]  "main::test",
    [4]  1,
    [5]  undef,
    [6]  undef,
    [7]  undef,
    [8]  256,
    [9]  undef,
    [10] undef
]
B::CV  {
    Parents       B::PVMG
    public methods (16) : CONST, const_sv, CvFLAGS, DEPTH, FILE, GV, HSCXT, NAME_HEK, OUTSIDE, OUTSIDE_SEQ, PADLIST, ROOT, START, STASH, XSUB, XSUBANY
    private methods (0)
    internals: 93961607151672
}
[
    [0] "main",
    [1] 7,
    [2] "main::test2"
]
[]
[
    [0]  "main",
    [1]  "t/09_export.t",
    [2]  7,
    [3]  "main::test2",
    [4]  1,
    [5]  undef,
    [6]  undef,
    [7]  undef,
    [8]  256,
    [9]  undef,
    [10] undef
]
t/09_export.t .................. ok
t/10_not_called.t .............. ok
t/11_already_called.t .......... ok
t/author-pod-coverage.t ........ skipped: these tests are for testing by the author
t/author-pod-syntax.t .......... skipped: these tests are for testing by the author
All tests successful.
Files=14, Tests=32, 11 wallclock secs ( 0.03 usr  0.10 sys +  1.72 cusr  0.47 csys =  2.32 CPU)
Result: PASS

------------------------------
PREREQUISITES
------------------------------

Prerequisite modules loaded:

requires:

    Module                  Need     Have    
    ----------------------- -------- --------
    B                       0        1.62    
    Exporter                0        5.72    
    perl                    5.010001 5.024004

build_requires:

    Module                  Need     Have    
    ----------------------- -------- --------
    ExtUtils::MakeMaker     0        7.35_09 
    Pod::Coverage::TrustPod 0        0.100005
    Test::More              0        1.302162

configure_requires:

    Module                  Need     Have    
    ----------------------- -------- --------
    ExtUtils::MakeMaker     0        7.35_09 


------------------------------
ENVIRONMENT AND OTHER CONTEXT
------------------------------

Environment variables:

    AUTOMATED_TESTING = 1
    LANG = en_US.UTF-8
    PATH = /home/sand/bin:/usr/local/bin:/usr/bin:/bin:/usr/games:/usr/local/perl/bin:/usr/X11/bin:/sbin:/usr/sbin
    PERL5LIB = 
    PERL5OPT = 
    PERL5_CPANPLUS_IS_RUNNING = 27032
    PERL5_CPAN_IS_RUNNING = 27032
    PERL_CANARY_STABILITY_NOPROMPT = 1
    PERL_MM_USE_DEFAULT = 1
    PERL_USE_UNSAFE_INC = 1
    SHELL = /usr/bin/zsh
    TERM = screen

Perl special variables (and OS-specific diagnostics, for MSWin32):

    $^X = /home/sand/src/perl/repoperls/installed-perls/host/k93msid/v5.24.4/ac75/bin/perl
    $UID/$EUID = 1005 / 1005
    $GID = 1005 1005
    $EGID = 1005 1005

Perl module toolchain versions installed:

    Module              Have    
    ------------------- --------
    CPAN                2.25    
    CPAN::Meta          2.150010
    Cwd                 3.75    
    ExtUtils::CBuilder  0.280231
    ExtUtils::Command   7.35_09 
    ExtUtils::Install   2.06    
    ExtUtils::MakeMaker 7.35_09 
    ExtUtils::Manifest  1.70    
    ExtUtils::ParseXS   3.35    
    File::Spec          3.75    
    JSON                3.99_01 
    JSON::PP            4.00    
    Module::Build       0.4224  
    Module::Signature   0.83    
    Parse::CPAN::Meta   2.150010
    Test::Harness       3.42    
    Test::More          1.302162
    YAML                1.26    
    YAML::Syck          1.31    
    version             0.9924  


--

Summary of my perl5 (revision 5 version 24 subversion 4) configuration:
  Derived from: 901dd848e31de6d0cacfb77c029b4e92c41a13ce
  Platform:
    osname=linux, osvers=4.18.0-2-amd64, archname=x86_64-linux-thread-multi-ld
    uname='linux k93msid 4.18.0-2-amd64 #1 smp debian 4.18.10-2 (2018-10-07) x86_64 gnulinux '
    config_args='-Dprefix=/home/sand/src/perl/repoperls/installed-perls/host/k93msid/v5.24.4/ac75 -Dmyhostname=k93msid -Dinstallusrbinperl=n -Uversiononly -Dusedevel -des -Ui_db -Dlibswanted=cl pthread socket inet nsl gdbm dbm malloc dl ld sun m crypt sec util c cposix posix ucb BSD gdbm_compat -Duseithreads -Duselongdouble -DEBUGGING=both'
    hint=recommended, useposix=true, d_sigaction=define
    useithreads=define, usemultiplicity=define
    use64bitint=define, use64bitall=define, uselongdouble=define
    usemymalloc=n, bincompat5005=undef
  Compiler:
    cc='cc', ccflags ='-D_REENTRANT -D_GNU_SOURCE -fwrapv -DDEBUGGING -fno-strict-aliasing -pipe -fstack-protector-strong -I/usr/local/include -D_LARGEFILE_SOURCE -D_FILE_OFFSET_BITS=64',
    optimize='-O2 -g',
    cppflags='-D_REENTRANT -D_GNU_SOURCE -fwrapv -DDEBUGGING -fno-strict-aliasing -pipe -fstack-protector-strong -I/usr/local/include'
    ccversion='', gccversion='8.2.0', gccosandvers=''
    intsize=4, longsize=8, ptrsize=8, doublesize=8, byteorder=12345678, doublekind=3
    d_longlong=define, longlongsize=8, d_longdbl=define, longdblsize=16, longdblkind=3
    ivtype='long', ivsize=8, nvtype='long double', nvsize=16, Off_t='off_t', lseeksize=8
    alignbytes=16, prototype=define
  Linker and Libraries:
    ld='cc', ldflags =' -fstack-protector-strong -L/usr/local/lib'
    libpth=/usr/local/lib /usr/lib/gcc/x86_64-linux-gnu/8/include-fixed /usr/include/x86_64-linux-gnu /usr/lib /lib/x86_64-linux-gnu /lib/../lib /usr/lib/x86_64-linux-gnu /usr/lib/../lib /lib
    libs=-lpthread -lnsl -ldl -lm -lcrypt -lutil -lc
    perllibs=-lpthread -lnsl -ldl -lm -lcrypt -lutil -lc
    libc=libc-2.27.so, so=so, useshrplib=false, libperl=libperl.a
    gnulibc_version='2.27'
  Dynamic Linking:
    dlsrc=dl_dlopen.xs, dlext=so, d_dlsymun=undef, ccdlflags='-Wl,-E'
    cccdlflags='-fPIC', lddlflags='-shared -O2 -g -L/usr/local/lib -fstack-protector-strong'


Characteristics of this binary (from libperl): 
  Compile-time options: DEBUGGING HAS_TIMES MULTIPLICITY PERLIO_LAYERS
                        PERL_COPY_ON_WRITE PERL_DONT_CREATE_GVSV
                        PERL_HASH_FUNC_ONE_AT_A_TIME_HARD
                        PERL_IMPLICIT_CONTEXT PERL_MALLOC_WRAP
                        PERL_PRESERVE_IVUV PERL_TRACK_MEMPOOL PERL_USE_DEVEL
                        USE_64_BIT_ALL USE_64_BIT_INT USE_ITHREADS
                        USE_LARGE_FILES USE_LOCALE USE_LOCALE_COLLATE
                        USE_LOCALE_CTYPE USE_LOCALE_NUMERIC USE_LOCALE_TIME
                        USE_LONG_DOUBLE USE_PERLIO USE_PERL_ATOF
                        USE_REENTRANT_API
  Locally applied patches:
	uncommitted-changes
  Built under linux
  Compiled at Oct 28 2018 06:26:25
  %ENV:
    PERL5LIB=""
    PERL5OPT=""
    PERL5_CPANPLUS_IS_RUNNING="27032"
    PERL5_CPAN_IS_RUNNING="27032"
    PERL_CANARY_STABILITY_NOPROMPT="1"
    PERL_MM_USE_DEFAULT="1"
    PERL_USE_UNSAFE_INC="1"
  @INC:
    /home/sand/src/perl/repoperls/installed-perls/host/k93msid/v5.24.4/ac75/lib/site_perl/5.24.4/x86_64-linux-thread-multi-ld
    /home/sand/src/perl/repoperls/installed-perls/host/k93msid/v5.24.4/ac75/lib/site_perl/5.24.4
    /home/sand/src/perl/repoperls/installed-perls/host/k93msid/v5.24.4/ac75/lib/5.24.4/x86_64-linux-thread-multi-ld
    /home/sand/src/perl/repoperls/installed-perls/host/k93msid/v5.24.4/ac75/lib/5.24.4
    .