Catalyst-View-RRDGraph v0.10 Perl 5 v5.43.4 x86_64-linux
- Status
- Pass
- From
- Carlos Guevara
- Dist
-
Catalyst-View-RRDGraph v0.10
- Platform
- Perl 5 v5.43.4 x86_64-linux
- Date
- 2025-10-15 08:35:56
- ID
- f7f1117c-a9a1-11f0-8544-f763eb9b79bc
This distribution has been tested as part of the CPAN Testers
project, supporting the Perl programming language. See
http://wiki.cpantesters.org/ for more information or email
questions to cpan-testers-discuss@perl.org
--
Dear Miquel Ruiz Martin,
This is a computer-generated report for Catalyst-View-RRDGraph-0.10
on perl 5.43.4, created by CPAN-Reporter-1.2020.
Thank you for uploading your work to CPAN. Congratulations!
All tests were successful.
Sections of this report:
* Tester comments
* Program output
* Prerequisites
* Environment and other context
------------------------------
TESTER COMMENTS
------------------------------
Additional comments from tester:
this report is from an automated smoke testing program
and was not reviewed by a human for accuracy
------------------------------
PROGRAM OUTPUT
------------------------------
Output from '/usr/bin/make test':
PERL_DL_NONLAZY=1 "/home/cpan/bin/perl/bin/perl5.43.4" "-MExtUtils::Command::MM" "-MTest::Harness" "-e" "undef *Test::Harness::Switches; test_harness(0, 'blib/lib', 'blib/arch')" t/*.t
t/001_load.t ............ ok
t/002_process.t ......... ok
Attempt to call undefined import method with arguments ("5.70") via package "Catalyst::Runtime" (Perhaps you forgot to load the package?) at t/lib/RRDGraphTest003.pm line 6.
[debug] Debug messages enabled
[debug] Statistics enabled
[debug] Loaded PSGI Middleware:
.----------------------------------------------------------------------------.
| Catalyst::Middleware::Stash |
| Plack::Middleware::HTTPExceptions |
| Plack::Middleware::RemoveRedundantBody 0.09 |
| Plack::Middleware::FixMissingBodyInRedirect 0.12 |
| Plack::Middleware::ContentLength |
| Plack::Middleware::MethodOverride 0.20 |
| Plack::Middleware::Head |
'----------------------------------------------------------------------------'
[debug] Loaded Request Data Handlers:
.----------------------------------------------------------------------------.
| application/json |
| application/x-www-form-urlencoded |
'----------------------------------------------------------------------------'
[debug] Loaded dispatcher "Catalyst::Dispatcher"
[debug] Loaded engine "Catalyst::Engine"
[debug] Found home "/home/cpan/.cpan/build/Catalyst-View-RRDGraph-0.10-0/t/lib/RRDGraphTest003"
[debug] Loaded components:
.-----------------------------------------------------------------+----------.
| Class | Type |
+-----------------------------------------------------------------+----------+
| RRDGraphTest003::Controller::Root | instance |
| RRDGraphTest003::View::RRDNormal | instance |
| RRDGraphTest003::View::RRDOnServe | instance |
| RRDGraphTest003::View::RRDOnServeFunction | instance |
'-----------------------------------------------------------------+----------'
[debug] Loaded Private actions:
.----------------------+--------------------------------------+--------------.
| Private | Class | Method |
+----------------------+--------------------------------------+--------------+
| /image_error_normal | RRDGraphTest003::Controller::Root | image_error- |
| | | _normal |
| /image_error | RRDGraphTest003::Controller::Root | image_error |
| /zero_byte_error | RRDGraphTest003::Controller::Root | zero_byte_e- |
| | | rror |
| /image_error_functi- | RRDGraphTest003::Controller::Root | image_error- |
| on | | _function |
| /zero_byte_error_no- | RRDGraphTest003::Controller::Root | zero_byte_e- |
| rmal | | rror_normal |
| /zero_byte_error_fu- | RRDGraphTest003::Controller::Root | zero_byte_e- |
| nction | | rror_functi- |
| | | on |
'----------------------+--------------------------------------+--------------'
[debug] Loaded Path actions:
.-------------------------------------+--------------------------------------.
| Path | Private |
+-------------------------------------+--------------------------------------+
| /image_error/... | /image_error |
| /image_error_function/... | /image_error_function |
| /image_error_normal/... | /image_error_normal |
| /zero_byte_error/... | /zero_byte_error |
| /zero_byte_error_function/... | /zero_byte_error_function |
| /zero_byte_error_normal/... | /zero_byte_error_normal |
'-------------------------------------+--------------------------------------'
[info] RRDGraphTest003 powered by Catalyst 5.90132
[info] *** Request 1 (1.000/s) [1089264] [Wed Oct 15 04:35:55 2025] ***
[debug] Path is "zero_byte_error"
[debug] "GET" request for "zero_byte_error" from "127.0.0.1"
[error] RRDgraph is 0 bytes
[debug] Static::Simple: Serving static file: error_image.png as image/png
[debug] Response Code: 200; Content-Type: image/png; Content-Length: 14
[info] Request took 0.004646s (215.239/s)
.------------------------------------------------------------+-----------.
| Action | Time |
+------------------------------------------------------------+-----------+
| /zero_byte_error | 0.002568s |
| -> RRDGraphTest003::View::RRDOnServe->process | 0.002356s |
'------------------------------------------------------------+-----------'
[info] *** Request 2 (2.000/s) [1089264] [Wed Oct 15 04:35:55 2025] ***
[debug] Path is "image_error"
[debug] "GET" request for "image_error" from "127.0.0.1"
[error] Unknown option
[debug] Static::Simple: Serving static file: error_image.png as image/png
[debug] Response Code: 200; Content-Type: image/png; Content-Length: 14
[info] Request took 0.002104s (475.285/s)
.------------------------------------------------------------+-----------.
| Action | Time |
+------------------------------------------------------------+-----------+
| /image_error | 0.000760s |
| -> RRDGraphTest003::View::RRDOnServe->process | 0.000589s |
'------------------------------------------------------------+-----------'
[info] *** Request 3 (3.000/s) [1089264] [Wed Oct 15 04:35:55 2025] ***
[debug] Path is "zero_byte_error_normal"
[debug] "GET" request for "zero_byte_error_normal" from "127.0.0.1"
[error] RRDgraph is 0 bytes
[debug] Response Code: 500; Content-Type: text/html; charset=utf-8; Content-Length: unknown
[info] Request took 0.003058s (327.011/s)
.------------------------------------------------------------+-----------.
| Action | Time |
+------------------------------------------------------------+-----------+
| /zero_byte_error_normal | 0.000593s |
| -> RRDGraphTest003::View::RRDNormal->process | 0.000405s |
'------------------------------------------------------------+-----------'
[info] *** Request 4 (4.000/s) [1089264] [Wed Oct 15 04:35:55 2025] ***
[debug] Path is "image_error_normal"
[debug] "GET" request for "image_error_normal" from "127.0.0.1"
[error] Unknown option
[debug] Response Code: 500; Content-Type: text/html; charset=utf-8; Content-Length: unknown
[info] Request took 0.00301s (332.226/s)
.------------------------------------------------------------+-----------.
| Action | Time |
+------------------------------------------------------------+-----------+
| /image_error_normal | 0.000539s |
| -> RRDGraphTest003::View::RRDNormal->process | 0.000357s |
'------------------------------------------------------------+-----------'
[info] *** Request 5 (5.000/s) [1089264] [Wed Oct 15 04:35:55 2025] ***
[debug] Path is "zero_byte_error_function"
[debug] "GET" request for "zero_byte_error_function" from "127.0.0.1"
[debug] Response Code: 200; Content-Type: unknown; Content-Length: unknown
[info] Request took 0.001559s (641.437/s)
.------------------------------------------------------------+-----------.
| Action | Time |
+------------------------------------------------------------+-----------+
| /zero_byte_error_function | 0.000504s |
| -> RRDGraphTest003::View::RRDOnServeFunction->process | 0.000350s |
'------------------------------------------------------------+-----------'
[info] *** Request 6 (6.000/s) [1089264] [Wed Oct 15 04:35:55 2025] ***
[debug] Path is "image_error_function"
[debug] "GET" request for "image_error_function" from "127.0.0.1"
[debug] Response Code: 200; Content-Type: unknown; Content-Length: unknown
[info] Request took 0.001522s (657.030/s)
.------------------------------------------------------------+-----------.
| Action | Time |
+------------------------------------------------------------+-----------+
| /image_error_function | 0.000432s |
| -> RRDGraphTest003::View::RRDOnServeFunction->process | 0.000299s |
'------------------------------------------------------------+-----------'
t/003_on_error_serve.t .. ok
All tests successful.
Files=3, Tests=17, 1 wallclock secs ( 0.01 usr 0.00 sys + 0.57 cusr 0.06 csys = 0.64 CPU)
Result: PASS
------------------------------
PREREQUISITES
------------------------------
Prerequisite modules loaded:
requires:
Module Need Have
-------------------------------- ---- ----------
Catalyst::Plugin::Static::Simple 0 0.37
Catalyst::Runtime 5.7 5.90132
MRO::Compat 0 0.15
build_requires:
Module Need Have
-------------------------------- ---- ----------
Catalyst::Test 0 0
Test::MockObject 0 1.20200122
Test::More 0 1.302214
configure_requires:
Module Need Have
-------------------------------- ---- ----------
ExtUtils::MakeMaker 6.30 7.76
------------------------------
ENVIRONMENT AND OTHER CONTEXT
------------------------------
Environment variables:
AUTOMATED_TESTING = 1
DATE_MANIP_TEST_DM5 = 1
LANG = en_US.UTF-8
LC_ALL = C
NONINTERACTIVE_TESTING = 1
NO_NETWORK_TESTING = 1
PATH = /home/cpan/bin/perl/bin:/home/cpan/bin:/home/cpan/bin:/usr/local/bin:/usr/bin:/usr/local/sbin:/usr/sbin
PERL5LIB =
PERL5OPT =
PERL5_CPANPLUS_IS_RUNNING = 1082231
PERL5_CPAN_IS_RUNNING = 1082231
PERL_MM_USE_DEFAULT = 1
PERL_PERTURB_KEYS = 0
PERL_USE_UNSAFE_INC = 1
SHELL = /bin/bash
TERM = screen
TMPDIR = /home/cpan/tmp
Perl special variables (and OS-specific diagnostics, for MSWin32):
$^X = /home/cpan/bin/perl/bin/perl5.43.4
$UID/$EUID = 1001 / 1001
$GID = 1001 1001
$EGID = 1001 1001
Perl module toolchain versions installed:
Module Have
------------------- --------
CPAN 2.38
CPAN::Meta 2.150010
Cwd 3.94
ExtUtils::CBuilder 0.280242
ExtUtils::Command 7.76
ExtUtils::Install 2.22
ExtUtils::MakeMaker 7.76
ExtUtils::Manifest 1.75
ExtUtils::ParseXS 3.60
File::Spec 3.94
JSON 4.10
JSON::PP 4.16
Module::Build 0.4234
Module::Signature n/a
Parse::CPAN::Meta 2.150010
Test2 1.302214
Test::Harness 3.52
Test::More 1.302214
YAML 1.31
YAML::Syck 1.36
version 0.9933
--
Summary of my perl5 (revision 5 version 43 subversion 4) configuration:
Commit id: 043a9f33278c53eca7b8229f52cccdcadcaed8a9
Platform:
osname=linux
osvers=6.12.0-55.39.1.el10_0.x86_64
archname=x86_64-linux
uname='linux cjg-rhel10 6.12.0-55.39.1.el10_0.x86_64 #1 smp preempt_dynamic sat oct 4 03:09:12 edt 2025 x86_64 gnulinux '
config_args='-des -Dprefix=/home/cpan/bin/perl -Dscriptdir=/home/cpan/bin/perl/bin -Dusedevel -Duse64bitall'
hint=recommended
useposix=true
d_sigaction=define
useithreads=undef
usemultiplicity=undef
use64bitint=define
use64bitall=define
uselongdouble=undef
usemymalloc=n
default_inc_excludes_dot=define
Compiler:
cc='cc'
ccflags ='-fwrapv -fno-strict-aliasing -pipe -fstack-protector-strong -I/usr/local/include -D_LARGEFILE_SOURCE -D_FILE_OFFSET_BITS=64 -D_FORTIFY_SOURCE=2'
optimize='-O2'
cppflags='-fwrapv -fno-strict-aliasing -pipe -fstack-protector-strong -I/usr/local/include'
ccversion=''
gccversion='14.2.1 20250110 (Red Hat 14.2.1-7)'
gccosandvers=''
intsize=4
longsize=8
ptrsize=8
doublesize=8
byteorder=12345678
doublekind=3
d_longlong=define
longlongsize=8
d_longdbl=define
longdblsize=16
longdblkind=3
ivtype='long'
ivsize=8
nvtype='double'
nvsize=8
Off_t='off_t'
lseeksize=8
alignbytes=8
prototype=define
Linker and Libraries:
ld='cc'
ldflags =' -fstack-protector-strong -L/usr/local/lib'
libpth=/usr/local/lib /usr/lib /usr/lib64 /usr/local/lib64
libs=-lpthread -ldb -ldl -lm -lcrypt -lutil -lc
perllibs=-lpthread -ldl -lm -lcrypt -lutil -lc
libc=/lib/../lib64/libc.so.6
so=so
useshrplib=false
libperl=libperl.a
gnulibc_version='2.39'
Dynamic Linking:
dlsrc=dl_dlopen.xs
dlext=so
d_dlsymun=undef
ccdlflags='-Wl,-E'
cccdlflags='-fPIC'
lddlflags='-shared -O2 -L/usr/local/lib -fstack-protector-strong'
Characteristics of this binary (from libperl):
Compile-time options:
HAS_LONG_DOUBLE
HAS_STRTOLD
HAS_TIMES
PERLIO_LAYERS
PERL_COPY_ON_WRITE
PERL_DONT_CREATE_GVSV
PERL_HASH_FUNC_SIPHASH13
PERL_HASH_USE_SBOX32
PERL_MALLOC_WRAP
PERL_OP_PARENT
PERL_PRESERVE_IVUV
PERL_USE_DEVEL
PERL_USE_SAFE_PUTENV
USE_64_BIT_ALL
USE_64_BIT_INT
USE_LARGE_FILES
USE_LOCALE
USE_LOCALE_COLLATE
USE_LOCALE_CTYPE
USE_LOCALE_NUMERIC
USE_LOCALE_TIME
USE_PERLIO
USE_PERL_ATOF
Built under linux
Compiled at Oct 14 2025 18:15:04
%ENV:
PERL5LIB=""
PERL5OPT=""
PERL5_CPANPLUS_IS_RUNNING="1082231"
PERL5_CPAN_IS_RUNNING="1082231"
PERL_MM_USE_DEFAULT="1"
PERL_PERTURB_KEYS="0"
PERL_USE_UNSAFE_INC="1"
@INC:
/home/cpan/bin/perl/lib/site_perl/5.43.4/x86_64-linux
/home/cpan/bin/perl/lib/site_perl/5.43.4
/home/cpan/bin/perl/lib/5.43.4/x86_64-linux
/home/cpan/bin/perl/lib/5.43.4
.