Back
From: metabase:user:7298ebcc-b357-11e4-8d18-8eca7e4756b9
Subject: PASS Mojolicious-Plugin-SemanticUI-0.17 v5.20.2 GNU/Linux
Date: 2016-02-11T10:48:21Z
This distribution has been tested as part of the CPAN Testers
project, supporting the Perl programming language. See
http://wiki.cpantesters.org/ for more information or email
questions to cpan-testers-discuss@perl.org
--
Dear BEROV,
This is a computer-generated report for Mojolicious-Plugin-SemanticUI-0.17
on perl 5.20.2, created by App::cpanminus::reporter 0.12 (1.7027).
Thank you for uploading your work to CPAN. Congratulations!
All tests were successful.
Sections of this report:
* Tester comments
* Program output
* Prerequisites
* Environment and other context
------------------------------
TESTER COMMENTS
------------------------------
Additional comments from tester:
none provided
------------------------------
PROGRAM OUTPUT
------------------------------
Output from '':
Building and testing Mojolicious-Plugin-SemanticUI-0.17
cp lib/Mojolicious/public/vendor/SemanticUI/components/accordion.min.css blib/lib/Mojolicious/public/vendor/SemanticUI/components/accordion.min.css
cp lib/Mojolicious/public/vendor/SemanticUI/components/dimmer.min.css blib/lib/Mojolicious/public/vendor/SemanticUI/components/dimmer.min.css
cp lib/Mojolicious/public/vendor/SemanticUI/components/form.min.css blib/lib/Mojolicious/public/vendor/SemanticUI/components/form.min.css
cp lib/Mojolicious/public/vendor/SemanticUI/components/dimmer.min.js blib/lib/Mojolicious/public/vendor/SemanticUI/components/dimmer.min.js
cp lib/Mojolicious/public/vendor/SemanticUI/components/breadcrumb.min.css blib/lib/Mojolicious/public/vendor/SemanticUI/components/breadcrumb.min.css
cp lib/Mojolicious/public/vendor/SemanticUI/components/card.min.css blib/lib/Mojolicious/public/vendor/SemanticUI/components/card.min.css
cp lib/Mojolicious/public/vendor/SemanticUI/components/checkbox.min.js blib/lib/Mojolicious/public/vendor/SemanticUI/components/checkbox.min.js
cp lib/Mojolicious/public/vendor/SemanticUI/components/dropdown.min.css blib/lib/Mojolicious/public/vendor/SemanticUI/components/dropdown.min.css
cp lib/Mojolicious/public/vendor/SemanticUI/components/flag.min.css blib/lib/Mojolicious/public/vendor/SemanticUI/components/flag.min.css
cp lib/Mojolicious/public/vendor/SemanticUI/components/checkbox.min.css blib/lib/Mojolicious/public/vendor/SemanticUI/components/checkbox.min.css
cp lib/Mojolicious/public/vendor/SemanticUI/components/ad.min.css blib/lib/Mojolicious/public/vendor/SemanticUI/components/ad.min.css
cp lib/Mojolicious/Plugin/SemanticUI.pm blib/lib/Mojolicious/Plugin/SemanticUI.pm
cp lib/Mojolicious/public/vendor/SemanticUI/components/feed.min.css blib/lib/Mojolicious/public/vendor/SemanticUI/components/feed.min.css
cp lib/Mojolicious/public/vendor/SemanticUI/components/accordion.min.js blib/lib/Mojolicious/public/vendor/SemanticUI/components/accordion.min.js
cp lib/Mojolicious/public/vendor/SemanticUI/components/dropdown.min.js blib/lib/Mojolicious/public/vendor/SemanticUI/components/dropdown.min.js
cp lib/Mojolicious/public/vendor/SemanticUI/components/api.min.js blib/lib/Mojolicious/public/vendor/SemanticUI/components/api.min.js
cp lib/Mojolicious/public/vendor/SemanticUI/components/button.min.css blib/lib/Mojolicious/public/vendor/SemanticUI/components/button.min.css
cp lib/Mojolicious/public/vendor/SemanticUI/components/comment.min.css blib/lib/Mojolicious/public/vendor/SemanticUI/components/comment.min.css
cp lib/Mojolicious/public/vendor/SemanticUI/components/divider.min.css blib/lib/Mojolicious/public/vendor/SemanticUI/components/divider.min.css
cp lib/Mojolicious/public/vendor/SemanticUI/components/progress.min.css blib/lib/Mojolicious/public/vendor/SemanticUI/components/progress.min.css
cp lib/Mojolicious/public/vendor/SemanticUI/components/input.min.css blib/lib/Mojolicious/public/vendor/SemanticUI/components/input.min.css
cp lib/Mojolicious/public/vendor/SemanticUI/components/form.min.js blib/lib/Mojolicious/public/vendor/SemanticUI/components/form.min.js
cp lib/Mojolicious/public/vendor/SemanticUI/components/popup.min.css blib/lib/Mojolicious/public/vendor/SemanticUI/components/popup.min.css
cp lib/Mojolicious/public/vendor/SemanticUI/components/item.min.css blib/lib/Mojolicious/public/vendor/SemanticUI/components/item.min.css
cp lib/Mojolicious/public/vendor/SemanticUI/components/menu.min.css blib/lib/Mojolicious/public/vendor/SemanticUI/components/menu.min.css
cp lib/Mojolicious/public/vendor/SemanticUI/components/grid.min.css blib/lib/Mojolicious/public/vendor/SemanticUI/components/grid.min.css
cp lib/Mojolicious/public/vendor/SemanticUI/components/nag.min.js blib/lib/Mojolicious/public/vendor/SemanticUI/components/nag.min.js
cp lib/Mojolicious/public/vendor/SemanticUI/components/icon.min.css blib/lib/Mojolicious/public/vendor/SemanticUI/components/icon.min.css
cp lib/Mojolicious/public/vendor/SemanticUI/components/modal.min.js blib/lib/Mojolicious/public/vendor/SemanticUI/components/modal.min.js
cp lib/Mojolicious/public/vendor/SemanticUI/components/label.min.css blib/lib/Mojolicious/public/vendor/SemanticUI/components/label.min.css
cp lib/Mojolicious/public/vendor/SemanticUI/components/image.min.css blib/lib/Mojolicious/public/vendor/SemanticUI/components/image.min.css
cp lib/Mojolicious/public/vendor/SemanticUI/components/nag.min.css blib/lib/Mojolicious/public/vendor/SemanticUI/components/nag.min.css
cp lib/Mojolicious/public/vendor/SemanticUI/components/modal.min.css blib/lib/Mojolicious/public/vendor/SemanticUI/components/modal.min.css
cp lib/Mojolicious/public/vendor/SemanticUI/components/loader.min.css blib/lib/Mojolicious/public/vendor/SemanticUI/components/loader.min.css
cp lib/Mojolicious/public/vendor/SemanticUI/components/popup.min.js blib/lib/Mojolicious/public/vendor/SemanticUI/components/popup.min.js
cp lib/Mojolicious/public/vendor/SemanticUI/components/header.min.css blib/lib/Mojolicious/public/vendor/SemanticUI/components/header.min.css
cp lib/Mojolicious/public/vendor/SemanticUI/components/list.min.css blib/lib/Mojolicious/public/vendor/SemanticUI/components/list.min.css
cp lib/Mojolicious/public/vendor/SemanticUI/components/message.min.css blib/lib/Mojolicious/public/vendor/SemanticUI/components/message.min.css
cp lib/Mojolicious/public/vendor/SemanticUI/components/sidebar.min.css blib/lib/Mojolicious/public/vendor/SemanticUI/components/sidebar.min.css
cp lib/Mojolicious/public/vendor/SemanticUI/components/statistic.min.css blib/lib/Mojolicious/public/vendor/SemanticUI/components/statistic.min.css
cp lib/Mojolicious/public/vendor/SemanticUI/components/reset.min.css blib/lib/Mojolicious/public/vendor/SemanticUI/components/reset.min.css
cp lib/Mojolicious/public/vendor/SemanticUI/components/segment.min.css blib/lib/Mojolicious/public/vendor/SemanticUI/components/segment.min.css
cp lib/Mojolicious/public/vendor/SemanticUI/components/rating.min.css blib/lib/Mojolicious/public/vendor/SemanticUI/components/rating.min.css
cp lib/Mojolicious/public/vendor/SemanticUI/components/site.min.css blib/lib/Mojolicious/public/vendor/SemanticUI/components/site.min.css
cp lib/Mojolicious/public/vendor/SemanticUI/components/progress.min.js blib/lib/Mojolicious/public/vendor/SemanticUI/components/progress.min.js
cp lib/Mojolicious/public/vendor/SemanticUI/components/shape.min.css blib/lib/Mojolicious/public/vendor/SemanticUI/components/shape.min.css
cp lib/Mojolicious/public/vendor/SemanticUI/components/search.min.css blib/lib/Mojolicious/public/vendor/SemanticUI/components/search.min.css
cp lib/Mojolicious/public/vendor/SemanticUI/components/rating.min.js blib/lib/Mojolicious/public/vendor/SemanticUI/components/rating.min.js
cp lib/Mojolicious/public/vendor/SemanticUI/components/reveal.min.css blib/lib/Mojolicious/public/vendor/SemanticUI/components/reveal.min.css
cp lib/Mojolicious/public/vendor/SemanticUI/components/state.min.js blib/lib/Mojolicious/public/vendor/SemanticUI/components/state.min.js
cp lib/Mojolicious/public/vendor/SemanticUI/components/site.min.js blib/lib/Mojolicious/public/vendor/SemanticUI/components/site.min.js
cp lib/Mojolicious/public/vendor/SemanticUI/components/rail.min.css blib/lib/Mojolicious/public/vendor/SemanticUI/components/rail.min.css
cp lib/Mojolicious/public/vendor/SemanticUI/components/shape.min.js blib/lib/Mojolicious/public/vendor/SemanticUI/components/shape.min.js
cp lib/Mojolicious/public/vendor/SemanticUI/components/sidebar.min.js blib/lib/Mojolicious/public/vendor/SemanticUI/components/sidebar.min.js
cp lib/Mojolicious/public/vendor/SemanticUI/components/search.min.js blib/lib/Mojolicious/public/vendor/SemanticUI/components/search.min.js
cp lib/Mojolicious/public/vendor/SemanticUI/components/sticky.min.css blib/lib/Mojolicious/public/vendor/SemanticUI/components/sticky.min.css
cp lib/Mojolicious/public/vendor/SemanticUI/components/step.min.css blib/lib/Mojolicious/public/vendor/SemanticUI/components/step.min.css
cp lib/Mojolicious/public/vendor/SemanticUI/themes/basic/assets/fonts/icons.eot blib/lib/Mojolicious/public/vendor/SemanticUI/themes/basic/assets/fonts/icons.eot
cp lib/Mojolicious/public/vendor/SemanticUI/themes/default/assets/fonts/icons.otf blib/lib/Mojolicious/public/vendor/SemanticUI/themes/default/assets/fonts/icons.otf
cp lib/Mojolicious/public/vendor/SemanticUI/themes/basic/assets/fonts/icons.ttf blib/lib/Mojolicious/public/vendor/SemanticUI/themes/basic/assets/fonts/icons.ttf
cp lib/Mojolicious/public/vendor/SemanticUI/themes/basic/assets/fonts/icons.woff blib/lib/Mojolicious/public/vendor/SemanticUI/themes/basic/assets/fonts/icons.woff
cp lib/Mojolicious/public/vendor/SemanticUI/semantic.min.js blib/lib/Mojolicious/public/vendor/SemanticUI/semantic.min.js
cp lib/Mojolicious/public/vendor/SemanticUI/components/table.min.css blib/lib/Mojolicious/public/vendor/SemanticUI/components/table.min.css
cp lib/Mojolicious/public/vendor/SemanticUI/semantic.min.css blib/lib/Mojolicious/public/vendor/SemanticUI/semantic.min.css
cp lib/Mojolicious/public/vendor/SemanticUI/themes/basic/assets/fonts/icons.svg blib/lib/Mojolicious/public/vendor/SemanticUI/themes/basic/assets/fonts/icons.svg
cp lib/Mojolicious/public/vendor/SemanticUI/themes/default/assets/fonts/icons.eot blib/lib/Mojolicious/public/vendor/SemanticUI/themes/default/assets/fonts/icons.eot
cp lib/Mojolicious/public/vendor/SemanticUI/components/tab.min.css blib/lib/Mojolicious/public/vendor/SemanticUI/components/tab.min.css
cp lib/Mojolicious/public/vendor/SemanticUI/themes/default/assets/fonts/icons.svg blib/lib/Mojolicious/public/vendor/SemanticUI/themes/default/assets/fonts/icons.svg
cp lib/Mojolicious/public/vendor/SemanticUI/components/video.min.css blib/lib/Mojolicious/public/vendor/SemanticUI/components/video.min.css
cp lib/Mojolicious/public/vendor/SemanticUI/components/sticky.min.js blib/lib/Mojolicious/public/vendor/SemanticUI/components/sticky.min.js
cp lib/Mojolicious/public/vendor/SemanticUI/components/visibility.min.js blib/lib/Mojolicious/public/vendor/SemanticUI/components/visibility.min.js
cp lib/Mojolicious/public/vendor/SemanticUI/components/tab.min.js blib/lib/Mojolicious/public/vendor/SemanticUI/components/tab.min.js
cp lib/Mojolicious/public/vendor/SemanticUI/components/transition.min.css blib/lib/Mojolicious/public/vendor/SemanticUI/components/transition.min.css
cp lib/Mojolicious/public/vendor/SemanticUI/components/transition.min.js blib/lib/Mojolicious/public/vendor/SemanticUI/components/transition.min.js
cp lib/Mojolicious/public/vendor/SemanticUI/components/video.min.js blib/lib/Mojolicious/public/vendor/SemanticUI/components/video.min.js
cp lib/Mojolicious/public/vendor/SemanticUI/themes/default/assets/fonts/icons.woff2 blib/lib/Mojolicious/public/vendor/SemanticUI/themes/default/assets/fonts/icons.woff2
cp lib/Mojolicious/public/vendor/SemanticUI/themes/default/assets/images/flags.png blib/lib/Mojolicious/public/vendor/SemanticUI/themes/default/assets/images/flags.png
cp lib/Mojolicious/public/vendor/SemanticUI/themes/default/assets/fonts/icons.ttf blib/lib/Mojolicious/public/vendor/SemanticUI/themes/default/assets/fonts/icons.ttf
cp lib/Mojolicious/public/vendor/SemanticUI/themes/default/assets/fonts/icons.woff blib/lib/Mojolicious/public/vendor/SemanticUI/themes/default/assets/fonts/icons.woff
Manifying blib/man3/Mojolicious::Plugin::SemanticUI.3
PERL_DL_NONLAZY=1 /home/mojolicious/perl5/perlbrew/perls/perl-5.20.2/bin/perl "-MExtUtils::Command::MM" "-MTest::Harness" "-e" "undef *Test::Harness::Switches; test_harness(0, 'blib/lib', 'blib/arch')" t/*.t
t/basic.t ......... ok
t/manifest.t ...... skipped: Author test. Set $ENV{TEST_AUTHOR} to a true value to run.
t/perl-critic.t ... skipped: Author test. Set $ENV{TEST_AUTHOR} to a true value to run.
t/pod-coverage.t .. skipped: Author test. Set $ENV{TEST_AUTHOR} to a true value to run.
t/pod.t ........... skipped: Test::Pod 1.48 required for testing POD
All tests successful.
Files=5, Tests=8, 3 wallclock secs ( 0.07 usr 0.02 sys + 0.85 cusr 0.09 csys = 1.03 CPU)
Result: PASS
------------------------------
PREREQUISITES
------------------------------
Prerequisite modules loaded:
runtime:
Module Need Have
------------------- -------- --------
! Mojolicious 5.39 n/a
perl 5.010001 5.020002
build:
Module Need Have
------------------- -------- --------
ExtUtils::MakeMaker 0 6.98
configure:
Module Need Have
------------------- -------- --------
ExtUtils::MakeMaker 0 6.98
------------------------------
ENVIRONMENT AND OTHER CONTEXT
------------------------------
Environment variables:
PATH = /home/mojolicious/perl5/perlbrew/bin:/home/mojolicious/perl5/perlbrew/perls/perl-5.20.1/bin:/usr/local/bin:/usr/bin:/bin:/usr/local/games:/usr/games:/home/mojolicious/mojolib/5.20.2/6.45/bin
PERLBREW_BASHRC_VERSION = 0.73
PERLBREW_HOME = /home/mojolicious/.perlbrew
PERLBREW_MANPATH = /home/mojolicious/perl5/perlbrew/perls/perl-5.20.1/man
PERLBREW_PATH = /home/mojolicious/perl5/perlbrew/bin:/home/mojolicious/perl5/perlbrew/perls/perl-5.20.1/bin
PERLBREW_PERL = perl-5.20.1
PERLBREW_ROOT = /home/mojolicious/perl5/perlbrew
PERLBREW_VERSION = 0.73
SHELL = /bin/bash
TERM = xterm
Perl special variables (and OS-specific diagnostics, for MSWin32):
EGID = 1003 1003
EUID = 1003
EXECUTABLE_NAME = /home/mojolicious/perl5/perlbrew/perls/perl-5.20.2/bin/perl
GID = 1003 1003
UID = 1003
Perl module toolchain versions installed:
Module Have
------------------- --------
CPAN 2.05
CPAN::Meta 2.143240
Cwd 3.48_01
ExtUtils::CBuilder 0.280217
ExtUtils::Command 1.18
ExtUtils::Install 1.67
ExtUtils::MakeMaker 6.98
ExtUtils::Manifest 1.63
ExtUtils::ParseXS 3.24
File::Spec 3.48_01
JSON 2.90
JSON::PP 2.27203
Module::Build 0.4211
Module::Signature n/a
Parse::CPAN::Meta 1.4414
Test::Harness 3.30
Test::More 1.001014
YAML n/a
YAML::Syck n/a
version 0.9909
--
Summary of my perl5 (revision 5 version 20 subversion 2) configuration:
Platform:
osname=linux, osvers=3.13.0-042stab094.8, archname=x86_64-linux
uname='linux lvps92-51-161-142.dedicated.hosteurope.de 3.13.0-042stab094.8 #1 smp tue dec 16 20:36:56 msk 2014 x86_64 x86_64 x86_64 gnulinux '
config_args='-de -Dprefix=/home/mojolicious/perl5/perlbrew/perls/perl-5.20.2 -Aeval:scriptdir=/home/mojolicious/perl5/perlbrew/perls/perl-5.20.2/bin'
hint=recommended, useposix=true, d_sigaction=define
useithreads=undef, usemultiplicity=undef
use64bitint=define, use64bitall=define, uselongdouble=undef
usemymalloc=n, bincompat5005=undef
Compiler:
cc='cc', ccflags ='-fwrapv -fno-strict-aliasing -pipe -fstack-protector -I/usr/local/include -D_LARGEFILE_SOURCE -D_FILE_OFFSET_BITS=64',
optimize='-O2',
cppflags='-fwrapv -fno-strict-aliasing -pipe -fstack-protector -I/usr/local/include'
ccversion='', gccversion='4.8.2', gccosandvers=''
intsize=4, longsize=8, ptrsize=8, doublesize=8, byteorder=12345678
d_longlong=define, longlongsize=8, d_longdbl=define, longdblsize=16
ivtype='long', ivsize=8, nvtype='double', nvsize=8, Off_t='off_t', lseeksize=8
alignbytes=8, prototype=define
Linker and Libraries:
ld='cc', ldflags =' -fstack-protector -L/usr/local/lib'
libpth=/usr/local/lib /usr/lib/gcc/x86_64-linux-gnu/4.8/include-fixed /usr/include/x86_64-linux-gnu /usr/lib /lib/x86_64-linux-gnu /lib/../lib /usr/lib/x86_64-linux-gnu /usr/lib/../lib /lib
libs=-lnsl -ldl -lm -lcrypt -lutil -lc
perllibs=-lnsl -ldl -lm -lcrypt -lutil -lc
libc=libc-2.19.so, so=so, useshrplib=false, libperl=libperl.a
gnulibc_version='2.19'
Dynamic Linking:
dlsrc=dl_dlopen.xs, dlext=so, d_dlsymun=undef, ccdlflags='-Wl,-E'
cccdlflags='-fPIC', lddlflags='-shared -O2 -L/usr/local/lib -fstack-protector'
Characteristics of this binary (from libperl):
Compile-time options: HAS_TIMES PERLIO_LAYERS PERL_DONT_CREATE_GVSV
PERL_HASH_FUNC_ONE_AT_A_TIME_HARD PERL_MALLOC_WRAP
PERL_NEW_COPY_ON_WRITE PERL_PRESERVE_IVUV
USE_64_BIT_ALL USE_64_BIT_INT USE_LARGE_FILES
USE_LOCALE USE_LOCALE_COLLATE USE_LOCALE_CTYPE
USE_LOCALE_NUMERIC USE_PERLIO USE_PERL_ATOF
Locally applied patches:
Devel::PatchPerl 1.30
Built under linux
Compiled at Feb 15 2015 08:07:45
%ENV:
PERLBREW_BASHRC_VERSION="0.73"
PERLBREW_HOME="/home/mojolicious/.perlbrew"
PERLBREW_MANPATH="/home/mojolicious/perl5/perlbrew/perls/perl-5.20.1/man"
PERLBREW_PATH="/home/mojolicious/perl5/perlbrew/bin:/home/mojolicious/perl5/perlbrew/perls/perl-5.20.1/bin"
PERLBREW_PERL="perl-5.20.1"
PERLBREW_ROOT="/home/mojolicious/perl5/perlbrew"
PERLBREW_VERSION="0.73"
@INC:
/home/mojolicious/perl5/perlbrew/perls/perl-5.20.2/lib/site_perl/5.20.2/x86_64-linux
/home/mojolicious/perl5/perlbrew/perls/perl-5.20.2/lib/site_perl/5.20.2
/home/mojolicious/perl5/perlbrew/perls/perl-5.20.2/lib/5.20.2/x86_64-linux
/home/mojolicious/perl5/perlbrew/perls/perl-5.20.2/lib/5.20.2
.