Report for Test-Pod-LinkCheck-0.005

Back
From: metabase:user:30977d10-2aae-11df-837a-5e0a49663a4f
Subject: PASS Test-Pod-LinkCheck-0.005 v5.12.3 GNU/Linux
Date: 2011-04-18T16:50:29Z

This distribution has been tested as part of the CPAN Testers
project, supporting the Perl programming language.  See
http://wiki.cpantesters.org/ for more information or email
questions to cpan-testers-discuss@perl.org


--
Dear Apocalypse,

This is a computer-generated report for Test-Pod-LinkCheck-0.005
on perl 5.12.3, created by CPAN-Reporter-1.1901.

Thank you for uploading your work to CPAN.  Congratulations!
All tests were successful.

Sections of this report:

    * Tester comments
    * Program output
    * Prerequisites
    * Environment and other context

------------------------------
TESTER COMMENTS
------------------------------

Additional comments from tester:

this report is from an automated smoke testing program
and was not reviewed by a human for accuracy

------------------------------
PROGRAM OUTPUT
------------------------------

Output from './Build test':

t/00-compile.t ................ ok
# 
You should load Test::Tester before Test::Builder (or anything that loads Test::Builder) at /home/stro/perl/perl5123th/lib/5.12.3/Test/Tester.pm line 9.
# 
# perl: v5.12.3 (wanted 5.008) on linux from /home/stro/perl/perl5123th/bin/perl
# 
# App::PodLinkCheck::ParseLinks                 => 7          (want 4)      
# App::PodLinkCheck::ParseSections              => 7          (want any version)
# Capture::Tiny                                 => 0.10       (want any version)
# Config                                        => <undef>    (want any version)
# Exporter                                      => 5.64_01    (want any version)
# File::Find                                    => 1.15       (want any version)
# File::Spec                                    => 3.33       (want any version)
# File::Temp                                    => 0.22       (want any version)
# Module::Build                                 => 0.38       (want 0.3601) 
# Moose                                         => 2.0000     (want 1.01)   
# Moose::Util::TypeConstraints                  => 2.0000     (want 1.01)   
# Pod::Find                                     => 1.35       (want any version)
# Test::Builder                                 => 0.98       (want 0.94)   
# Test::More                                    => 0.98       (want 0.88)   
# Test::Pod                                     => 1.45       (want 1.44)   
# Test::Tester                                  => 0.107      (want any version)
# 
# Thanks for using my code.  I hope it works for you.
# If not, please try and include this output in the bug report.
# That will help me reproduce the issue and solve you problem.
# 
t/000-report-versions-tiny.t .. ok
t/cpan_backend.t .............. ok
t/functions.t ................. ok
t/simple.t .................... ok
All tests successful.

Test Summary Report
-------------------
t/cpan_backend.t            (Wstat: 0 Tests: 12 Failed: 0)
  TODO passed:   1-12
Files=5, Tests=113, 41 wallclock secs ( 0.06 usr  0.07 sys +  9.92 cusr  2.90 csys = 12.95 CPU)
Result: PASS

------------------------------
PREREQUISITES
------------------------------

Prerequisite modules loaded:

requires:

    Module                           Need   Have    
    -------------------------------- ------ --------
    App::PodLinkCheck::ParseLinks    4      7       
    App::PodLinkCheck::ParseSections 0      7       
    Capture::Tiny                    0      0.10    
    Config                           0      0       
    Exporter                         0      5.64_01 
    File::Spec                       0      3.33    
    Moose                            1.01   2.0000  
    Moose::Util::TypeConstraints     1.01   2.0000  
    perl                             5.008  5.012003
    Pod::Find                        0      1.35    
    Test::Builder                    0.94   0.98    
    Test::Pod                        1.44   1.45    

build_requires:

    Module                           Need   Have    
    -------------------------------- ------ --------
    File::Find                       0      1.15    
    File::Temp                       0      0.22    
    Module::Build                    0.3601 0.3800  
    Test::More                       0.88   0.98    
    Test::Tester                     0      0.107   

configure_requires:

    Module                           Need   Have    
    -------------------------------- ------ --------
    Module::Build                    0.3601 0.3800  


------------------------------
ENVIRONMENT AND OTHER CONTEXT
------------------------------

Environment variables:

    AUTOMATED_TESTING = 1
    LANG = en_US.UTF-8
    PATH = /usr/local/bin:/usr/bin:/bin:/usr/games
    PERL5LIB = 
    PERL5OPT = 
    PERL5_CPANPLUS_IS_RUNNING = 17049
    PERL5_CPAN_IS_RUNNING = 17049
    PERL5_CPAN_IS_RUNNING_IN_RECURSION = 1043,17049
    PERL_CR_SMOKER_CURRENT = Dist-Zilla-PluginBundle-Author-DOHERTY-0.016
    PERL_EXTUTILS_AUTOINSTALL = --defaultdeps
    PERL_MM_USE_DEFAULT = 1
    SHELL = /bin/bash
    TERM = xterm

Perl special variables (and OS-specific diagnostics, for MSWin32):

    $^X = /home/stro/perl/perl5123th/bin/perl
    $UID/$EUID = 1000 / 1000
    $GID = 1000 20 24 25 29 44 46 1000
    $EGID = 1000 20 24 25 29 44 46 1000

Perl module toolchain versions installed:

    Module              Have    
    ------------------- --------
    CPAN                1.9600  
    Cwd                 3.33    
    ExtUtils::CBuilder  0.280202
    ExtUtils::Command   1.17    
    ExtUtils::Install   1.55    
    ExtUtils::MakeMaker 6.56    
    ExtUtils::Manifest  1.57    
    ExtUtils::ParseXS   2.2206  
    File::Spec          3.33    
    Module::Build       0.3800  
    Module::Signature   0.67    
    Test::Harness       3.23    
    Test::More          0.98    
    YAML                0.72    
    YAML::Syck          1.17    
    version             0.88    


--

Summary of my perl5 (revision 5 version 12 subversion 3) configuration:
   
  Platform:
    osname=linux, osvers=2.6.26-2-686, archname=i686-linux-thread-multi
    uname='linux debian5 2.6.26-2-686 #1 smp thu nov 25 01:53:57 utc 2010 i686 gnulinux '
    config_args=''
    hint=recommended, useposix=true, d_sigaction=define
    useithreads=define, usemultiplicity=define
    useperlio=define, d_sfio=undef, uselargefiles=define, usesocks=undef
    use64bitint=undef, use64bitall=undef, uselongdouble=undef
    usemymalloc=n, bincompat5005=undef
  Compiler:
    cc='cc', ccflags ='-D_REENTRANT -D_GNU_SOURCE -fno-strict-aliasing -pipe -fstack-protector -I/usr/local/include -D_LARGEFILE_SOURCE -D_FILE_OFFSET_BITS=64',
    optimize='-O2',
    cppflags='-D_REENTRANT -D_GNU_SOURCE -fno-strict-aliasing -pipe -fstack-protector -I/usr/local/include'
    ccversion='', gccversion='4.3.2', gccosandvers=''
    intsize=4, longsize=4, ptrsize=4, doublesize=8, byteorder=1234
    d_longlong=define, longlongsize=8, d_longdbl=define, longdblsize=12
    ivtype='long', ivsize=4, nvtype='double', nvsize=8, Off_t='off_t', lseeksize=8
    alignbytes=4, prototype=define
  Linker and Libraries:
    ld='cc', ldflags =' -fstack-protector -L/usr/local/lib'
    libpth=/usr/local/lib /lib /usr/lib
    libs=-lnsl -ldl -lm -lcrypt -lutil -lpthread -lc
    perllibs=-lnsl -ldl -lm -lcrypt -lutil -lpthread -lc
    libc=/lib/libc-2.7.so, so=so, useshrplib=false, libperl=libperl.a
    gnulibc_version='2.7'
  Dynamic Linking:
    dlsrc=dl_dlopen.xs, dlext=so, d_dlsymun=undef, ccdlflags='-Wl,-E'
    cccdlflags='-fPIC', lddlflags='-shared -O2 -L/usr/local/lib -fstack-protector'


Characteristics of this binary (from libperl): 
  Compile-time options: MULTIPLICITY PERL_DONT_CREATE_GVSV
                        PERL_IMPLICIT_CONTEXT PERL_MALLOC_WRAP USE_ITHREADS
                        USE_LARGE_FILES USE_PERLIO USE_PERL_ATOF
                        USE_REENTRANT_API
  Built under linux
  Compiled at Jan 24 2011 17:33:52
  %ENV:
    PERL5LIB=""
    PERL5OPT=""
    PERL5_CPANPLUS_IS_RUNNING="17049"
    PERL5_CPAN_IS_RUNNING="17049"
    PERL5_CPAN_IS_RUNNING_IN_RECURSION="1043,17049"
    PERL_CR_SMOKER_CURRENT="Dist-Zilla-PluginBundle-Author-DOHERTY-0.016"
    PERL_EXTUTILS_AUTOINSTALL="--defaultdeps"
    PERL_MM_USE_DEFAULT="1"
  @INC:
    /home/stro/perl/perl5123th/lib/site_perl/5.12.3/i686-linux-thread-multi
    /home/stro/perl/perl5123th/lib/site_perl/5.12.3
    /home/stro/perl/perl5123th/lib/5.12.3/i686-linux-thread-multi
    /home/stro/perl/perl5123th/lib/5.12.3
    .