Report for WWW-Slides-0.0.9

Back
From: metabase:user:9820532a-708b-1014-9a05-b18a96298da1
Subject: PASS WWW-Slides-0.0.9 v5.12.4 FreeBSD
Date: 2011-09-22T18:16:18Z

This distribution has been tested as part of the CPAN Testers
project, supporting the Perl programming language.  See
http://wiki.cpantesters.org/ for more information or email
questions to cpan-testers-discuss@perl.org


--
Dear Flavio Poletti,

This is a computer-generated report for WWW-Slides-0.0.9
on perl 5.12.4, created by CPAN-Reporter-1.2002.

Thank you for uploading your work to CPAN.  Congratulations!
All tests were successful.

Sections of this report:

    * Tester comments
    * Program output
    * Prerequisites
    * Environment and other context

------------------------------
TESTER COMMENTS
------------------------------

Additional comments from tester:

this report is from an automated smoke testing program
and was not reviewed by a human for accuracy

------------------------------
PROGRAM OUTPUT
------------------------------

Output from './Build test':

# Testing inclusions
# Loading WWW::Slides 0.0.8
# Loading WWW::Slides::Talk 0.0.5
# Loading WWW::Slides::Attendee 0.0.4
# Loading WWW::Slides::SlideShow 0.0.7
# Loading WWW::Slides::SlideTracker 0.0.3
# Loading WWW::Slides::BasicLogger 0.0.5
# Loading WWW::Slides::Controller::UDP 0.0.9
# Loading WWW::Slides::Controller::TCP 0.0.9
# Loading WWW::Slides::Controller::STDIO 0.0.9
# Loading WWW::Slides::Controller::Multiple 0.0.9
# Loading WWW::Slides::Controller::Single 0.0.9
# Loading WWW::Slides::Client::TCP 0.0.3
# Loading WWW::Slides::Client::Base 0.0.5
t/00.load.t ............................. ok
t/pod.t ................................. ok
# Testing WWW::Slides::Attendee 0.0.4
t/Attendee/00.load.t .................... ok
t/Attendee/01.create.t .................. ok
t/Attendee/02.transition.t .............. ok
t/Attendee/03.ping.t .................... ok
t/Attendee/04.handle_input.t ............ ok
# Testing WWW::Slides::BasicLogger 0.0.5
t/BasicLogger/00.load.t ................. ok
t/BasicLogger/01.create.t ............... ok
t/BasicLogger/02.default.t .............. ok
t/BasicLogger/03.stdout.t ............... ok
t/BasicLogger/04.fake.t ................. ok
# Testing WWW::Slides::Client::Base 0.0.5
t/Client/00.load.t ...................... ok
t/Client/01.create.t .................... ok
t/Client/02.traffic.t ................... ok
t/Client/03.get_commands.t .............. ok
# Testing WWW::Slides::Client::TCP 0.0.3
t/Client/50.load-TCP.t .................. ok
t/Client/51.create.t .................... ok
t/Client/52.traffic.t ................... ok
# Testing WWW::Slides::Controller 0.0.9
t/Controller/000.load.t ................. ok
t/Controller/001.create.t ............... ok
t/Controller/002.balks.t ................ ok
t/Controller/003.tolerates.t ............ ok
t/Controller/004.execute.t .............. ok
# Testing WWW::Slides::Controller::Single 0.0.9
t/Controller/050.Single.load.t .......... ok
t/Controller/051.Single.create.t ........ ok
t/Controller/052.Single.selector.t ...... ok
t/Controller/053.Single.is_alive.t ...... ok
t/Controller/054.Single.owns.t .......... ok
t/Controller/055.Single.output.t ........ ok
t/Controller/056.Single.shut_down.t ..... ok
t/Controller/057.Single.execute.t ....... ok
# Testing WWW::Slides::Controller::Multiple 0.0.9
t/Controller/100.Multiple.load.t ........ ok
t/Controller/101.Multiple.create.t ...... ok
t/Controller/102.Multiple.add-remove.t .. ok
t/Controller/103.Multiple.owns.t ........ ok
t/Controller/104.Multiple.execute.t ..... ok
# Testing WWW::Slides::Controller::STDIO 0.0.9
t/Controller/200.STDIO.load.t ........... ok
t/Controller/201.STDIO.create.t ......... ok
# Testing WWW::Slides::Controller::TCP 0.0.9
t/Controller/300.TCP.load.t ............. ok
t/Controller/301.TCP.create.t ........... ok
t/Controller/302.TCP.owns.t ............. ok
t/Controller/303.TCP.selector.t ......... ok
t/Controller/304.TCP.execute.t .......... ok
# Testing WWW::Slides::Controller::UDP 0.0.9
t/Controller/400.UDP.load.t ............. ok
t/Controller/401.UDP.create.t ........... ok
# Testing WWW::Slides::SlideShow 0.0.7
t/SlideShow/00.load.t ................... ok
t/SlideShow/01.can.t .................... ok
t/SlideShow/02.read.t ................... ok
t/SlideShow/03.getstuff.t ............... ok
t/SlideShow/04.movement.t ............... ok
# Testing WWW::Slides::SlideTracker 0.0.3
t/SlideTracker/00.load.t ................ ok
t/SlideTracker/01.create.t .............. ok
t/SlideTracker/02.transition.t .......... ok
All tests successful.
Files=54, Tests=582, 14 wallclock secs ( 0.59 usr  0.96 sys +  5.64 cusr  1.63 csys =  8.83 CPU)
Result: PASS

------------------------------
PREREQUISITES
------------------------------

Prerequisite modules loaded:

requires:

    Module            Need Have      
    ----------------- ---- ----------
    Carp              0    1.23      
    Digest::MD5       0    2.51      
    English           0    1.04      
    File::Basename    0    2.78      
    HTTP::Response    0    6.01      
    IO::Handle        0    1.28      
    IO::Select        0    1.17      
    IO::Socket        0    1.31      
    Object::InsideOut 0    3.81      
    Socket            0    1.87_01   
    Test::Exception   0    0.31      
    Test::MockObject  0    1.20110612
    Test::More        0    0.98      
    Test::Output      0    1.01      
    version           0    0.94      


------------------------------
ENVIRONMENT AND OTHER CONTEXT
------------------------------

Environment variables:

    AUTOMATED_TESTING = 1
    LANG = C
    LC_ALL = C
    PATH = /home/test/perl5/perlbrew/bin:/home/test/perl5/perlbrew/perls/perl-5.12.4/bin:~/bin:/sbin:/bin:/usr/sbin:/usr/bin:/usr/games:/usr/local/sbin:/usr/local/bin:/home/test/bin
    PATH_WITHOUT_PERLBREW = ~/bin:/sbin:/bin:/usr/sbin:/usr/bin:/usr/games:/usr/local/sbin:/usr/local/bin:/home/test/bin
    PERL5LIB = 
    PERL5OPT = 
    PERL5_CPANPLUS_IS_RUNNING = 45086
    PERL5_CPAN_IS_RUNNING = 45086
    PERL5_CPAN_IS_RUNNING_IN_RECURSION = 1134,45086
    PERLBREW_HOME = /home/test/.perlbrew
    PERLBREW_PATH = /home/test/perl5/perlbrew/bin:/home/test/perl5/perlbrew/perls/perl-5.12.4/bin
    PERLBREW_PERL = perl-5.12.4
    PERLBREW_ROOT = /home/test/perl5/perlbrew
    PERLBREW_VERSION = 0.28
    PERL_CPANM_OPT = --prompt --mirror http://172.16.1.3/cpan/
    PERL_CR_SMOKER_CURRENT = WWW-Slides-0.0.9
    PERL_EXTUTILS_AUTOINSTALL = --defaultdeps
    PERL_MM_USE_DEFAULT = 1
    SHELL = /usr/local/bin/bash
    TERM = linux

Perl special variables (and OS-specific diagnostics, for MSWin32):

    $^X = /home/test/perl5/perlbrew/perls/perl-5.12.4/bin/perl
    $UID/$EUID = 1002 / 1002
    $GID = 1002 1002
    $EGID = 1002 1002

Perl module toolchain versions installed:

    Module              Have    
    ------------------- --------
    CPAN                1.9800  
    CPAN::Meta          2.112580
    Cwd                 3.33    
    ExtUtils::CBuilder  0.280202
    ExtUtils::Command   1.17    
    ExtUtils::Install   1.55    
    ExtUtils::MakeMaker 6.59    
    ExtUtils::Manifest  1.60    
    ExtUtils::ParseXS   3.04    
    File::Spec          3.33    
    JSON                2.53    
    JSON::PP            2.27200 
    Module::Build       0.3800  
    Module::Signature   n/a     
    Parse::CPAN::Meta   1.4401  
    Test::Harness       3.23    
    Test::More          0.98    
    YAML                0.73    
    YAML::Syck          1.17    
    version             0.94    


--

Summary of my perl5 (revision 5 version 12 subversion 4) configuration:
   
  Platform:
    osname=freebsd, osvers=8.1-release, archname=amd64-freebsd-thread-multi
    uname='freebsd fbsd.local 8.1-release freebsd 8.1-release #0: mon jul 19 02:36:49 utc 2010 root@mason.cse.buffalo.edu:usrobjusrsrcsysgeneric amd64 '
    config_args='-de -Dprefix=/home/test/perl5/perlbrew/perls/perl-5.12.4 -Dusethreads'
    hint=recommended, useposix=true, d_sigaction=define
    useithreads=define, usemultiplicity=define
    useperlio=define, d_sfio=undef, uselargefiles=define, usesocks=undef
    use64bitint=define, use64bitall=define, uselongdouble=undef
    usemymalloc=n, bincompat5005=undef
  Compiler:
    cc='cc', ccflags ='-DHAS_FPSETMASK -DHAS_FLOATINGPOINT_H -fno-strict-aliasing -pipe -fstack-protector -I/usr/local/include',
    optimize='-O',
    cppflags='-DHAS_FPSETMASK -DHAS_FLOATINGPOINT_H -fno-strict-aliasing -pipe -fstack-protector -I/usr/local/include'
    ccversion='', gccversion='4.2.1 20070719  [FreeBSD]', gccosandvers=''
    intsize=4, longsize=8, ptrsize=8, doublesize=8, byteorder=12345678
    d_longlong=define, longlongsize=8, d_longdbl=define, longdblsize=16
    ivtype='long', ivsize=8, nvtype='double', nvsize=8, Off_t='off_t', lseeksize=8
    alignbytes=8, prototype=define
  Linker and Libraries:
    ld='cc', ldflags ='-pthread -Wl,-E  -fstack-protector -L/usr/local/lib'
    libpth=/usr/lib /usr/local/lib
    libs=-lm -lcrypt
    perllibs=-lm -lcrypt
    libc=, so=so, useshrplib=false, libperl=libperl.a
    gnulibc_version=''
  Dynamic Linking:
    dlsrc=dl_dlopen.xs, dlext=so, d_dlsymun=undef, ccdlflags=' '
    cccdlflags='-DPIC -fPIC', lddlflags='-shared  -L/usr/local/lib -fstack-protector'


Characteristics of this binary (from libperl): 
  Compile-time options: MULTIPLICITY PERL_DONT_CREATE_GVSV
                        PERL_IMPLICIT_CONTEXT PERL_MALLOC_WRAP USE_64_BIT_ALL
                        USE_64_BIT_INT USE_ITHREADS USE_LARGE_FILES
                        USE_PERLIO USE_PERL_ATOF USE_REENTRANT_API
  Built under freebsd
  Compiled at Sep 16 2011 17:35:57
  %ENV:
    PERL5LIB=""
    PERL5OPT=""
    PERL5_CPANPLUS_IS_RUNNING="45086"
    PERL5_CPAN_IS_RUNNING="45086"
    PERL5_CPAN_IS_RUNNING_IN_RECURSION="1134,45086"
    PERLBREW_HOME="/home/test/.perlbrew"
    PERLBREW_PATH="/home/test/perl5/perlbrew/bin:/home/test/perl5/perlbrew/perls/perl-5.12.4/bin"
    PERLBREW_PERL="perl-5.12.4"
    PERLBREW_ROOT="/home/test/perl5/perlbrew"
    PERLBREW_VERSION="0.28"
    PERL_CPANM_OPT="--prompt --mirror http://172.16.1.3/cpan/"
    PERL_CR_SMOKER_CURRENT="WWW-Slides-0.0.9"
    PERL_EXTUTILS_AUTOINSTALL="--defaultdeps"
    PERL_MM_USE_DEFAULT="1"
  @INC:
    /home/test/perl5/perlbrew/perls/perl-5.12.4/lib/site_perl/5.12.4/amd64-freebsd-thread-multi
    /home/test/perl5/perlbrew/perls/perl-5.12.4/lib/site_perl/5.12.4
    /home/test/perl5/perlbrew/perls/perl-5.12.4/lib/5.12.4/amd64-freebsd-thread-multi
    /home/test/perl5/perlbrew/perls/perl-5.12.4/lib/5.12.4
    .