Report for MozRepl-0.06

Back
From: metabase:user:320bfe00-2aae-11df-837a-5e0a49663a4f
Subject: PASS MozRepl-0.06 v5.13.8 GNU/Linux
Date: 2011-01-15T10:48:20Z

This distribution has been tested as part of the CPAN Testers
project, supporting the Perl programming language.  See
http://wiki.cpantesters.org/ for more information or email
questions to cpan-testers-discuss@perl.org


--
Dear Toru Yamaguchi,

This is a computer-generated report for MozRepl-0.06
on perl 5.13.8, created by CPAN-Reporter-1.1803.

Thank you for uploading your work to CPAN.  Congratulations!
All tests were successful.

Sections of this report:

    * Tester comments
    * Program output
    * Prerequisites
    * Environment and other context

------------------------------
TESTER COMMENTS
------------------------------

Additional comments from tester:

none provided

------------------------------
PROGRAM OUTPUT
------------------------------

Output from '/usr/bin/make test':

make[1]: Entering directory `/home/sand/.cpan/build/MozRepl-0.06-Ipma0Q'
/home/src/perl/repoperls/installed-perls/perl/v5.13.8-292-gf56b639/bin/perl "-Iinc" Makefile.PL --config= --installdeps=Template,0,Template::Provider::FromDATA,0
PERL_DL_NONLAZY=1 /home/src/perl/repoperls/installed-perls/perl/v5.13.8-292-gf56b639/bin/perl "-MExtUtils::Command::MM" "-e" "test_harness(0, 'inc', 'blib/lib', 'blib/arch')" t/00-load.t t/10-plugin-repl-enter.t t/11-plugin-repl-search.t t/12-plugin-repl-inspect.t t/13-plugin-repl-load.t t/14-plugin-repl-rename.t t/15-plugin-repl-print.t t/16-plugin-repl-home.t t/17-plugin-repl-back.t t/18-plugin-repl-util-help_url_for.t t/19-plugin-repl-util-doc_for.t t/20-plugin-json.t t/pod-coverage.t t/pod.t
# Testing MozRepl 0.06
t/00-load.t ........................... ok
[DEBUG] MozRepl logging enabled
[DEBUG] 
---- Client arguments ----
.----------------------+------------------------------------------.
| client_arg_name      | client_arg_value                         |
+----------------------+------------------------------------------+
| host                 | localhost                                |
| port                 | 4242                                     |
| timeout              | 10                                       |
| extra_client_args    | {}                                       |
'----------------------+------------------------------------------'
t/10-plugin-repl-enter.t .............. ok
[DEBUG] MozRepl logging enabled
[DEBUG] 
---- Client arguments ----
.----------------------+------------------------------------------.
| client_arg_name      | client_arg_value                         |
+----------------------+------------------------------------------+
| host                 | localhost                                |
| port                 | 4242                                     |
| timeout              | 10                                       |
| extra_client_args    | {}                                       |
'----------------------+------------------------------------------'
t/11-plugin-repl-search.t ............. ok
[DEBUG] MozRepl logging enabled
[DEBUG] 
---- Client arguments ----
.----------------------+------------------------------------------.
| client_arg_name      | client_arg_value                         |
+----------------------+------------------------------------------+
| host                 | localhost                                |
| port                 | 4242                                     |
| timeout              | 10                                       |
| extra_client_args    | {}                                       |
'----------------------+------------------------------------------'
t/12-plugin-repl-inspect.t ............ ok
[DEBUG] MozRepl logging enabled
[DEBUG] 
---- Client arguments ----
.----------------------+------------------------------------------.
| client_arg_name      | client_arg_value                         |
+----------------------+------------------------------------------+
| host                 | localhost                                |
| port                 | 4242                                     |
| timeout              | 10                                       |
| extra_client_args    | {}                                       |
'----------------------+------------------------------------------'
t/13-plugin-repl-load.t ............... ok
[DEBUG] MozRepl logging enabled
[DEBUG] 
---- Client arguments ----
.----------------------+------------------------------------------.
| client_arg_name      | client_arg_value                         |
+----------------------+------------------------------------------+
| host                 | localhost                                |
| port                 | 4242                                     |
| timeout              | 10                                       |
| extra_client_args    | {}                                       |
'----------------------+------------------------------------------'
t/14-plugin-repl-rename.t ............. ok
[DEBUG] MozRepl logging enabled
[DEBUG] 
---- Client arguments ----
.----------------------+------------------------------------------.
| client_arg_name      | client_arg_value                         |
+----------------------+------------------------------------------+
| host                 | localhost                                |
| port                 | 4242                                     |
| timeout              | 10                                       |
| extra_client_args    | {}                                       |
'----------------------+------------------------------------------'
t/15-plugin-repl-print.t .............. ok
[DEBUG] MozRepl logging enabled
[DEBUG] 
---- Client arguments ----
.----------------------+------------------------------------------.
| client_arg_name      | client_arg_value                         |
+----------------------+------------------------------------------+
| host                 | localhost                                |
| port                 | 4242                                     |
| timeout              | 10                                       |
| extra_client_args    | {}                                       |
'----------------------+------------------------------------------'
t/16-plugin-repl-home.t ............... ok
[DEBUG] MozRepl logging enabled
[DEBUG] 
---- Client arguments ----
.----------------------+------------------------------------------.
| client_arg_name      | client_arg_value                         |
+----------------------+------------------------------------------+
| host                 | localhost                                |
| port                 | 4242                                     |
| timeout              | 10                                       |
| extra_client_args    | {}                                       |
'----------------------+------------------------------------------'
t/17-plugin-repl-back.t ............... ok
[DEBUG] MozRepl logging enabled
[DEBUG] 
---- Client arguments ----
.----------------------+------------------------------------------.
| client_arg_name      | client_arg_value                         |
+----------------------+------------------------------------------+
| host                 | localhost                                |
| port                 | 4242                                     |
| timeout              | 10                                       |
| extra_client_args    | {}                                       |
'----------------------+------------------------------------------'
t/18-plugin-repl-util-help_url_for.t .. ok
[DEBUG] MozRepl logging enabled
[DEBUG] 
---- Client arguments ----
.----------------------+------------------------------------------.
| client_arg_name      | client_arg_value                         |
+----------------------+------------------------------------------+
| host                 | localhost                                |
| port                 | 4242                                     |
| timeout              | 10                                       |
| extra_client_args    | {}                                       |
'----------------------+------------------------------------------'
t/19-plugin-repl-util-doc_for.t ....... ok
[DEBUG] MozRepl logging enabled
[DEBUG] 
---- Client arguments ----
.----------------------+------------------------------------------.
| client_arg_name      | client_arg_value                         |
+----------------------+------------------------------------------+
| host                 | localhost                                |
| port                 | 4242                                     |
| timeout              | 10                                       |
| extra_client_args    | {}                                       |
'----------------------+------------------------------------------'
t/20-plugin-json.t .................... ok
t/pod-coverage.t ...................... ok
t/pod.t ............................... ok
All tests successful.
Files=14, Tests=74,  2 wallclock secs ( 0.05 usr  0.04 sys +  1.32 cusr  0.22 csys =  1.63 CPU)
Result: PASS
make[1]: Leaving directory `/home/sand/.cpan/build/MozRepl-0.06-Ipma0Q'

------------------------------
PREREQUISITES
------------------------------

Prerequisite modules loaded:

requires:

    Module                       Need Have   
    ---------------------------- ---- -------
    Carp::Clan                   0    6.04   
    Class::Accessor::Fast        0    0.34   
    Class::Data::Inheritable     0    0.08   
    Data::Dump                   0    1.19   
    Data::JavaScript::Anon       0    1.03   
    File::Spec                   0    3.33   
    Module::Pluggable::Fast      0    0.19   
    Net::Telnet                  0    3.03   
    Template                     0    2.22   
    Template::Provider::FromDATA 0    0.11   
    Text::SimpleTable            0    2.03   
    UNIVERSAL::require           0    0.13   
    URI                          0    1.56   

build_requires:

    Module                       Need Have   
    ---------------------------- ---- -------
    ExtUtils::MakeMaker          0    6.57_05


------------------------------
ENVIRONMENT AND OTHER CONTEXT
------------------------------

Environment variables:

    LANG = en_US.UTF-8
    PATH = /home/sand/bin:/usr/local/bin:/usr/bin:/bin:/usr/bin/X11:/usr/games:/usr/local/perl/bin:/usr/X11/bin:/sbin:/usr/sbin
    PERL5LIB = /home/sand/.cpan/build/ProjectBuilder-0.9.10-YTlpqe/blib/arch:/home/sand/.cpan/build/ProjectBuilder-0.9.10-YTlpqe/blib/lib:/home/sand/.cpan/build/Mail-SpamAssassin-2.43-JwADBx/blib/arch:/home/sand/.cpan/build/Mail-SpamAssassin-2.43-JwADBx/blib/lib
    PERL5OPT = 
    PERL5_CPANPLUS_IS_RUNNING = 3806
    PERL5_CPAN_IS_RUNNING = 3806
    SHELL = /usr/bin/zsh
    TERM = screen

Perl special variables (and OS-specific diagnostics, for MSWin32):

    $^X = /home/src/perl/repoperls/installed-perls/perl/v5.13.8-292-gf56b639/bin/perl
    $UID/$EUID = 1001 / 1001
    $GID = 1001 1001
    $EGID = 1001 1001

Perl module toolchain versions installed:

    Module              Have    
    ------------------- --------
    CPAN                1.94_62 
    Cwd                 3.35    
    ExtUtils::CBuilder  0.280201
    ExtUtils::Command   1.16    
    ExtUtils::Install   1.55    
    ExtUtils::MakeMaker 6.57_05 
    ExtUtils::Manifest  1.58    
    ExtUtils::ParseXS   2.2208  
    File::Spec          3.33    
    Module::Build       0.3607  
    Module::Signature   0.66    
    Test::Harness       3.22    
    Test::More          0.97_01 
    YAML                0.72    
    YAML::Syck          1.17    
    version             0.88    


--

Summary of my perl5 (revision 5 version 13 subversion 8) configuration:
  Commit id: f56b6394f7cf57733135f56e4e4ac49abe9ac9cc
  Platform:
    osname=linux, osvers=2.6.32-5-amd64, archname=x86_64-linux-thread-multi-ld
    uname='linux k81 2.6.32-5-amd64 #1 smp fri dec 10 15:35:08 utc 2010 x86_64 gnulinux '
    config_args='-Dprefix=/home/src/perl/repoperls/installed-perls/perl/v5.13.8-292-gf56b639 -Dinstallusrbinperl=n -Uversiononly -Dusedevel -des -Ui_db -Duseithreads -Duselongdouble'
    hint=recommended, useposix=true, d_sigaction=define
    useithreads=define, usemultiplicity=define
    useperlio=define, d_sfio=undef, uselargefiles=define, usesocks=undef
    use64bitint=define, use64bitall=define, uselongdouble=define
    usemymalloc=n, bincompat5005=undef
  Compiler:
    cc='cc', ccflags ='-D_REENTRANT -D_GNU_SOURCE -fno-strict-aliasing -pipe -fstack-protector -I/usr/local/include -D_LARGEFILE_SOURCE -D_FILE_OFFSET_BITS=64',
    optimize='-O2',
    cppflags='-D_REENTRANT -D_GNU_SOURCE -fno-strict-aliasing -pipe -fstack-protector -I/usr/local/include'
    ccversion='', gccversion='4.4.5', gccosandvers=''
    intsize=4, longsize=8, ptrsize=8, doublesize=8, byteorder=12345678
    d_longlong=define, longlongsize=8, d_longdbl=define, longdblsize=16
    ivtype='long', ivsize=8, nvtype='long double', nvsize=16, Off_t='off_t', lseeksize=8
    alignbytes=16, prototype=define
  Linker and Libraries:
    ld='cc', ldflags =' -fstack-protector -L/usr/local/lib'
    libpth=/usr/local/lib /lib /usr/lib /lib64 /usr/lib64
    libs=-lnsl -lgdbm -ldb -ldl -lm -lcrypt -lutil -lpthread -lc -lgdbm_compat
    perllibs=-lnsl -ldl -lm -lcrypt -lutil -lpthread -lc
    libc=/lib/libc-2.11.2.so, so=so, useshrplib=false, libperl=libperl.a
    gnulibc_version='2.11.2'
  Dynamic Linking:
    dlsrc=dl_dlopen.xs, dlext=so, d_dlsymun=undef, ccdlflags='-Wl,-E'
    cccdlflags='-fPIC', lddlflags='-shared -O2 -L/usr/local/lib -fstack-protector'


Characteristics of this binary (from libperl): 
  Compile-time options: MULTIPLICITY PERL_DONT_CREATE_GVSV
                        PERL_IMPLICIT_CONTEXT PERL_MALLOC_WRAP PERL_USE_DEVEL
                        USE_64_BIT_ALL USE_64_BIT_INT USE_ITHREADS
                        USE_LARGE_FILES USE_LONG_DOUBLE USE_PERLIO
                        USE_PERL_ATOF USE_REENTRANT_API
  Built under linux
  Compiled at Jan 14 2011 08:18:45
  %ENV:
    PERL5LIB="/home/sand/.cpan/build/ProjectBuilder-0.9.10-YTlpqe/blib/arch:/home/sand/.cpan/build/ProjectBuilder-0.9.10-YTlpqe/blib/lib:/home/sand/.cpan/build/Mail-SpamAssassin-2.43-JwADBx/blib/arch:/home/sand/.cpan/build/Mail-SpamAssassin-2.43-JwADBx/blib/lib"
    PERL5OPT=""
    PERL5_CPANPLUS_IS_RUNNING="3806"
    PERL5_CPAN_IS_RUNNING="3806"
  @INC:
    /home/sand/.cpan/build/ProjectBuilder-0.9.10-YTlpqe/blib/arch
    /home/sand/.cpan/build/ProjectBuilder-0.9.10-YTlpqe/blib/lib
    /home/sand/.cpan/build/Mail-SpamAssassin-2.43-JwADBx/blib/arch
    /home/sand/.cpan/build/Mail-SpamAssassin-2.43-JwADBx/blib/lib
    /home/src/perl/repoperls/installed-perls/perl/v5.13.8-292-gf56b639/lib/site_perl/5.13.8/x86_64-linux-thread-multi-ld
    /home/src/perl/repoperls/installed-perls/perl/v5.13.8-292-gf56b639/lib/site_perl/5.13.8
    /home/src/perl/repoperls/installed-perls/perl/v5.13.8-292-gf56b639/lib/5.13.8/x86_64-linux-thread-multi-ld
    /home/src/perl/repoperls/installed-perls/perl/v5.13.8-292-gf56b639/lib/5.13.8
    .