Module-Install-AutoLicense v0.10 Perl 5 v5.41.10 x86_64-dragonfly-thread-multi

Status
Pass
From
Carlos Guevara
Dist
Module-Install-AutoLicense v0.10
Platform
Perl 5 v5.41.10 x86_64-dragonfly-thread-multi
Date
2025-03-18 23:51:52
ID
f7848fa0-0453-11f0-adf2-d8e01020d2bc
This distribution has been tested as part of the CPAN Testers
project, supporting the Perl programming language.  See
http://wiki.cpantesters.org/ for more information or email
questions to cpan-testers-discuss@perl.org


--
Dear Chris Williams,

This is a computer-generated report for Module-Install-AutoLicense-0.10
on perl 5.41.10, created by CPAN-Reporter-1.2020.

Thank you for uploading your work to CPAN.  Congratulations!
All tests were successful.

Sections of this report:

    * Tester comments
    * Program output
    * Prerequisites
    * Environment and other context

------------------------------
TESTER COMMENTS
------------------------------

Additional comments from tester:

this report is from an automated smoke testing program
and was not reviewed by a human for accuracy

------------------------------
PROGRAM OUTPUT
------------------------------

Output from '/usr/bin/make test':

PERL_DL_NONLAZY=1 "/home/cpan/bin/perl/bin/perl5.41.10" "-MExtUtils::Command::MM" "-MTest::Harness" "-e" "undef *Test::Harness::Switches; test_harness(0, 'inc', 'blib/lib', 'blib/arch')" t/*.t
# Testing Module::Install::AutoLicense 0.10, Perl 5.041010, /home/cpan/bin/perl/bin/perl5.41.10
t/00_compile.t ....... ok
# include /home/cpan/.cpan/build/Module-Install-AutoLicense-0.10-0/dist/Wa0_RL5v7g/inc/Module/Install.pm
# include inc/Module/Install/Metadata.pm
# include inc/Module/Install/Base.pm
# include inc/Module/Install/AutoLicense.pm
# include inc/Module/Install/Makefile.pm
# include inc/Module/Install/WriteAll.pm
# include inc/Module/Install/Win32.pm
# include inc/Module/Install/Can.pm
# include inc/Module/Install/Fetch.pm
# Generating a Unix-style Makefile
# Writing Makefile for Foo::Bar
# Writing MYMETA.yml and MYMETA.json
# Writing META.yml
# rm -f  Bar.bso Bar.def  Bar.exp Bar.x   blib/arch/auto/Foo/Bar/extralibs.all  blib/arch/auto/Foo/Bar/extralibs.ld Makefile.aperl  *.a *.o  *perl.core MYMETA.json  MYMETA.yml blibdirs.ts  core core.*perl.*.?  core.[0-9] core.[0-9][0-9]  core.[0-9][0-9][0-9] core.[0-9][0-9][0-9][0-9]  core.[0-9][0-9][0-9][0-9][0-9] libBar.def  mon.out perl  perl perl.exe  perlmain.c pm_to_blib  pm_to_blib.ts so_locations  tmon.out
# rm -rf  blib
# mv Makefile Makefile.old > /dev/null 2>&1
# rm -f  Makefile Makefile.old
# rm -rf  Foo-Bar-0.01 MYMETA.yml
# rm -f Foo-Bar-0.01.tar.gz
# rm -f MANIFEST.bak _build
# "/home/cpan/bin/perl/bin/perl5.41.10" "-Iinc" "-Ilib" "-MModule::Install::Admin" -e "remove_meta()"
# rm -rf inc
# "/home/cpan/bin/perl/bin/perl5.41.10" "-Iinc" "-MExtUtils::Manifest=fullcheck" -e fullcheck
# Problem opening MANIFEST: No such file or directory at /home/cpan/bin/perl/lib/5.41.10/ExtUtils/Manifest.pm line 342.
# Problem opening MANIFEST: No such file or directory at /home/cpan/bin/perl/lib/5.41.10/ExtUtils/Manifest.pm line 342.
# Not in MANIFEST: LICENSE
# Not in MANIFEST: Makefile.PL
# rm -f LICENSE
t/01_dist.t .......... ok
# include /home/cpan/.cpan/build/Module-Install-AutoLicense-0.10-0/dist/_9uDYQtn5H/inc/Module/Install.pm
# include inc/Module/Install/Metadata.pm
# include inc/Module/Install/Base.pm
# include inc/Module/Install/AutoLicense.pm
# include inc/Module/Install/Makefile.pm
# include inc/Module/Install/WriteAll.pm
# include inc/Module/Install/Win32.pm
# include inc/Module/Install/Can.pm
# include inc/Module/Install/Fetch.pm
# Generating a Unix-style Makefile
# Writing Makefile for Foo::Bar
# Writing MYMETA.yml and MYMETA.json
# Writing META.yml
# "/home/cpan/bin/perl/bin/perl5.41.10" "-Iinc" "-MExtUtils::Manifest=mkmanifest" -e mkmanifest
# Added to MANIFEST: inc/Module/Install.pm
# Added to MANIFEST: inc/Module/Install/AutoLicense.pm
# Added to MANIFEST: inc/Module/Install/Base.pm
# Added to MANIFEST: inc/Module/Install/Can.pm
# Added to MANIFEST: inc/Module/Install/Fetch.pm
# Added to MANIFEST: inc/Module/Install/Makefile.pm
# Added to MANIFEST: inc/Module/Install/Metadata.pm
# Added to MANIFEST: inc/Module/Install/Win32.pm
# Added to MANIFEST: inc/Module/Install/WriteAll.pm
# Added to MANIFEST: LICENSE
# Added to MANIFEST: Makefile.PL
# Added to MANIFEST: MANIFEST
# Added to MANIFEST: META.yml
# rm -rf Foo-Bar-0.01
# "/home/cpan/bin/perl/bin/perl5.41.10" "-Iinc" "-MExtUtils::Manifest=manicopy,maniread"  -e "manicopy(maniread(),'Foo-Bar-0.01', 'best');"
# mkdir Foo-Bar-0.01
# mkdir Foo-Bar-0.01/inc
# mkdir Foo-Bar-0.01/inc/Module
# mkdir Foo-Bar-0.01/inc/Module/Install
# Checking if your kit is complete...
# Looks good
# Generating a Unix-style Makefile
# Writing Makefile for Foo::Bar
# Writing MYMETA.yml and MYMETA.json
# rm -f  Bar.bso Bar.def  Bar.exp Bar.x   blib/arch/auto/Foo/Bar/extralibs.all  blib/arch/auto/Foo/Bar/extralibs.ld Makefile.aperl  *.a *.o  *perl.core MYMETA.json  MYMETA.yml blibdirs.ts  core core.*perl.*.?  core.[0-9] core.[0-9][0-9]  core.[0-9][0-9][0-9] core.[0-9][0-9][0-9][0-9]  core.[0-9][0-9][0-9][0-9][0-9] libBar.def  mon.out perl  perl perl.exe  perlmain.c pm_to_blib  pm_to_blib.ts so_locations  tmon.out
# rm -rf  blib
# mv Makefile Makefile.old > /dev/null 2>&1
# rm -f  Makefile Makefile.old
# rm -rf  Foo-Bar-0.01 MYMETA.yml
# "/home/cpan/bin/perl/bin/perl5.41.10" "-Iinc" "-MExtUtils::Manifest=fullcheck" -e fullcheck
cannot remove path when cwd is /home/cpan/.cpan/build/Module-Install-AutoLicense-0.10-0/dist/_9uDYQtn5H/Foo-Bar-0.01 for /home/cpan/.cpan/build/Module-Install-AutoLicense-0.10-0/dist/_9uDYQtn5H:  at /home/cpan/bin/perl/lib/5.41.10/File/Temp.pm line 921.
t/02_distdir.t ....... ok
# include /home/cpan/.cpan/build/Module-Install-AutoLicense-0.10-0/dist/jeLp7LY8tL/inc/Module/Install.pm
# include inc/Module/Install/Metadata.pm
# include inc/Module/Install/Base.pm
# include inc/Module/Install/AutoLicense.pm
# include inc/Module/Install/Makefile.pm
# include inc/Module/Install/WriteAll.pm
# include inc/Module/Install/Win32.pm
# include inc/Module/Install/Can.pm
# include inc/Module/Install/Fetch.pm
# Generating a Unix-style Makefile
# Writing Makefile for Foo::Bar
# Writing MYMETA.yml and MYMETA.json
# Writing META.yml
# rm -f  Bar.bso Bar.def  Bar.exp Bar.x   blib/arch/auto/Foo/Bar/extralibs.all  blib/arch/auto/Foo/Bar/extralibs.ld Makefile.aperl  *.a *.o  *perl.core MYMETA.json  MYMETA.yml blibdirs.ts  core core.*perl.*.?  core.[0-9] core.[0-9][0-9]  core.[0-9][0-9][0-9] core.[0-9][0-9][0-9][0-9]  core.[0-9][0-9][0-9][0-9][0-9] libBar.def  mon.out perl  perl perl.exe  perlmain.c pm_to_blib  pm_to_blib.ts so_locations  tmon.out
# rm -rf  blib
# mv Makefile Makefile.old > /dev/null 2>&1
# rm -f  Makefile Makefile.old
# rm -rf  Foo-Bar-0.01 MYMETA.yml
# rm -f Foo-Bar-0.01.tar.gz
# rm -f MANIFEST.bak _build
# "/home/cpan/bin/perl/bin/perl5.41.10" "-Iinc" "-Ilib" "-MModule::Install::Admin" -e "remove_meta()"
# rm -rf inc
# "/home/cpan/bin/perl/bin/perl5.41.10" "-Iinc" "-MExtUtils::Manifest=fullcheck" -e fullcheck
# Problem opening MANIFEST: No such file or directory at /home/cpan/bin/perl/lib/5.41.10/ExtUtils/Manifest.pm line 342.
# Problem opening MANIFEST: No such file or directory at /home/cpan/bin/perl/lib/5.41.10/ExtUtils/Manifest.pm line 342.
# Not in MANIFEST: LICENSE
# Not in MANIFEST: Makefile.PL
# rm -f LICENSE
t/03_authors.t ....... ok
t/99_pod.t ........... ok
t/99_pod_coverage.t .. ok
All tests successful.
Files=6, Tests=17,  6 wallclock secs ( 0.03 usr  0.01 sys +  4.64 cusr  1.23 csys =  5.91 CPU)
Result: PASS

------------------------------
PREREQUISITES
------------------------------

Prerequisite modules loaded:

requires:

    Module              Need  Have    
    ------------------- ----- --------
    Module::Install     0.85  1.21    
    perl                5.006 5.041010
    Software::License   0.01  0.104006

build_requires:

    Module              Need  Have    
    ------------------- ----- --------
    Capture::Tiny       0.05  0.50    
    ExtUtils::MakeMaker 6.59  7.72    
    File::Temp          0     0.2311  
    Test::More          0.47  1.302209

configure_requires:

    Module              Need  Have    
    ------------------- ----- --------
    ExtUtils::MakeMaker 6.59  7.72    


------------------------------
ENVIRONMENT AND OTHER CONTEXT
------------------------------

Environment variables:

    AUTOMATED_TESTING = 1
    DATE_MANIP_TEST_DM5 = 1
    LC_ALL = C
    NONINTERACTIVE_TESTING = 1
    NO_NETWORK_TESTING = 1
    PATH = /home/cpan/bin/perl/bin:/home/cpan/bin:/sbin:/bin:/usr/sbin:/usr/bin:/usr/games:/usr/local/sbin:/usr/local/bin:/usr/pkg/sbin:/usr/pkg/bin:/home/cpan/bin
    PERL5LIB = 
    PERL5OPT = 
    PERL5_CPANPLUS_IS_RUNNING = 891837
    PERL5_CPAN_IS_RUNNING = 891837
    PERL_MM_USE_DEFAULT = 1
    PERL_USE_UNSAFE_INC = 1
    SHELL = /usr/local/bin/bash
    TERM = screen
    TMPDIR = /home/cpan/tmp

Perl special variables (and OS-specific diagnostics, for MSWin32):

    $^X = /home/cpan/bin/perl/bin/perl5.41.10
    $UID/$EUID = 1002 / 1002
    $GID = 1002 1002
    $EGID = 1002 1002

Perl module toolchain versions installed:

    Module              Have    
    ------------------- --------
    CPAN                2.38    
    CPAN::Meta          2.150010
    Cwd                 3.92    
    ExtUtils::CBuilder  0.280240
    ExtUtils::Command   7.72    
    ExtUtils::Install   2.22    
    ExtUtils::MakeMaker 7.72    
    ExtUtils::Manifest  1.75    
    ExtUtils::ParseXS   3.57    
    File::Spec          3.93    
    JSON                4.10    
    JSON::PP            4.16    
    Module::Build       0.4234  
    Module::Signature   0.89    
    Parse::CPAN::Meta   2.150010
    Test2               1.302209
    Test::Harness       3.50    
    Test::More          1.302209
    YAML                1.31    
    YAML::Syck          1.34    
    version             0.9933  


--

Summary of my perl5 (revision 5 version 41 subversion 10) configuration:
  Commit id: 79ae12aeb4e6b7da1ea1a3e17be9fc02b32ecc6d
  Platform:
    osname=dragonfly
    osvers=6.4-release
    archname=x86_64-dragonfly-thread-multi
    uname='dragonfly cjg-dragonfly6 6.4-release dragonfly v6.4.0-release #54: fri dec 30 09:06:50 pst 2022 root@pkgbox64.dragonflybsd.org:usrobjusrsrcsysx86_64_generic x86_64 '
    config_args='-des -Dprefix=/home/cpan/bin/perl -Dscriptdir=/home/cpan/bin/perl/bin -Dusedevel -Duse64bitall -Duseithreads'
    hint=recommended
    useposix=true
    d_sigaction=define
    useithreads=define
    usemultiplicity=define
    use64bitint=define
    use64bitall=define
    uselongdouble=undef
    usemymalloc=n
    default_inc_excludes_dot=define
  Compiler:
    cc='cc'
    ccflags ='-DHAS_FPSETMASK -DHAS_FLOATINGPOINT_H -DNO_POSIX_2008_LOCALE -fwrapv -fno-strict-aliasing -pipe -fstack-protector-strong -I/usr/local/include -D_FORTIFY_SOURCE=2'
    optimize='-O2'
    cppflags='-DHAS_FPSETMASK -DHAS_FLOATINGPOINT_H -DNO_POSIX_2008_LOCALE -fwrapv -fno-strict-aliasing -pipe -fstack-protector-strong -I/usr/local/include'
    ccversion=''
    gccversion='8.3 [DragonFly] Release/2019-02-22'
    gccosandvers=''
    intsize=4
    longsize=8
    ptrsize=8
    doublesize=8
    byteorder=12345678
    doublekind=3
    d_longlong=define
    longlongsize=8
    d_longdbl=define
    longdblsize=16
    longdblkind=3
    ivtype='long'
    ivsize=8
    nvtype='double'
    nvsize=8
    Off_t='off_t'
    lseeksize=8
    alignbytes=8
    prototype=define
  Linker and Libraries:
    ld='cc'
    ldflags ='-pthread -Wl,-E  -fstack-protector-strong -L/usr/local/lib'
    libpth=/usr/lib /usr/local/lib
    libs=-lpthread -lgdbm -ldl -lm -lcrypt -lutil -lc
    perllibs=-lpthread -ldl -lm -lcrypt -lutil -lc
    libc=
    so=so
    useshrplib=false
    libperl=libperl.a
    gnulibc_version=''
  Dynamic Linking:
    dlsrc=dl_dlopen.xs
    dlext=so
    d_dlsymun=undef
    ccdlflags=' '
    cccdlflags='-DPIC -fPIC'
    lddlflags='-shared  -L/usr/local/lib -fstack-protector-strong'


Characteristics of this binary (from libperl): 
  Compile-time options:
    HAS_LONG_DOUBLE
    HAS_STRTOLD
    HAS_TIMES
    MULTIPLICITY
    PERLIO_LAYERS
    PERL_COPY_ON_WRITE
    PERL_DONT_CREATE_GVSV
    PERL_HASH_FUNC_SIPHASH13
    PERL_HASH_USE_SBOX32
    PERL_MALLOC_WRAP
    PERL_OP_PARENT
    PERL_PRESERVE_IVUV
    PERL_USE_DEVEL
    PERL_USE_SAFE_PUTENV
    USE_64_BIT_ALL
    USE_64_BIT_INT
    USE_ITHREADS
    USE_LARGE_FILES
    USE_LOCALE
    USE_LOCALE_COLLATE
    USE_LOCALE_CTYPE
    USE_LOCALE_NUMERIC
    USE_LOCALE_TIME
    USE_PERLIO
    USE_PERL_ATOF
    USE_REENTRANT_API
  Built under dragonfly
  Compiled at Mar 17 2025 23:50:10
  %ENV:
    PERL5LIB=""
    PERL5OPT=""
    PERL5_CPANPLUS_IS_RUNNING="891837"
    PERL5_CPAN_IS_RUNNING="891837"
    PERL_MM_USE_DEFAULT="1"
    PERL_USE_UNSAFE_INC="1"
  @INC:
    /home/cpan/bin/perl/lib/site_perl/5.41.10/x86_64-dragonfly-thread-multi
    /home/cpan/bin/perl/lib/site_perl/5.41.10
    /home/cpan/bin/perl/lib/5.41.10/x86_64-dragonfly-thread-multi
    /home/cpan/bin/perl/lib/5.41.10
    .