Report for Geo-GDAL-2.010301

Back
From: metabase:user:314402c4-2aae-11df-837a-5e0a49663a4f
Subject: PASS Geo-GDAL-2.010301 v5.22.3 GNU/Linux
Date: 2017-06-26T19:23:42Z

This distribution has been tested as part of the CPAN Testers
project, supporting the Perl programming language.  See
http://wiki.cpantesters.org/ for more information or email
questions to cpan-testers-discuss@perl.org


--
Dear Ari Jolma,

This is a computer-generated report for Geo-GDAL-2.010301
on perl 5.22.3, created by CPAN-Reporter-1.2018.

Thank you for uploading your work to CPAN.  Congratulations!
All tests were successful.

Sections of this report:

    * Tester comments
    * Program output
    * Prerequisites
    * Environment and other context

------------------------------
TESTER COMMENTS
------------------------------

Additional comments from tester:

none provided

------------------------------
PROGRAM OUTPUT
------------------------------

Output from 'make test':

make -f Makefile_Geo__GDAL
make[1]: Entering directory `/home/cpansand/.cpan/build/2017062615/Geo-GDAL-2.010301-ESuHcG'
Skip blib/lib/auto/share/dist/Geo-GDAL/ruian_vf_st_v1.gfs (unchanged)
Skip blib/lib/auto/share/dist/Geo-GDAL/seed_2d.dgn (unchanged)
Skip blib/lib/auto/share/dist/Geo-GDAL/inspire_cp_CadastralBoundary.gfs (unchanged)
Skip blib/lib/auto/share/dist/Geo-GDAL/esri_StatePlane_extra.wkt (unchanged)
Skip blib/lib/auto/share/dist/Geo-GDAL/GDALLogoGS.svg (unchanged)
Skip blib/lib/auto/share/dist/Geo-GDAL/GDALLogoColor.svg (unchanged)
Skip blib/lib/auto/share/dist/Geo-GDAL/stateplane.csv (unchanged)
Skip blib/lib/auto/share/dist/Geo-GDAL/ecw_cs.wkt (unchanged)
Skip blib/lib/auto/share/dist/Geo-GDAL/ozi_ellips.csv (unchanged)
Skip blib/lib/auto/share/dist/Geo-GDAL/GDALLogoBW.svg (unchanged)
Skip blib/lib/auto/share/dist/Geo-GDAL/inspire_cp_CadastralParcel.gfs (unchanged)
Skip blib/lib/auto/share/dist/Geo-GDAL/ellipsoid.csv (unchanged)
Skip blib/lib/auto/share/dist/Geo-GDAL/ruian_vf_st_uvoh_v1.gfs (unchanged)
Skip blib/lib/auto/share/dist/Geo-GDAL/pcs.override.csv (unchanged)
Skip blib/lib/auto/share/dist/Geo-GDAL/netcdf_config.xsd (unchanged)
Skip blib/lib/auto/share/dist/Geo-GDAL/vdv452.xsd (unchanged)
Skip blib/lib/auto/share/dist/Geo-GDAL/vertcs.override.csv (unchanged)
Skip blib/lib/auto/share/dist/Geo-GDAL/s57agencies.csv (unchanged)
Skip blib/lib/auto/share/dist/Geo-GDAL/gdalicon.png (unchanged)
Skip blib/lib/auto/share/dist/Geo-GDAL/compdcs.csv (unchanged)
Skip blib/lib/auto/share/dist/Geo-GDAL/s57attributes_iw.csv (unchanged)
Skip blib/lib/auto/share/dist/Geo-GDAL/gml_registry.xml (unchanged)
Skip blib/lib/auto/share/dist/Geo-GDAL/ogrvrt.xsd (unchanged)
Skip blib/lib/auto/share/dist/Geo-GDAL/projop_wparm.csv (unchanged)
Skip blib/lib/auto/share/dist/Geo-GDAL/vdv452.xml (unchanged)
Skip blib/lib/auto/share/dist/Geo-GDAL/s57attributes.csv (unchanged)
Skip blib/lib/auto/share/dist/Geo-GDAL/gcs.override.csv (unchanged)
Skip blib/lib/auto/share/dist/Geo-GDAL/datum_shift.csv (unchanged)
Skip blib/lib/auto/share/dist/Geo-GDAL/epsg.wkt (unchanged)
Skip blib/lib/auto/share/dist/Geo-GDAL/pcs.csv (unchanged)
Skip blib/lib/auto/share/dist/Geo-GDAL/unit_of_measure.csv (unchanged)
Skip blib/lib/auto/share/dist/Geo-GDAL/osmconf.ini (unchanged)
Skip blib/lib/auto/share/dist/Geo-GDAL/esri_Wisconsin_extra.wkt (unchanged)
Skip blib/lib/auto/share/dist/Geo-GDAL/esri_extra.wkt (unchanged)
Skip blib/lib/auto/share/dist/Geo-GDAL/gt_datum.csv (unchanged)
Skip blib/lib/auto/share/dist/Geo-GDAL/vertcs.csv (unchanged)
Skip blib/lib/auto/share/dist/Geo-GDAL/inspire_cp_BasicPropertyUnit.gfs (unchanged)
Skip blib/lib/auto/share/dist/Geo-GDAL/gdal_datum.csv (unchanged)
Skip blib/lib/auto/share/dist/Geo-GDAL/nitf_spec.xml (unchanged)
Skip blib/lib/auto/share/dist/Geo-GDAL/header.dxf (unchanged)
Skip blib/lib/auto/share/dist/Geo-GDAL/inspire_cp_CadastralZoning.gfs (unchanged)
Skip blib/lib/auto/share/dist/Geo-GDAL/geoccs.csv (unchanged)
Skip blib/lib/auto/share/dist/Geo-GDAL/s57objectclasses.csv (unchanged)
Skip blib/lib/auto/share/dist/Geo-GDAL/pci_datum.txt (unchanged)
Skip blib/lib/auto/share/dist/Geo-GDAL/s57objectclasses_iw.csv (unchanged)
Skip blib/lib/auto/share/dist/Geo-GDAL/seed_3d.dgn (unchanged)
Skip blib/lib/auto/share/dist/Geo-GDAL/s57attributes_aml.csv (unchanged)
Skip blib/lib/auto/share/dist/Geo-GDAL/gt_ellips.csv (unchanged)
Skip blib/lib/auto/share/dist/Geo-GDAL/gcs.csv (unchanged)
Skip blib/lib/auto/share/dist/Geo-GDAL/gdalvrt.xsd (unchanged)
Skip blib/lib/auto/share/dist/Geo-GDAL/s57objectclasses_aml.csv (unchanged)
Skip blib/lib/auto/share/dist/Geo-GDAL/ozi_datum.csv (unchanged)
Skip blib/lib/auto/share/dist/Geo-GDAL/prime_meridian.csv (unchanged)
Skip blib/lib/auto/share/dist/Geo-GDAL/ruian_vf_ob_v1.gfs (unchanged)
Skip blib/lib/auto/share/dist/Geo-GDAL/nitf_spec.xsd (unchanged)
Skip blib/lib/auto/share/dist/Geo-GDAL/pci_ellips.txt (unchanged)
Skip blib/lib/auto/share/dist/Geo-GDAL/trailer.dxf (unchanged)
Skip blib/lib/auto/share/dist/Geo-GDAL/ruian_vf_v1.gfs (unchanged)
Skip blib/lib/auto/share/dist/Geo-GDAL/coordinate_axis.csv (unchanged)
Skip blib/lib/auto/share/dist/Geo-GDAL/cubewerx_extra.wkt (unchanged)
Skip blib/lib/auto/share/dist/Geo-GDAL/s57expectedinput.csv (unchanged)
"/opt/perl-5.22.3/bin/perl5.22.3" -MExtUtils::Command::MM -e 'cp_nonempty' -- GDAL.bs blib/arch/auto/Geo/GDAL/GDAL.bs 644
Manifying 1 pod document
make[1]: Leaving directory `/home/cpansand/.cpan/build/2017062615/Geo-GDAL-2.010301-ESuHcG'
make -f Makefile_Geo__GDAL__Const
make[1]: Entering directory `/home/cpansand/.cpan/build/2017062615/Geo-GDAL-2.010301-ESuHcG'
"/opt/perl-5.22.3/bin/perl5.22.3" -MExtUtils::Command::MM -e 'cp_nonempty' -- Const.bs blib/arch/auto/Geo/GDAL/Const/Const.bs 644
Manifying 1 pod document
make[1]: Leaving directory `/home/cpansand/.cpan/build/2017062615/Geo-GDAL-2.010301-ESuHcG'
make -f Makefile_Geo__OGR
make[1]: Entering directory `/home/cpansand/.cpan/build/2017062615/Geo-GDAL-2.010301-ESuHcG'
"/opt/perl-5.22.3/bin/perl5.22.3" -MExtUtils::Command::MM -e 'cp_nonempty' -- OGR.bs blib/arch/auto/Geo/OGR/OGR.bs 644
Manifying 1 pod document
make[1]: Leaving directory `/home/cpansand/.cpan/build/2017062615/Geo-GDAL-2.010301-ESuHcG'
make -f Makefile_Geo__OSR
make[1]: Entering directory `/home/cpansand/.cpan/build/2017062615/Geo-GDAL-2.010301-ESuHcG'
"/opt/perl-5.22.3/bin/perl5.22.3" -MExtUtils::Command::MM -e 'cp_nonempty' -- OSR.bs blib/arch/auto/Geo/OSR/OSR.bs 644
Manifying 1 pod document
make[1]: Leaving directory `/home/cpansand/.cpan/build/2017062615/Geo-GDAL-2.010301-ESuHcG'
make -f Makefile_Geo__GDAL test
make[1]: Entering directory `/home/cpansand/.cpan/build/2017062615/Geo-GDAL-2.010301-ESuHcG'
Skip blib/lib/auto/share/dist/Geo-GDAL/gml_registry.xml (unchanged)
Skip blib/lib/auto/share/dist/Geo-GDAL/ruian_vf_st_v1.gfs (unchanged)
Skip blib/lib/auto/share/dist/Geo-GDAL/inspire_cp_CadastralBoundary.gfs (unchanged)
Skip blib/lib/auto/share/dist/Geo-GDAL/projop_wparm.csv (unchanged)
Skip blib/lib/auto/share/dist/Geo-GDAL/datum_shift.csv (unchanged)
Skip blib/lib/auto/share/dist/Geo-GDAL/GDALLogoBW.svg (unchanged)
Skip blib/lib/auto/share/dist/Geo-GDAL/ogrvrt.xsd (unchanged)
Skip blib/lib/auto/share/dist/Geo-GDAL/seed_2d.dgn (unchanged)
Skip blib/lib/auto/share/dist/Geo-GDAL/s57attributes_iw.csv (unchanged)
Skip blib/lib/auto/share/dist/Geo-GDAL/s57agencies.csv (unchanged)
Skip blib/lib/auto/share/dist/Geo-GDAL/vdv452.xsd (unchanged)
Skip blib/lib/auto/share/dist/Geo-GDAL/gcs.override.csv (unchanged)
Skip blib/lib/auto/share/dist/Geo-GDAL/epsg.wkt (unchanged)
Skip blib/lib/auto/share/dist/Geo-GDAL/gdalicon.png (unchanged)
Skip blib/lib/auto/share/dist/Geo-GDAL/GDALLogoGS.svg (unchanged)
Skip blib/lib/auto/share/dist/Geo-GDAL/pcs.csv (unchanged)
Skip blib/lib/auto/share/dist/Geo-GDAL/vertcs.override.csv (unchanged)
Skip blib/lib/auto/share/dist/Geo-GDAL/esri_StatePlane_extra.wkt (unchanged)
Skip blib/lib/auto/share/dist/Geo-GDAL/vdv452.xml (unchanged)
Skip blib/lib/auto/share/dist/Geo-GDAL/pcs.override.csv (unchanged)
Skip blib/lib/auto/share/dist/Geo-GDAL/ellipsoid.csv (unchanged)
Skip blib/lib/auto/share/dist/Geo-GDAL/ecw_cs.wkt (unchanged)
Skip blib/lib/auto/share/dist/Geo-GDAL/ruian_vf_st_uvoh_v1.gfs (unchanged)
Skip blib/lib/auto/share/dist/Geo-GDAL/unit_of_measure.csv (unchanged)
Skip blib/lib/auto/share/dist/Geo-GDAL/inspire_cp_CadastralParcel.gfs (unchanged)
Skip blib/lib/auto/share/dist/Geo-GDAL/GDALLogoColor.svg (unchanged)
Skip blib/lib/auto/share/dist/Geo-GDAL/netcdf_config.xsd (unchanged)
Skip blib/lib/auto/share/dist/Geo-GDAL/compdcs.csv (unchanged)
Skip blib/lib/auto/share/dist/Geo-GDAL/s57attributes.csv (unchanged)
Skip blib/lib/auto/share/dist/Geo-GDAL/ozi_ellips.csv (unchanged)
Skip blib/lib/auto/share/dist/Geo-GDAL/stateplane.csv (unchanged)
Skip blib/lib/auto/share/dist/Geo-GDAL/nitf_spec.xml (unchanged)
Skip blib/lib/auto/share/dist/Geo-GDAL/ozi_datum.csv (unchanged)
Skip blib/lib/auto/share/dist/Geo-GDAL/seed_3d.dgn (unchanged)
Skip blib/lib/auto/share/dist/Geo-GDAL/s57objectclasses.csv (unchanged)
Skip blib/lib/auto/share/dist/Geo-GDAL/osmconf.ini (unchanged)
Skip blib/lib/auto/share/dist/Geo-GDAL/trailer.dxf (unchanged)
Skip blib/lib/auto/share/dist/Geo-GDAL/prime_meridian.csv (unchanged)
Skip blib/lib/auto/share/dist/Geo-GDAL/s57objectclasses_iw.csv (unchanged)
Skip blib/lib/auto/share/dist/Geo-GDAL/gt_datum.csv (unchanged)
Skip blib/lib/auto/share/dist/Geo-GDAL/esri_extra.wkt (unchanged)
Skip blib/lib/auto/share/dist/Geo-GDAL/vertcs.csv (unchanged)
Skip blib/lib/auto/share/dist/Geo-GDAL/gdal_datum.csv (unchanged)
Skip blib/lib/auto/share/dist/Geo-GDAL/cubewerx_extra.wkt (unchanged)
Skip blib/lib/auto/share/dist/Geo-GDAL/inspire_cp_BasicPropertyUnit.gfs (unchanged)
Skip blib/lib/auto/share/dist/Geo-GDAL/ruian_vf_ob_v1.gfs (unchanged)
Skip blib/lib/auto/share/dist/Geo-GDAL/coordinate_axis.csv (unchanged)
Skip blib/lib/auto/share/dist/Geo-GDAL/pci_ellips.txt (unchanged)
Skip blib/lib/auto/share/dist/Geo-GDAL/pci_datum.txt (unchanged)
Skip blib/lib/auto/share/dist/Geo-GDAL/header.dxf (unchanged)
Skip blib/lib/auto/share/dist/Geo-GDAL/esri_Wisconsin_extra.wkt (unchanged)
Skip blib/lib/auto/share/dist/Geo-GDAL/gcs.csv (unchanged)
Skip blib/lib/auto/share/dist/Geo-GDAL/s57attributes_aml.csv (unchanged)
Skip blib/lib/auto/share/dist/Geo-GDAL/ruian_vf_v1.gfs (unchanged)
Skip blib/lib/auto/share/dist/Geo-GDAL/nitf_spec.xsd (unchanged)
Skip blib/lib/auto/share/dist/Geo-GDAL/inspire_cp_CadastralZoning.gfs (unchanged)
Skip blib/lib/auto/share/dist/Geo-GDAL/s57objectclasses_aml.csv (unchanged)
Skip blib/lib/auto/share/dist/Geo-GDAL/geoccs.csv (unchanged)
Skip blib/lib/auto/share/dist/Geo-GDAL/gt_ellips.csv (unchanged)
Skip blib/lib/auto/share/dist/Geo-GDAL/gdalvrt.xsd (unchanged)
Skip blib/lib/auto/share/dist/Geo-GDAL/s57expectedinput.csv (unchanged)
"/opt/perl-5.22.3/bin/perl5.22.3" -MExtUtils::Command::MM -e 'cp_nonempty' -- GDAL.bs blib/arch/auto/Geo/GDAL/GDAL.bs 644
PERL_DL_NONLAZY=1 "/opt/perl-5.22.3/bin/perl5.22.3" "-MExtUtils::Command::MM" "-MTest::Harness" "-e" "undef *Test::Harness::Switches; test_harness(0, 'blib/lib', 'blib/arch')" t/*.t
t/00.t ......... ok
t/01.t ......... ok
t/02.t ......... ok
t/03.t ......... ok
t/alg.t ........ ok
t/callback.t ... ok
t/error.t ...... ok
t/feature.t .... ok
t/gcp.t ........ ok
t/gdal.t ....... ok
t/layer.t ...... ok
t/nodata.t ..... ok
t/ogr.t ........ ok
t/open.t ....... ok
t/osr.t ........ ok
t/parenting.t .. ok
t/pdl.t ........ ok
t/utf8.t ....... ok
t/util.t ....... ok
All tests successful.
Files=19, Tests=1524,  4 wallclock secs ( 0.12 usr  0.12 sys +  2.72 cusr  0.67 csys =  3.63 CPU)
Result: PASS
make[1]: Leaving directory `/home/cpansand/.cpan/build/2017062615/Geo-GDAL-2.010301-ESuHcG'

------------------------------
PREREQUISITES
------------------------------

Prerequisite modules loaded:

requires:

    Module                  Need Have    
    ----------------------- ---- --------
    Carp                    0    1.36    
    Encode                  0    2.72_01 
    POSIX                   0    1.53_01 
    Scalar::Util            0    1.47    

build_requires:

    Module                  Need Have    
    ----------------------- ---- --------
    Capture::Tiny           0    0.46    
    Config                  0    5.022003
    Cwd                     0    3.56_02 
    Encode                  0    2.72_01 
    ExtUtils::MakeMaker     0    7.30    
    File::Basename          0    2.85    
    File::Fetch             0    0.48_01 
    File::ShareDir::Install 0    0.11    
    LWP::Simple             0    6.26    
    POSIX                   0    1.53_01 
    Scalar::Util            0    1.47    
    strict                  0    1.09    
    Test::More              0    1.302086
    warnings                0    1.34    

configure_requires:

    Module                  Need Have    
    ----------------------- ---- --------
    Capture::Tiny           0    0.46    
    Config                  0    5.022003
    Cwd                     0    3.56_02 
    ExtUtils::MakeMaker     0    7.30    
    File::Basename          0    2.85    
    File::Fetch             0    0.48_01 
    strict                  0    1.09    
    warnings                0    1.34    


------------------------------
ENVIRONMENT AND OTHER CONTEXT
------------------------------

Environment variables:

    LANG = en_US.UTF-8
    PATH = /usr/local/bin:/usr/bin:/bin:/usr/local/sbin:/usr/sbin:/sbin:/home/cpansand/bin/linux-gnu:/home/cpansand/bin/sh:/home/cpansand/bin:/usr/games:/home/cpansand/devel:/home/eserte/src/srezic-misc/scripts
    PERL5LIB = 
    PERL5OPT = 
    PERL5_CPANPLUS_IS_RUNNING = 22621
    PERL5_CPAN_IS_RUNNING = 22621
    PERL5_CPAN_IS_RUNNING_IN_RECURSION = 5192,22621
    PERLDOC = -MPod::Perldoc::ToTextOverstrike
    PERL_BATCH = yes
    PERL_CANARY_STABILITY_NOPROMPT = 1
    PERL_CPAN_REPORTER_CONFIG = /var/tmp/cpansmoker-1023/2017062609/cpanreporter_000_config.ini
    PERL_EXTUTILS_AUTOINSTALL = --defaultdeps
    SHELL = /bin/zsh
    TERM = screen
    TMPDIR = /var/tmp/cpansmoker-1023/2017062609

Perl special variables (and OS-specific diagnostics, for MSWin32):

    $^X = /opt/perl-5.22.3/bin/perl5.22.3
    $UID/$EUID = 1023 / 1023
    $GID = 1023 1023
    $EGID = 1023 1023

Perl module toolchain versions installed:

    Module              Have      
    ------------------- ----------
    CPAN                2.11_01   
    CPAN::Meta          2.150001  
    Cwd                 3.56_02   
    ExtUtils::CBuilder  0.280221  
    ExtUtils::Command   7.30      
    ExtUtils::Install   2.06      
    ExtUtils::MakeMaker 7.30      
    ExtUtils::Manifest  1.70      
    ExtUtils::ParseXS   3.28      
    File::Spec          3.56_02   
    JSON                2.94      
    JSON::PP            2.94      
    Module::Build       0.4224    
    Module::Signature   n/a       
    Parse::CPAN::Meta   1.4414_001
    Test::Harness       3.35_01   
    Test::More          1.302086  
    YAML                1.23      
    YAML::Syck          1.30      
    version             0.9909    


--

Summary of my perl5 (revision 5 version 22 subversion 3) configuration:
   
  Platform:
    osname=linux, osvers=2.6.32-696.3.1.el6.x86_64, archname=x86_64-linux
    uname='linux centos6 2.6.32-696.3.1.el6.x86_64 #1 smp tue may 30 19:52:55 utc 2017 x86_64 x86_64 x86_64 gnulinux '
    config_args='-ds -e -Dprefix=/opt/perl-5.22.3 -Dcf_email=srezic@cpan.org'
    hint=recommended, useposix=true, d_sigaction=define
    useithreads=undef, usemultiplicity=undef
    use64bitint=define, use64bitall=define, uselongdouble=undef
    usemymalloc=n, bincompat5005=undef
  Compiler:
    cc='cc', ccflags ='-fwrapv -fno-strict-aliasing -pipe -fstack-protector -I/usr/local/include -D_LARGEFILE_SOURCE -D_FILE_OFFSET_BITS=64 -D_FORTIFY_SOURCE=2',
    optimize='-O2',
    cppflags='-fwrapv -fno-strict-aliasing -pipe -fstack-protector -I/usr/local/include'
    ccversion='', gccversion='4.4.7 20120313 (Red Hat 4.4.7-18)', gccosandvers=''
    intsize=4, longsize=8, ptrsize=8, doublesize=8, byteorder=12345678, doublekind=3
    d_longlong=define, longlongsize=8, d_longdbl=define, longdblsize=16, longdblkind=3
    ivtype='long', ivsize=8, nvtype='double', nvsize=8, Off_t='off_t', lseeksize=8
    alignbytes=8, prototype=define
  Linker and Libraries:
    ld='cc', ldflags =' -fstack-protector -L/usr/local/lib'
    libpth=/usr/local/lib /usr/lib /lib/../lib64 /usr/lib/../lib64 /lib /lib64 /usr/lib64 /usr/local/lib64
    libs=-lpthread -lnsl -lgdbm -ldb -ldl -lm -lcrypt -lutil -lc
    perllibs=-lpthread -lnsl -ldl -lm -lcrypt -lutil -lc
    libc=libc-2.12.so, so=so, useshrplib=false, libperl=libperl.a
    gnulibc_version='2.12'
  Dynamic Linking:
    dlsrc=dl_dlopen.xs, dlext=so, d_dlsymun=undef, ccdlflags='-Wl,-E'
    cccdlflags='-fPIC', lddlflags='-shared -O2 -L/usr/local/lib -fstack-protector'


Characteristics of this binary (from libperl): 
  Compile-time options: HAS_TIMES PERLIO_LAYERS PERL_DONT_CREATE_GVSV
                        PERL_HASH_FUNC_ONE_AT_A_TIME_HARD PERL_MALLOC_WRAP
                        PERL_NEW_COPY_ON_WRITE PERL_PRESERVE_IVUV
                        USE_64_BIT_ALL USE_64_BIT_INT USE_LARGE_FILES
                        USE_LOCALE USE_LOCALE_COLLATE USE_LOCALE_CTYPE
                        USE_LOCALE_NUMERIC USE_LOCALE_TIME USE_PERLIO
                        USE_PERL_ATOF
  Built under linux
  Compiled at Jun 21 2017 19:22:49
  %ENV:
    PERL5LIB=""
    PERL5OPT=""
    PERL5_CPANPLUS_IS_RUNNING="22621"
    PERL5_CPAN_IS_RUNNING="22621"
    PERL5_CPAN_IS_RUNNING_IN_RECURSION="5192,22621"
    PERLDOC="-MPod::Perldoc::ToTextOverstrike"
    PERL_BATCH="yes"
    PERL_CANARY_STABILITY_NOPROMPT="1"
    PERL_CPAN_REPORTER_CONFIG="/var/tmp/cpansmoker-1023/2017062609/cpanreporter_000_config.ini"
    PERL_EXTUTILS_AUTOINSTALL="--defaultdeps"
  @INC:
    /opt/perl-5.22.3/lib/site_perl/5.22.3/x86_64-linux
    /opt/perl-5.22.3/lib/site_perl/5.22.3
    /opt/perl-5.22.3/lib/5.22.3/x86_64-linux
    /opt/perl-5.22.3/lib/5.22.3
    .