IO-Stringy v2.113 Perl 5 v5.30.1 darwin-2level

Status
Pass
From
Johanna Amann
Dist
IO-Stringy v2.113
Platform
Perl 5 v5.30.1 darwin-2level
Date
2020-08-28 16:46:05
ID
f72f7f4a-e94d-11ea-88b5-d3da1dcee0c4
This distribution has been tested as part of the CPAN Testers
project, supporting the Perl programming language.  See
http://wiki.cpantesters.org/ for more information or email
questions to cpan-testers-discuss@perl.org


--
Dear Chase Whitener,

This is a computer-generated report for IO-Stringy-2.113
on perl 5.30.1, created by CPAN-Reporter-1.2018.

Thank you for uploading your work to CPAN.  Congratulations!
All tests were successful.

Sections of this report:

    * Tester comments
    * Program output
    * Prerequisites
    * Environment and other context

------------------------------
TESTER COMMENTS
------------------------------

Additional comments from tester:

none provided

------------------------------
PROGRAM OUTPUT
------------------------------

Output from '/usr/bin/make test':

PERL_DL_NONLAZY=1 "/Users/johanna/sw/bin/perl" "-MExtUtils::Command::MM" "-MTest::Harness" "-e" "undef *Test::Harness::Switches; test_harness(0, 'blib/lib', 'blib/arch')" t/*.t
# 
# Versions for all modules listed in MYMETA.json (including optional ones):
# 
# === Configure Requires ===
# 
#     Module              Want Have
#     ------------------- ---- ----
#     ExtUtils::MakeMaker  any 7.46
# 
# === Build Requires ===
# 
#     Module              Want Have
#     ------------------- ---- ----
#     ExtUtils::MakeMaker  any 7.46
# 
# === Test Requires ===
# 
#     Module              Want     Have
#     ------------------- ---- --------
#     ExtUtils::MakeMaker  any     7.46
#     File::Basename       any     2.85
#     File::Spec           any     3.78
#     File::Temp           any   0.2309
#     FileHandle           any     2.03
#     IO::File             any     1.41
#     IO::Handle           any     1.42
#     Symbol               any     1.08
#     Test::More          0.88 1.302177
#     Test::Tester         any 1.302177
#     strict               any     1.11
#     warnings             any     1.44
# 
# === Test Recommends ===
# 
#     Module         Want     Have
#     ---------- -------- --------
#     CPAN::Meta 2.120900 2.150010
# 
# === Runtime Requires ===
# 
#     Module     Want  Have
#     ---------- ---- -----
#     Carp        any  1.50
#     Exporter   5.57  5.74
#     File::Spec  any  3.78
#     FileHandle  any  2.03
#     IO::File    any  1.41
#     IO::Handle  any  1.42
#     Symbol      any  1.08
#     overload    any  1.30
#     parent      any 0.238
#     strict      any  1.11
#     warnings    any  1.44
# 
t/00-report-prereqs.t .. ok
t/IO_InnerFile.t ....... ok
t/IO_Lines.t ........... ok
t/IO_Scalar.t .......... ok
t/IO_ScalarArray.t ..... ok
t/IO_WrapTie.t ......... ok
t/simple.t ............. ok
t/two.t ................ ok
All tests successful.
Files=8, Tests=127,  0 wallclock secs ( 0.02 usr  0.01 sys +  0.42 cusr  0.07 csys =  0.52 CPU)
Result: PASS

------------------------------
PREREQUISITES
------------------------------

Prerequisite modules loaded:

requires:

    Module              Need     Have    
    ------------------- -------- --------
    Carp                0        1.50    
    Exporter            5.57     5.74    
    File::Spec          0        3.78    
    FileHandle          0        2.03    
    IO::File            0        1.41    
    IO::Handle          0        1.42    
    overload            0        1.30    
    parent              0        0.238   
    strict              0        1.11    
    Symbol              0        1.08    
    warnings            0        1.44    

build_requires:

    Module              Need     Have    
    ------------------- -------- --------
    ExtUtils::MakeMaker 0        7.46    
    File::Basename      0        2.85    
    File::Spec          0        3.78    
    File::Temp          0        0.2309  
    FileHandle          0        2.03    
    IO::File            0        1.41    
    IO::Handle          0        1.42    
    strict              0        1.11    
    Symbol              0        1.08    
    Test::More          0.88     1.302177
    Test::Tester        0        1.302177
    warnings            0        1.44    

configure_requires:

    Module              Need     Have    
    ------------------- -------- --------
    ExtUtils::MakeMaker 0        7.46    

opt_build_requires:

    Module              Need     Have    
    ------------------- -------- --------
    CPAN::Meta          2.120900 2.150010


------------------------------
ENVIRONMENT AND OTHER CONTEXT
------------------------------

Environment variables:

    LANG = en_US.UTF-8
    LC_TERMINAL = iTerm2
    LC_TERMINAL_VERSION = 3.3.12
    PATH = /Users/johanna/tcl/bin:/Users/johanna/.opam/default/bin:/Users/johanna/sw/bin:/opt/local/bin:/Users/johanna/bro/btest:/usr/local/bin:/usr/bin:/bin:/usr/sbin:/sbin:/Library/TeX/texbin:/opt/X11/bin:/Applications/Wireshark.app/Contents/MacOS:/Users/johanna/.gem/ruby/1.8/bin:/opt/nginx/sbin://Users/johanna/.fzf/bin:mys/bin:/Applications/SeKey.app/Contents/MacOS
    PERL5LIB = /Users/johanna/.cpan/build/CPAN-2.28-0/blib/arch:/Users/johanna/.cpan/build/CPAN-2.28-0/blib/lib:/Users/johanna/.cpan/build/Alien-Build-2.29-0/blib/arch:/Users/johanna/.cpan/build/Alien-Build-2.29-0/blib/lib
    PERL5OPT = 
    PERL5_CPANPLUS_IS_RUNNING = 33731
    PERL5_CPAN_IS_RUNNING = 33731
    PERL_USE_UNSAFE_INC = 1
    SHELL = /bin/bash
    TERM = xterm-256color
    TMPDIR = /var/folders/qc/0nqqpfg1689fb12884d9y1jc0000gn/T/

Perl special variables (and OS-specific diagnostics, for MSWin32):

    $^X = /Users/johanna/sw/bin/perl
    $UID/$EUID = 501 / 501
    $GID = 20 20 12 61 79 80 81 98 502 701 702 703 33 100 204 250 395
    $EGID = 20 20 12 61 79 80 81 98 502 701 702 703 33 100 204 250 395

Perl module toolchain versions installed:

    Module              Have    
    ------------------- --------
    CPAN                2.28    
    CPAN::Meta          2.150010
    Cwd                 3.78    
    ExtUtils::CBuilder  0.280234
    ExtUtils::Command   7.46    
    ExtUtils::Install   2.16    
    ExtUtils::MakeMaker 7.46    
    ExtUtils::Manifest  1.72    
    ExtUtils::ParseXS   3.40    
    File::Spec          3.78    
    JSON                4.02    
    JSON::PP            4.05    
    Module::Build       0.4231  
    Module::Signature   0.87    
    Parse::CPAN::Meta   2.150010
    Test::Harness       3.42    
    Test::More          1.302177
    YAML                1.30    
    YAML::Syck          n/a     
    version             0.9927  


--

Summary of my perl5 (revision 5 version 30 subversion 1) configuration:
   
  Platform:
    osname=darwin
    osvers=18.7.0
    archname=darwin-2level
    uname='darwin tranquility.local 18.7.0 darwin kernel version 18.7.0: sat oct 12 00:02:19 pdt 2019; root:xnu-4903.278.12~1release_x86_64 x86_64 '
    config_args='-des -Dprefix=/Users/johanna/sw'
    hint=recommended
    useposix=true
    d_sigaction=define
    useithreads=undef
    usemultiplicity=undef
    use64bitint=define
    use64bitall=define
    uselongdouble=undef
    usemymalloc=n
    default_inc_excludes_dot=define
    bincompat5005=undef
  Compiler:
    cc='cc'
    ccflags ='-fno-common -DPERL_DARWIN -mmacosx-version-min=10.14 -fno-strict-aliasing -pipe -fstack-protector-strong -I/usr/local/include -I/opt/local/include -DPERL_USE_SAFE_PUTENV'
    optimize='-O3'
    cppflags='-fno-common -DPERL_DARWIN -mmacosx-version-min=10.14 -fno-strict-aliasing -pipe -fstack-protector-strong -I/usr/local/include -I/opt/local/include'
    ccversion=''
    gccversion='4.2.1 Compatible Apple LLVM 11.0.0 (clang-1100.0.33.12)'
    gccosandvers=''
    intsize=4
    longsize=8
    ptrsize=8
    doublesize=8
    byteorder=12345678
    doublekind=3
    d_longlong=define
    longlongsize=8
    d_longdbl=define
    longdblsize=16
    longdblkind=3
    ivtype='long'
    ivsize=8
    nvtype='double'
    nvsize=8
    Off_t='off_t'
    lseeksize=8
    alignbytes=8
    prototype=define
  Linker and Libraries:
    ld='cc'
    ldflags =' -mmacosx-version-min=10.14 -fstack-protector-strong -L/usr/local/lib -L/opt/local/lib'
    libpth=/usr/local/lib /Applications/Xcode.app/Contents/Developer/Toolchains/XcodeDefault.xctoolchain/usr/lib/clang/11.0.0/lib /Applications/Xcode.app/Contents/Developer/Toolchains/XcodeDefault.xctoolchain/usr/lib /Applications/Xcode.app/Contents/Developer/Platforms/MacOSX.platform/Developer/SDKs/MacOSX.sdk/usr/lib /opt/local/lib /usr/lib
    libs=-lpthread -lgdbm -ldbm -ldl -lm -lutil -lc
    perllibs=-lpthread -ldl -lm -lutil -lc
    libc=
    so=dylib
    useshrplib=false
    libperl=libperl.a
    gnulibc_version=''
  Dynamic Linking:
    dlsrc=dl_dlopen.xs
    dlext=bundle
    d_dlsymun=undef
    ccdlflags=' '
    cccdlflags=' '
    lddlflags=' -mmacosx-version-min=10.14 -bundle -undefined dynamic_lookup -L/usr/local/lib -L/opt/local/lib -fstack-protector-strong'


Characteristics of this binary (from libperl): 
  Compile-time options:
    HAS_TIMES
    PERLIO_LAYERS
    PERL_COPY_ON_WRITE
    PERL_DONT_CREATE_GVSV
    PERL_MALLOC_WRAP
    PERL_OP_PARENT
    PERL_PRESERVE_IVUV
    PERL_USE_SAFE_PUTENV
    USE_64_BIT_ALL
    USE_64_BIT_INT
    USE_LARGE_FILES
    USE_LOCALE
    USE_LOCALE_COLLATE
    USE_LOCALE_CTYPE
    USE_LOCALE_NUMERIC
    USE_LOCALE_TIME
    USE_PERLIO
    USE_PERL_ATOF
  Built under darwin
  Compiled at Nov 21 2019 15:10:38
  %ENV:
    PERL5LIB="/Users/johanna/.cpan/build/CPAN-2.28-0/blib/arch:/Users/johanna/.cpan/build/CPAN-2.28-0/blib/lib:/Users/johanna/.cpan/build/Alien-Build-2.29-0/blib/arch:/Users/johanna/.cpan/build/Alien-Build-2.29-0/blib/lib"
    PERL5OPT=""
    PERL5_CPANPLUS_IS_RUNNING="33731"
    PERL5_CPAN_IS_RUNNING="33731"
    PERL_USE_UNSAFE_INC="1"
  @INC:
    /Users/johanna/.cpan/build/CPAN-2.28-0/blib/arch
    /Users/johanna/.cpan/build/CPAN-2.28-0/blib/lib
    /Users/johanna/.cpan/build/Alien-Build-2.29-0/blib/arch
    /Users/johanna/.cpan/build/Alien-Build-2.29-0/blib/lib
    /Users/johanna/sw/lib/perl5/site_perl/5.30.1/darwin-2level
    /Users/johanna/sw/lib/perl5/site_perl/5.30.1
    /Users/johanna/sw/lib/perl5/5.30.1/darwin-2level
    /Users/johanna/sw/lib/perl5/5.30.1
    .