Set-Associate v0.004001 Perl 5 v5.43.4 amd64-midnightbsd

Status
Pass
From
Carlos Guevara
Dist
Set-Associate v0.004001
Platform
Perl 5 v5.43.4 amd64-midnightbsd
Date
2025-10-03 16:56:53
ID
f68ce742-a079-11f0-96b1-b7b50f4d0994
This distribution has been tested as part of the CPAN Testers
project, supporting the Perl programming language.  See
http://wiki.cpantesters.org/ for more information or email
questions to cpan-testers-discuss@perl.org


--
Dear Kent Fredric (PAUSE Custodial Account),

This is a computer-generated report for Set-Associate-0.004001
on perl 5.43.4, created by CPAN-Reporter-1.2020.

Thank you for uploading your work to CPAN.  Congratulations!
All tests were successful.

Sections of this report:

    * Tester comments
    * Program output
    * Prerequisites
    * Environment and other context

------------------------------
TESTER COMMENTS
------------------------------

Additional comments from tester:

this report is from an automated smoke testing program
and was not reviewed by a human for accuracy

------------------------------
PROGRAM OUTPUT
------------------------------

Output from '/usr/bin/make test':

PERL_DL_NONLAZY=1 "/usr/home/cpan/bin/perl/bin/perl5.43.4" "-MExtUtils::Command::MM" "-MTest::Harness" "-e" "undef *Test::Harness::Switches; test_harness(0, 'blib/lib', 'blib/arch')" t/*.t t/00-compile/*.t t/01_assoc/*.t t/02_assoc_new/*.t t/03_assoc_direct/*.t
t/00-compile/lib_Set_Associate_NewKey_HashMD5_pm.t ....... ok
t/00-compile/lib_Set_Associate_NewKey_HashSHA1_pm.t ...... ok
t/00-compile/lib_Set_Associate_NewKey_LinearWrap_pm.t .... ok
t/00-compile/lib_Set_Associate_NewKey_PickOffset_pm.t .... ok
t/00-compile/lib_Set_Associate_NewKey_pm.t ............... ok
t/00-compile/lib_Set_Associate_NewKey_RandomPick_pm.t .... ok
t/00-compile/lib_Set_Associate_pm.t ...................... ok
t/00-compile/lib_Set_Associate_RefillItems_Linear_pm.t ... ok
t/00-compile/lib_Set_Associate_RefillItems_pm.t .......... ok
t/00-compile/lib_Set_Associate_RefillItems_Shuffle_pm.t .. ok
t/00-compile/lib_Set_Associate_Role_NewKey_pm.t .......... ok
t/00-compile/lib_Set_Associate_Role_RefillItems_pm.t ..... ok
t/00-compile/lib_Set_Associate_Utils_pm.t ................ ok
# 
# Versions for all modules listed in MYMETA.json (including optional ones):
# 
# === Configure Requires ===
# 
#     Module              Want Have
#     ------------------- ---- ----
#     ExtUtils::MakeMaker  any 7.76
# 
# === Configure Recommends ===
# 
#     Module              Want Have
#     ------------------- ---- ----
#     ExtUtils::MakeMaker 7.00 7.76
# 
# === Build Requires ===
# 
#     Module              Want Have
#     ------------------- ---- ----
#     ExtUtils::MakeMaker  any 7.76
# 
# === Test Requires ===
# 
#     Module              Want     Have
#     ------------------- ---- --------
#     ExtUtils::MakeMaker  any     7.76
#     File::Spec           any     3.94
#     Test::Fatal          any    0.017
#     Test::More           any 1.302214
# 
# === Test Recommends ===
# 
#     Module                  Want     Have
#     ------------------- -------- --------
#     CPAN::Meta          2.120900 2.150010
#     ExtUtils::MakeMaker     7.00     7.76
#     Test::More              0.99 1.302214
# 
# === Runtime Requires ===
# 
#     Module                      Want   Have
#     --------------------------- ---- ------
#     Carp                         any   1.54
#     Digest::MD5                  any   2.59
#     Digest::SHA1                 any   2.13
#     Exporter                     any   5.79
#     List::Util                   any   1.70
#     Moose                        any 2.4000
#     MooseX::AttributeShortcuts   any  0.037
#     MooseX::Role::Parameterized  any   1.11
#     Scalar::Util                 any   1.70
#     bigint                      0.22   0.67
#     strict                       any   1.14
#     warnings                     any   1.74
# 
# === Runtime Recommends ===
# 
#     Module  Want   Have
#     ------ ----- ------
#     Moose  2.000 2.4000
# 
t/00-report-prereqs.t .................................... ok
Set::Associate::NewKey->linear_wrap should be called as a method at /usr/home/cpan/.cpan/build/Set-Associate-0.004001-0/blib/lib/Set/Associate/NewKey.pm line 74.
t/01_assoc/01_linear.t ................................... ok
Set::Associate::RefillItems->shuffle should be called as a method at /usr/home/cpan/.cpan/build/Set-Associate-0.004001-0/blib/lib/Set/Associate/RefillItems.pm line 128.
t/01_assoc/02_random_shuffle.t ........................... ok
Set::Associate::NewKey->random_pick should be called as a method at /usr/home/cpan/.cpan/build/Set-Associate-0.004001-0/blib/lib/Set/Associate/NewKey.pm line 96.
t/01_assoc/03_random_pick.t .............................. ok
Set::Associate::NewKey->hash_sha1 should be called as a method at /usr/home/cpan/.cpan/build/Set-Associate-0.004001-0/blib/lib/Set/Associate/NewKey.pm line 148.
t/01_assoc/04_hash_sha1.t ................................ ok
Set::Associate::NewKey->hash_md5 should be called as a method at /usr/home/cpan/.cpan/build/Set-Associate-0.004001-0/blib/lib/Set/Associate/NewKey.pm line 172.
t/01_assoc/05_hash_md5.t ................................. ok
t/02_assoc_new/01_linear.t ............................... ok
t/02_assoc_new/02_random_shuffle.t ....................... ok
t/02_assoc_new/03_random_pick.t .......................... ok
t/02_assoc_new/04_hash_sha1.t ............................ ok
t/02_assoc_new/05_hash_md5.t ............................. ok
t/03_assoc_direct/01_linear.t ............................ ok
t/03_assoc_direct/02_random_shuffle.t .................... ok
t/03_assoc_direct/03_random_pick.t ....................... ok
t/03_assoc_direct/04_hash_sha1.t ......................... ok
t/03_assoc_direct/05_hash_md5.t .......................... ok
All tests successful.
Files=29, Tests=187,  6 wallclock secs ( 0.05 usr  0.02 sys +  5.48 cusr  0.66 csys =  6.21 CPU)
Result: PASS

------------------------------
PREREQUISITES
------------------------------

Prerequisite modules loaded:

requires:

    Module                      Need     Have    
    --------------------------- -------- --------
    bigint                      0.22     0.67    
    Carp                        0        1.54    
    Digest::MD5                 0        2.59    
    Digest::SHA1                0        2.13    
    Exporter                    0        5.79    
    List::Util                  0        1.70    
    Moose                       0        2.4000  
    MooseX::AttributeShortcuts  0        0.037   
    MooseX::Role::Parameterized 0        1.11    
    perl                        5.006    5.043004
    Scalar::Util                0        1.70    
    strict                      0        1.14    
    warnings                    0        1.74    

build_requires:

    Module                      Need     Have    
    --------------------------- -------- --------
    ExtUtils::MakeMaker         0        7.76    
    File::Spec                  0        3.94    
    Test::Fatal                 0        0.017   
    Test::More                  0        1.302214

configure_requires:

    Module                      Need     Have    
    --------------------------- -------- --------
    ExtUtils::MakeMaker         0        7.76    
    perl                        5.006    5.043004

opt_requires:

    Module                      Need     Have    
    --------------------------- -------- --------
    Moose                       2.000    2.4000  

opt_build_requires:

    Module                      Need     Have    
    --------------------------- -------- --------
    CPAN::Meta                  2.120900 2.150010
    ExtUtils::MakeMaker         7.00     7.76    
    Test::More                  0.99     1.302214


------------------------------
ENVIRONMENT AND OTHER CONTEXT
------------------------------

Environment variables:

    AUTOMATED_TESTING = 1
    DATE_MANIP_TEST_DM5 = 1
    LC_ALL = C
    NONINTERACTIVE_TESTING = 1
    NO_NETWORK_TESTING = 1
    PATH = /home/cpan/bin/perl/bin:/home/cpan/bin:/sbin:/bin:/usr/sbin:/usr/bin:/usr/games:/usr/local/sbin:/usr/local/bin:/home/cpan/bin
    PERL5LIB = 
    PERL5OPT = 
    PERL5_CPANPLUS_IS_RUNNING = 55151
    PERL5_CPAN_IS_RUNNING = 55151
    PERL_MM_USE_DEFAULT = 1
    PERL_PERTURB_KEYS = 0
    PERL_USE_UNSAFE_INC = 1
    SHELL = /usr/local/bin/bash
    TERM = screen
    TMPDIR = /home/cpan/tmp

Perl special variables (and OS-specific diagnostics, for MSWin32):

    $^X = /usr/home/cpan/bin/perl/bin/perl5.43.4
    $UID/$EUID = 1002 / 1002
    $GID = 1002 1002
    $EGID = 1002 1002

Perl module toolchain versions installed:

    Module              Have    
    ------------------- --------
    CPAN                2.38    
    CPAN::Meta          2.150010
    Cwd                 3.94    
    ExtUtils::CBuilder  0.280242
    ExtUtils::Command   7.76    
    ExtUtils::Install   2.22    
    ExtUtils::MakeMaker 7.76    
    ExtUtils::Manifest  1.75    
    ExtUtils::ParseXS   3.60    
    File::Spec          3.94    
    JSON                4.10    
    JSON::PP            4.16    
    Module::Build       0.4234  
    Module::Signature   n/a     
    Parse::CPAN::Meta   2.150010
    Test2               1.302214
    Test::Harness       3.52    
    Test::More          1.302214
    YAML                1.31    
    YAML::Syck          1.34    
    version             0.9933  


--

Summary of my perl5 (revision 5 version 43 subversion 4) configuration:
  Commit id: b1b9728b19047b3fda2bcb749bceab11db3656d5
  Platform:
    osname=midnightbsd
    osvers=3.2.1
    archname=amd64-midnightbsd
    uname='midnightbsd cjg-midnightbsd3 3.2.1 midnightbsd 3.2.1 #15n13132-0869ed7092(stable3.2)-dirty: wed nov 6 12:53:25 est 2024 root@m3264:usrobjusrsrcamd64.amd64sysgeneric amd64 '
    config_args='-des -Dprefix=/home/cpan/bin/perl -Dscriptdir=/home/cpan/bin/perl/bin -Dusedevel -Duse64bitall'
    hint=recommended
    useposix=true
    d_sigaction=define
    useithreads=undef
    usemultiplicity=undef
    use64bitint=define
    use64bitall=define
    uselongdouble=undef
    usemymalloc=n
    default_inc_excludes_dot=define
  Compiler:
    cc='cc'
    ccflags ='-DHAS_FPSETMASK -DHAS_FLOATINGPOINT_H -fno-strict-aliasing -pipe -fstack-protector-strong -I/usr/local/include'
    optimize='-O'
    cppflags='-DHAS_FPSETMASK -DHAS_FLOATINGPOINT_H -fno-strict-aliasing -pipe -fstack-protector-strong -I/usr/local/include'
    ccversion=''
    gccversion='MidnightBSD Clang 13.0.0 (git@github.com:llvm/llvm-project.git llvmorg-13.0.0-0-gd7b669b3a303)'
    gccosandvers=''
    intsize=4
    longsize=8
    ptrsize=8
    doublesize=8
    byteorder=12345678
    doublekind=3
    d_longlong=define
    longlongsize=8
    d_longdbl=define
    longdblsize=16
    longdblkind=3
    ivtype='long'
    ivsize=8
    nvtype='double'
    nvsize=8
    Off_t='off_t'
    lseeksize=8
    alignbytes=8
    prototype=define
  Linker and Libraries:
    ld='cc'
    ldflags ='-Wl,-E  -fstack-protector-strong -L/usr/local/lib'
    libpth=/usr/lib /usr/local/lib /usr/lib/clang/13.0.0/lib
    libs=-lpthread -lgdbm -ldl -lm -lcrypt -lutil -lc
    perllibs=-lpthread -ldl -lm -lcrypt -lutil -lc
    libc=
    so=so
    useshrplib=false
    libperl=libperl.a
    gnulibc_version=''
  Dynamic Linking:
    dlsrc=dl_dlopen.xs
    dlext=so
    d_dlsymun=undef
    ccdlflags=' '
    cccdlflags='-DPIC -fPIC'
    lddlflags='-shared  -L/usr/local/lib -fstack-protector-strong'


Characteristics of this binary (from libperl): 
  Compile-time options:
    HAS_LONG_DOUBLE
    HAS_STRTOLD
    HAS_TIMES
    PERLIO_LAYERS
    PERL_COPY_ON_WRITE
    PERL_DONT_CREATE_GVSV
    PERL_HASH_FUNC_SIPHASH13
    PERL_HASH_USE_SBOX32
    PERL_MALLOC_WRAP
    PERL_OP_PARENT
    PERL_PRESERVE_IVUV
    PERL_USE_DEVEL
    PERL_USE_SAFE_PUTENV
    USE_64_BIT_ALL
    USE_64_BIT_INT
    USE_LARGE_FILES
    USE_LOCALE
    USE_LOCALE_COLLATE
    USE_LOCALE_CTYPE
    USE_LOCALE_NUMERIC
    USE_LOCALE_TIME
    USE_PERLIO
    USE_PERL_ATOF
  Built under midnightbsd
  Compiled at Oct  2 2025 21:40:45
  %ENV:
    PERL5LIB=""
    PERL5OPT=""
    PERL5_CPANPLUS_IS_RUNNING="55151"
    PERL5_CPAN_IS_RUNNING="55151"
    PERL_MM_USE_DEFAULT="1"
    PERL_PERTURB_KEYS="0"
    PERL_USE_UNSAFE_INC="1"
  @INC:
    /home/cpan/bin/perl/lib/site_perl/5.43.4/amd64-midnightbsd
    /home/cpan/bin/perl/lib/site_perl/5.43.4
    /home/cpan/bin/perl/lib/5.43.4/amd64-midnightbsd
    /home/cpan/bin/perl/lib/5.43.4
    .