Report for Dist-Zilla-Plugin-BundleInspector-0.004

Back
From: metabase:user:320bfe00-2aae-11df-837a-5e0a49663a4f
Subject: PASS Dist-Zilla-Plugin-BundleInspector-0.004 v5.10.0 GNU/Linux
Date: 2015-05-05T14:42:32Z

This distribution has been tested as part of the CPAN Testers
project, supporting the Perl programming language.  See
http://wiki.cpantesters.org/ for more information or email
questions to cpan-testers-discuss@perl.org


--
Dear Randy Stauner,

This is a computer-generated report for Dist-Zilla-Plugin-BundleInspector-0.004
on perl 5.10.0, created by CPAN-Reporter-1.2014.

Thank you for uploading your work to CPAN.  Congratulations!
All tests were successful.

Sections of this report:

    * Tester comments
    * Program output
    * Prerequisites
    * Environment and other context

------------------------------
TESTER COMMENTS
------------------------------

Additional comments from tester:

this report is from an automated smoke testing program
and was not reviewed by a human for accuracy

------------------------------
PROGRAM OUTPUT
------------------------------

Output from '/usr/bin/make test':

PERL_DL_NONLAZY=1 "/home/sand/src/perl/repoperls/installed-perls/perl/perl-5.10.0/5da8/bin/perl" "-MExtUtils::Command::MM" "-MTest::Harness" "-e" "undef *Test::Harness::Switches; test_harness(0, 'blib/lib', 'blib/arch')" t/*.t
t/00-compile.t ......... ok

# Versions for all modules listed in MYMETA.json (including optional ones):
# 
# === Configure Requires ===
# 
#     Module              Want Have
#     ------------------- ---- ----
#     ExtUtils::MakeMaker  any 7.04
# 
# === Build Requires ===
# 
#     Module              Want Have
#     ------------------- ---- ----
#     ExtUtils::MakeMaker  any 7.04
# 
# === Test Requires ===
# 
#     Module                                Want         Have
#     ------------------------------------- ---- ------------
#     Dist::Zilla::Role::PluginBundle::Easy  any        5.036
#     ExtUtils::MakeMaker                    any         7.04
#     File::Spec                             any         3.47
#     File::Temp                             any       0.2304
#     IO::Handle                             any         1.28
#     IPC::Open3                             any         1.02
#     Path::Class                            any         0.35
#     Test::DZil                             any        5.036
#     Test::Differences                      any         0.63
#     Test::More                            0.96 1.301001_110
#     lib                                    any       0.5565
# 
# === Test Recommends ===
# 
#     Module         Want     Have
#     ---------- -------- --------
#     CPAN::Meta 2.120900 2.150003
# 
# === Runtime Requires ===
# 
#     Module                               Want     Have
#     ----------------------------------- ----- --------
#     Class::Load                           any     0.22
#     Config::MVP::BundleInspector          any    0.001
#     Config::MVP::Writer::INI            0.003    0.003
#     Dist::Zilla                             4    5.036
#     Dist::Zilla::Plugin::Bootstrap::lib   any 1.001000
#     Dist::Zilla::Role::FileMunger         any    5.036
#     Dist::Zilla::Role::PrereqSource       any    5.036
#     Moose                                 any   2.1404
#     Moose::Util::TypeConstraints          any   2.1404
#     MooseX::AttributeShortcuts            any    0.028
#     String::RewritePrefix                 any    0.007
#     Sub::Override                         any     0.09
#     Try::Tiny                             any     0.22
#     namespace::autoclean                  any     0.24
#     strict                                any     1.04
#     warnings                              any     1.06
# 
t/00-report-prereqs.t .. ok
t/attr.t ............... ok
t/inspector.t .......... ok
t/plugin.t ............. ok
All tests successful.
Files=5, Tests=12, 17 wallclock secs ( 0.01 usr  0.06 sys +  4.80 cusr  0.61 csys =  5.48 CPU)
Result: PASS

------------------------------
PREREQUISITES
------------------------------

Prerequisite modules loaded:

requires:

    Module                                Need  Have        
    ------------------------------------- ----- ------------
    Class::Load                           0     0.22        
    Config::MVP::BundleInspector          0     0.001       
    Config::MVP::Writer::INI              0.003 0.003       
    Dist::Zilla                           4     5.036       
    Dist::Zilla::Plugin::Bootstrap::lib   0     1.001000    
    Dist::Zilla::Role::FileMunger         0     5.036       
    Dist::Zilla::Role::PrereqSource       0     5.036       
    Moose                                 0     2.1404      
    Moose::Util::TypeConstraints          0     2.1404      
    MooseX::AttributeShortcuts            0     0.028       
    namespace::autoclean                  0     0.24        
    perl                                  5.006 5.010000    
    strict                                0     1.04        
    String::RewritePrefix                 0     0.007       
    Sub::Override                         0     0.09        
    Try::Tiny                             0     0.22        
    warnings                              0     1.06        

build_requires:

    Module                                Need  Have        
    ------------------------------------- ----- ------------
    Dist::Zilla::Role::PluginBundle::Easy 0     5.036       
    ExtUtils::MakeMaker                   0     7.04        
    File::Spec                            0     3.47        
    File::Temp                            0     0.2304      
    IO::Handle                            0     1.28        
    IPC::Open3                            0     1.02        
    lib                                   0     0.5565      
    Path::Class                           0     0.35        
    Test::Differences                     0     0.63        
    Test::DZil                            0     5.036       
    Test::More                            0.96  1.301001_110

configure_requires:

    Module                                Need  Have        
    ------------------------------------- ----- ------------
    ExtUtils::MakeMaker                   0     7.04        
    perl                                  5.006 5.010000    


------------------------------
ENVIRONMENT AND OTHER CONTEXT
------------------------------

Environment variables:

    AUTOMATED_TESTING = 1
    LANG = en_US.UTF-8
    LANGUAGE = en_US:en
    PATH = /home/sand/bin:/usr/local/bin:/usr/bin:/bin:/usr/games:/usr/local/perl/bin:/usr/X11/bin:/sbin:/usr/sbin
    PERL5LIB = 
    PERL5OPT = 
    PERL5_CPANPLUS_IS_RUNNING = 9022
    PERL5_CPAN_IS_RUNNING = 9022
    PERL_MM_USE_DEFAULT = 1
    SHELL = /usr/bin/zsh
    TERM = screen

Perl special variables (and OS-specific diagnostics, for MSWin32):

    $^X = /home/sand/src/perl/repoperls/installed-perls/perl/perl-5.10.0/5da8/bin/perl
    $UID/$EUID = 1005 / 1005
    $GID = 1005 1005
    $EGID = 1005 1005

Perl module toolchain versions installed:

    Module              Have        
    ------------------- ------------
    CPAN                2.10        
    CPAN::Meta          2.150003    
    Cwd                 3.47        
    ExtUtils::CBuilder  0.280220    
    ExtUtils::Command   1.16        
    ExtUtils::Install   1.54        
    ExtUtils::MakeMaker 7.04        
    ExtUtils::Manifest  1.70        
    ExtUtils::ParseXS   3.24        
    File::Spec          3.47        
    JSON                2.90        
    JSON::PP            2.27203     
    Module::Build       0.4211      
    Module::Signature   0.78        
    Parse::CPAN::Meta   1.4415      
    Test::Harness       3.35        
    Test::More          1.301001_110
    YAML                1.15        
    YAML::Syck          1.29        
    version             0.9912      


--

Summary of my perl5 (revision 5 version 10 subversion 0) configuration:
  Platform:
    osname=linux, osvers=3.16.0-4-amd64, archname=x86_64-linux
    uname='linux k83 3.16.0-4-amd64 #1 smp debian 3.16.7-ckt9-1 (2015-04-08) x86_64 gnulinux '
    config_args='-Dprefix=/home/sand/src/perl/repoperls/installed-perls/perl/perl-5.10.0/5da8 -Dmyhostname=k83 -Dinstallusrbinperl=n -Uversiononly -Dusedevel -des -Ui_db -Uuseithreads -Uuselongdouble -DDEBUGGING=-g -Dusedl -Ddlsrc=dl_dlopen.xs -Dlibs=-lnsl -ldb -ldl -lm -lcrypt -lutil -lc -Dlibpth=/usr/lib/x86_64-linux-gnu /usr/local/lib /lib /usr/lib'
    hint=recommended, useposix=true, d_sigaction=define
    useithreads=undef, usemultiplicity=undef
    useperlio=define, d_sfio=undef, uselargefiles=define, usesocks=undef
    use64bitint=define, use64bitall=define, uselongdouble=undef
    usemymalloc=n, bincompat5005=undef
  Compiler:
    cc='cc', ccflags ='-fno-strict-aliasing -pipe -I/usr/local/include -D_LARGEFILE_SOURCE -D_FILE_OFFSET_BITS=64',
    optimize='-O2 -g',
    cppflags='-fno-strict-aliasing -pipe -I/usr/local/include'
    ccversion='', gccversion='4.9.2', gccosandvers=''
    intsize=4, longsize=8, ptrsize=8, doublesize=8, byteorder=12345678
    d_longlong=define, longlongsize=8, d_longdbl=define, longdblsize=16
    ivtype='long', ivsize=8, nvtype='double', nvsize=8, Off_t='off_t', lseeksize=8
    alignbytes=8, prototype=define
  Linker and Libraries:
    ld='cc', ldflags =' -L/usr/local/lib'
    libpth=/usr/lib/x86_64-linux-gnu /usr/local/lib /lib /usr/lib
    libs=-lnsl -ldb -ldl -lm -lcrypt -lutil -lc
    perllibs=-lnsl -ldl -lm -lcrypt -lutil -lc
    libc=, so=so, useshrplib=false, libperl=libperl.a
    gnulibc_version='2.19'
  Dynamic Linking:
    dlsrc=dl_dlopen.xs, dlext=so, d_dlsymun=undef, ccdlflags='-Wl,-E'
    cccdlflags='-fPIC', lddlflags='-shared -O2 -g -L/usr/local/lib'


Characteristics of this binary (from libperl): 
  Compile-time options: PERL_DONT_CREATE_GVSV PERL_MALLOC_WRAP USE_64_BIT_ALL
                        USE_64_BIT_INT USE_LARGE_FILES USE_PERLIO
  Built under linux
  Compiled at Apr 13 2015 05:22:57
  %ENV:
    PERL5LIB=""
    PERL5OPT=""
    PERL5_CPANPLUS_IS_RUNNING="9022"
    PERL5_CPAN_IS_RUNNING="9022"
    PERL_MM_USE_DEFAULT="1"
  @INC:
    /home/sand/src/perl/repoperls/installed-perls/perl/perl-5.10.0/5da8/lib/5.10.0/x86_64-linux
    /home/sand/src/perl/repoperls/installed-perls/perl/perl-5.10.0/5da8/lib/5.10.0
    /home/sand/src/perl/repoperls/installed-perls/perl/perl-5.10.0/5da8/lib/site_perl/5.10.0/x86_64-linux
    /home/sand/src/perl/repoperls/installed-perls/perl/perl-5.10.0/5da8/lib/site_perl/5.10.0
    .