MooseX-Workers v0.24 Perl 5 v5.16.3 x86_64-linux

Status
Pass
From
Slaven Rezić (SREZIC)
Dist
MooseX-Workers v0.24
Platform
Perl 5 v5.16.3 x86_64-linux
Date
2018-10-19 07:31:15
ID
f667eb46-d370-11e8-a5c0-a52b819037df
This distribution has been tested as part of the CPAN Testers
project, supporting the Perl programming language.  See
http://wiki.cpantesters.org/ for more information or email
questions to cpan-testers-discuss@perl.org


--
Dear Rafael Kitover,

This is a computer-generated report for MooseX-Workers-0.24
on perl 5.16.3, created by CPAN-Reporter-1.2017.

Thank you for uploading your work to CPAN.  Congratulations!
All tests were successful.

Sections of this report:

    * Tester comments
    * Program output
    * Prerequisites
    * Environment and other context

------------------------------
TESTER COMMENTS
------------------------------

Additional comments from tester:

none provided

------------------------------
PROGRAM OUTPUT
------------------------------

Output from 'make test':

PERL_DL_NONLAZY=1 "/opt/perl-5.16.3/bin/perl" "-MExtUtils::Command::MM" "-MTest::Harness" "-e" "undef *Test::Harness::Switches; test_harness(0, 'blib/lib', 'blib/arch')" t/*.t
t/00-compile.t ......................... ok
# Testing MooseX::Workers 0.24
t/00.load.t ............................ ok
t/01.worker.t .......................... ok
t/02.wheel.t ........................... ok
t/03.role.t ............................ ok
t/10.worker.enqueue.t .................. ok
t/11.worker.job.args.t ................. ok
t/11.worker.job.t ...................... ok
t/12.worker.timeout1.t ................. ok
t/13.worker.timeout2.t ................. ok
t/20.worker.SIG.TERM.t ................. ok
t/30.worker.stdout_filter.line.t ....... ok
t/31.worker.stderr_filter.reference.t .. ok
t/40.worker.stderr_filter.line.t ....... ok
t/41.worker.stderr_filter.reference.t .. ok
t/50.consolidate.worker.results.t ...... ok
t/60.pass.object.from.child.t .......... ok
t/61.set.max_workers.at.ctor.time.t .... ok
t/62.set.max_workers.at.run.time.t ..... ok
t/release-pod-syntax.t ................. skipped: these tests are for release candidate testing
All tests successful.
Files=20, Tests=407,  6 wallclock secs ( 0.08 usr  0.00 sys +  4.65 cusr  0.33 csys =  5.06 CPU)
Result: PASS

------------------------------
PREREQUISITES
------------------------------

Prerequisite modules loaded:

requires:

    Module                 Need  Have    
    ---------------------- ----- --------
    Moose                  0     2.1804  
    Moose::Role            0     2.1804  
    overload               0     1.18    
    Package::Stash         0     0.37    
    perl                   5.006 5.016003
    POE                    0     1.367   
    POE::Wheel::Run        0     1.367   
    Scalar::Util           0     1.45    
    Try::Tiny              0     0.24    

build_requires:

    Module                 Need  Have    
    ---------------------- ----- --------
    DateTime               0     1.28    
    ExtUtils::MakeMaker    0     7.18    
    File::Spec             0     3.39_02 
    IO::Handle             0     1.33    
    IPC::Open3             0     1.12    
    lib                    0     0.63    
    POE::Filter::Line      0     1.367   
    POE::Filter::Reference 0     1.367   
    strict                 0     1.07    
    Test::More             0     1.302026
    warnings               0     1.13    

configure_requires:

    Module                 Need  Have    
    ---------------------- ----- --------
    ExtUtils::MakeMaker    0     7.18    


------------------------------
ENVIRONMENT AND OTHER CONTEXT
------------------------------

Environment variables:

    LANG = en_US.UTF-8
    PATH = /home/eserte/perl5/version='5.20.2';/bin:/home/eserte/perl5/bin:/usr/local/bin:/usr/bin:/bin:/usr/local/sbin:/usr/sbin:/sbin:/home/eserte/bin/linux-gnu:/home/eserte/bin/sh:/home/eserte/bin:/home/eserte/bin/pistachio-perl/bin:/usr/games:/home/eserte/devel:/home/eserte/src/srezic-misc/scripts
    PERL5LIB = /home/eserte/.cpan/build/2018101909/POE-1.367-cyv9UQ/blib/arch:/home/eserte/.cpan/build/2018101909/POE-1.367-cyv9UQ/blib/lib:/home/eserte/.cpan/build/2018101909/IO-Pipely-0.005-0nsFa3/blib/arch:/home/eserte/.cpan/build/2018101909/IO-Pipely-0.005-0nsFa3/blib/lib:/home/eserte/.cpan/build/2018101909/Exporter-5.73-Lkrv3z/blib/arch:/home/eserte/.cpan/build/2018101909/Exporter-5.73-Lkrv3z/blib/lib:/home/eserte/.cpan/build/2018101909/POE-Test-Loops-1.360-EQsgEp/blib/arch:/home/eserte/.cpan/build/2018101909/POE-Test-Loops-1.360-EQsgEp/blib/lib
    PERL5OPT = 
    PERL5_CPANPLUS_IS_RUNNING = 832
    PERL5_CPAN_IS_RUNNING = 832
    PERL5_CPAN_IS_RUNNING_IN_RECURSION = 26846,832
    PERLDOC = -MPod::Perldoc::ToTextOverstrike
    PERL_BATCH = yes
    PERL_CANARY_STABILITY_NOPROMPT = 1
    PERL_CPAN_REPORTER_CONFIG = /var/tmp/cpansmoker-1000/2018101908/cpanreporter_000_config.ini
    PERL_EXTUTILS_AUTOINSTALL = --defaultdeps
    PERL_LOCAL_LIB_ROOT = /home/eserte/perl5/version='5.20.2';:/home/eserte/perl5
    PERL_MB_OPT = --install_base "/home/eserte/perl5/version='5.20.2';"
    PERL_MM_OPT = INSTALL_BASE=/home/eserte/perl5/version='5.20.2';
    SHELL = /bin/zsh
    STDPERL = perl
    TERM = xterm
    TMPDIR = /var/tmp/cpansmoker-1000/2018101908

Perl special variables (and OS-specific diagnostics, for MSWin32):

    $^X = /opt/perl-5.16.3/bin/perl
    $UID/$EUID = 1000 / 1000
    $GID = 1000 4 24 25 27 29 30 44 46 108 111 115 128 134 1000 1024
    $EGID = 1000 4 24 25 27 29 30 44 46 108 111 115 128 134 1000 1024

Perl module toolchain versions installed:

    Module              Have    
    ------------------- --------
    CPAN                1.9800  
    CPAN::Meta          2.150005
    Cwd                 3.39_02 
    ExtUtils::CBuilder  0.280206
    ExtUtils::Command   7.18    
    ExtUtils::Install   1.58    
    ExtUtils::MakeMaker 7.18    
    ExtUtils::Manifest  1.70    
    ExtUtils::ParseXS   3.30    
    File::Spec          3.39_02 
    JSON                2.90    
    JSON::PP            2.27203 
    Module::Build       0.4218  
    Module::Signature   0.80    
    Parse::CPAN::Meta   1.4417  
    Test::Harness       3.36    
    Test::More          1.302026
    YAML                1.15    
    YAML::Syck          1.29    
    version             0.99    


--

Summary of my perl5 (revision 5 version 16 subversion 3) configuration:
   
  Platform:
    osname=linux, osvers=3.16.0-4-amd64, archname=x86_64-linux
    uname='linux cabulja 3.16.0-4-amd64 #1 smp debian 3.16.7-ckt25-2 (2016-04-08) x86_64 gnulinux '
    config_args='-ds -e -Dprefix=/opt/perl-5.16.3 -Dcf_email=srezic@cpan.org -Dcc=gcc-4.8'
    hint=previous, useposix=true, d_sigaction=define
    useithreads=undef, usemultiplicity=undef
    useperlio=define, d_sfio=undef, uselargefiles=define, usesocks=undef
    use64bitint=define, use64bitall=define, uselongdouble=undef
    usemymalloc=n, bincompat5005=undef
  Compiler:
    cc='gcc-4.8', ccflags ='-fno-strict-aliasing -pipe -fstack-protector -I/usr/local/include -D_LARGEFILE_SOURCE -D_FILE_OFFSET_BITS=64',
    optimize='-O2',
    cppflags='-fno-strict-aliasing -pipe -fstack-protector -I/usr/local/include -fno-strict-aliasing -pipe -fstack-protector -I/usr/local/include -D_LARGEFILE_SOURCE -D_FILE_OFFSET_BITS=64'
    ccversion='', gccversion='4.8.4', gccosandvers=''
    intsize=4, longsize=8, ptrsize=8, doublesize=8, byteorder=12345678
    d_longlong=define, longlongsize=8, d_longdbl=define, longdblsize=16
    ivtype='long', ivsize=8, nvtype='double', nvsize=8, Off_t='off_t', lseeksize=8
    alignbytes=8, prototype=define
  Linker and Libraries:
    ld='gcc-4.8', ldflags =' -fstack-protector -L/usr/local/lib'
    libpth=/usr/local/lib /lib/x86_64-linux-gnu /lib/../lib /usr/lib/x86_64-linux-gnu /usr/lib/../lib /lib /usr/lib
    libs=-lnsl -lgdbm -ldb -ldl -lm -lcrypt -lutil -lc -lgdbm_compat
    perllibs=-lnsl -ldl -lm -lcrypt -lutil -lc
    libc=libc-2.19.so, so=so, useshrplib=false, libperl=libperl.a
    gnulibc_version='2.19'
  Dynamic Linking:
    dlsrc=dl_dlopen.xs, dlext=so, d_dlsymun=undef, ccdlflags='-Wl,-E'
    cccdlflags='-fPIC', lddlflags='-shared -O2 -L/usr/local/lib -fstack-protector'


Characteristics of this binary (from libperl): 
  Compile-time options: HAS_TIMES PERLIO_LAYERS PERL_DONT_CREATE_GVSV
                        PERL_MALLOC_WRAP PERL_PRESERVE_IVUV USE_64_BIT_ALL
                        USE_64_BIT_INT USE_LARGE_FILES USE_LOCALE
                        USE_LOCALE_COLLATE USE_LOCALE_CTYPE
                        USE_LOCALE_NUMERIC USE_PERLIO USE_PERL_ATOF
  Locally applied patches:
	Devel::PatchPerl 1.42
  Built under linux
  Compiled at Jun  7 2016 20:12:51
  %ENV:
    PERL5LIB="/home/eserte/.cpan/build/2018101909/POE-1.367-cyv9UQ/blib/arch:/home/eserte/.cpan/build/2018101909/POE-1.367-cyv9UQ/blib/lib:/home/eserte/.cpan/build/2018101909/IO-Pipely-0.005-0nsFa3/blib/arch:/home/eserte/.cpan/build/2018101909/IO-Pipely-0.005-0nsFa3/blib/lib:/home/eserte/.cpan/build/2018101909/Exporter-5.73-Lkrv3z/blib/arch:/home/eserte/.cpan/build/2018101909/Exporter-5.73-Lkrv3z/blib/lib:/home/eserte/.cpan/build/2018101909/POE-Test-Loops-1.360-EQsgEp/blib/arch:/home/eserte/.cpan/build/2018101909/POE-Test-Loops-1.360-EQsgEp/blib/lib"
    PERL5OPT=""
    PERL5_CPANPLUS_IS_RUNNING="832"
    PERL5_CPAN_IS_RUNNING="832"
    PERL5_CPAN_IS_RUNNING_IN_RECURSION="26846,832"
    PERLDOC="-MPod::Perldoc::ToTextOverstrike"
    PERL_BATCH="yes"
    PERL_CANARY_STABILITY_NOPROMPT="1"
    PERL_CPAN_REPORTER_CONFIG="/var/tmp/cpansmoker-1000/2018101908/cpanreporter_000_config.ini"
    PERL_EXTUTILS_AUTOINSTALL="--defaultdeps"
    PERL_LOCAL_LIB_ROOT="/home/eserte/perl5/version='5.20.2';:/home/eserte/perl5"
    PERL_MB_OPT="--install_base "/home/eserte/perl5/version='5.20.2';""
    PERL_MM_OPT="INSTALL_BASE=/home/eserte/perl5/version='5.20.2';"
  @INC:
    /home/eserte/.cpan/build/2018101909/POE-1.367-cyv9UQ/blib/arch
    /home/eserte/.cpan/build/2018101909/POE-1.367-cyv9UQ/blib/lib
    /home/eserte/.cpan/build/2018101909/IO-Pipely-0.005-0nsFa3/blib/arch
    /home/eserte/.cpan/build/2018101909/IO-Pipely-0.005-0nsFa3/blib/lib
    /home/eserte/.cpan/build/2018101909/Exporter-5.73-Lkrv3z/blib/arch
    /home/eserte/.cpan/build/2018101909/Exporter-5.73-Lkrv3z/blib/lib
    /home/eserte/.cpan/build/2018101909/POE-Test-Loops-1.360-EQsgEp/blib/arch
    /home/eserte/.cpan/build/2018101909/POE-Test-Loops-1.360-EQsgEp/blib/lib
    /opt/perl-5.16.3/lib/site_perl/5.16.3/x86_64-linux
    /opt/perl-5.16.3/lib/site_perl/5.16.3
    /opt/perl-5.16.3/lib/5.16.3/x86_64-linux
    /opt/perl-5.16.3/lib/5.16.3
    .