Dist-Zilla-Plugin-CheckIssues v0.011 Perl 5 v5.32.0 riscv-freebsd
- Status
- Pass
- From
- Ryan Voots
- Dist
-
Dist-Zilla-Plugin-CheckIssues v0.011
- Platform
- Perl 5 v5.32.0 riscv-freebsd
- Date
- 2020-11-11 01:19:36
- ID
- f64c3796-23bb-11eb-8304-fd68b38bf3b3
This distribution has been tested as part of the CPAN Testers
project, supporting the Perl programming language. See
http://wiki.cpantesters.org/ for more information or email
questions to cpan-testers-discuss@perl.org
--
Dear Karen Etheridge,
This is a computer-generated report for Dist-Zilla-Plugin-CheckIssues-0.011
on perl 5.32.0, created by CPAN-Reporter-1.2018.
Thank you for uploading your work to CPAN. Congratulations!
All tests were successful.
Sections of this report:
* Tester comments
* Program output
* Prerequisites
* Environment and other context
------------------------------
TESTER COMMENTS
------------------------------
Additional comments from tester:
this report is from an automated smoke testing program
and was not reviewed by a human for accuracy
------------------------------
PROGRAM OUTPUT
------------------------------
Output from '/usr/bin/make test':
PERL_DL_NONLAZY=1 "/usr/home/ryan/perl5/perlbrew/perls/perl-5.32.0/bin/perl" "-MExtUtils::Command::MM" "-MTest::Harness" "-e" "undef *Test::Harness::Switches; test_harness(0, 'blib/lib', 'blib/arch')" t/*.t
#
# Versions for all modules listed in MYMETA.json (including optional ones):
#
# === Configure Requires ===
#
# Module Want Have
# ------------------------ -------- --------
# CPAN::Meta::Requirements 2.120620 2.140
# ExtUtils::MakeMaker any 7.52
# Module::Metadata any 1.000037
#
# === Build Requires ===
#
# Module Want Have
# ------------------- ---- ----
# ExtUtils::MakeMaker any 7.52
#
# === Test Requires ===
#
# Module Want Have
# ------------------------------- ---- --------
# Dist::Zilla::App::Tester any 6.017
# Dist::Zilla::Role::MetaProvider any 6.017
# ExtUtils::MakeMaker any 7.52
# File::Spec any 3.78
# File::pushd any 1.016
# Moose::Util any 2.2013
# Path::Tiny any 0.114
# Test::DZil any 6.017
# Test::Deep any 1.130
# Test::Fatal any 0.016
# Test::More 0.88 1.302183
# if any 0.0608
# lib any 0.65
#
# === Test Recommends ===
#
# Module Want Have
# ---------- -------- --------
# CPAN::Meta 2.120900 2.150010
#
# === Runtime Requires ===
#
# Module Want Have
# -------------------------------- -------- --------
# Dist::Zilla 4.300039 6.017
# Dist::Zilla::App any 6.017
# Dist::Zilla::Role::BeforeRelease any 6.017
# Encode any 3.06
# HTTP::Headers any 6.26
# HTTP::Tiny any 0.076
# JSON::MaybeXS 1.001000 1.004002
# List::Util 1.33 1.55
# Log::Dispatch 2.49 2.70
# Moose any 2.2013
# Term::ANSIColor 3.00 5.01
# namespace::autoclean any 0.29
# strict any 1.11
# warnings any 1.47
#
# === Other Modules ===
#
# Module Have
# --------------- ------
# App::Cmd 0.331
# Encode 3.06
# File::Temp 0.2309
# JSON::PP 4.04
# Log::Dispatch 2.70
# Module::Runtime 0.016
# Pod::Coverage 0.23
# Sub::Name 0.26
# YAML 1.30
# autodie 2.32
#
t/00-report-prereqs.t .. ok
t/01-basic.t ........... ok
t/02-no-rt.t ........... ok
t/03-no-repo.t ......... ok
t/04-command.t ......... ok
t/zzz-check-breaks.t ... ok
All tests successful.
Files=6, Tests=20, 74 wallclock secs ( 0.46 usr 0.41 sys + 56.82 cusr 12.64 csys = 70.34 CPU)
Result: PASS
------------------------------
PREREQUISITES
------------------------------
Prerequisite modules loaded:
requires:
Module Need Have
-------------------------------- -------- --------
Dist::Zilla 4.300039 6.017
Dist::Zilla::App 0 6.017
Dist::Zilla::Role::BeforeRelease 0 6.017
Encode 0 3.06
HTTP::Headers 0 6.26
HTTP::Tiny 0 0.076
JSON::MaybeXS 1.001000 1.004002
List::Util 1.33 1.55
Log::Dispatch 2.49 2.70
Moose 0 2.2013
namespace::autoclean 0 0.29
perl 5.006 5.032000
strict 0 1.11
Term::ANSIColor 3.00 5.01
warnings 0 1.47
build_requires:
Module Need Have
-------------------------------- -------- --------
Dist::Zilla::App::Tester 0 6.017
Dist::Zilla::Role::MetaProvider 0 6.017
ExtUtils::MakeMaker 0 7.52
File::pushd 0 1.016
File::Spec 0 3.78
if 0 0.0608
lib 0 0.65
Moose::Util 0 2.2013
Path::Tiny 0 0.114
Test::Deep 0 1.130
Test::DZil 0 6.017
Test::Fatal 0 0.016
Test::More 0.88 1.302183
configure_requires:
Module Need Have
-------------------------------- -------- --------
CPAN::Meta::Requirements 2.120620 2.140
ExtUtils::MakeMaker 0 7.52
Module::Metadata 0 1.000037
perl 5.006 5.032000
opt_build_requires:
Module Need Have
-------------------------------- -------- --------
CPAN::Meta 2.120900 2.150010
------------------------------
ENVIRONMENT AND OTHER CONTEXT
------------------------------
Environment variables:
AUTOMATED_TESTING = 1
PATH = /home/ryan/perl5/perlbrew/bin:/home/ryan/perl5/perlbrew/perls/perl-5.32.0/bin:/sbin:/bin:/usr/sbin:/usr/bin:/usr/local/sbin:/usr/local/bin:/home/ryan/bin
PERL5LIB =
PERL5OPT =
PERL5_CPANPLUS_IS_RUNNING = 5976
PERL5_CPAN_IS_RUNNING = 5976
PERL5_CPAN_IS_RUNNING_IN_RECURSION = 1067,5976
PERLBREW_HOME = /home/ryan/.perlbrew
PERLBREW_MANPATH = /home/ryan/perl5/perlbrew/perls/perl-5.32.0/man
PERLBREW_PATH = /home/ryan/perl5/perlbrew/bin:/home/ryan/perl5/perlbrew/perls/perl-5.32.0/bin
PERLBREW_PERL = perl-5.32.0
PERLBREW_ROOT = /home/ryan/perl5/perlbrew
PERLBREW_SHELLRC_VERSION = 0.89
PERLBREW_VERSION = 0.89
PERL_CR_SMOKER_CURRENT = Dist-Zilla-PluginBundle-Author-OALDERS-0.000029
PERL_EXTUTILS_AUTOINSTALL = --defaultdeps
PERL_MM_USE_DEFAULT = 1
PERL_USE_UNSAFE_INC = 1
SHELL = /usr/local/bin/bash
TERM = screen.xterm-256color
Perl special variables (and OS-specific diagnostics, for MSWin32):
$^X = /usr/home/ryan/perl5/perlbrew/perls/perl-5.32.0/bin/perl
$UID/$EUID = 1001 / 1001
$GID = 1001 1001 0
$EGID = 1001 1001 0
Perl module toolchain versions installed:
Module Have
------------------- --------
CPAN 2.28
CPAN::Meta 2.150010
Cwd 3.78
ExtUtils::CBuilder 0.280234
ExtUtils::Command 7.52
ExtUtils::Install 2.14
ExtUtils::MakeMaker 7.52
ExtUtils::Manifest 1.72
ExtUtils::ParseXS 3.40
File::Spec 3.78
JSON 4.02
JSON::PP 4.04
Module::Build 0.4231
Module::Signature n/a
Parse::CPAN::Meta 2.150010
Test::Harness 3.42
Test::More 1.302183
YAML 1.30
YAML::Syck n/a
version 0.9924
--
Summary of my perl5 (revision 5 version 32 subversion 0) configuration:
Platform:
osname=freebsd
osvers=13.0-current
archname=riscv-freebsd
uname='freebsd freebsd-riscv 13.0-current freebsd 13.0-current #0 r367119: wed oct 28 22:41:32 utc 2020 root@freebsd-head-riscv64-build.jail.ci.freebsd.org:usrobjusrsrcriscv.riscv64sysqemu riscv '
config_args='-de -Dprefix=/home/ryan/perl5/perlbrew/perls/perl-5.32.0 -Aeval:scriptdir=/home/ryan/perl5/perlbrew/perls/perl-5.32.0/bin'
hint=recommended
useposix=true
d_sigaction=define
useithreads=undef
usemultiplicity=undef
use64bitint=define
use64bitall=define
uselongdouble=undef
usemymalloc=n
default_inc_excludes_dot=define
bincompat5005=undef
Compiler:
cc='cc'
ccflags ='-DHAS_FPSETMASK -DHAS_FLOATINGPOINT_H -fno-strict-aliasing -pipe -fstack-protector-strong -I/usr/local/include'
optimize='-O2'
cppflags='-DHAS_FPSETMASK -DHAS_FLOATINGPOINT_H -fno-strict-aliasing -pipe -fstack-protector-strong -I/usr/local/include'
ccversion=''
gccversion='FreeBSD Clang 11.0.0 (git@github.com:llvm/llvm-project.git llvmorg-11.0.0-0-g176249bd673)'
gccosandvers=''
intsize=4
longsize=8
ptrsize=8
doublesize=8
byteorder=12345678
doublekind=3
d_longlong=define
longlongsize=8
d_longdbl=define
longdblsize=16
longdblkind=1
ivtype='long'
ivsize=8
nvtype='double'
nvsize=8
Off_t='off_t'
lseeksize=8
alignbytes=8
prototype=define
Linker and Libraries:
ld='cc'
ldflags ='-Wl,-E -fstack-protector-strong -L/usr/local/lib'
libpth=/usr/lib /usr/local/lib /usr/lib/clang/11.0.0/lib /usr/lib
libs=-lpthread -ldl -lm -lcrypt -lutil -lc
perllibs=-lpthread -ldl -lm -lcrypt -lutil -lc
libc=
so=so
useshrplib=false
libperl=libperl.a
gnulibc_version=''
Dynamic Linking:
dlsrc=dl_dlopen.xs
dlext=so
d_dlsymun=undef
ccdlflags=' '
cccdlflags='-DPIC -fPIC'
lddlflags='-shared -L/usr/local/lib -fstack-protector-strong'
Characteristics of this binary (from libperl):
Compile-time options:
HAS_TIMES
PERLIO_LAYERS
PERL_COPY_ON_WRITE
PERL_DONT_CREATE_GVSV
PERL_MALLOC_WRAP
PERL_OP_PARENT
PERL_PRESERVE_IVUV
USE_64_BIT_ALL
USE_64_BIT_INT
USE_LARGE_FILES
USE_LOCALE
USE_LOCALE_COLLATE
USE_LOCALE_CTYPE
USE_LOCALE_NUMERIC
USE_LOCALE_TIME
USE_PERLIO
USE_PERL_ATOF
Built under freebsd
Compiled at Oct 30 2020 09:03:59
%ENV:
PERL5LIB=""
PERL5OPT=""
PERL5_CPANPLUS_IS_RUNNING="5976"
PERL5_CPAN_IS_RUNNING="5976"
PERL5_CPAN_IS_RUNNING_IN_RECURSION="1067,5976"
PERLBREW_HOME="/home/ryan/.perlbrew"
PERLBREW_MANPATH="/home/ryan/perl5/perlbrew/perls/perl-5.32.0/man"
PERLBREW_PATH="/home/ryan/perl5/perlbrew/bin:/home/ryan/perl5/perlbrew/perls/perl-5.32.0/bin"
PERLBREW_PERL="perl-5.32.0"
PERLBREW_ROOT="/home/ryan/perl5/perlbrew"
PERLBREW_SHELLRC_VERSION="0.89"
PERLBREW_VERSION="0.89"
PERL_CR_SMOKER_CURRENT="Dist-Zilla-PluginBundle-Author-OALDERS-0.000029"
PERL_EXTUTILS_AUTOINSTALL="--defaultdeps"
PERL_MM_USE_DEFAULT="1"
PERL_USE_UNSAFE_INC="1"
@INC:
/home/ryan/perl5/perlbrew/perls/perl-5.32.0/lib/site_perl/5.32.0/riscv-freebsd
/home/ryan/perl5/perlbrew/perls/perl-5.32.0/lib/site_perl/5.32.0
/home/ryan/perl5/perlbrew/perls/perl-5.32.0/lib/5.32.0/riscv-freebsd
/home/ryan/perl5/perlbrew/perls/perl-5.32.0/lib/5.32.0
.