Perl-Critic-Lax v0.014 Perl 5 v5.41.13 amd64-midnightbsd

Status
Pass
From
Carlos Guevara
Dist
Perl-Critic-Lax v0.014
Platform
Perl 5 v5.41.13 amd64-midnightbsd
Date
2025-04-26 23:48:32
ID
f5e0248e-22f8-11f0-8287-8081e01c3e7c
This distribution has been tested as part of the CPAN Testers
project, supporting the Perl programming language.  See
http://wiki.cpantesters.org/ for more information or email
questions to cpan-testers-discuss@perl.org


--
Dear Ricardo SIGNES :-),

This is a computer-generated report for Perl-Critic-Lax-0.014
on perl 5.41.13, created by CPAN-Reporter-1.2020.

Thank you for uploading your work to CPAN.  Congratulations!
All tests were successful.

Sections of this report:

    * Tester comments
    * Program output
    * Prerequisites
    * Environment and other context

------------------------------
TESTER COMMENTS
------------------------------

Additional comments from tester:

this report is from an automated smoke testing program
and was not reviewed by a human for accuracy

------------------------------
PROGRAM OUTPUT
------------------------------

Output from '/usr/bin/make test':

PERL_DL_NONLAZY=1 "/usr/home/cpan/bin/perl/bin/perl5.41.13" "-MExtUtils::Command::MM" "-MTest::Harness" "-e" "undef *Test::Harness::Switches; test_harness(0, 'blib/lib', 'blib/arch')" t/*.t
# 
# Versions for all modules listed in MYMETA.json (including optional ones):
# 
# === Configure Requires ===
# 
#     Module              Want Have
#     ------------------- ---- ----
#     ExtUtils::MakeMaker 6.78 7.74
# 
# === Build Requires ===
# 
#     Module              Want Have
#     ------------------- ---- ----
#     ExtUtils::MakeMaker  any 7.74
# 
# === Test Requires ===
# 
#     Module                  Want     Have
#     ----------------------- ---- --------
#     ExtUtils::MakeMaker      any     7.74
#     File::Spec               any     3.94
#     Perl::Critic::TestUtils  any    1.156
#     Test::More              0.96 1.302210
# 
# === Test Recommends ===
# 
#     Module         Want     Have
#     ---------- -------- --------
#     CPAN::Meta 2.120900 2.150010
# 
# === Runtime Requires ===
# 
#     Module                                                            Want  Have
#     ---------------------------------------------------------------- ----- -----
#     Perl::Critic                                                     1.088 1.156
#     Perl::Critic::Policy                                               any 1.156
#     Perl::Critic::Policy::ValuesAndExpressions::ProhibitLeadingZeros   any 1.156
#     Perl::Critic::Utils                                                any 1.156
#     Readonly                                                           any  2.05
#     parent                                                             any 0.244
#     strict                                                             any  1.13
#     utf8                                                               any  1.27
#     warnings                                                           any  1.74
# 
t/00-report-prereqs.t ......... ok
t/chmod-0xxx.t ................ ok
t/constant-left-side-equal.t .. ok
t/empty-after-or.t ............ ok
t/end-with-true.t ............. ok
t/eval-require.t .............. ok
t/map-linebreak.t ............. ok
t/use-before-pkg.t ............ ok
All tests successful.
Files=8, Tests=56,  4 wallclock secs ( 0.02 usr  0.01 sys +  3.86 cusr  0.43 csys =  4.32 CPU)
Result: PASS

------------------------------
PREREQUISITES
------------------------------

Prerequisite modules loaded:

requires:

    Module                                                           Need  Have    
    ---------------------------------------------------------------- ----- --------
    parent                                                           0     0.244   
    perl                                                             5.012 5.041013
    Perl::Critic                                                     1.088 1.156   
    Perl::Critic::Policy                                             0     1.156   
    Perl::Critic::Policy::ValuesAndExpressions::ProhibitLeadingZeros 0     1.156   
    Perl::Critic::Utils                                              0     1.156   
    Readonly                                                         0     2.05    
    strict                                                           0     1.13    
    utf8                                                             0     1.27    
    warnings                                                         0     1.74    

build_requires:

    Module                                                           Need  Have    
    ---------------------------------------------------------------- ----- --------
    ExtUtils::MakeMaker                                              0     7.74    
    File::Spec                                                       0     3.94    
    Perl::Critic::TestUtils                                          0     1.156   
    Test::More                                                       0.96  1.302210

configure_requires:

    Module                                                           Need  Have    
    ---------------------------------------------------------------- ----- --------
    ExtUtils::MakeMaker                                              6.78  7.74    


------------------------------
ENVIRONMENT AND OTHER CONTEXT
------------------------------

Environment variables:

    AUTOMATED_TESTING = 1
    DATE_MANIP_TEST_DM5 = 1
    LC_ALL = C
    NONINTERACTIVE_TESTING = 1
    NO_NETWORK_TESTING = 1
    PATH = /home/cpan/bin/perl/bin:/home/cpan/bin:/sbin:/bin:/usr/sbin:/usr/bin:/usr/games:/usr/local/sbin:/usr/local/bin:/home/cpan/bin
    PERL5LIB = 
    PERL5OPT = 
    PERL5_CPANPLUS_IS_RUNNING = 47189
    PERL5_CPAN_IS_RUNNING = 47189
    PERL_MM_USE_DEFAULT = 1
    PERL_USE_UNSAFE_INC = 1
    SHELL = /usr/local/bin/bash
    TERM = screen
    TMPDIR = /home/cpan/tmp

Perl special variables (and OS-specific diagnostics, for MSWin32):

    $^X = /usr/home/cpan/bin/perl/bin/perl5.41.13
    $UID/$EUID = 1002 / 1002
    $GID = 1002 1002
    $EGID = 1002 1002

Perl module toolchain versions installed:

    Module              Have    
    ------------------- --------
    CPAN                2.38    
    CPAN::Meta          2.150010
    Cwd                 3.94    
    ExtUtils::CBuilder  0.280241
    ExtUtils::Command   7.74    
    ExtUtils::Install   2.22    
    ExtUtils::MakeMaker 7.74    
    ExtUtils::Manifest  1.75    
    ExtUtils::ParseXS   3.57    
    File::Spec          3.94    
    JSON                4.10    
    JSON::PP            4.16    
    Module::Build       0.4234  
    Module::Signature   0.89    
    Parse::CPAN::Meta   2.150010
    Test2               1.302210
    Test::Harness       3.50    
    Test::More          1.302210
    YAML                1.31    
    YAML::Syck          1.34    
    version             0.9933  


--

Summary of my perl5 (revision 5 version 41 subversion 13) configuration:
  Commit id: ea0856c6750e984cdc3f73e06ba82601bb5f1a87
  Platform:
    osname=midnightbsd
    osvers=3.2.1
    archname=amd64-midnightbsd
    uname='midnightbsd cjg-midnightbsd3 3.2.1 midnightbsd 3.2.1 #15n13132-0869ed7092(stable3.2)-dirty: wed nov 6 12:53:25 est 2024 root@m3264:usrobjusrsrcamd64.amd64sysgeneric amd64 '
    config_args='-des -Dprefix=/home/cpan/bin/perl -Dscriptdir=/home/cpan/bin/perl/bin -Dusedevel -Duse64bitall'
    hint=recommended
    useposix=true
    d_sigaction=define
    useithreads=undef
    usemultiplicity=undef
    use64bitint=define
    use64bitall=define
    uselongdouble=undef
    usemymalloc=n
    default_inc_excludes_dot=define
  Compiler:
    cc='cc'
    ccflags ='-DHAS_FPSETMASK -DHAS_FLOATINGPOINT_H -fno-strict-aliasing -pipe -fstack-protector-strong -I/usr/local/include'
    optimize='-O'
    cppflags='-DHAS_FPSETMASK -DHAS_FLOATINGPOINT_H -fno-strict-aliasing -pipe -fstack-protector-strong -I/usr/local/include'
    ccversion=''
    gccversion='MidnightBSD Clang 13.0.0 (git@github.com:llvm/llvm-project.git llvmorg-13.0.0-0-gd7b669b3a303)'
    gccosandvers=''
    intsize=4
    longsize=8
    ptrsize=8
    doublesize=8
    byteorder=12345678
    doublekind=3
    d_longlong=define
    longlongsize=8
    d_longdbl=define
    longdblsize=16
    longdblkind=3
    ivtype='long'
    ivsize=8
    nvtype='double'
    nvsize=8
    Off_t='off_t'
    lseeksize=8
    alignbytes=8
    prototype=define
  Linker and Libraries:
    ld='cc'
    ldflags ='-Wl,-E  -fstack-protector-strong -L/usr/local/lib'
    libpth=/usr/lib /usr/local/lib /usr/lib/clang/13.0.0/lib
    libs=-lpthread -lgdbm -ldl -lm -lcrypt -lutil -lc
    perllibs=-lpthread -ldl -lm -lcrypt -lutil -lc
    libc=
    so=so
    useshrplib=false
    libperl=libperl.a
    gnulibc_version=''
  Dynamic Linking:
    dlsrc=dl_dlopen.xs
    dlext=so
    d_dlsymun=undef
    ccdlflags=' '
    cccdlflags='-DPIC -fPIC'
    lddlflags='-shared  -L/usr/local/lib -fstack-protector-strong'


Characteristics of this binary (from libperl): 
  Compile-time options:
    HAS_LONG_DOUBLE
    HAS_STRTOLD
    HAS_TIMES
    PERLIO_LAYERS
    PERL_COPY_ON_WRITE
    PERL_DONT_CREATE_GVSV
    PERL_HASH_FUNC_SIPHASH13
    PERL_HASH_USE_SBOX32
    PERL_MALLOC_WRAP
    PERL_OP_PARENT
    PERL_PRESERVE_IVUV
    PERL_USE_DEVEL
    PERL_USE_SAFE_PUTENV
    USE_64_BIT_ALL
    USE_64_BIT_INT
    USE_LARGE_FILES
    USE_LOCALE
    USE_LOCALE_COLLATE
    USE_LOCALE_CTYPE
    USE_LOCALE_NUMERIC
    USE_LOCALE_TIME
    USE_PERLIO
    USE_PERL_ATOF
  Built under midnightbsd
  Compiled at Apr 26 2025 15:22:54
  %ENV:
    PERL5LIB=""
    PERL5OPT=""
    PERL5_CPANPLUS_IS_RUNNING="47189"
    PERL5_CPAN_IS_RUNNING="47189"
    PERL_MM_USE_DEFAULT="1"
    PERL_USE_UNSAFE_INC="1"
  @INC:
    /home/cpan/bin/perl/lib/site_perl/5.41.13/amd64-midnightbsd
    /home/cpan/bin/perl/lib/site_perl/5.41.13
    /home/cpan/bin/perl/lib/5.41.13/amd64-midnightbsd
    /home/cpan/bin/perl/lib/5.41.13
    .