Report for IPC-Cmd-0.94

Back
From: metabase:user:e710afac-9b33-11e5-94e8-854bf2635386
Subject: PASS IPC-Cmd-0.94 v5.22.0 GNU/Linux
Date: 2016-02-20T09:04:34Z

This distribution has been tested as part of the CPAN Testers
project, supporting the Perl programming language.  See
http://wiki.cpantesters.org/ for more information or email
questions to cpan-testers-discuss@perl.org


--
Dear Chris Williams,

This is a computer-generated report for IPC-Cmd-0.94
on perl 5.22.0, created by CPAN-Reporter-1.2015.

Thank you for uploading your work to CPAN.  Congratulations!
All tests were successful.

Sections of this report:

    * Tester comments
    * Program output
    * Prerequisites
    * Environment and other context

------------------------------
TESTER COMMENTS
------------------------------

Additional comments from tester:

none provided

------------------------------
PROGRAM OUTPUT
------------------------------

Output from '/usr/bin/make test':

PERL_DL_NONLAZY=1 "/usr/bin/perl" "-MExtUtils::Command::MM" "-MTest::Harness" "-e" "undef *Test::Harness::Switches; test_harness(0, 'blib/lib', 'blib/arch')" t/*.t
# IPC::Run: 0   IPC::Open3: 1.18
t/01_IPC-Cmd.t ...... ok
t/02_Interactive.t .. skipped: No interactive tests from harness
t/03_run-forked.t ... ok
All tests successful.
Files=3, Tests=581,  6 wallclock secs ( 0.09 usr  0.01 sys +  1.04 cusr  0.54 csys =  1.68 CPU)
Result: PASS

------------------------------
PREREQUISITES
------------------------------

Prerequisite modules loaded:

requires:

    Module                    Need Have    
    ------------------------- ---- --------
    ExtUtils::MakeMaker       0    7.10    
    File::Spec                0    3.62    
    File::Temp                0    0.2304  
    Locale::Maketext::Simple  0    0.21    
    Module::Load::Conditional 0    0.64    
    Params::Check             0.20 0.38    
    Test::More                0    1.001014

build_requires:

    Module                    Need Have    
    ------------------------- ---- --------
    ExtUtils::MakeMaker       0    7.10    

configure_requires:

    Module                    Need Have    
    ------------------------- ---- --------
    ExtUtils::MakeMaker       0    7.10    


------------------------------
ENVIRONMENT AND OTHER CONTEXT
------------------------------

Environment variables:

    LANG = POSIX
    LC_CTYPE = ru_RU.UTF-8
    PATH = /sbin:/usr/sbin:/usr/local/sbin:/root/bin:/usr/local/bin:/usr/bin:/bin:/usr/bin/X11:/usr/games:/opt/bin:/opt/kde3/bin
    PERL5LIB = 
    PERL5OPT = 
    PERL5_CPANPLUS_IS_RUNNING = 21103
    PERL5_CPAN_IS_RUNNING = 21103
    SHELL = /bin/bash
    TERM = xterm

Perl special variables (and OS-specific diagnostics, for MSWin32):

    $^X = /usr/bin/perl
    $UID/$EUID = 0 / 0
    $GID = 0 0
    $EGID = 0 0

Perl module toolchain versions installed:

    Module              Have    
    ------------------- --------
    CPAN                2.11    
    CPAN::Meta          2.150005
    Cwd                 3.62    
    ExtUtils::CBuilder  0.280224
    ExtUtils::Command   7.10    
    ExtUtils::Install   2.04    
    ExtUtils::MakeMaker 7.10    
    ExtUtils::Manifest  1.70    
    ExtUtils::ParseXS   3.30    
    File::Spec          3.62    
    JSON                2.90    
    JSON::PP            2.27300 
    Module::Build       0.4216  
    Module::Signature   n/a     
    Parse::CPAN::Meta   1.4417  
    Test::Harness       3.36    
    Test::More          1.001014
    YAML                n/a     
    YAML::Syck          n/a     
    version             0.9912  


--

Summary of my perl5 (revision 5 version 22 subversion 0) configuration:
   
  Platform:
    osname=linux, osvers=4.4.0-1-default, archname=x86_64-linux-thread-multi
    uname='linux morla1 4.4.0-1-default #1 smp preempt mon jan 11 14:46:34 utc 2016 (83948c1) x86_64 x86_64 x86_64 gnulinux '
    config_args='-ds -e -Dprefix=/usr -Dvendorprefix=/usr -Dinstallusrbinperl -Dusethreads -Di_db -Di_dbm -Di_ndbm -Di_gdbm -Dd_dbm_open -Duseshrplib=true -Doptimize=-fmessage-length=0 -grecord-gcc-switches -O2 -Wall -D_FORTIFY_SOURCE=2 -fstack-protector -funwind-tables -fasynchronous-unwind-tables -g -Wall -pipe -Accflags=-DPERL_USE_SAFE_PUTENV -Dotherlibdirs=/usr/lib/perl5/site_perl -Dinc_version_list=5.22.0/x86_64-linux-thread-multi 5.22.0'
    hint=recommended, useposix=true, d_sigaction=define
    useithreads=define, usemultiplicity=define
    use64bitint=define, use64bitall=define, uselongdouble=undef
    usemymalloc=n, bincompat5005=undef
  Compiler:
    cc='cc', ccflags ='-D_REENTRANT -D_GNU_SOURCE -DPERL_USE_SAFE_PUTENV -fwrapv -fno-strict-aliasing -pipe -fstack-protector-strong -D_LARGEFILE_SOURCE -D_FILE_OFFSET_BITS=64',
    optimize='-fmessage-length=0 -grecord-gcc-switches -O2 -Wall -D_FORTIFY_SOURCE=2 -fstack-protector -funwind-tables -fasynchronous-unwind-tables -g -Wall -pipe',
    cppflags='-D_REENTRANT -D_GNU_SOURCE -DPERL_USE_SAFE_PUTENV -fwrapv -fno-strict-aliasing -pipe -fstack-protector-strong'
    ccversion='', gccversion='5.2.1 20151008 [gcc-5-branch revision 228597]', gccosandvers=''
    intsize=4, longsize=8, ptrsize=8, doublesize=8, byteorder=12345678, doublekind=3
    d_longlong=define, longlongsize=8, d_longdbl=define, longdblsize=16, longdblkind=3
    ivtype='long', ivsize=8, nvtype='double', nvsize=8, Off_t='off_t', lseeksize=8
    alignbytes=8, prototype=define
  Linker and Libraries:
    ld='cc', ldflags =' -L/usr/local/lib64 -fstack-protector-strong'
    libpth=/usr/local/lib /usr/lib64/gcc/x86_64-suse-linux/5/include-fixed /usr/lib64/gcc/x86_64-suse-linux/5/../../../../x86_64-suse-linux/lib /usr/lib /lib/../lib64 /usr/lib/../lib64 /lib /lib64 /usr/lib64 /usr/local/lib64
    libs=-lm -ldl -lcrypt -lpthread
    perllibs=-lm -ldl -lcrypt -lpthread
    libc=/lib64/libc-2.22.so, so=so, useshrplib=true, libperl=libperl.so
    gnulibc_version='2.22'
  Dynamic Linking:
    dlsrc=dl_dlopen.xs, dlext=so, d_dlsymun=undef, ccdlflags='-Wl,-E -Wl,-rpath,/usr/lib/perl5/5.22.0/x86_64-linux-thread-multi/CORE'
    cccdlflags='-fPIC', lddlflags='-shared -L/usr/local/lib64 -fstack-protector-strong'


Characteristics of this binary (from libperl): 
  Compile-time options: HAS_TIMES MULTIPLICITY PERLIO_LAYERS
                        PERL_DONT_CREATE_GVSV
                        PERL_HASH_FUNC_ONE_AT_A_TIME_HARD
                        PERL_IMPLICIT_CONTEXT PERL_MALLOC_WRAP
                        PERL_NEW_COPY_ON_WRITE PERL_PRESERVE_IVUV
                        PERL_USE_SAFE_PUTENV USE_64_BIT_ALL USE_64_BIT_INT
                        USE_ITHREADS USE_LARGE_FILES USE_LOCALE
                        USE_LOCALE_COLLATE USE_LOCALE_CTYPE
                        USE_LOCALE_NUMERIC USE_LOCALE_TIME USE_PERLIO
                        USE_PERL_ATOF USE_REENTRANT_API
  Built under linux
  Compiled at Jan 17 2016 23:34:03
  %ENV:
    PERL5LIB=""
    PERL5OPT=""
    PERL5_CPANPLUS_IS_RUNNING="21103"
    PERL5_CPAN_IS_RUNNING="21103"
  @INC:
    /usr/lib/perl5/site_perl/5.22.0/x86_64-linux-thread-multi
    /usr/lib/perl5/site_perl/5.22.0
    /usr/lib/perl5/vendor_perl/5.22.0/x86_64-linux-thread-multi
    /usr/lib/perl5/vendor_perl/5.22.0
    /usr/lib/perl5/5.22.0/x86_64-linux-thread-multi
    /usr/lib/perl5/5.22.0
    /usr/lib/perl5/site_perl/5.22.0/x86_64-linux-thread-multi
    /usr/lib/perl5/site_perl/5.22.0
    /usr/lib/perl5/vendor_perl/5.22.0/x86_64-linux-thread-multi
    /usr/lib/perl5/vendor_perl/5.22.0
    /usr/lib/perl5/site_perl
    .