Promises v1.04 Perl 5 v5.14.1 x86_64-dragonfly
- Status
- Pass
- From
- Nigel Horne
- Dist
-
Promises v1.04
- Platform
- Perl 5 v5.14.1 x86_64-dragonfly
- Date
- 2020-02-23 18:11:49
- ID
- f5aa1816-5667-11ea-81c3-df7a5855e463
This distribution has been tested as part of the CPAN Testers
project, supporting the Perl programming language. See
http://wiki.cpantesters.org/ for more information or email
questions to cpan-testers-discuss@perl.org
--
Dear Yanick Champoux,
This is a computer-generated report for Promises-1.04
on perl 5.14.1, created by CPAN-Reporter-1.2018.
Thank you for uploading your work to CPAN. Congratulations!
All tests were successful.
Sections of this report:
* Tester comments
* Program output
* Prerequisites
* Environment and other context
------------------------------
TESTER COMMENTS
------------------------------
Additional comments from tester:
this report is from an automated smoke testing program
and was not reviewed by a human for accuracy
------------------------------
PROGRAM OUTPUT
------------------------------
Output from '/usr/bin/make test':
PERL_DL_NONLAZY=1 "/home/njh/perl5/perlbrew/perls/perl-5.14.1/bin/perl" "-MExtUtils::Command::MM" "-MTest::Harness" "-e" "undef *Test::Harness::Switches; test_harness(0, 'blib/lib', 'blib/arch')" t/*.t
t/00-compile.t ................... ok
#
# Versions for all modules listed in MYMETA.json (including optional ones):
#
# === Configure Requires ===
#
# Module Want Have
# ------------------- ---- ----
# ExtUtils::MakeMaker any 7.30
#
# === Configure Suggests ===
#
# Module Want Have
# -------- ------- -------
# JSON::PP 2.27300 2.97001
#
# === Build Requires ===
#
# Module Want Have
# ------------------- ---- ----
# ExtUtils::MakeMaker any 7.30
#
# === Test Requires ===
#
# Module Want Have
# ------------------- ---- --------
# ExtUtils::MakeMaker any 7.30
# File::Spec any 3.75
# IO::Handle any 1.31
# IPC::Open3 any 1.09
# Test::Exception any 0.43
# Test::Fatal any 0.014
# Test::More 0.89 1.302136
# Test::Pod any 1.52
# Test::Requires any 0.10
# Test::Warn any 0.36
# lib any 0.63
#
# === Test Recommends ===
#
# Module Want Have
# ---------- -------- --------
# CPAN::Meta 2.120900 2.150010
#
# === Runtime Requires ===
#
# Module Want Have
# --------------- ---- -----
# Carp any 1.38
# Data::Dumper any 2.161
# Exporter any 5.73
# Module::Runtime any 0.016
# Scalar::Util any 1.52
# Sub::Attribute any 0.06
# Sub::Exporter any 0.987
# constant any 1.21
# parent any 0.225
# strict any 1.04
# warnings any 1.12
#
t/00-report-prereqs.t ............ ok
t/000-load.t ..................... ok
t/001-basic.t .................... skipped: Test requires module 'AnyEvent' but it's not found
t/002-multiples.t ................ skipped: Test requires module 'AnyEvent' but it's not found
t/003-post-resolve-then.t ........ skipped: Test requires module 'AnyEvent' but it's not found
t/004-error.t .................... skipped: Test requires module 'AnyEvent' but it's not found
t/005-multiples-w-error.t ........ skipped: Test requires module 'AnyEvent' but it's not found
t/006-thenable.t ................. ok
t/007_callable.t ................. skipped: Test requires module 'AE' but it's not found
t/010-collect.t .................. ok
t/011-collect-w-error.t .......... skipped: Test requires module 'AnyEvent' but it's not found
t/012-collect_hash.t ............. skipped: Test requires module 'AnyEvent' but it's not found
t/013-collect_hash-params.t ...... ok
t/013-collect_hash-with-error.t .. skipped: Test requires module 'AnyEvent' but it's not found
t/020-chaining.t ................. skipped: Test requires module 'AnyEvent' but it's not found
t/021-chaining-errors.t .......... ok
t/025-recursion.t ................ skipped: Test requires module 'AnyEvent' but it's not found
t/030-deferred-default.t ......... ok
t/031-deferred-AE.t .............. skipped: Test requires module 'AE' but it's not found
t/031-deferred-io-async.t ........ skipped: Test requires module 'IO::Async' but it's not found
t/032-deferred-AnyEvent.t ........ skipped: Test requires module 'AnyEvent' but it's not found
t/033-deferred-EV.t .............. skipped: EV is required for this test
t/034-deferred-Mojo.t ............ skipped: Mojo::IOLoop is required for this test
t/040_finally.t .................. skipped: Test requires module 'AnyEvent' but it's not found
t/045-attributes.t ............... ok
t/050-exceptions-pp.t ............ skipped: Test requires module 'AnyEvent' but it's not found
t/051-exceptions-pp-anyevent.t ... skipped: Test requires module 'AnyEvent' but it's not found
t/052-exceptions-ev-anyevent.t ... skipped: Test requires module 'EV' but it's not found
t/053-exceptions-mojo.t .......... skipped: Test requires module 'Mojo::IOLoop' but it's not found
t/060-free-refs.t ................ ok
t/070-accepted-rejected.t ........ ok
t/080-deferred-as-sub.t .......... ok
t/090-timeout.t .................. skipped: Test requires module 'IO::Async' but it's not found
t/late-warning.t ................. ok
t/warnings.t ..................... ok
All tests successful.
Files=36, Tests=55, 5 wallclock secs ( 0.17 usr 0.26 sys + 3.62 cusr 1.01 csys = 5.05 CPU)
Result: PASS
------------------------------
PREREQUISITES
------------------------------
Prerequisite modules loaded:
requires:
Module Need Have
------------------- ----- --------
Carp 0 1.38
constant 0 1.21
Data::Dumper 0 2.161
Exporter 0 5.73
Module::Runtime 0 0.016
parent 0 0.225
perl 5.006 5.014001
Scalar::Util 0 1.52
strict 0 1.04
Sub::Attribute 0 0.06
Sub::Exporter 0 0.987
warnings 0 1.12
build_requires:
Module Need Have
------------------- ----- --------
ExtUtils::MakeMaker 0 7.30
File::Spec 0 3.75
IO::Handle 0 1.31
IPC::Open3 0 1.09
lib 0 0.63
Test::Exception 0 0.43
Test::Fatal 0 0.014
Test::More 0.89 1.302136
Test::Pod 0 1.52
Test::Requires 0 0.10
Test::Warn 0 0.36
configure_requires:
Module Need Have
------------------- ----- --------
ExtUtils::MakeMaker 0 7.30
------------------------------
ENVIRONMENT AND OTHER CONTEXT
------------------------------
Environment variables:
AUTOMATED_TESTING = 1
NONINTERACTIVE_TESTING = 1
PATH = /home/njh/perl5/perlbrew/bin:/home/njh/perl5/perlbrew/perls/perl-5.14.1/bin:/bin:/sbin:/usr/bin:/usr/sbin:/usr/local/bin:/usr/local/sbin:/usr/pkg/bin:/usr/pkg/sbin:src/njh/smoker/bin
PERL5LIB =
PERL5OPT =
PERL5_CPANPLUS_IS_RUNNING = 550071
PERL5_CPAN_IS_RUNNING = 550071
PERLBREW_HOME = /home/njh/.perlbrew
PERLBREW_MANPATH = /home/njh/perl5/perlbrew/perls/perl-5.14.1/man
PERLBREW_PATH = /home/njh/perl5/perlbrew/bin:/home/njh/perl5/perlbrew/perls/perl-5.14.1/bin
PERLBREW_PERL = perl-5.14.1
PERLBREW_ROOT = /home/njh/perl5/perlbrew
PERLBREW_SHELLRC_VERSION = 0.86
PERLBREW_VERSION = 0.86
PERL_MM_USE_DEFAULT = 1
PERL_USE_UNSAFE_INC = 1
SHELL = /bin/sh
TMPDIR = /tmp/testwrapper.550058
Perl special variables (and OS-specific diagnostics, for MSWin32):
$^X = /home/njh/perl5/perlbrew/perls/perl-5.14.1/bin/perl
$UID/$EUID = 1001 / 1001
$GID = 1001 1001 0
$EGID = 1001 1001 0
Perl module toolchain versions installed:
Module Have
------------------- --------
CPAN 2.26
CPAN::Meta 2.150010
Cwd 3.75
ExtUtils::CBuilder 0.280203
ExtUtils::Command 7.30
ExtUtils::Install 2.06
ExtUtils::MakeMaker 7.30
ExtUtils::Manifest 1.70
ExtUtils::ParseXS 3.35
File::Spec 3.75
JSON 4.02
JSON::PP 2.97001
Module::Build 0.4224
Module::Signature n/a
Parse::CPAN::Meta 2.150010
Test::Harness 3.39
Test::More 1.302136
YAML 1.29
YAML::Syck 1.31
version 0.88
--
Summary of my perl5 (revision 5 version 14 subversion 1) configuration:
Platform:
osname=dragonfly, osvers=5.0-release, archname=x86_64-dragonfly
uname='dragonfly david.bandsman.co.uk 5.0-release dragonfly v5.0.2-release #4: sun dec 3 17:42:25 est 2017 root@www.shiningsilence.com:usrobjhomejustinrelease5_0sysx86_64_generic x86_64 '
config_args='-de -Dprefix=/home/njh/perl5/perlbrew/perls/perl-5.14.1 -Aeval:scriptdir=/home/njh/perl5/perlbrew/perls/perl-5.14.1/bin'
hint=recommended, useposix=true, d_sigaction=define
useithreads=undef, usemultiplicity=undef
useperlio=define, d_sfio=undef, uselargefiles=define, usesocks=undef
use64bitint=define, use64bitall=define, uselongdouble=undef
usemymalloc=n, bincompat5005=undef
Compiler:
cc='cc', ccflags ='-DHAS_FPSETMASK -DHAS_FLOATINGPOINT_H -fno-strict-aliasing -pipe -fstack-protector -I/usr/local/include',
optimize='-O',
cppflags='-DHAS_FPSETMASK -DHAS_FLOATINGPOINT_H -fno-strict-aliasing -pipe -fstack-protector -I/usr/local/include'
ccversion='', gccversion='5.4.1 [DragonFly] Release/2016-08-27', gccosandvers=''
intsize=4, longsize=8, ptrsize=8, doublesize=8, byteorder=12345678
d_longlong=define, longlongsize=8, d_longdbl=define, longdblsize=16
ivtype='long', ivsize=8, nvtype='double', nvsize=8, Off_t='off_t', lseeksize=8
alignbytes=8, prototype=define
Linker and Libraries:
ld='cc', ldflags ='-Wl,-E -fstack-protector -L/usr/local/lib'
libpth=/usr/lib /usr/local/lib
libs=-ldl -lm -lcrypt -lutil -lc
perllibs=-ldl -lm -lcrypt -lutil -lc
libc=, so=so, useshrplib=false, libperl=libperl.a
gnulibc_version=''
Dynamic Linking:
dlsrc=dl_dlopen.xs, dlext=so, d_dlsymun=undef, ccdlflags=' '
cccdlflags='-DPIC -fPIC', lddlflags='-shared -L/usr/local/lib -fstack-protector'
Characteristics of this binary (from libperl):
Compile-time options: PERL_DONT_CREATE_GVSV PERL_MALLOC_WRAP
PERL_PRESERVE_IVUV USE_64_BIT_ALL USE_64_BIT_INT
USE_LARGE_FILES USE_PERLIO USE_PERL_ATOF
Locally applied patches:
Devel::PatchPerl 1.48
Built under dragonfly
Compiled at Jan 28 2018 06:32:23
%ENV:
PERL5LIB=""
PERL5OPT=""
PERL5_CPANPLUS_IS_RUNNING="550071"
PERL5_CPAN_IS_RUNNING="550071"
PERLBREW_HOME="/home/njh/.perlbrew"
PERLBREW_MANPATH="/home/njh/perl5/perlbrew/perls/perl-5.14.1/man"
PERLBREW_PATH="/home/njh/perl5/perlbrew/bin:/home/njh/perl5/perlbrew/perls/perl-5.14.1/bin"
PERLBREW_PERL="perl-5.14.1"
PERLBREW_ROOT="/home/njh/perl5/perlbrew"
PERLBREW_SHELLRC_VERSION="0.86"
PERLBREW_VERSION="0.86"
PERL_MM_USE_DEFAULT="1"
PERL_USE_UNSAFE_INC="1"
@INC:
/home/njh/perl5/perlbrew/perls/perl-5.14.1/lib/site_perl/5.14.1/x86_64-dragonfly
/home/njh/perl5/perlbrew/perls/perl-5.14.1/lib/site_perl/5.14.1
/home/njh/perl5/perlbrew/perls/perl-5.14.1/lib/5.14.1/x86_64-dragonfly
/home/njh/perl5/perlbrew/perls/perl-5.14.1/lib/5.14.1
.