Mojolicious-Plugin-Vparam v3.06 Perl 5 v5.31.4 x86_64-linux-thread-multi-ld
- Status
- Pass
- From
- Andreas J. König (ANDK)
- Dist
-
Mojolicious-Plugin-Vparam v3.06
- Platform
- Perl 5 v5.31.4 x86_64-linux-thread-multi-ld
- Date
- 2019-09-27 21:15:41
- ID
- f5a8afd8-e16b-11e9-bc1d-0245ea83f42f
This distribution has been tested as part of the CPAN Testers
project, supporting the Perl programming language. See
http://wiki.cpantesters.org/ for more information or email
questions to cpan-testers-discuss@perl.org
--
Dear Roman V. Nikolaev,
This is a computer-generated report for Mojolicious-Plugin-Vparam-3.06
on perl 5.31.4, created by CPAN-Reporter-1.2018.
Thank you for uploading your work to CPAN. Congratulations!
All tests were successful.
Sections of this report:
* Tester comments
* Program output
* Prerequisites
* Environment and other context
------------------------------
TESTER COMMENTS
------------------------------
Additional comments from tester:
this report is from an automated smoke testing program
and was not reviewed by a human for accuracy
------------------------------
PROGRAM OUTPUT
------------------------------
Output from '/usr/bin/make test':
PERL_DL_NONLAZY=1 "/tmp/basesmoker-reloperl-gXNa/bin/perl" "-MExtUtils::Command::MM" "-MTest::Harness" "-e" "undef *Test::Harness::Switches; test_harness(0, 'blib/lib', 'blib/arch')" t/*.t
t/001_use_ok.t .............. ok
t/005_compile.t ............. ok
Mojo::Transaction::success is DEPRECATED in favor of Mojo::Transaction::result and Mojo::Transaction::error at t/007_vtype.t line 57.
t/007_vtype.t ............... ok
Mojo::Transaction::success is DEPRECATED in favor of Mojo::Transaction::result and Mojo::Transaction::error at t/008_vconf.t line 45.
t/008_vconf.t ............... ok
Mojo::Transaction::success is DEPRECATED in favor of Mojo::Transaction::result and Mojo::Transaction::error at t/009_vfilter.t line 61.
t/009_vfilter.t ............. ok
Mojo::Transaction::success is DEPRECATED in favor of Mojo::Transaction::result and Mojo::Transaction::error at t/010_vparam.t line 55.
t/010_vparam.t .............. ok
Mojo::Transaction::success is DEPRECATED in favor of Mojo::Transaction::result and Mojo::Transaction::error at t/011_vparam_attr.t line 54.
t/011_vparam_attr.t ......... ok
Mojo::Transaction::success is DEPRECATED in favor of Mojo::Transaction::result and Mojo::Transaction::error at t/020_simple.t line 71.
Mojo::Transaction::success is DEPRECATED in favor of Mojo::Transaction::result and Mojo::Transaction::error at t/020_simple.t line 99.
Mojo::Transaction::success is DEPRECATED in favor of Mojo::Transaction::result and Mojo::Transaction::error at t/020_simple.t line 125.
t/020_simple.t .............. ok
Mojo::Transaction::success is DEPRECATED in favor of Mojo::Transaction::result and Mojo::Transaction::error at t/022_vparams.t line 52.
Mojo::Transaction::success is DEPRECATED in favor of Mojo::Transaction::result and Mojo::Transaction::error at t/022_vparams.t line 74.
t/022_vparams.t ............. ok
Mojo::Transaction::success is DEPRECATED in favor of Mojo::Transaction::result and Mojo::Transaction::error at t/023_vsort.t line 50.
Mojo::Transaction::success is DEPRECATED in favor of Mojo::Transaction::result and Mojo::Transaction::error at t/023_vsort.t line 77.
Mojo::Transaction::success is DEPRECATED in favor of Mojo::Transaction::result and Mojo::Transaction::error at t/023_vsort.t line 96.
t/023_vsort.t ............... ok
Mojo::Transaction::success is DEPRECATED in favor of Mojo::Transaction::result and Mojo::Transaction::error at t/024_vsort_disable.t line 57.
t/024_vsort_disable.t ....... ok
Mojo::Transaction::success is DEPRECATED in favor of Mojo::Transaction::result and Mojo::Transaction::error at t/030_optional.t line 95.
Mojo::Transaction::success is DEPRECATED in favor of Mojo::Transaction::result and Mojo::Transaction::error at t/030_optional.t line 177.
Mojo::Transaction::success is DEPRECATED in favor of Mojo::Transaction::result and Mojo::Transaction::error at t/030_optional.t line 231.
t/030_optional.t ............ ok
Mojo::Transaction::success is DEPRECATED in favor of Mojo::Transaction::result and Mojo::Transaction::error at t/031_as.t line 60.
Mojo::Transaction::success is DEPRECATED in favor of Mojo::Transaction::result and Mojo::Transaction::error at t/031_as.t line 80.
Mojo::Transaction::success is DEPRECATED in favor of Mojo::Transaction::result and Mojo::Transaction::error at t/031_as.t line 108.
t/031_as.t .................. ok
Mojo::Transaction::success is DEPRECATED in favor of Mojo::Transaction::result and Mojo::Transaction::error at t/032_skip.t line 73.
t/032_skip.t ................ ok
Mojo::Transaction::success is DEPRECATED in favor of Mojo::Transaction::result and Mojo::Transaction::error at t/033_isa.t line 51.
t/033_isa.t ................. ok
Mojo::Transaction::success is DEPRECATED in favor of Mojo::Transaction::result and Mojo::Transaction::error at t/034_skipundef.t line 85.
t/034_skipundef.t ........... ok
Mojo::Transaction::success is DEPRECATED in favor of Mojo::Transaction::result and Mojo::Transaction::error at t/035_blessed.t line 58.
Mojo::Transaction::success is DEPRECATED in favor of Mojo::Transaction::result and Mojo::Transaction::error at t/035_blessed.t line 87.
t/035_blessed.t ............. ok
Mojo::Transaction::success is DEPRECATED in favor of Mojo::Transaction::result and Mojo::Transaction::error at t/036_unknown.t line 74.
t/036_unknown.t ............. ok
Mojo::Transaction::success is DEPRECATED in favor of Mojo::Transaction::result and Mojo::Transaction::error at t/040_array.t line 51.
Mojo::Transaction::success is DEPRECATED in favor of Mojo::Transaction::result and Mojo::Transaction::error at t/040_array.t line 74.
Mojo::Transaction::success is DEPRECATED in favor of Mojo::Transaction::result and Mojo::Transaction::error at t/040_array.t line 105.
Mojo::Transaction::success is DEPRECATED in favor of Mojo::Transaction::result and Mojo::Transaction::error at t/040_array.t line 128.
Mojo::Transaction::success is DEPRECATED in favor of Mojo::Transaction::result and Mojo::Transaction::error at t/040_array.t line 157.
t/040_array.t ............... ok
Mojo::Transaction::success is DEPRECATED in favor of Mojo::Transaction::result and Mojo::Transaction::error at t/041_multiline.t line 74.
Mojo::Transaction::success is DEPRECATED in favor of Mojo::Transaction::result and Mojo::Transaction::error at t/041_multiline.t line 94.
t/041_multiline.t ........... ok
Mojo::Transaction::success is DEPRECATED in favor of Mojo::Transaction::result and Mojo::Transaction::error at t/042_multijoin.t line 80.
Mojo::Transaction::success is DEPRECATED in favor of Mojo::Transaction::result and Mojo::Transaction::error at t/042_multijoin.t line 136.
t/042_multijoin.t ........... ok
Mojo::Transaction::success is DEPRECATED in favor of Mojo::Transaction::result and Mojo::Transaction::error at t/043_objects.t line 55.
t/043_objects.t ............. ok
Mojo::Transaction::success is DEPRECATED in favor of Mojo::Transaction::result and Mojo::Transaction::error at t/045_load.t line 54.
t/045_load.t ................ ok
Mojo::Transaction::success is DEPRECATED in favor of Mojo::Transaction::result and Mojo::Transaction::error at t/046_load-array.t line 66.
t/046_load-array.t .......... ok
Mojo::Transaction::success is DEPRECATED in favor of Mojo::Transaction::result and Mojo::Transaction::error at t/047_load-code.t line 57.
t/047_load-code.t ........... ok
Mojo::Transaction::success is DEPRECATED in favor of Mojo::Transaction::result and Mojo::Transaction::error at t/049_hash.t line 88.
Mojo::Transaction::success is DEPRECATED in favor of Mojo::Transaction::result and Mojo::Transaction::error at t/049_hash.t line 117.
Mojo::Transaction::success is DEPRECATED in favor of Mojo::Transaction::result and Mojo::Transaction::error at t/049_hash.t line 172.
t/049_hash.t ................ ok
Mojo::Transaction::success is DEPRECATED in favor of Mojo::Transaction::result and Mojo::Transaction::error at t/050_vclass.t line 59.
t/050_vclass.t .............. ok
Mojo::Transaction::success is DEPRECATED in favor of Mojo::Transaction::result and Mojo::Transaction::error at t/060_vvalue.t line 71.
t/060_vvalue.t .............. ok
Mojo::Transaction::success is DEPRECATED in favor of Mojo::Transaction::result and Mojo::Transaction::error at t/080_mojo_validator.t line 69.
t/080_mojo_validator.t ...... ok
Mojo::Transaction::success is DEPRECATED in favor of Mojo::Transaction::result and Mojo::Transaction::error at t/090_errors.t line 47.
Mojo::Transaction::success is DEPRECATED in favor of Mojo::Transaction::result and Mojo::Transaction::error at t/090_errors.t line 77.
Mojo::Transaction::success is DEPRECATED in favor of Mojo::Transaction::result and Mojo::Transaction::error at t/090_errors.t line 137.
Mojo::Transaction::success is DEPRECATED in favor of Mojo::Transaction::result and Mojo::Transaction::error at t/090_errors.t line 176.
t/090_errors.t .............. ok
Mojo::Transaction::success is DEPRECATED in favor of Mojo::Transaction::result and Mojo::Transaction::error at t/091_verror_manual.t line 46.
t/091_verror_manual.t ....... ok
Mojo::Transaction::success is DEPRECATED in favor of Mojo::Transaction::result and Mojo::Transaction::error at t/100_int.t line 90.
t/100_int.t ................. ok
Mojo::Transaction::success is DEPRECATED in favor of Mojo::Transaction::result and Mojo::Transaction::error at t/110_numeric.t line 85.
t/110_numeric.t ............. ok
Mojo::Transaction::success is DEPRECATED in favor of Mojo::Transaction::result and Mojo::Transaction::error at t/120_money.t line 82.
t/120_money.t ............... ok
Mojo::Transaction::success is DEPRECATED in favor of Mojo::Transaction::result and Mojo::Transaction::error at t/130_percent.t line 67.
t/130_percent.t ............. ok
Mojo::Transaction::success is DEPRECATED in favor of Mojo::Transaction::result and Mojo::Transaction::error at t/140_lon_lat.t line 63.
Mojo::Transaction::success is DEPRECATED in favor of Mojo::Transaction::result and Mojo::Transaction::error at t/140_lon_lat.t line 98.
t/140_lon_lat.t ............. ok
Mojo::Transaction::success is DEPRECATED in favor of Mojo::Transaction::result and Mojo::Transaction::error at t/200_str.t line 65.
t/200_str.t ................. ok
Mojo::Transaction::success is DEPRECATED in favor of Mojo::Transaction::result and Mojo::Transaction::error at t/210_text.t line 64.
t/210_text.t ................ ok
Mojo::Transaction::success is DEPRECATED in favor of Mojo::Transaction::result and Mojo::Transaction::error at t/220_password.t line 88.
t/220_password.t ............ ok
Mojo::Transaction::success is DEPRECATED in favor of Mojo::Transaction::result and Mojo::Transaction::error at t/230_uuid.t line 84.
t/230_uuid.t ................ ok
Mojo::Transaction::success is DEPRECATED in favor of Mojo::Transaction::result and Mojo::Transaction::error at t/300_datetime.t line 205.
t/300_datetime.t ............ ok
Mojo::Transaction::success is DEPRECATED in favor of Mojo::Transaction::result and Mojo::Transaction::error at t/303_datetime_timestamp.t line 53.
t/303_datetime_timestamp.t .. ok
Mojo::Transaction::success is DEPRECATED in favor of Mojo::Transaction::result and Mojo::Transaction::error at t/306_datetime_relative.t line 90.
Mojo::Transaction::success is DEPRECATED in favor of Mojo::Transaction::result and Mojo::Transaction::error at t/306_datetime_relative.t line 164.
Mojo::Transaction::success is DEPRECATED in favor of Mojo::Transaction::result and Mojo::Transaction::error at t/306_datetime_relative.t line 193.
Mojo::Transaction::success is DEPRECATED in favor of Mojo::Transaction::result and Mojo::Transaction::error at t/306_datetime_relative.t line 222.
t/306_datetime_relative.t ... ok
Mojo::Transaction::success is DEPRECATED in favor of Mojo::Transaction::result and Mojo::Transaction::error at t/310_time.t line 79.
t/310_time.t ................ ok
Mojo::Transaction::success is DEPRECATED in favor of Mojo::Transaction::result and Mojo::Transaction::error at t/320_date.t line 88.
t/320_date.t ................ ok
Mojo::Transaction::success is DEPRECATED in favor of Mojo::Transaction::result and Mojo::Transaction::error at t/325_date_dt.t line 58.
t/325_date_dt.t ............. ok
Mojo::Transaction::success is DEPRECATED in favor of Mojo::Transaction::result and Mojo::Transaction::error at t/400_bool.t line 90.
Mojo::Transaction::success is DEPRECATED in favor of Mojo::Transaction::result and Mojo::Transaction::error at t/400_bool.t line 129.
t/400_bool.t ................ ok
Mojo::Transaction::success is DEPRECATED in favor of Mojo::Transaction::result and Mojo::Transaction::error at t/410_logic.t line 98.
Mojo::Transaction::success is DEPRECATED in favor of Mojo::Transaction::result and Mojo::Transaction::error at t/410_logic.t line 141.
t/410_logic.t ............... ok
Mojo::Transaction::success is DEPRECATED in favor of Mojo::Transaction::result and Mojo::Transaction::error at t/500_email.t line 60.
t/500_email.t ............... ok
Mojo::Transaction::success is DEPRECATED in favor of Mojo::Transaction::result and Mojo::Transaction::error at t/510_url.t line 83.
t/510_url.t ................. ok
Mojo::Transaction::success is DEPRECATED in favor of Mojo::Transaction::result and Mojo::Transaction::error at t/600_phone.t line 95.
t/600_phone.t ............... ok
Mojo::Transaction::success is DEPRECATED in favor of Mojo::Transaction::result and Mojo::Transaction::error at t/605_phone_defaults.t line 52.
t/605_phone_defaults.t ...... ok
Mojo::Transaction::success is DEPRECATED in favor of Mojo::Transaction::result and Mojo::Transaction::error at t/607_phone_fix.t line 59.
t/607_phone_fix.t ........... ok
Mojo::Transaction::success is DEPRECATED in favor of Mojo::Transaction::result and Mojo::Transaction::error at t/700_json.t line 72.
t/700_json.t ................ ok
Mojo::Transaction::success is DEPRECATED in favor of Mojo::Transaction::result and Mojo::Transaction::error at t/710_address.t line 91.
t/710_address.t ............. ok
Mojo::Transaction::success is DEPRECATED in favor of Mojo::Transaction::result and Mojo::Transaction::error at t/714_address_signing.t line 86.
Mojo::Transaction::success is DEPRECATED in favor of Mojo::Transaction::result and Mojo::Transaction::error at t/714_address_signing.t line 148.
Mojo::Transaction::success is DEPRECATED in favor of Mojo::Transaction::result and Mojo::Transaction::error at t/714_address_signing.t line 195.
Mojo::Transaction::success is DEPRECATED in favor of Mojo::Transaction::result and Mojo::Transaction::error at t/714_address_signing.t line 254.
t/714_address_signing.t ..... ok
Mojo::Transaction::success is DEPRECATED in favor of Mojo::Transaction::result and Mojo::Transaction::error at t/715_address-optional.t line 65.
t/715_address-optional.t .... ok
Mojo::Transaction::success is DEPRECATED in favor of Mojo::Transaction::result and Mojo::Transaction::error at t/716_address_json.t line 156.
Mojo::Transaction::success is DEPRECATED in favor of Mojo::Transaction::result and Mojo::Transaction::error at t/716_address_json.t line 187.
Mojo::Transaction::success is DEPRECATED in favor of Mojo::Transaction::result and Mojo::Transaction::error at t/716_address_json.t line 247.
t/716_address_json.t ........ ok
Mojo::Transaction::success is DEPRECATED in favor of Mojo::Transaction::result and Mojo::Transaction::error at t/720_jpath.t line 44.
Mojo::Transaction::success is DEPRECATED in favor of Mojo::Transaction::result and Mojo::Transaction::error at t/720_jpath.t line 48.
Mojo::Transaction::success is DEPRECATED in favor of Mojo::Transaction::result and Mojo::Transaction::error at t/720_jpath.t line 65.
Mojo::Transaction::success is DEPRECATED in favor of Mojo::Transaction::result and Mojo::Transaction::error at t/720_jpath.t line 82.
Mojo::Transaction::success is DEPRECATED in favor of Mojo::Transaction::result and Mojo::Transaction::error at t/720_jpath.t line 117.
Mojo::Transaction::success is DEPRECATED in favor of Mojo::Transaction::result and Mojo::Transaction::error at t/720_jpath.t line 138.
t/720_jpath.t ............... ok
Mojo::Transaction::success is DEPRECATED in favor of Mojo::Transaction::result and Mojo::Transaction::error at t/721_jpath_array.t line 81.
Mojo::Transaction::success is DEPRECATED in favor of Mojo::Transaction::result and Mojo::Transaction::error at t/721_jpath_array.t line 134.
t/721_jpath_array.t ......... ok
Mojo::Transaction::success is DEPRECATED in favor of Mojo::Transaction::result and Mojo::Transaction::error at t/722_jpath_maybe.t line 45.
Mojo::Transaction::success is DEPRECATED in favor of Mojo::Transaction::result and Mojo::Transaction::error at t/722_jpath_maybe.t line 62.
Mojo::Transaction::success is DEPRECATED in favor of Mojo::Transaction::result and Mojo::Transaction::error at t/722_jpath_maybe.t line 79.
Mojo::Transaction::success is DEPRECATED in favor of Mojo::Transaction::result and Mojo::Transaction::error at t/722_jpath_maybe.t line 82.
Mojo::Transaction::success is DEPRECATED in favor of Mojo::Transaction::result and Mojo::Transaction::error at t/722_jpath_maybe.t line 117.
Mojo::Transaction::success is DEPRECATED in favor of Mojo::Transaction::result and Mojo::Transaction::error at t/722_jpath_maybe.t line 120.
Mojo::Transaction::success is DEPRECATED in favor of Mojo::Transaction::result and Mojo::Transaction::error at t/722_jpath_maybe.t line 140.
Mojo::Transaction::success is DEPRECATED in favor of Mojo::Transaction::result and Mojo::Transaction::error at t/722_jpath_maybe.t line 144.
t/722_jpath_maybe.t ......... ok
Mojo::Transaction::success is DEPRECATED in favor of Mojo::Transaction::result and Mojo::Transaction::error at t/730_cpath.t line 45.
Mojo::Transaction::success is DEPRECATED in favor of Mojo::Transaction::result and Mojo::Transaction::error at t/730_cpath.t line 70.
Mojo::Transaction::success is DEPRECATED in favor of Mojo::Transaction::result and Mojo::Transaction::error at t/730_cpath.t line 115.
Mojo::Transaction::success is DEPRECATED in favor of Mojo::Transaction::result and Mojo::Transaction::error at t/730_cpath.t line 146.
t/730_cpath.t ............... ok
Mojo::Transaction::success is DEPRECATED in favor of Mojo::Transaction::result and Mojo::Transaction::error at t/740_xpath.t line 45.
Mojo::Transaction::success is DEPRECATED in favor of Mojo::Transaction::result and Mojo::Transaction::error at t/740_xpath.t line 70.
Mojo::Transaction::success is DEPRECATED in favor of Mojo::Transaction::result and Mojo::Transaction::error at t/740_xpath.t line 119.
Mojo::Transaction::success is DEPRECATED in favor of Mojo::Transaction::result and Mojo::Transaction::error at t/740_xpath.t line 150.
t/740_xpath.t ............... ok
Mojo::Transaction::success is DEPRECATED in favor of Mojo::Transaction::result and Mojo::Transaction::error at t/750_opath.t line 59.
Mojo::Transaction::success is DEPRECATED in favor of Mojo::Transaction::result and Mojo::Transaction::error at t/750_opath.t line 109.
t/750_opath.t ............... ok
Mojo::Transaction::success is DEPRECATED in favor of Mojo::Transaction::result and Mojo::Transaction::error at t/800_inn.t line 84.
t/800_inn.t ................. ok
Mojo::Transaction::success is DEPRECATED in favor of Mojo::Transaction::result and Mojo::Transaction::error at t/805_kpp.t line 66.
t/805_kpp.t ................. ok
Mojo::Transaction::success is DEPRECATED in favor of Mojo::Transaction::result and Mojo::Transaction::error at t/840_isin.t line 98.
t/840_isin.t ................ ok
Mojo::Transaction::success is DEPRECATED in favor of Mojo::Transaction::result and Mojo::Transaction::error at t/841_maestro.t line 60.
t/841_maestro.t ............. ok
Mojo::Transaction::success is DEPRECATED in favor of Mojo::Transaction::result and Mojo::Transaction::error at t/842_creditcard.t line 77.
t/842_creditcard.t .......... ok
Mojo::Transaction::success is DEPRECATED in favor of Mojo::Transaction::result and Mojo::Transaction::error at t/850_barcode.t line 96.
t/850_barcode.t ............. ok
Mojo::Transaction::success is DEPRECATED in favor of Mojo::Transaction::result and Mojo::Transaction::error at t/900_regexp.t line 63.
Mojo::Transaction::success is DEPRECATED in favor of Mojo::Transaction::result and Mojo::Transaction::error at t/900_regexp.t line 101.
t/900_regexp.t .............. ok
Mojo::Transaction::success is DEPRECATED in favor of Mojo::Transaction::result and Mojo::Transaction::error at t/905_in.t line 84.
t/905_in.t .................. ok
Mojo::Transaction::success is DEPRECATED in favor of Mojo::Transaction::result and Mojo::Transaction::error at t/910_numbers.t line 72.
Mojo::Transaction::success is DEPRECATED in favor of Mojo::Transaction::result and Mojo::Transaction::error at t/910_numbers.t line 116.
Mojo::Transaction::success is DEPRECATED in favor of Mojo::Transaction::result and Mojo::Transaction::error at t/910_numbers.t line 146.
Mojo::Transaction::success is DEPRECATED in favor of Mojo::Transaction::result and Mojo::Transaction::error at t/910_numbers.t line 175.
t/910_numbers.t ............. ok
Mojo::Transaction::success is DEPRECATED in favor of Mojo::Transaction::result and Mojo::Transaction::error at t/915_strings.t line 70.
t/915_strings.t ............. ok
Mojo::Transaction::success is DEPRECATED in favor of Mojo::Transaction::result and Mojo::Transaction::error at t/920_range.t line 70.
t/920_range.t ............... ok
Mojo::Transaction::success is DEPRECATED in favor of Mojo::Transaction::result and Mojo::Transaction::error at t/925_size.t line 75.
t/925_size.t ................ ok
t/990_manifest.t ............ ok
t/995_pod.t ................. ok
All tests successful.
Files=78, Tests=1552, 36 wallclock secs ( 0.28 usr 0.35 sys + 27.74 cusr 7.70 csys = 36.07 CPU)
Result: PASS
------------------------------
PREREQUISITES
------------------------------
Prerequisite modules loaded:
requires:
Module Need Have
--------------------------- -------- --------
DateTime 0 1.51
DateTime::Format::DateParse 0 0.05
List::MoreUtils 0 0.428
Mail::RFC822::Address 0 0.3
Mojolicious 0 8.24
perl 5.010000 5.031004
Test::Compile 0 v2.2.2
Test::More 0 1.302168
XML::LibXML 0 2.0201
build_requires:
Module Need Have
--------------------------- -------- --------
ExtUtils::MakeMaker 0 7.38
configure_requires:
Module Need Have
--------------------------- -------- --------
ExtUtils::MakeMaker 0 7.38
------------------------------
ENVIRONMENT AND OTHER CONTEXT
------------------------------
Environment variables:
AUTOMATED_TESTING = 1
LANG = en_US.UTF-8
PATH = /home/sand/bin:/usr/local/bin:/usr/local/sbin:/usr/sbin:/usr/bin:/sbin:/bin:/usr/games:/usr/local/games:/usr/local/perl/bin:/usr/X11/bin
PERL = /tmp/basesmoker-reloperl-gXNa/bin/perl
PERL5LIB = /tmp/loop_over_bdir-1588-Bwo9Wu/ppt-0.14-0/blib/arch:/tmp/loop_over_bdir-1588-Bwo9Wu/ppt-0.14-0/blib/lib:/tmp/loop_over_bdir-1588-Bwo9Wu/dta-tokwrap-0.90-0/blib/arch:/tmp/loop_over_bdir-1588-Bwo9Wu/dta-tokwrap-0.90-0/blib/lib:/tmp/loop_over_bdir-1588-Bwo9Wu/Business-Shipping-DataFiles-1.02-0/blib/arch:/tmp/loop_over_bdir-1588-Bwo9Wu/Business-Shipping-DataFiles-1.02-0/blib/lib:/tmp/loop_over_bdir-1588-Bwo9Wu/triceps-2.1.0-0/blib/arch:/tmp/loop_over_bdir-1588-Bwo9Wu/triceps-2.1.0-0/blib/lib:/tmp/loop_over_bdir-1588-Bwo9Wu/LCFG-Build-Skeleton-0.5.0-0/blib/arch:/tmp/loop_over_bdir-1588-Bwo9Wu/LCFG-Build-Skeleton-0.5.0-0/blib/lib:/tmp/loop_over_bdir-1588-Bwo9Wu/Dpkg-1.19.7-0/blib/arch:/tmp/loop_over_bdir-1588-Bwo9Wu/Dpkg-1.19.7-0/blib/lib:/tmp/loop_over_bdir-1588-Bwo9Wu/DBIx-Migration-Directories-0.12-0/blib/arch:/tmp/loop_over_bdir-1588-Bwo9Wu/DBIx-Migration-Directories-0.12-0/blib/lib:/tmp/loop_over_bdir-1588-Bwo9Wu/ProjectBuilder-0.14.1-0/blib/arch:/tmp/loop_over_bdir-1588-Bwo9Wu/ProjectBuilder-0.14.1-0/blib/lib:/tmp/loop_over_bdir-1588-Bwo9Wu/makepp-1.19-0/blib/arch:/tmp/loop_over_bdir-1588-Bwo9Wu/makepp-1.19-0/blib/lib:/tmp/loop_over_bdir-1588-Bwo9Wu/Sysync-0.35-0/blib/arch:/tmp/loop_over_bdir-1588-Bwo9Wu/Sysync-0.35-0/blib/lib:/tmp/loop_over_bdir-1588-Bwo9Wu/CGI-Application-NetNewsIface-0.0204-0/blib/arch:/tmp/loop_over_bdir-1588-Bwo9Wu/CGI-Application-NetNewsIface-0.0204-0/blib/lib:/tmp/loop_over_bdir-1588-Bwo9Wu/downsexta-0/blib/arch:/tmp/loop_over_bdir-1588-Bwo9Wu/downsexta-0/blib/lib:/tmp/loop_over_bdir-1588-Bwo9Wu/App-nrun-v1.1.2-0/blib/arch:/tmp/loop_over_bdir-1588-Bwo9Wu/App-nrun-v1.1.2-0/blib/lib:/tmp/loop_over_bdir-1588-Bwo9Wu/Debian-Packages-0.03-0/blib/arch:/tmp/loop_over_bdir-1588-Bwo9Wu/Debian-Packages-0.03-0/blib/lib:/tmp/loop_over_bdir-1588-Bwo9Wu/CORBA-Python-2.66-0/blib/arch:/tmp/loop_over_bdir-1588-Bwo9Wu/CORBA-Python-2.66-0/blib/lib:/tmp/loop_over_bdir-1588-Bwo9Wu/Captive-Portal-4.10-0/blib/arch:/tmp/loop_over_bdir-1588-Bwo9Wu/Captive-Portal-4.10-0/blib/lib:/tmp/loop_over_bdir-1588-Bwo9Wu/AllKnowingDNS-1.7-0/blib/arch:/tmp/loop_over_bdir-1588-Bwo9Wu/AllKnowingDNS-1.7-0/blib/lib:/tmp/loop_over_bdir-1588-Bwo9Wu/RDF-NLP-SPARQLQuery-0.1-0/blib/arch:/tmp/loop_over_bdir-1588-Bwo9Wu/RDF-NLP-SPARQLQuery-0.1-0/blib/lib:/tmp/loop_over_bdir-1588-Bwo9Wu/Simulation-Automate-1.0.1-0/blib/arch:/tmp/loop_over_bdir-1588-Bwo9Wu/Simulation-Automate-1.0.1-0/blib/lib:/tmp/loop_over_bdir-1588-Bwo9Wu/Lingua-BioYaTeA-0.11-0/blib/arch:/tmp/loop_over_bdir-1588-Bwo9Wu/Lingua-BioYaTeA-0.11-0/blib/lib:/tmp/loop_over_bdir-1588-Bwo9Wu/Lingua-YaTeA-0.626-0/blib/arch:/tmp/loop_over_bdir-1588-Bwo9Wu/Lingua-YaTeA-0.626-0/blib/lib:/tmp/loop_over_bdir-1588-Bwo9Wu/Serge-1.4-0/blib/arch:/tmp/loop_over_bdir-1588-Bwo9Wu/Serge-1.4-0/blib/lib
PERL5OPT =
PERL5_CPANPLUS_IS_RUNNING = 1596
PERL5_CPAN_IS_RUNNING = 1596
PERL_CANARY_STABILITY_NOPROMPT = 1
PERL_MM_USE_DEFAULT = 1
PERL_USE_UNSAFE_INC = 1
SHELL = /usr/bin/zsh
TERM = screen
Perl special variables (and OS-specific diagnostics, for MSWin32):
$^X = /tmp/basesmoker-reloperl-gXNa/bin/perl
$UID/$EUID = 1005 / 1005
$GID = 1005 1005
$EGID = 1005 1005
Perl module toolchain versions installed:
Module Have
------------------- --------
CPAN 2.27
CPAN::Meta 2.150010
Cwd 3.78
ExtUtils::CBuilder 0.280232
ExtUtils::Command 7.38
ExtUtils::Install 2.14
ExtUtils::MakeMaker 7.38
ExtUtils::Manifest 1.72
ExtUtils::ParseXS 3.40
File::Spec 3.78
JSON 4.02
JSON::PP 4.04
Module::Build 0.4229
Module::Signature 0.83
Parse::CPAN::Meta 2.150010
Test::Harness 3.42
Test::More 1.302168
YAML 1.29
YAML::Syck 1.31
version 0.9924
--
Summary of my perl5 (revision 5 version 31 subversion 4) configuration:
Commit id: 20ef288c535a81f9e6186650f180b3c1dccba151
Platform:
osname=linux
osvers=4.15.0-64-generic
archname=x86_64-linux-thread-multi-ld
uname='linux k93bionic 4.15.0-64-generic #73-ubuntu smp thu sep 12 13:16:13 utc 2019 x86_64 x86_64 x86_64 gnulinux '
config_args='-Dprefix=/home/sand/src/perl/repoperls/installed-perls/host/k93bionic/v5.31.4/ebf1 -Dmyhostname=k93bionic -Dinstallusrbinperl=n -Uversiononly -Dusedevel -des -Ui_db -Dlibswanted=cl pthread socket inet nsl gdbm dbm malloc dl ld sun m crypt sec util c cposix posix ucb BSD gdbm_compat -Duseithreads -Duselongdouble -DEBUGGING=-g'
hint=recommended
useposix=true
d_sigaction=define
useithreads=define
usemultiplicity=define
use64bitint=define
use64bitall=define
uselongdouble=define
usemymalloc=n
default_inc_excludes_dot=define
bincompat5005=undef
Compiler:
cc='cc'
ccflags ='-D_REENTRANT -D_GNU_SOURCE -fwrapv -fno-strict-aliasing -pipe -fstack-protector-strong -I/usr/local/include -D_LARGEFILE_SOURCE -D_FILE_OFFSET_BITS=64'
optimize='-O2 -g'
cppflags='-D_REENTRANT -D_GNU_SOURCE -fwrapv -fno-strict-aliasing -pipe -fstack-protector-strong -I/usr/local/include'
ccversion=''
gccversion='7.4.0'
gccosandvers=''
intsize=4
longsize=8
ptrsize=8
doublesize=8
byteorder=12345678
doublekind=3
d_longlong=define
longlongsize=8
d_longdbl=define
longdblsize=16
longdblkind=3
ivtype='long'
ivsize=8
nvtype='long double'
nvsize=16
Off_t='off_t'
lseeksize=8
alignbytes=16
prototype=define
Linker and Libraries:
ld='cc'
ldflags =' -fstack-protector-strong -L/usr/local/lib'
libpth=/usr/local/lib /usr/lib/gcc/x86_64-linux-gnu/7/include-fixed /usr/include/x86_64-linux-gnu /usr/lib /lib/x86_64-linux-gnu /lib/../lib /usr/lib/x86_64-linux-gnu /usr/lib/../lib /lib
libs=-lpthread -lnsl -ldl -lm -lcrypt -lutil -lc
perllibs=-lpthread -lnsl -ldl -lm -lcrypt -lutil -lc
libc=libc-2.27.so
so=so
useshrplib=false
libperl=libperl.a
gnulibc_version='2.27'
Dynamic Linking:
dlsrc=dl_dlopen.xs
dlext=so
d_dlsymun=undef
ccdlflags='-Wl,-E'
cccdlflags='-fPIC'
lddlflags='-shared -O2 -g -L/usr/local/lib -fstack-protector-strong'
Characteristics of this binary (from libperl):
Compile-time options:
HAS_TIMES
MULTIPLICITY
PERLIO_LAYERS
PERL_COPY_ON_WRITE
PERL_DONT_CREATE_GVSV
PERL_IMPLICIT_CONTEXT
PERL_MALLOC_WRAP
PERL_OP_PARENT
PERL_PRESERVE_IVUV
PERL_USE_DEVEL
USE_64_BIT_ALL
USE_64_BIT_INT
USE_ITHREADS
USE_LARGE_FILES
USE_LOCALE
USE_LOCALE_COLLATE
USE_LOCALE_CTYPE
USE_LOCALE_NUMERIC
USE_LOCALE_TIME
USE_LONG_DOUBLE
USE_PERLIO
USE_PERL_ATOF
USE_REENTRANT_API
USE_THREAD_SAFE_LOCALE
Built under linux
Compiled at Sep 21 2019 06:55:28
%ENV:
PERL="/tmp/basesmoker-reloperl-gXNa/bin/perl"
PERL5LIB="/tmp/loop_over_bdir-1588-Bwo9Wu/ppt-0.14-0/blib/arch:/tmp/loop_over_bdir-1588-Bwo9Wu/ppt-0.14-0/blib/lib:/tmp/loop_over_bdir-1588-Bwo9Wu/dta-tokwrap-0.90-0/blib/arch:/tmp/loop_over_bdir-1588-Bwo9Wu/dta-tokwrap-0.90-0/blib/lib:/tmp/loop_over_bdir-1588-Bwo9Wu/Business-Shipping-DataFiles-1.02-0/blib/arch:/tmp/loop_over_bdir-1588-Bwo9Wu/Business-Shipping-DataFiles-1.02-0/blib/lib:/tmp/loop_over_bdir-1588-Bwo9Wu/triceps-2.1.0-0/blib/arch:/tmp/loop_over_bdir-1588-Bwo9Wu/triceps-2.1.0-0/blib/lib:/tmp/loop_over_bdir-1588-Bwo9Wu/LCFG-Build-Skeleton-0.5.0-0/blib/arch:/tmp/loop_over_bdir-1588-Bwo9Wu/LCFG-Build-Skeleton-0.5.0-0/blib/lib:/tmp/loop_over_bdir-1588-Bwo9Wu/Dpkg-1.19.7-0/blib/arch:/tmp/loop_over_bdir-1588-Bwo9Wu/Dpkg-1.19.7-0/blib/lib:/tmp/loop_over_bdir-1588-Bwo9Wu/DBIx-Migration-Directories-0.12-0/blib/arch:/tmp/loop_over_bdir-1588-Bwo9Wu/DBIx-Migration-Directories-0.12-0/blib/lib:/tmp/loop_over_bdir-1588-Bwo9Wu/ProjectBuilder-0.14.1-0/blib/arch:/tmp/loop_over_bdir-1588-Bwo9Wu/ProjectBuilder-0.14.1-0/blib/lib:/tmp/loop_over_bdir-1588-Bwo9Wu/makepp-1.19-0/blib/arch:/tmp/loop_over_bdir-1588-Bwo9Wu/makepp-1.19-0/blib/lib:/tmp/loop_over_bdir-1588-Bwo9Wu/Sysync-0.35-0/blib/arch:/tmp/loop_over_bdir-1588-Bwo9Wu/Sysync-0.35-0/blib/lib:/tmp/loop_over_bdir-1588-Bwo9Wu/CGI-Application-NetNewsIface-0.0204-0/blib/arch:/tmp/loop_over_bdir-1588-Bwo9Wu/CGI-Application-NetNewsIface-0.0204-0/blib/lib:/tmp/loop_over_bdir-1588-Bwo9Wu/downsexta-0/blib/arch:/tmp/loop_over_bdir-1588-Bwo9Wu/downsexta-0/blib/lib:/tmp/loop_over_bdir-1588-Bwo9Wu/App-nrun-v1.1.2-0/blib/arch:/tmp/loop_over_bdir-1588-Bwo9Wu/App-nrun-v1.1.2-0/blib/lib:/tmp/loop_over_bdir-1588-Bwo9Wu/Debian-Packages-0.03-0/blib/arch:/tmp/loop_over_bdir-1588-Bwo9Wu/Debian-Packages-0.03-0/blib/lib:/tmp/loop_over_bdir-1588-Bwo9Wu/CORBA-Python-2.66-0/blib/arch:/tmp/loop_over_bdir-1588-Bwo9Wu/CORBA-Python-2.66-0/blib/lib:/tmp/loop_over_bdir-1588-Bwo9Wu/Captive-Portal-4.10-0/blib/arch:/tmp/loop_over_bdir-1588-Bwo9Wu/Captive-Portal-4.10-0/blib/lib:/tmp/loop_over_bdir-1588-Bwo9Wu/AllKnowingDNS-1.7-0/blib/arch:/tmp/loop_over_bdir-1588-Bwo9Wu/AllKnowingDNS-1.7-0/blib/lib:/tmp/loop_over_bdir-1588-Bwo9Wu/RDF-NLP-SPARQLQuery-0.1-0/blib/arch:/tmp/loop_over_bdir-1588-Bwo9Wu/RDF-NLP-SPARQLQuery-0.1-0/blib/lib:/tmp/loop_over_bdir-1588-Bwo9Wu/Simulation-Automate-1.0.1-0/blib/arch:/tmp/loop_over_bdir-1588-Bwo9Wu/Simulation-Automate-1.0.1-0/blib/lib:/tmp/loop_over_bdir-1588-Bwo9Wu/Lingua-BioYaTeA-0.11-0/blib/arch:/tmp/loop_over_bdir-1588-Bwo9Wu/Lingua-BioYaTeA-0.11-0/blib/lib:/tmp/loop_over_bdir-1588-Bwo9Wu/Lingua-YaTeA-0.626-0/blib/arch:/tmp/loop_over_bdir-1588-Bwo9Wu/Lingua-YaTeA-0.626-0/blib/lib:/tmp/loop_over_bdir-1588-Bwo9Wu/Serge-1.4-0/blib/arch:/tmp/loop_over_bdir-1588-Bwo9Wu/Serge-1.4-0/blib/lib"
PERL5OPT=""
PERL5_CPANPLUS_IS_RUNNING="1596"
PERL5_CPAN_IS_RUNNING="1596"
PERL_CANARY_STABILITY_NOPROMPT="1"
PERL_MM_USE_DEFAULT="1"
PERL_USE_UNSAFE_INC="1"
@INC:
/tmp/loop_over_bdir-1588-Bwo9Wu/ppt-0.14-0/blib/arch
/tmp/loop_over_bdir-1588-Bwo9Wu/ppt-0.14-0/blib/lib
/tmp/loop_over_bdir-1588-Bwo9Wu/dta-tokwrap-0.90-0/blib/arch
/tmp/loop_over_bdir-1588-Bwo9Wu/dta-tokwrap-0.90-0/blib/lib
/tmp/loop_over_bdir-1588-Bwo9Wu/Business-Shipping-DataFiles-1.02-0/blib/arch
/tmp/loop_over_bdir-1588-Bwo9Wu/Business-Shipping-DataFiles-1.02-0/blib/lib
/tmp/loop_over_bdir-1588-Bwo9Wu/triceps-2.1.0-0/blib/arch
/tmp/loop_over_bdir-1588-Bwo9Wu/triceps-2.1.0-0/blib/lib
/tmp/loop_over_bdir-1588-Bwo9Wu/LCFG-Build-Skeleton-0.5.0-0/blib/arch
/tmp/loop_over_bdir-1588-Bwo9Wu/LCFG-Build-Skeleton-0.5.0-0/blib/lib
/tmp/loop_over_bdir-1588-Bwo9Wu/Dpkg-1.19.7-0/blib/arch
/tmp/loop_over_bdir-1588-Bwo9Wu/Dpkg-1.19.7-0/blib/lib
/tmp/loop_over_bdir-1588-Bwo9Wu/DBIx-Migration-Directories-0.12-0/blib/arch
/tmp/loop_over_bdir-1588-Bwo9Wu/DBIx-Migration-Directories-0.12-0/blib/lib
/tmp/loop_over_bdir-1588-Bwo9Wu/ProjectBuilder-0.14.1-0/blib/arch
/tmp/loop_over_bdir-1588-Bwo9Wu/ProjectBuilder-0.14.1-0/blib/lib
/tmp/loop_over_bdir-1588-Bwo9Wu/makepp-1.19-0/blib/arch
/tmp/loop_over_bdir-1588-Bwo9Wu/makepp-1.19-0/blib/lib
/tmp/loop_over_bdir-1588-Bwo9Wu/Sysync-0.35-0/blib/arch
/tmp/loop_over_bdir-1588-Bwo9Wu/Sysync-0.35-0/blib/lib
/tmp/loop_over_bdir-1588-Bwo9Wu/CGI-Application-NetNewsIface-0.0204-0/blib/arch
/tmp/loop_over_bdir-1588-Bwo9Wu/CGI-Application-NetNewsIface-0.0204-0/blib/lib
/tmp/loop_over_bdir-1588-Bwo9Wu/downsexta-0/blib/arch
/tmp/loop_over_bdir-1588-Bwo9Wu/downsexta-0/blib/lib
/tmp/loop_over_bdir-1588-Bwo9Wu/App-nrun-v1.1.2-0/blib/arch
/tmp/loop_over_bdir-1588-Bwo9Wu/App-nrun-v1.1.2-0/blib/lib
/tmp/loop_over_bdir-1588-Bwo9Wu/Debian-Packages-0.03-0/blib/arch
/tmp/loop_over_bdir-1588-Bwo9Wu/Debian-Packages-0.03-0/blib/lib
/tmp/loop_over_bdir-1588-Bwo9Wu/CORBA-Python-2.66-0/blib/arch
/tmp/loop_over_bdir-1588-Bwo9Wu/CORBA-Python-2.66-0/blib/lib
/tmp/loop_over_bdir-1588-Bwo9Wu/Captive-Portal-4.10-0/blib/arch
/tmp/loop_over_bdir-1588-Bwo9Wu/Captive-Portal-4.10-0/blib/lib
/tmp/loop_over_bdir-1588-Bwo9Wu/AllKnowingDNS-1.7-0/blib/arch
/tmp/loop_over_bdir-1588-Bwo9Wu/AllKnowingDNS-1.7-0/blib/lib
/tmp/loop_over_bdir-1588-Bwo9Wu/RDF-NLP-SPARQLQuery-0.1-0/blib/arch
/tmp/loop_over_bdir-1588-Bwo9Wu/RDF-NLP-SPARQLQuery-0.1-0/blib/lib
/tmp/loop_over_bdir-1588-Bwo9Wu/Simulation-Automate-1.0.1-0/blib/arch
/tmp/loop_over_bdir-1588-Bwo9Wu/Simulation-Automate-1.0.1-0/blib/lib
/tmp/loop_over_bdir-1588-Bwo9Wu/Lingua-BioYaTeA-0.11-0/blib/arch
/tmp/loop_over_bdir-1588-Bwo9Wu/Lingua-BioYaTeA-0.11-0/blib/lib
/tmp/loop_over_bdir-1588-Bwo9Wu/Lingua-YaTeA-0.626-0/blib/arch
/tmp/loop_over_bdir-1588-Bwo9Wu/Lingua-YaTeA-0.626-0/blib/lib
/tmp/loop_over_bdir-1588-Bwo9Wu/Serge-1.4-0/blib/arch
/tmp/loop_over_bdir-1588-Bwo9Wu/Serge-1.4-0/blib/lib
/home/sand/src/perl/repoperls/installed-perls/host/k93bionic/v5.31.4/ebf1/lib/site_perl/5.31.4/x86_64-linux-thread-multi-ld
/home/sand/src/perl/repoperls/installed-perls/host/k93bionic/v5.31.4/ebf1/lib/site_perl/5.31.4
/home/sand/src/perl/repoperls/installed-perls/host/k93bionic/v5.31.4/ebf1/lib/5.31.4/x86_64-linux-thread-multi-ld
/home/sand/src/perl/repoperls/installed-perls/host/k93bionic/v5.31.4/ebf1/lib/5.31.4
.