Report for HTML-Formatter-2.16

Back
From: metabase:user:dc1c8589-6bf4-1014-abca-562cf06b08ef
Subject: PASS HTML-Formatter-2.16 v5.24.2 GNU/Linux
Date: 2017-08-12T14:17:23Z

This distribution has been tested as part of the CPAN Testers
project, supporting the Perl programming language.  See
http://wiki.cpantesters.org/ for more information or email
questions to cpan-testers-discuss@perl.org


--
Dear Nigel Metheringham,

This is a computer-generated report for HTML-Formatter-2.16
on perl 5.24.2, created by CPAN-Reporter-1.2018.

Thank you for uploading your work to CPAN.  Congratulations!
All tests were successful.

Sections of this report:

    * Tester comments
    * Program output
    * Prerequisites
    * Environment and other context

------------------------------
TESTER COMMENTS
------------------------------

Additional comments from tester:

none provided

------------------------------
PROGRAM OUTPUT
------------------------------

Output from '/usr/bin/make test':

PERL_DL_NONLAZY=1 "/home/aero/perl5/perlbrew/perls/perl-5.24/bin/perl" "-MExtUtils::Command::MM" "-MTest::Harness" "-e" "undef *Test::Harness::Switches; test_harness(0, 'blib/lib', 'blib/arch')" t/*.t
t/00-compile.t ............... ok
# 
# Versions for all modules listed in MYMETA.json (including optional ones):
# 
# === Configure Requires ===
# 
#     Module              Want    Have
#     ------------------- ---- -------
#     ExtUtils::MakeMaker  any 7.10_02
# 
# === Build Requires ===
# 
#     Module              Want    Have
#     ------------------- ---- -------
#     ExtUtils::MakeMaker  any 7.10_02
# 
# === Test Requires ===
# 
#     Module              Want     Have
#     ------------------- ---- --------
#     ExtUtils::MakeMaker  any  7.10_02
#     File::Slurper        any    0.009
#     File::Spec           any  3.63_01
#     FindBin              any     1.51
#     IO::Handle           any     1.36
#     IPC::Open3           any     1.20
#     Test::More          0.96 1.302086
#     Test::Warnings       any    0.026
#     blib                1.01     1.06
#     bytes                any     1.05
#     lib                  any     0.63
# 
# === Test Recommends ===
# 
#     Module         Want     Have
#     ---------- -------- --------
#     CPAN::Meta 2.120900 2.150005
# 
# === Runtime Requires ===
# 
#     Module                              Want    Have
#     ----------------------------------- ---- -------
#     Carp                                 any    1.40
#     Data::Dumper                         any   2.160
#     Encode                               any 2.80_01
#     Font::Metrics::Courier               any   undef
#     Font::Metrics::CourierBold           any   undef
#     Font::Metrics::CourierBoldOblique    any   undef
#     Font::Metrics::CourierOblique        any   undef
#     Font::Metrics::Helvetica             any   undef
#     Font::Metrics::HelveticaBold         any   undef
#     Font::Metrics::HelveticaBoldOblique  any   undef
#     Font::Metrics::HelveticaOblique      any   undef
#     Font::Metrics::TimesBold             any   undef
#     Font::Metrics::TimesBoldItalic       any   undef
#     Font::Metrics::TimesItalic           any   undef
#     Font::Metrics::TimesRoman            any   undef
#     HTML::Element                       3.15    5.06
#     HTML::TreeBuilder                    any    5.06
#     IO::File                             any    1.16
#     base                                 any 2.23_01
#     integer                              any    1.01
#     parent                               any   0.234
#     strict                               any    1.11
#     utf8                                 any    1.19
#     warnings                             any    1.36
# 
t/00-report-prereqs.t ........ ok
t/01_ps.t .................... ok
t/02_rtf.t ................... ok
t/03_text.t .................. ok
t/04_md.t .................... ok
t/author-critic.t ............ skipped: these tests are for testing by the author
t/author-eol.t ............... skipped: these tests are for testing by the author
t/author-no-tabs.t ........... skipped: these tests are for testing by the author
t/author-pod-spell.t ......... skipped: these tests are for testing by the author
t/author-pod-syntax.t ........ skipped: these tests are for testing by the author
t/author-portability.t ....... skipped: these tests are for testing by the author
t/author-synopsis.t .......... skipped: these tests are for testing by the author
t/release-dist-manifest.t .... skipped: these tests are for release candidate testing
t/release-distmeta.t ......... skipped: these tests are for release candidate testing
t/release-has-version.t ...... skipped: these tests are for release candidate testing
t/release-minimum-version.t .. skipped: these tests are for release candidate testing
t/release-unused-vars.t ...... skipped: these tests are for release candidate testing
t/rt111783.t ................. ok
t/rt69426.t .................. ok
All tests successful.
Files=20, Tests=94,  2 wallclock secs ( 0.06 usr  0.01 sys +  0.91 cusr  0.04 csys =  1.02 CPU)
Result: PASS

------------------------------
PREREQUISITES
------------------------------

Prerequisite modules loaded:

requires:

    Module                              Need     Have    
    ----------------------------------- -------- --------
    base                                0        2.23_01 
    Carp                                0        1.40    
    Data::Dumper                        0        2.160   
    Encode                              0        2.80_01 
    Font::Metrics::Courier              0        0       
    Font::Metrics::CourierBold          0        0       
    Font::Metrics::CourierBoldOblique   0        0       
    Font::Metrics::CourierOblique       0        0       
    Font::Metrics::Helvetica            0        0       
    Font::Metrics::HelveticaBold        0        0       
    Font::Metrics::HelveticaBoldOblique 0        0       
    Font::Metrics::HelveticaOblique     0        0       
    Font::Metrics::TimesBold            0        0       
    Font::Metrics::TimesBoldItalic      0        0       
    Font::Metrics::TimesItalic          0        0       
    Font::Metrics::TimesRoman           0        0       
    HTML::Element                       3.15     5.06    
    HTML::TreeBuilder                   0        5.06    
    integer                             0        1.01    
    IO::File                            0        1.16    
    parent                              0        0.234   
    perl                                5.008    5.024002
    strict                              0        1.11    
    utf8                                0        1.19    
    warnings                            0        1.36    

build_requires:

    Module                              Need     Have    
    ----------------------------------- -------- --------
    blib                                1.01     1.06    
    bytes                               0        1.05    
    ExtUtils::MakeMaker                 0        7.10_02 
    File::Slurper                       0        0.009   
    File::Spec                          0        3.63_01 
    FindBin                             0        1.51    
    IO::Handle                          0        1.36    
    IPC::Open3                          0        1.20    
    lib                                 0        0.63    
    Test::More                          0.96     1.302086
    Test::Warnings                      0        0.026   

configure_requires:

    Module                              Need     Have    
    ----------------------------------- -------- --------
    ExtUtils::MakeMaker                 0        7.10_02 

opt_build_requires:

    Module                              Need     Have    
    ----------------------------------- -------- --------
    CPAN::Meta                          2.120900 2.150005


------------------------------
ENVIRONMENT AND OTHER CONTEXT
------------------------------

Environment variables:

    LANG = en_US.UTF-8
    NONINTERACTIVE_TESTING = 1
    PATH = /home/aero/perl5/perlbrew/bin:/home/aero/perl5/perlbrew/perls/perl-5.24/bin:/home/aero/bin:/home/aero/bin:/home/aero/.rakudobrew/bin:/home/aero/.anyenv/envs/rbenv/shims:/home/aero/.anyenv/envs/rbenv/bin:/home/aero/.anyenv/envs/pyenv/shims:/home/aero/.anyenv/envs/pyenv/bin:/home/aero/.anyenv/envs/ndenv/shims:/home/aero/.anyenv/envs/ndenv/bin:/home/aero/.anyenv/envs/jenv/shims:/home/aero/.anyenv/envs/jenv/bin:/home/aero/.anyenv/envs/goenv/shims:/home/aero/.anyenv/envs/goenv/bin:/home/aero/.anyenv/bin:/usr/local/sbin:/usr/local/bin:/usr/sbin:/usr/bin:/sbin:/bin:/usr/games:/usr/local/games
    PERL5LIB = 
    PERL5OPT = 
    PERL5_CPANPLUS_IS_RUNNING = 8716
    PERL5_CPAN_IS_RUNNING = 8716
    PERLBREW_BASHRC_VERSION = 0.80
    PERLBREW_HOME = /home/aero/.perlbrew
    PERLBREW_MANPATH = /home/aero/perl5/perlbrew/perls/perl-5.24/man
    PERLBREW_PATH = /home/aero/perl5/perlbrew/bin:/home/aero/perl5/perlbrew/perls/perl-5.24/bin
    PERLBREW_PERL = perl-5.24
    PERLBREW_ROOT = /home/aero/perl5/perlbrew
    PERLBREW_VERSION = 0.80
    PERL_MM_USE_DEFAULT = 1
    SHELL = /bin/bash
    TERM = xterm

Perl special variables (and OS-specific diagnostics, for MSWin32):

    $^X = /home/aero/perl5/perlbrew/perls/perl-5.24/bin/perl
    $UID/$EUID = 1001 / 1001
    $GID = 1001 27 1001
    $EGID = 1001 27 1001

Perl module toolchain versions installed:

    Module              Have      
    ------------------- ----------
    CPAN                2.11_01   
    CPAN::Meta          2.150005  
    Cwd                 3.63_01   
    ExtUtils::CBuilder  0.280225  
    ExtUtils::Command   7.10_02   
    ExtUtils::Install   2.04      
    ExtUtils::MakeMaker 7.10_02   
    ExtUtils::Manifest  1.70      
    ExtUtils::ParseXS   3.31      
    File::Spec          3.63_01   
    JSON                2.94      
    JSON::PP            2.27300_01
    Module::Build       0.4224    
    Module::Signature   n/a       
    Parse::CPAN::Meta   1.4417_001
    Test::Harness       3.36_01   
    Test::More          1.302086  
    YAML                n/a       
    YAML::Syck          n/a       
    version             0.9916    


--

Summary of my perl5 (revision 5 version 24 subversion 2) configuration:
   
  Platform:
    osname=linux, osvers=3.16.0-4-amd64, archname=x86_64-linux-thread-multi
    uname='linux aero 3.16.0-4-amd64 #1 smp debian 3.16.7-ckt7-1 (2015-03-01) x86_64 x86_64 x86_64 gnulinux '
    config_args='-de -Dprefix=/home/aero/perl5/perlbrew/perls/perl-5.24 -Dman1dir=none -Dman3dir=none -Dusethreads -Aeval:scriptdir=/home/aero/perl5/perlbrew/perls/perl-5.24/bin'
    hint=recommended, useposix=true, d_sigaction=define
    useithreads=define, usemultiplicity=define
    use64bitint=define, use64bitall=define, uselongdouble=undef
    usemymalloc=n, bincompat5005=undef
  Compiler:
    cc='cc', ccflags ='-D_REENTRANT -D_GNU_SOURCE -fwrapv -fno-strict-aliasing -pipe -fstack-protector-strong -I/usr/local/include -D_LARGEFILE_SOURCE -D_FILE_OFFSET_BITS=64',
    optimize='-O2',
    cppflags='-D_REENTRANT -D_GNU_SOURCE -fwrapv -fno-strict-aliasing -pipe -fstack-protector-strong -I/usr/local/include'
    ccversion='', gccversion='4.9.3', gccosandvers=''
    intsize=4, longsize=8, ptrsize=8, doublesize=8, byteorder=12345678, doublekind=3
    d_longlong=define, longlongsize=8, d_longdbl=define, longdblsize=16, longdblkind=3
    ivtype='long', ivsize=8, nvtype='double', nvsize=8, Off_t='off_t', lseeksize=8
    alignbytes=8, prototype=define
  Linker and Libraries:
    ld='cc', ldflags =' -fstack-protector-strong -L/usr/local/lib'
    libpth=/usr/local/lib /usr/lib/gcc/x86_64-linux-gnu/4.9/include-fixed /usr/include/x86_64-linux-gnu /usr/lib /lib/x86_64-linux-gnu /lib/../lib /usr/lib/x86_64-linux-gnu /usr/lib/../lib /lib
    libs=-lpthread -lnsl -lgdbm -ldl -lm -lcrypt -lutil -lc -lgdbm_compat
    perllibs=-lpthread -lnsl -ldl -lm -lcrypt -lutil -lc
    libc=libc-2.19.so, so=so, useshrplib=false, libperl=libperl.a
    gnulibc_version='2.19'
  Dynamic Linking:
    dlsrc=dl_dlopen.xs, dlext=so, d_dlsymun=undef, ccdlflags='-Wl,-E'
    cccdlflags='-fPIC', lddlflags='-shared -O2 -L/usr/local/lib -fstack-protector-strong'


Characteristics of this binary (from libperl): 
  Compile-time options: HAS_TIMES MULTIPLICITY PERLIO_LAYERS
                        PERL_COPY_ON_WRITE PERL_DONT_CREATE_GVSV
                        PERL_HASH_FUNC_ONE_AT_A_TIME_HARD
                        PERL_IMPLICIT_CONTEXT PERL_MALLOC_WRAP
                        PERL_PRESERVE_IVUV USE_64_BIT_ALL USE_64_BIT_INT
                        USE_ITHREADS USE_LARGE_FILES USE_LOCALE
                        USE_LOCALE_COLLATE USE_LOCALE_CTYPE
                        USE_LOCALE_NUMERIC USE_LOCALE_TIME USE_PERLIO
                        USE_PERL_ATOF USE_REENTRANT_API
  Built under linux
  Compiled at Aug 12 2017 22:32:06
  %ENV:
    PERL5LIB=""
    PERL5OPT=""
    PERL5_CPANPLUS_IS_RUNNING="8716"
    PERL5_CPAN_IS_RUNNING="8716"
    PERLBREW_BASHRC_VERSION="0.80"
    PERLBREW_HOME="/home/aero/.perlbrew"
    PERLBREW_MANPATH="/home/aero/perl5/perlbrew/perls/perl-5.24/man"
    PERLBREW_PATH="/home/aero/perl5/perlbrew/bin:/home/aero/perl5/perlbrew/perls/perl-5.24/bin"
    PERLBREW_PERL="perl-5.24"
    PERLBREW_ROOT="/home/aero/perl5/perlbrew"
    PERLBREW_VERSION="0.80"
    PERL_MM_USE_DEFAULT="1"
  @INC:
    /home/aero/perl5/perlbrew/perls/perl-5.24/lib/site_perl/5.24.2/x86_64-linux-thread-multi
    /home/aero/perl5/perlbrew/perls/perl-5.24/lib/site_perl/5.24.2
    /home/aero/perl5/perlbrew/perls/perl-5.24/lib/5.24.2/x86_64-linux-thread-multi
    /home/aero/perl5/perlbrew/perls/perl-5.24/lib/5.24.2
    .