Report for Dist-Zilla-Plugin-CheckChangesHasContent-0.007

Back
From: metabase:user:b53c7f44-4c0e-11e4-9ced-a04ade49192c
Subject: PASS Dist-Zilla-Plugin-CheckChangesHasContent-0.007 v5.12.5 GNU/Linux
Date: 2014-12-06T08:22:03Z

This distribution has been tested as part of the CPAN Testers
project, supporting the Perl programming language.  See
http://wiki.cpantesters.org/ for more information or email
questions to cpan-testers-discuss@perl.org


--
Dear David Golden,

This is a computer-generated report for Dist-Zilla-Plugin-CheckChangesHasContent-0.007
on perl 5.12.5, created by CPAN-Reporter-1.2011.

Thank you for uploading your work to CPAN.  Congratulations!
All tests were successful.

Sections of this report:

    * Tester comments
    * Program output
    * Prerequisites
    * Environment and other context

------------------------------
TESTER COMMENTS
------------------------------

Additional comments from tester:

this report is from an automated smoke testing program
and was not reviewed by a human for accuracy

------------------------------
PROGRAM OUTPUT
------------------------------

Output from '/usr/bin/make test':

PERL_DL_NONLAZY=1 "/opt/perl430-27-O0-5.12.5/bin/perl" "-MExtUtils::Command::MM" "-MTest::Harness" "-e" "undef *Test::Harness::Switches; test_harness(0, 'blib/lib', 'blib/arch')" t/*.t
# 
# Versions for all modules listed in MYMETA.json (including optional ones):
# 
# === Configure Requires ===
# 
#     Module              Want Have
#     ------------------- ---- ----
#     ExtUtils::MakeMaker 6.17 7.02
# 
# === Build Requires ===
# 
#     Module              Want Have
#     ------------------- ---- ----
#     ExtUtils::MakeMaker  any 7.02
# 
# === Test Requires ===
# 
#     Module              Want     Have
#     ------------------- ---- --------
#     Capture::Tiny        any     0.27
#     Cwd                  any     3.47
#     Dist::Zilla::Tester  any    5.025
#     ExtUtils::MakeMaker  any     7.02
#     File::Spec           any     3.47
#     Path::Tiny           any    0.061
#     Test::Harness        any     3.34
#     Test::More          0.88 1.001009
#     Try::Tiny            any     0.22
# 
# === Test Recommends ===
# 
#     Module         Want     Have
#     ---------- -------- --------
#     CPAN::Meta 2.120900 2.143240
# 
# === Runtime Requires ===
# 
#     Module                               Want     Have
#     -------------------------------- -------- --------
#     Data::Section                    0.200002 0.200006
#     Dist::Zilla                      2.100950    5.025
#     Dist::Zilla::File::InMemory           any    5.025
#     Dist::Zilla::Role::BeforeRelease      any    5.025
#     Dist::Zilla::Role::FileGatherer       any    5.025
#     Dist::Zilla::Role::FileMunger         any    5.025
#     Dist::Zilla::Role::TextTemplate       any    5.025
#     File::pushd                           any    1.009
#     Moose                                0.99   2.1402
#     Moose::Util::TypeConstraints          any   2.1402
#     Sub::Exporter::ForMethods             any 0.100051
#     autodie                              2.00     2.25
#     namespace::autoclean                 0.09     0.22
#     strict                                any     1.04
#     warnings                              any     1.09
# 
t/00-report-prereqs.t ....... ok
t/checkhascontent.t ......... ok
t/test_changeshascontent.t .. ok
All tests successful.
Files=3, Tests=40, 30 wallclock secs ( 0.18 usr  0.02 sys + 25.80 cusr  1.19 csys = 27.19 CPU)
Result: PASS

------------------------------
PREREQUISITES
------------------------------

Prerequisite modules loaded:

requires:

    Module                           Need     Have    
    -------------------------------- -------- --------
    autodie                          2.00     2.25    
    Data::Section                    0.200002 0.200006
    Dist::Zilla                      2.100950 5.025   
    Dist::Zilla::File::InMemory      0        5.025   
    Dist::Zilla::Role::BeforeRelease 0        5.025   
    Dist::Zilla::Role::FileGatherer  0        5.025   
    Dist::Zilla::Role::FileMunger    0        5.025   
    Dist::Zilla::Role::TextTemplate  0        5.025   
    File::pushd                      0        1.009   
    Moose                            0.99     2.1402  
    Moose::Util::TypeConstraints     0        2.1402  
    namespace::autoclean             0.09     0.22    
    perl                             5.006    5.012005
    strict                           0        1.04    
    Sub::Exporter::ForMethods        0        0.100051
    warnings                         0        1.09    

build_requires:

    Module                           Need     Have    
    -------------------------------- -------- --------
    Capture::Tiny                    0        0.27    
    Cwd                              0        3.47    
    Dist::Zilla::Tester              0        5.025   
    ExtUtils::MakeMaker              0        7.02    
    File::Spec                       0        3.47    
    Path::Tiny                       0        0.061   
    Test::Harness                    0        3.34    
    Test::More                       0.88     1.001009
    Try::Tiny                        0        0.22    

configure_requires:

    Module                           Need     Have    
    -------------------------------- -------- --------
    ExtUtils::MakeMaker              6.17     7.02    
    perl                             5.006    5.012005

opt_build_requires:

    Module                           Need     Have    
    -------------------------------- -------- --------
    CPAN::Meta                       2.120900 2.143240


------------------------------
ENVIRONMENT AND OTHER CONTEXT
------------------------------

Environment variables:

    AUTOMATED_TESTING = 1
    LANG = en_US.utf8
    MB_TEST_EXPERIMENTAL = 1
    NONINTERACTIVE_TESTING = 1
    PATH = /usr/lib/qt-3.3/bin:/usr/kerberos/sbin:/usr/kerberos/bin:/usr/lib/ccache:/usr/local/sbin:/usr/sbin:/sbin:/usr/local/bin:/usr/bin:/bin:/opt/real/RealPlayer:/root/bin:/opt/real/RealPlayer
    PERL5LIB = 
    PERL5OPT = 
    PERL5_CPANPLUS_IS_RUNNING = 483
    PERL5_CPAN_IS_RUNNING = 483
    PERL_ANYEVENT_MODEL = POE
    PERL_EXTUTILS_AUTOINSTALL = --defaultdeps
    PERL_MM_USE_DEFAULT = 1
    SHELL = /bin/bash
    TERM = xterm

Perl special variables (and OS-specific diagnostics, for MSWin32):

    $^X = /opt/perl430-27-O0-5.12.5/bin/perl
    $UID/$EUID = 0 / 0
    $GID = 0 0 1 2 3 4 6 10
    $EGID = 0 0 1 2 3 4 6 10

Perl module toolchain versions installed:

    Module              Have    
    ------------------- --------
    CPAN                2.05    
    CPAN::Meta          2.143240
    Cwd                 3.47    
    ExtUtils::CBuilder  0.280220
    ExtUtils::Command   1.16    
    ExtUtils::Install   2.04    
    ExtUtils::MakeMaker 7.02    
    ExtUtils::Manifest  1.69    
    ExtUtils::ParseXS   3.24    
    File::Spec          3.47    
    JSON                2.90    
    JSON::PP            2.27300 
    Module::Build       0.4210  
    Module::Signature   0.73    
    Parse::CPAN::Meta   1.4414  
    Test::Harness       3.34    
    Test::More          1.001009
    YAML                1.13    
    YAML::Syck          1.27    
    version             0.9909  


--

Summary of my perl5 (revision 5 version 12 subversion 5) configuration:
   
  Platform:
    osname=linux, osvers=2.6.27.25-78.2.56.fc9.i686, archname=i686-linux-thread-multi-64int-ld
    uname='linux localhost.localdomain 2.6.27.25-78.2.56.fc9.i686 #1 smp thu jun 18 12:47:50 edt 2009 i686 i686 i386 gnulinux '
    config_args='-Dcc=gcc -Dprefix=/opt/perl430-27-O0-5.12.5 -DDEBUGGING'
    hint=recommended, useposix=true, d_sigaction=define
    useithreads=define, usemultiplicity=define
    useperlio=define, d_sfio=undef, uselargefiles=define, usesocks=undef
    use64bitint=define, use64bitall=undef, uselongdouble=define
    usemymalloc=y, bincompat5005=undef
  Compiler:
    cc='gcc', ccflags ='-D_REENTRANT -D_GNU_SOURCE -DDEBUGGING -fno-strict-aliasing -pipe -fstack-protector -I/usr/local/include -D_LARGEFILE_SOURCE -D_FILE_OFFSET_BITS=64',
    optimize='-O0 -g',
    cppflags='-D_REENTRANT -D_GNU_SOURCE -DDEBUGGING -fno-strict-aliasing -pipe -fstack-protector -I/usr/local/include'
    ccversion='', gccversion='4.3.0 20080428 (Red Hat 4.3.0-8)', gccosandvers=''
    intsize=4, longsize=4, ptrsize=4, doublesize=8, byteorder=12345678
    d_longlong=define, longlongsize=8, d_longdbl=define, longdblsize=12
    ivtype='long long', ivsize=8, nvtype='long double', nvsize=12, Off_t='off_t', lseeksize=8
    alignbytes=4, prototype=define
  Linker and Libraries:
    ld='gcc', ldflags =' -fstack-protector -L/usr/local/lib'
    libpth=/usr/local/lib /lib /usr/lib
    libs=-lnsl -lgdbm -ldb -ldl -lm -lcrypt -lutil -lpthread -lc
    perllibs=-lnsl -ldl -lm -lcrypt -lutil -lpthread -lc
    libc=/lib/libc-2.8.so, so=so, useshrplib=true, libperl=libperl.so
    gnulibc_version='2.8'
  Dynamic Linking:
    dlsrc=dl_dlopen.xs, dlext=so, d_dlsymun=undef, ccdlflags='-Wl,-E -Wl,-rpath,/opt/perl430-27-O0-5.12.5/lib/5.12.5/i686-linux-thread-multi-64int-ld/CORE'
    cccdlflags='-fPIC', lddlflags='-shared -O0 -g -L/usr/local/lib -fstack-protector'


Characteristics of this binary (from libperl): 
  Compile-time options: DEBUGGING MULTIPLICITY MYMALLOC PERL_DONT_CREATE_GVSV
                        PERL_IMPLICIT_CONTEXT PERL_MAD PERL_MALLOC_WRAP
                        PERL_TRACK_MEMPOOL USE_64_BIT_INT USE_FAST_STDIO
                        USE_ITHREADS USE_LARGE_FILES USE_LONG_DOUBLE
                        USE_PERLIO USE_PERL_ATOF USE_REENTRANT_API
  Built under linux
  Compiled at Oct 29 2014 19:55:08
  %ENV:
    PERL5LIB=""
    PERL5OPT=""
    PERL5_CPANPLUS_IS_RUNNING="483"
    PERL5_CPAN_IS_RUNNING="483"
    PERL_ANYEVENT_MODEL="POE"
    PERL_EXTUTILS_AUTOINSTALL="--defaultdeps"
    PERL_MM_USE_DEFAULT="1"
  @INC:
    /opt/perl430-27-O0-5.12.5/lib/site_perl/5.12.5/i686-linux-thread-multi-64int-ld
    /opt/perl430-27-O0-5.12.5/lib/site_perl/5.12.5
    /opt/perl430-27-O0-5.12.5/lib/5.12.5/i686-linux-thread-multi-64int-ld
    /opt/perl430-27-O0-5.12.5/lib/5.12.5
    .