PDF-ReportWriter v1.5 Perl 5 v5.32.0 RC1 x86_64-linux-ld

Status
Pass
From
Andreas J. König (ANDK)
Dist
PDF-ReportWriter v1.5
Platform
Perl 5 v5.32.0 RC1 x86_64-linux-ld
Date
2020-06-19 05:51:45
ID
f54a629c-b1f0-11ea-b367-9078e957079c
This distribution has been tested as part of the CPAN Testers
project, supporting the Perl programming language.  See
http://wiki.cpantesters.org/ for more information or email
questions to cpan-testers-discuss@perl.org


--
Dear Daniel Kasak,

This is a computer-generated report for PDF-ReportWriter-1.5
on perl 5.32.0, created by CPAN-Reporter-1.2018.

Thank you for uploading your work to CPAN.  Congratulations!
All tests were successful.

Sections of this report:

    * Tester comments
    * Program output
    * Prerequisites
    * Environment and other context

------------------------------
TESTER COMMENTS
------------------------------

Additional comments from tester:

this report is from an automated smoke testing program
and was not reviewed by a human for accuracy

------------------------------
PROGRAM OUTPUT
------------------------------

Output from '/usr/bin/make test':

PERL_DL_NONLAZY=1 "/tmp/basesmoker-reloperl-R4CK/bin/perl" "-MExtUtils::Command::MM" "-MTest::Harness" "-e" "undef *Test::Harness::Switches; test_harness(0, 'blib/lib', 'blib/arch')" t/*.t
t/000_load.t ......... ok
# $rp=undef
# $rp=PDF::ReportWriter::Report=HASH(0x5604bf989150)
# $VAR1 = {
#           'data' => {
#                       'groups' => [
#                                     {
#                                       'name' => 'GrandTotals',
#                                       'aggregate_source' => '0',
#                                       'data_column' => '1'
#                                     },
#                                     {
#                                       'name' => 'ItemTotals',
#                                       'data_column' => '1',
#                                       'aggregate_source' => '0'
#                                     }
#                                   ],
#                       'fields' => [
#                                     {
#                                       'percent' => '20',
#                                       'label' => 'item',
#                                       'index' => '0',
#                                       'align' => 'left',
#                                       'header_colour' => 'white',
#                                       'font_size' => '12'
#                                     },
#                                     {
#                                       'font_size' => '12',
#                                       'index' => '1',
#                                       'align' => 'left',
#                                       'header_colour' => 'white',
#                                       'label' => 'date',
#                                       'percent' => '20'
#                                     }
#                                   ],
#                       'max_font_size' => '12',
#                       'cell_borders' => '1',
#                       'page' => {
#                                   'header' => [
#                                                 {}
#                                               ],
#                                   'footer' => [
#                                                 {
#                                                   'index' => '0',
#                                                   'x' => '500',
#                                                   'text' => 'My Cell 1',
#                                                   'y' => '200',
#                                                   'background' => {
#                                                                     'shape' => 'box',
#                                                                     'colour' => 'grey'
#                                                                   },
#                                                   'percent' => '20',
#                                                   'colour' => 'red'
#                                                 },
#                                                 {
#                                                   'text' => 'My Cell 2',
#                                                   'percent' => '20',
#                                                   'background' => {
#                                                                     'colour' => 'green',
#                                                                     'shape' => 'box'
#                                                                   },
#                                                   'y' => '100',
#                                                   'colour' => 'yellow',
#                                                   'index' => '1',
#                                                   'x' => '200'
#                                                 }
#                                               ]
#                                 }
#                     },
#           'definition' => {
#                             'destination' => 'myreport.pdf',
#                             'paper' => 'A4',
#                             'y_margin' => '20',
#                             'x_margin' => '20',
#                             'default_font_size' => '10',
#                             'name' => 'basic',
#                             'debug' => '0',
#                             'file' => 'basic.xml',
#                             'template' => 'mytemplate.pdf',
#                             'orientation' => 'landscape',
#                             'default_font' => 'Helvetica',
#                             'font' => [
#                                         'Helvetica',
#                                         'Courier'
#                                       ]
#                           }
#         };
# $VAR1 = {
#           'data' => {
#                       'max_font_size' => '12',
#                       'groups' => [
#                                     {
#                                       'data_column' => '1',
#                                       'aggregate_source' => '0',
#                                       'name' => 'GrandTotals'
#                                     },
#                                     {
#                                       'data_column' => '1',
#                                       'aggregate_source' => '0',
#                                       'name' => 'SubTotals'
#                                     }
#                                   ],
#                       'fields' => [
#                                     {
#                                       'percent' => '20',
#                                       'label' => 'item',
#                                       'align' => 'left',
#                                       'index' => '0',
#                                       'header_colour' => 'white',
#                                       'font_size' => '12'
#                                     },
#                                     {
#                                       'label' => 'date',
#                                       'percent' => '20',
#                                       'index' => '1',
#                                       'align' => 'left',
#                                       'header_colour' => 'white',
#                                       'font_size' => '12'
#                                     }
#                                   ],
#                       'cell_borders' => '1',
#                       'page' => {
#                                   'footer' => [
#                                                 {
#                                                   'index' => '0',
#                                                   'x' => '500',
#                                                   'percent' => '20',
#                                                   'background' => {
#                                                                     'shape' => 'box',
#                                                                     'colour' => 'grey'
#                                                                   },
#                                                   'y' => '200',
#                                                   'text' => 'My Cell 1',
#                                                   'colour' => 'red'
#                                                 },
#                                                 {
#                                                   'text' => 'My Cell 2',
#                                                   'percent' => '20',
#                                                   'y' => '100',
#                                                   'background' => {
#                                                                     'shape' => 'box',
#                                                                     'colour' => 'green'
#                                                                   },
#                                                   'colour' => 'yellow',
#                                                   'index' => '1',
#                                                   'x' => '200'
#                                                 }
#                                               ],
#                                   'header' => [
#                                                 {}
#                                               ]
#                                 }
#                     },
#           'definition' => {
#                             'y_margin' => '20',
#                             'info' => {
#                                         'ModDate' => '2006-03-13',
#                                         'Title' => 'The sample report title',
#                                         'Creator' => 'PDF::ReportWriter',
#                                         'Author' => 'Cosimo Streppone',
#                                         'CreationDate' => '2006-03-13',
#                                         'Subject' => 'A sample report',
#                                         'Keywords' => 'Bla Bla Bla'
#                                       },
#                             'url' => 'sample.xml',
#                             'destination' => 'myreport.pdf',
#                             'paper' => 'A4',
#                             'font' => [
#                                         'Helvetica',
#                                         'Courier'
#                                       ],
#                             'default_font' => 'Helvetica',
#                             'name' => 'sample',
#                             'orientation' => 'landscape',
#                             'template' => 'mytemplate.pdf',
#                             'debug' => '0',
#                             'default_font_size' => '10',
#                             'x_margin' => '20'
#                           }
#         };
# $VAR1 = {
#           'definition' => {
#                             'default_font_size' => '10',
#                             'x_margin' => '20',
#                             'font' => [
#                                         'Helvetica',
#                                         'Courier'
#                                       ],
#                             'default_font' => 'Helvetica',
#                             'name' => 'sample',
#                             'orientation' => 'landscape',
#                             'template' => 'mytemplate.pdf',
#                             'debug' => '0',
#                             'paper' => 'A4',
#                             'destination' => 'myreport.pdf',
#                             'y_margin' => '20',
#                             'info' => {
#                                         'Subject' => 'A sample report',
#                                         'Keywords' => 'Bla Bla Bla',
#                                         'ModDate' => '2006-03-13',
#                                         'Title' => 'The sample report title',
#                                         'Creator' => 'PDF::ReportWriter',
#                                         'Author' => 'Cosimo Streppone',
#                                         'CreationDate' => '2006-03-13'
#                                       },
#                             'url' => 'sample.xml'
#                           },
#           'data' => {
#                       'page' => {
#                                   'footer' => [
#                                                 {
#                                                   'index' => '0',
#                                                   'text' => 'My Cell 1',
#                                                   'percent' => '20',
#                                                   'y' => '200',
#                                                   'background' => {
#                                                                     'shape' => 'box',
#                                                                     'colour' => 'grey'
#                                                                   },
#                                                   'colour' => 'red',
#                                                   'x' => '500'
#                                                 },
#                                                 {
#                                                   'x' => '200',
#                                                   'colour' => 'yellow',
#                                                   'text' => 'My Cell 2',
#                                                   'index' => '1',
#                                                   'y' => '100',
#                                                   'background' => {
#                                                                     'shape' => 'box',
#                                                                     'colour' => 'green'
#                                                                   },
#                                                   'percent' => '20'
#                                                 }
#                                               ],
#                                   'header' => [
#                                                 {}
#                                               ]
#                                 },
#                       'fields' => [
#                                     {
#                                       'label' => 'item',
#                                       'percent' => '20',
#                                       'align' => 'left',
#                                       'index' => '0',
#                                       'header_colour' => 'white',
#                                       'font_size' => '12'
#                                     },
#                                     {
#                                       'index' => '1',
#                                       'align' => 'left',
#                                       'header_colour' => 'white',
#                                       'label' => 'date',
#                                       'percent' => '20',
#                                       'font_size' => '12'
#                                     }
#                                   ],
#                       'max_font_size' => '12',
#                       'groups' => [
#                                     {
#                                       'name' => 'GrandTotals',
#                                       'data_column' => '1',
#                                       'aggregate_source' => '0'
#                                     },
#                                     {
#                                       'name' => 'SubTotals',
#                                       'data_column' => '1',
#                                       'aggregate_source' => '0'
#                                     }
#                                   ],
#                       'cell_borders' => '1'
#                     }
#         };
# $VAR1 = {
#           'data' => {
#                       'groups' => []
#                     },
#           'definition' => {
#                             'name' => 'empty',
#                             'file' => 'empty.xml',
#                             'font' => [
#                                         undef
#                                       ]
#                           }
#         };
t/010_report.t ....... ok
# $rp=PDF::ReportWriter::Report=HASH(0x557e3b0056c8)
# $VAR1 = bless( {
#                  'report' => './t/reports/datasources.xml',
#                  '_config' => {
#                                 'data' => {
#                                             'page' => {
#                                                         'header' => [
#                                                                       {}
#                                                                     ],
#                                                         'footer' => [
#                                                                       {}
#                                                                     ]
#                                                       },
#                                             'groups' => [
#                                                           {}
#                                                         ],
#                                             'fields' => [
#                                                           {
#                                                             'label' => 'item',
#                                                             'align' => 'left',
#                                                             'percent' => '20',
#                                                             'font_size' => '12',
#                                                             'header_colour' => 'white',
#                                                             'index' => '0'
#                                                           }
#                                                         ],
#                                             'datasource' => [
#                                                               {
#                                                                 'type' => 'DBI',
#                                                                 'sql' => 'SELECT docnum,docdate,docstate FROM documents WHERE docnum = ? LIMIT 1',
#                                                                 'name' => 'master'
#                                                               },
#                                                               {
#                                                                 'type' => 'DBI',
#                                                                 'name' => 'detail',
#                                                                 'sql' => 'SELECT * FROM documents WHERE docnum = ?'
#                                                               }
#                                                             ]
#                                           },
#                                 'definition' => {
#                                                   'paper' => 'A4',
#                                                   'destination' => 'myreport.pdf',
#                                                   'file' => 'datasources.xml',
#                                                   'font' => [
#                                                               undef
#                                                             ],
#                                                   'name' => 'datasources'
#                                                 }
#                               }
#                }, 'PDF::ReportWriter::Report' );
t/011_datasources.t .. ok
t/020_cell.t ......... ok
All tests successful.
Files=4, Tests=30,  1 wallclock secs ( 0.03 usr  0.02 sys +  0.59 cusr  0.25 csys =  0.89 CPU)
Result: PASS

------------------------------
PREREQUISITES
------------------------------

Prerequisite modules loaded:

requires:

    Module              Need Have 
    ------------------- ---- -----
    Image::Size         2    3.300
    PDF::API2           0.3  2.037
    XML::Simple         0    2.25 

build_requires:

    Module              Need Have 
    ------------------- ---- -----
    ExtUtils::MakeMaker 0    7.44 


------------------------------
ENVIRONMENT AND OTHER CONTEXT
------------------------------

Environment variables:

    AUTOMATED_TESTING = 1
    LANG = en_US.UTF-8
    PATH = /home/sand/bin:/usr/local/bin:/usr/local/sbin:/usr/sbin:/usr/bin:/sbin:/bin:/usr/games:/usr/local/games:/usr/local/perl/bin:/usr/X11/bin
    PERL = /tmp/basesmoker-reloperl-R4CK/bin/perl
    PERL5LIB = /tmp/loop_over_bdir-29862-SboPNA/Lingua-BioYaTeA-0.11-0/blib/arch:/tmp/loop_over_bdir-29862-SboPNA/Lingua-BioYaTeA-0.11-0/blib/lib:/tmp/loop_over_bdir-29862-SboPNA/App-nrun-v1.1.2-0/blib/arch:/tmp/loop_over_bdir-29862-SboPNA/App-nrun-v1.1.2-0/blib/lib:/tmp/loop_over_bdir-29862-SboPNA/AllKnowingDNS-1.7-0/blib/arch:/tmp/loop_over_bdir-29862-SboPNA/AllKnowingDNS-1.7-0/blib/lib:/tmp/loop_over_bdir-29862-SboPNA/CORBA-XS-0.63-0/blib/arch:/tmp/loop_over_bdir-29862-SboPNA/CORBA-XS-0.63-0/blib/lib:/tmp/loop_over_bdir-29862-SboPNA/RDF-NLP-SPARQLQuery-0.1-0/blib/arch:/tmp/loop_over_bdir-29862-SboPNA/RDF-NLP-SPARQLQuery-0.1-0/blib/lib:/tmp/loop_over_bdir-29862-SboPNA/perl-Hardware-UPS-Perl-0.43-0/blib/arch:/tmp/loop_over_bdir-29862-SboPNA/perl-Hardware-UPS-Perl-0.43-0/blib/lib:/tmp/loop_over_bdir-29862-SboPNA/Debian-Packages-0.03-0/blib/arch:/tmp/loop_over_bdir-29862-SboPNA/Debian-Packages-0.03-0/blib/lib:/tmp/loop_over_bdir-29862-SboPNA/Lingua-YaTeA-0.626-0/blib/arch:/tmp/loop_over_bdir-29862-SboPNA/Lingua-YaTeA-0.626-0/blib/lib:/tmp/loop_over_bdir-29862-SboPNA/triceps-2.1.0-0/blib/arch:/tmp/loop_over_bdir-29862-SboPNA/triceps-2.1.0-0/blib/lib:/tmp/loop_over_bdir-29862-SboPNA/ProjectBuilder-0.14.1-0/blib/arch:/tmp/loop_over_bdir-29862-SboPNA/ProjectBuilder-0.14.1-0/blib/lib:/tmp/loop_over_bdir-29862-SboPNA/Devel-Required-0.16-0/blib/arch:/tmp/loop_over_bdir-29862-SboPNA/Devel-Required-0.16-0/blib/lib:/tmp/loop_over_bdir-29862-SboPNA/dta-tokwrap-0.95-0/blib/arch:/tmp/loop_over_bdir-29862-SboPNA/dta-tokwrap-0.95-0/blib/lib:/tmp/loop_over_bdir-29862-SboPNA/downsexta-0/blib/arch:/tmp/loop_over_bdir-29862-SboPNA/downsexta-0/blib/lib:/tmp/loop_over_bdir-29862-SboPNA/ppt-0.14-0/blib/arch:/tmp/loop_over_bdir-29862-SboPNA/ppt-0.14-0/blib/lib:/tmp/loop_over_bdir-29862-SboPNA/App-rmcd-0.280-0/blib/arch:/tmp/loop_over_bdir-29862-SboPNA/App-rmcd-0.280-0/blib/lib:/tmp/loop_over_bdir-29862-SboPNA/LiquidWeb-Storm-CLI-1.03-0/blib/arch:/tmp/loop_over_bdir-29862-SboPNA/LiquidWeb-Storm-CLI-1.03-0/blib/lib:/tmp/loop_over_bdir-29862-SboPNA/Lemonldap-NG-Cli-0.2-0/blib/arch:/tmp/loop_over_bdir-29862-SboPNA/Lemonldap-NG-Cli-0.2-0/blib/lib:/tmp/loop_over_bdir-29862-SboPNA/mmds-1.902-0/blib/arch:/tmp/loop_over_bdir-29862-SboPNA/mmds-1.902-0/blib/lib:/tmp/loop_over_bdir-29862-SboPNA/CORBA-Python-2.66-0/blib/arch:/tmp/loop_over_bdir-29862-SboPNA/CORBA-Python-2.66-0/blib/lib:/tmp/loop_over_bdir-29862-SboPNA/CGI-Application-NetNewsIface-0.0204-0/blib/arch:/tmp/loop_over_bdir-29862-SboPNA/CGI-Application-NetNewsIface-0.0204-0/blib/lib:/tmp/loop_over_bdir-29862-SboPNA/HTML-Menu-TreeView-1.22-0/blib/arch:/tmp/loop_over_bdir-29862-SboPNA/HTML-Menu-TreeView-1.22-0/blib/lib:/tmp/loop_over_bdir-29862-SboPNA/shishi-0.0.1-0/blib/arch:/tmp/loop_over_bdir-29862-SboPNA/shishi-0.0.1-0/blib/lib:/tmp/loop_over_bdir-29862-SboPNA/makepp-1.19-0/blib/arch:/tmp/loop_over_bdir-29862-SboPNA/makepp-1.19-0/blib/lib:/tmp/loop_over_bdir-29862-SboPNA/MP3-PodcastFetch-1.05-0/blib/arch:/tmp/loop_over_bdir-29862-SboPNA/MP3-PodcastFetch-1.05-0/blib/lib:/tmp/loop_over_bdir-29862-SboPNA/Simulation-Automate-1.0.1-0/blib/arch:/tmp/loop_over_bdir-29862-SboPNA/Simulation-Automate-1.0.1-0/blib/lib:/tmp/loop_over_bdir-29862-SboPNA/Serge-1.4-0/blib/arch:/tmp/loop_over_bdir-29862-SboPNA/Serge-1.4-0/blib/lib:/tmp/loop_over_bdir-29862-SboPNA/Dpkg-1.20.0-0/blib/arch:/tmp/loop_over_bdir-29862-SboPNA/Dpkg-1.20.0-0/blib/lib:/tmp/loop_over_bdir-29862-SboPNA/Business-Shipping-DataFiles-1.02-0/blib/arch:/tmp/loop_over_bdir-29862-SboPNA/Business-Shipping-DataFiles-1.02-0/blib/lib:/tmp/loop_over_bdir-29862-SboPNA/DBIx-Migration-Directories-0.12-0/blib/arch:/tmp/loop_over_bdir-29862-SboPNA/DBIx-Migration-Directories-0.12-0/blib/lib
    PERL5OPT = 
    PERL5_CPANPLUS_IS_RUNNING = 29870
    PERL5_CPAN_IS_RUNNING = 29870
    PERL_CANARY_STABILITY_NOPROMPT = 1
    PERL_MM_USE_DEFAULT = 1
    PERL_USE_UNSAFE_INC = 1
    SHELL = /usr/bin/zsh
    TERM = screen

Perl special variables (and OS-specific diagnostics, for MSWin32):

    $^X = /tmp/basesmoker-reloperl-R4CK/bin/perl
    $UID/$EUID = 1005 / 1005
    $GID = 1005 1005
    $EGID = 1005 1005

Perl module toolchain versions installed:

    Module              Have    
    ------------------- --------
    CPAN                2.28    
    CPAN::Meta          2.150010
    Cwd                 3.78    
    ExtUtils::CBuilder  0.280234
    ExtUtils::Command   7.44    
    ExtUtils::Install   2.14    
    ExtUtils::MakeMaker 7.44    
    ExtUtils::Manifest  1.72    
    ExtUtils::ParseXS   3.40    
    File::Spec          3.78    
    JSON                4.02    
    JSON::PP            4.04    
    Module::Build       0.4231  
    Module::Signature   0.83    
    Parse::CPAN::Meta   2.150010
    Test::Harness       3.42    
    Test::More          1.302175
    YAML                1.30    
    YAML::Syck          1.32    
    version             0.9924  


--

Summary of my perl5 (revision 5 version 32 subversion 0) configuration:
  Commit id: 61b20b316a2cd57a35be013f894c14399b57e7df
  Platform:
    osname=linux
    osvers=4.15.0-101-generic
    archname=x86_64-linux-ld
    uname='linux k93bionic 4.15.0-101-generic #102-ubuntu smp mon may 11 10:07:26 utc 2020 x86_64 x86_64 x86_64 gnulinux '
    config_args='-Dprefix=/home/sand/src/perl/repoperls/installed-perls/host/k93bionic/v5.32.0-RC1/ca05 -Dmyhostname=k93bionic -Dinstallusrbinperl=n -Uversiononly -Dusedevel -des -Ui_db -Dlibswanted=cl pthread socket inet nsl gdbm dbm malloc dl ld sun m crypt sec util c cposix posix ucb BSD gdbm_compat -Uuseithreads -Duselongdouble -DEBUGGING=-g'
    hint=recommended
    useposix=true
    d_sigaction=define
    useithreads=undef
    usemultiplicity=undef
    use64bitint=define
    use64bitall=define
    uselongdouble=define
    usemymalloc=n
    default_inc_excludes_dot=define
    bincompat5005=undef
  Compiler:
    cc='cc'
    ccflags ='-fwrapv -fno-strict-aliasing -pipe -fstack-protector-strong -I/usr/local/include -D_LARGEFILE_SOURCE -D_FILE_OFFSET_BITS=64'
    optimize='-O2 -g'
    cppflags='-fwrapv -fno-strict-aliasing -pipe -fstack-protector-strong -I/usr/local/include'
    ccversion=''
    gccversion='7.5.0'
    gccosandvers=''
    intsize=4
    longsize=8
    ptrsize=8
    doublesize=8
    byteorder=12345678
    doublekind=3
    d_longlong=define
    longlongsize=8
    d_longdbl=define
    longdblsize=16
    longdblkind=3
    ivtype='long'
    ivsize=8
    nvtype='long double'
    nvsize=16
    Off_t='off_t'
    lseeksize=8
    alignbytes=16
    prototype=define
  Linker and Libraries:
    ld='cc'
    ldflags =' -fstack-protector-strong -L/usr/local/lib'
    libpth=/usr/local/lib /usr/lib/gcc/x86_64-linux-gnu/7/include-fixed /usr/include/x86_64-linux-gnu /usr/lib /lib/x86_64-linux-gnu /lib/../lib /usr/lib/x86_64-linux-gnu /usr/lib/../lib /lib
    libs=-lpthread -lnsl -ldl -lm -lcrypt -lutil -lc
    perllibs=-lpthread -lnsl -ldl -lm -lcrypt -lutil -lc
    libc=libc-2.27.so
    so=so
    useshrplib=false
    libperl=libperl.a
    gnulibc_version='2.27'
  Dynamic Linking:
    dlsrc=dl_dlopen.xs
    dlext=so
    d_dlsymun=undef
    ccdlflags='-Wl,-E'
    cccdlflags='-fPIC'
    lddlflags='-shared -O2 -g -L/usr/local/lib -fstack-protector-strong'


Characteristics of this binary (from libperl): 
  Compile-time options:
    HAS_TIMES
    PERLIO_LAYERS
    PERL_COPY_ON_WRITE
    PERL_DONT_CREATE_GVSV
    PERL_MALLOC_WRAP
    PERL_OP_PARENT
    PERL_PRESERVE_IVUV
    PERL_USE_DEVEL
    USE_64_BIT_ALL
    USE_64_BIT_INT
    USE_LARGE_FILES
    USE_LOCALE
    USE_LOCALE_COLLATE
    USE_LOCALE_CTYPE
    USE_LOCALE_NUMERIC
    USE_LOCALE_TIME
    USE_LONG_DOUBLE
    USE_PERLIO
    USE_PERL_ATOF
  Locally applied patches:
    RC1
  Built under linux
  Compiled at Jun 11 2020 19:59:30
  %ENV:
    PERL="/tmp/basesmoker-reloperl-R4CK/bin/perl"
    PERL5LIB="/tmp/loop_over_bdir-29862-SboPNA/Lingua-BioYaTeA-0.11-0/blib/arch:/tmp/loop_over_bdir-29862-SboPNA/Lingua-BioYaTeA-0.11-0/blib/lib:/tmp/loop_over_bdir-29862-SboPNA/App-nrun-v1.1.2-0/blib/arch:/tmp/loop_over_bdir-29862-SboPNA/App-nrun-v1.1.2-0/blib/lib:/tmp/loop_over_bdir-29862-SboPNA/AllKnowingDNS-1.7-0/blib/arch:/tmp/loop_over_bdir-29862-SboPNA/AllKnowingDNS-1.7-0/blib/lib:/tmp/loop_over_bdir-29862-SboPNA/CORBA-XS-0.63-0/blib/arch:/tmp/loop_over_bdir-29862-SboPNA/CORBA-XS-0.63-0/blib/lib:/tmp/loop_over_bdir-29862-SboPNA/RDF-NLP-SPARQLQuery-0.1-0/blib/arch:/tmp/loop_over_bdir-29862-SboPNA/RDF-NLP-SPARQLQuery-0.1-0/blib/lib:/tmp/loop_over_bdir-29862-SboPNA/perl-Hardware-UPS-Perl-0.43-0/blib/arch:/tmp/loop_over_bdir-29862-SboPNA/perl-Hardware-UPS-Perl-0.43-0/blib/lib:/tmp/loop_over_bdir-29862-SboPNA/Debian-Packages-0.03-0/blib/arch:/tmp/loop_over_bdir-29862-SboPNA/Debian-Packages-0.03-0/blib/lib:/tmp/loop_over_bdir-29862-SboPNA/Lingua-YaTeA-0.626-0/blib/arch:/tmp/loop_over_bdir-29862-SboPNA/Lingua-YaTeA-0.626-0/blib/lib:/tmp/loop_over_bdir-29862-SboPNA/triceps-2.1.0-0/blib/arch:/tmp/loop_over_bdir-29862-SboPNA/triceps-2.1.0-0/blib/lib:/tmp/loop_over_bdir-29862-SboPNA/ProjectBuilder-0.14.1-0/blib/arch:/tmp/loop_over_bdir-29862-SboPNA/ProjectBuilder-0.14.1-0/blib/lib:/tmp/loop_over_bdir-29862-SboPNA/Devel-Required-0.16-0/blib/arch:/tmp/loop_over_bdir-29862-SboPNA/Devel-Required-0.16-0/blib/lib:/tmp/loop_over_bdir-29862-SboPNA/dta-tokwrap-0.95-0/blib/arch:/tmp/loop_over_bdir-29862-SboPNA/dta-tokwrap-0.95-0/blib/lib:/tmp/loop_over_bdir-29862-SboPNA/downsexta-0/blib/arch:/tmp/loop_over_bdir-29862-SboPNA/downsexta-0/blib/lib:/tmp/loop_over_bdir-29862-SboPNA/ppt-0.14-0/blib/arch:/tmp/loop_over_bdir-29862-SboPNA/ppt-0.14-0/blib/lib:/tmp/loop_over_bdir-29862-SboPNA/App-rmcd-0.280-0/blib/arch:/tmp/loop_over_bdir-29862-SboPNA/App-rmcd-0.280-0/blib/lib:/tmp/loop_over_bdir-29862-SboPNA/LiquidWeb-Storm-CLI-1.03-0/blib/arch:/tmp/loop_over_bdir-29862-SboPNA/LiquidWeb-Storm-CLI-1.03-0/blib/lib:/tmp/loop_over_bdir-29862-SboPNA/Lemonldap-NG-Cli-0.2-0/blib/arch:/tmp/loop_over_bdir-29862-SboPNA/Lemonldap-NG-Cli-0.2-0/blib/lib:/tmp/loop_over_bdir-29862-SboPNA/mmds-1.902-0/blib/arch:/tmp/loop_over_bdir-29862-SboPNA/mmds-1.902-0/blib/lib:/tmp/loop_over_bdir-29862-SboPNA/CORBA-Python-2.66-0/blib/arch:/tmp/loop_over_bdir-29862-SboPNA/CORBA-Python-2.66-0/blib/lib:/tmp/loop_over_bdir-29862-SboPNA/CGI-Application-NetNewsIface-0.0204-0/blib/arch:/tmp/loop_over_bdir-29862-SboPNA/CGI-Application-NetNewsIface-0.0204-0/blib/lib:/tmp/loop_over_bdir-29862-SboPNA/HTML-Menu-TreeView-1.22-0/blib/arch:/tmp/loop_over_bdir-29862-SboPNA/HTML-Menu-TreeView-1.22-0/blib/lib:/tmp/loop_over_bdir-29862-SboPNA/shishi-0.0.1-0/blib/arch:/tmp/loop_over_bdir-29862-SboPNA/shishi-0.0.1-0/blib/lib:/tmp/loop_over_bdir-29862-SboPNA/makepp-1.19-0/blib/arch:/tmp/loop_over_bdir-29862-SboPNA/makepp-1.19-0/blib/lib:/tmp/loop_over_bdir-29862-SboPNA/MP3-PodcastFetch-1.05-0/blib/arch:/tmp/loop_over_bdir-29862-SboPNA/MP3-PodcastFetch-1.05-0/blib/lib:/tmp/loop_over_bdir-29862-SboPNA/Simulation-Automate-1.0.1-0/blib/arch:/tmp/loop_over_bdir-29862-SboPNA/Simulation-Automate-1.0.1-0/blib/lib:/tmp/loop_over_bdir-29862-SboPNA/Serge-1.4-0/blib/arch:/tmp/loop_over_bdir-29862-SboPNA/Serge-1.4-0/blib/lib:/tmp/loop_over_bdir-29862-SboPNA/Dpkg-1.20.0-0/blib/arch:/tmp/loop_over_bdir-29862-SboPNA/Dpkg-1.20.0-0/blib/lib:/tmp/loop_over_bdir-29862-SboPNA/Business-Shipping-DataFiles-1.02-0/blib/arch:/tmp/loop_over_bdir-29862-SboPNA/Business-Shipping-DataFiles-1.02-0/blib/lib:/tmp/loop_over_bdir-29862-SboPNA/DBIx-Migration-Directories-0.12-0/blib/arch:/tmp/loop_over_bdir-29862-SboPNA/DBIx-Migration-Directories-0.12-0/blib/lib"
    PERL5OPT=""
    PERL5_CPANPLUS_IS_RUNNING="29870"
    PERL5_CPAN_IS_RUNNING="29870"
    PERL_CANARY_STABILITY_NOPROMPT="1"
    PERL_MM_USE_DEFAULT="1"
    PERL_USE_UNSAFE_INC="1"
  @INC:
    /tmp/loop_over_bdir-29862-SboPNA/Lingua-BioYaTeA-0.11-0/blib/arch
    /tmp/loop_over_bdir-29862-SboPNA/Lingua-BioYaTeA-0.11-0/blib/lib
    /tmp/loop_over_bdir-29862-SboPNA/App-nrun-v1.1.2-0/blib/arch
    /tmp/loop_over_bdir-29862-SboPNA/App-nrun-v1.1.2-0/blib/lib
    /tmp/loop_over_bdir-29862-SboPNA/AllKnowingDNS-1.7-0/blib/arch
    /tmp/loop_over_bdir-29862-SboPNA/AllKnowingDNS-1.7-0/blib/lib
    /tmp/loop_over_bdir-29862-SboPNA/CORBA-XS-0.63-0/blib/arch
    /tmp/loop_over_bdir-29862-SboPNA/CORBA-XS-0.63-0/blib/lib
    /tmp/loop_over_bdir-29862-SboPNA/RDF-NLP-SPARQLQuery-0.1-0/blib/arch
    /tmp/loop_over_bdir-29862-SboPNA/RDF-NLP-SPARQLQuery-0.1-0/blib/lib
    /tmp/loop_over_bdir-29862-SboPNA/perl-Hardware-UPS-Perl-0.43-0/blib/arch
    /tmp/loop_over_bdir-29862-SboPNA/perl-Hardware-UPS-Perl-0.43-0/blib/lib
    /tmp/loop_over_bdir-29862-SboPNA/Debian-Packages-0.03-0/blib/arch
    /tmp/loop_over_bdir-29862-SboPNA/Debian-Packages-0.03-0/blib/lib
    /tmp/loop_over_bdir-29862-SboPNA/Lingua-YaTeA-0.626-0/blib/arch
    /tmp/loop_over_bdir-29862-SboPNA/Lingua-YaTeA-0.626-0/blib/lib
    /tmp/loop_over_bdir-29862-SboPNA/triceps-2.1.0-0/blib/arch
    /tmp/loop_over_bdir-29862-SboPNA/triceps-2.1.0-0/blib/lib
    /tmp/loop_over_bdir-29862-SboPNA/ProjectBuilder-0.14.1-0/blib/arch
    /tmp/loop_over_bdir-29862-SboPNA/ProjectBuilder-0.14.1-0/blib/lib
    /tmp/loop_over_bdir-29862-SboPNA/Devel-Required-0.16-0/blib/arch
    /tmp/loop_over_bdir-29862-SboPNA/Devel-Required-0.16-0/blib/lib
    /tmp/loop_over_bdir-29862-SboPNA/dta-tokwrap-0.95-0/blib/arch
    /tmp/loop_over_bdir-29862-SboPNA/dta-tokwrap-0.95-0/blib/lib
    /tmp/loop_over_bdir-29862-SboPNA/downsexta-0/blib/arch
    /tmp/loop_over_bdir-29862-SboPNA/downsexta-0/blib/lib
    /tmp/loop_over_bdir-29862-SboPNA/ppt-0.14-0/blib/arch
    /tmp/loop_over_bdir-29862-SboPNA/ppt-0.14-0/blib/lib
    /tmp/loop_over_bdir-29862-SboPNA/App-rmcd-0.280-0/blib/arch
    /tmp/loop_over_bdir-29862-SboPNA/App-rmcd-0.280-0/blib/lib
    /tmp/loop_over_bdir-29862-SboPNA/LiquidWeb-Storm-CLI-1.03-0/blib/arch
    /tmp/loop_over_bdir-29862-SboPNA/LiquidWeb-Storm-CLI-1.03-0/blib/lib
    /tmp/loop_over_bdir-29862-SboPNA/Lemonldap-NG-Cli-0.2-0/blib/arch
    /tmp/loop_over_bdir-29862-SboPNA/Lemonldap-NG-Cli-0.2-0/blib/lib
    /tmp/loop_over_bdir-29862-SboPNA/mmds-1.902-0/blib/arch
    /tmp/loop_over_bdir-29862-SboPNA/mmds-1.902-0/blib/lib
    /tmp/loop_over_bdir-29862-SboPNA/CORBA-Python-2.66-0/blib/arch
    /tmp/loop_over_bdir-29862-SboPNA/CORBA-Python-2.66-0/blib/lib
    /tmp/loop_over_bdir-29862-SboPNA/CGI-Application-NetNewsIface-0.0204-0/blib/arch
    /tmp/loop_over_bdir-29862-SboPNA/CGI-Application-NetNewsIface-0.0204-0/blib/lib
    /tmp/loop_over_bdir-29862-SboPNA/HTML-Menu-TreeView-1.22-0/blib/arch
    /tmp/loop_over_bdir-29862-SboPNA/HTML-Menu-TreeView-1.22-0/blib/lib
    /tmp/loop_over_bdir-29862-SboPNA/shishi-0.0.1-0/blib/arch
    /tmp/loop_over_bdir-29862-SboPNA/shishi-0.0.1-0/blib/lib
    /tmp/loop_over_bdir-29862-SboPNA/makepp-1.19-0/blib/arch
    /tmp/loop_over_bdir-29862-SboPNA/makepp-1.19-0/blib/lib
    /tmp/loop_over_bdir-29862-SboPNA/MP3-PodcastFetch-1.05-0/blib/arch
    /tmp/loop_over_bdir-29862-SboPNA/MP3-PodcastFetch-1.05-0/blib/lib
    /tmp/loop_over_bdir-29862-SboPNA/Simulation-Automate-1.0.1-0/blib/arch
    /tmp/loop_over_bdir-29862-SboPNA/Simulation-Automate-1.0.1-0/blib/lib
    /tmp/loop_over_bdir-29862-SboPNA/Serge-1.4-0/blib/arch
    /tmp/loop_over_bdir-29862-SboPNA/Serge-1.4-0/blib/lib
    /tmp/loop_over_bdir-29862-SboPNA/Dpkg-1.20.0-0/blib/arch
    /tmp/loop_over_bdir-29862-SboPNA/Dpkg-1.20.0-0/blib/lib
    /tmp/loop_over_bdir-29862-SboPNA/Business-Shipping-DataFiles-1.02-0/blib/arch
    /tmp/loop_over_bdir-29862-SboPNA/Business-Shipping-DataFiles-1.02-0/blib/lib
    /tmp/loop_over_bdir-29862-SboPNA/DBIx-Migration-Directories-0.12-0/blib/arch
    /tmp/loop_over_bdir-29862-SboPNA/DBIx-Migration-Directories-0.12-0/blib/lib
    /home/sand/src/perl/repoperls/installed-perls/host/k93bionic/v5.32.0-RC1/ca05/lib/site_perl/5.32.0/x86_64-linux-ld
    /home/sand/src/perl/repoperls/installed-perls/host/k93bionic/v5.32.0-RC1/ca05/lib/site_perl/5.32.0
    /home/sand/src/perl/repoperls/installed-perls/host/k93bionic/v5.32.0-RC1/ca05/lib/5.32.0/x86_64-linux-ld
    /home/sand/src/perl/repoperls/installed-perls/host/k93bionic/v5.32.0-RC1/ca05/lib/5.32.0
    .