Back
From: metabase:user:20a45eae-6c1a-1014-abaf-4bc2b30e56df
Subject: PASS YAML-Syck-1.17 v5.10.0 Windows (Cygwin)
Date: 2011-08-19T23:08:46Z
This distribution has been tested as part of the CPAN Testers
project, supporting the Perl programming language. See
http://wiki.cpantesters.org/ for more information or email
questions to cpan-testers-discuss@perl.org
--
Dear AEvar Arnfjord Bjarmason,
This is a computer-generated report for YAML-Syck-1.17
on perl 5.10.0, created by CPAN-Reporter-1.1902.
Thank you for uploading your work to CPAN. Congratulations!
All tests were successful.
Sections of this report:
* Tester comments
* Program output
* Prerequisites
* Environment and other context
------------------------------
TESTER COMMENTS
------------------------------
Additional comments from tester:
this report is from an automated smoke testing program
and was not reviewed by a human for accuracy
------------------------------
PROGRAM OUTPUT
------------------------------
Output from '/usr/bin/make test':
PERL_DL_NONLAZY=1 /opt/perl/inst/perl-5.10.0-cygwin-thread/bin/perl5.10.0.exe "-MExtUtils::Command::MM" "-e" "test_harness(0, 'inc', 'blib/lib', 'blib/arch')" t/*.t t/*/*.t
t/1-basic.t ................... ok
t/11-loadfile.t ............... ok
t/12-dumpfile.t ............... ok
t/2-scalars.t ................. ok
t/3-objects.t ................. ok
t/4-perl_tag_scheme.t ......... ok
t/bug/rt-49404-double_free.t .. ok
t/bug/rt-54167.t .............. ok
t/json-basic.t ................ ok
t/json-circular-ref.t ......... ok
t/json-crlf.t ................. ok
t/json-empty.t ................ ok
t/json-indent.t ............... ok
t/json-loadfile.t ............. ok
t/json-minus.t ................ ok
t/json-newline.t .............. ok
t/json-null.t ................. ok
t/json-numbers.t .............. ok
t/json-refs.t ................. ok
t/json-singlequote.t .......... ok
t/leak.t ...................... ok
t/yaml-alias.t ................ ok
t/yaml-blessed-ref.t .......... ok
t/yaml-implicit-warnings.t .... ok
t/yaml-str-colon-first.t ...... ok
t/yaml-tie.t .................. ok
All tests successful.
Test Summary Report
-------------------
t/json-basic.t (Wstat: 0 Tests: 104 Failed: 0)
TODO passed: 81-82, 85-86, 93-94, 97-98
Files=26, Tests=586, 8 wallclock secs ( 0.05 usr 0.12 sys + 4.30 cusr 2.91 csys = 7.38 CPU)
Result: PASS
------------------------------
PREREQUISITES
------------------------------
Prerequisite modules loaded:
requires:
Module Need Have
------------------- ---- ----
Devel::Leak 0 0.03
ExtUtils::MakeMaker 6.42 6.56
Scalar::Util 0 1.23
configure_requires:
Module Need Have
------------------- ---- ----
ExtUtils::MakeMaker 6.42 6.56
------------------------------
ENVIRONMENT AND OTHER CONTEXT
------------------------------
Environment variables:
AUTOMATED_TESTING = 1
COMSPEC = C:\WINDOWS\system32\cmd.exe
NUMBER_OF_PROCESSORS = 4
PATH = /opt/perl/inst/perl-5.10.0-cygwin-thread/local/bin:/opt/perl/inst/perl-5.10.0-cygwin-thread/bin:/usr/local/bin:/usr/bin
PERL5LIB = /opt/perl/inst/perl-5.10.0-cygwin-thread/local/lib/site_perl:/opt/perl/inst/perl-5.10.0-cygwin-thread/local/lib/perl5:/opt/perl/inst/perl-5.10.0-cygwin-thread/local/lib
PERL5OPT =
PERL5_CPANPLUS_IS_RUNNING = 4160
PERL5_CPAN_IS_RUNNING = 4160
PERL_EXTUTILS_AUTOINSTALL = 1
PERL_MM_USE_DEFAULT = 1
PERL_TEST_CRITIC = 1
PROCESSOR_IDENTIFIER = x86 Family 6 Model 37 Stepping 5, GenuineIntel
TEMP = /tmp
TERM = cygwin
Perl special variables (and OS-specific diagnostics, for MSWin32):
$^X = /opt/perl/inst/perl-5.10.0-cygwin-thread/bin/perl5.10.0
$UID/$EUID = 22755 / 22755
$GID = 10513 0 544 545 555 1004 10571 43588 44771 44776 47153 45205 10513 51781 18818 43061 18761 56667 12652 12669 12778 42734 20077 51528 11073 51645 61702 17963 51289 43366 55368 57206 20667 20955 49381 50556 23333 65644 65646 51916 51926 51837 45099 30321 49625 31369 67201 45094
$EGID = 10513 0 544 545 555 1004 10571 43588 44771 44776 47153 45205 10513 51781 18818 43061 18761 56667 12652 12669 12778 42734 20077 51528 11073 51645 61702 17963 51289 43366 55368 57206 20667 20955 49381 50556 23333 65644 65646 51916 51926 51837 45099 30321 49625 31369 67201 45094
Perl module toolchain versions installed:
Module Have
------------------- --------
CPAN 1.9800
Cwd 3.33
ExtUtils::CBuilder 0.280202
ExtUtils::Command 1.16
ExtUtils::Install 1.52
ExtUtils::MakeMaker 6.56
ExtUtils::Manifest 1.56
ExtUtils::ParseXS 2.2206
File::Spec 3.33
Module::Build 0.3800
Module::Signature 0.68
Test::Harness 3.23
Test::More 0.98
YAML 0.73
YAML::Syck n/a
version 0.88
--
Summary of my perl5 (revision 5 version 10 subversion 0) configuration:
Platform:
osname=cygwin, osvers=1.7.9(0.23753), archname=cygwin-thread
uname='cygwin_nt-5.1 los116 1.7.9(0.23753) 2011-03-29 10:10 i686 cygwin '
config_args='-de -Dcc=gcc-4 -Dprefix=/opt/perl/inst/perl-5.10.0-cygwin-thread -Dperladmin=pjacklam@online.no -Dusedevel -Dmksymlinks -Dusethreads -Uusemultiplicity -Uuse64bitint'
hint=recommended, useposix=true, d_sigaction=define
useithreads=define, usemultiplicity=undef
useperlio=define, d_sfio=undef, uselargefiles=define, usesocks=undef
use64bitint=undef, use64bitall=undef, uselongdouble=undef
usemymalloc=y, bincompat5005=undef
Compiler:
cc='gcc-4', ccflags ='-DPERL_USE_SAFE_PUTENV -U__STRICT_ANSI__ -fno-strict-aliasing -pipe',
optimize='-O2',
cppflags='-DPERL_USE_SAFE_PUTENV -U__STRICT_ANSI__ -fno-strict-aliasing -pipe'
ccversion='', gccversion='4.3.4 20090804 (release) 1', gccosandvers=''
intsize=4, longsize=4, ptrsize=4, doublesize=8, byteorder=1234
d_longlong=define, longlongsize=8, d_longdbl=define, longdblsize=12
ivtype='long', ivsize=4, nvtype='double', nvsize=8, Off_t='off_t', lseeksize=8
alignbytes=8, prototype=define
Linker and Libraries:
ld='g++', ldflags =' -Wl,--enable-auto-import -Wl,--export-all-symbols -Wl,--stack,8388608 -Wl,--enable-auto-image-base -Wl,--enable-auto-import -L/usr/local/lib'
libpth=/usr/local/lib /usr/lib /lib
libs=-lgdbm -ldb -ldl -lcrypt -lgdbm_compat
perllibs=-ldl -lcrypt -lgdbm_compat
libc=/usr/lib/libc.a, so=dll, useshrplib=true, libperl=libperl.a
gnulibc_version=''
Dynamic Linking:
dlsrc=dl_dlopen.xs, dlext=dll, d_dlsymun=undef, ccdlflags=' -s'
cccdlflags=' ', lddlflags=' --shared -Wl,--enable-auto-import -Wl,--export-all-symbols -Wl,--stack,8388608 -Wl,--enable-auto-image-base -Wl,--enable-auto-import -L/usr/local/lib'
Characteristics of this binary (from libperl):
Compile-time options: MULTIPLICITY MYMALLOC PERL_DONT_CREATE_GVSV
PERL_IMPLICIT_CONTEXT PERL_MALLOC_WRAP
PERL_USE_SAFE_PUTENV USE_ITHREADS USE_LARGE_FILES
USE_PERLIO USE_REENTRANT_API
Built under cygwin
Compiled at Apr 7 2011 02:56:15
%ENV:
PERL5LIB="/opt/perl/inst/perl-5.10.0-cygwin-thread/local/lib/site_perl:/opt/perl/inst/perl-5.10.0-cygwin-thread/local/lib/perl5:/opt/perl/inst/perl-5.10.0-cygwin-thread/local/lib"
PERL5OPT=""
PERL5_CPANPLUS_IS_RUNNING="4160"
PERL5_CPAN_IS_RUNNING="4160"
PERL_EXTUTILS_AUTOINSTALL="1"
PERL_MM_USE_DEFAULT="1"
PERL_TEST_CRITIC="1"
CYGWIN="codepage:utf8 nodosfilewarning"
@INC:
/opt/perl/inst/perl-5.10.0-cygwin-thread/local/lib/site_perl/5.10.0/cygwin-thread
/opt/perl/inst/perl-5.10.0-cygwin-thread/local/lib/site_perl/5.10.0
/opt/perl/inst/perl-5.10.0-cygwin-thread/local/lib/site_perl
/opt/perl/inst/perl-5.10.0-cygwin-thread/local/lib/perl5/cygwin-thread
/opt/perl/inst/perl-5.10.0-cygwin-thread/local/lib/perl5
/opt/perl/inst/perl-5.10.0-cygwin-thread/local/lib/5.10.0/cygwin-thread
/opt/perl/inst/perl-5.10.0-cygwin-thread/local/lib/5.10.0
/opt/perl/inst/perl-5.10.0-cygwin-thread/local/lib
/opt/perl/inst/perl-5.10.0-cygwin-thread/lib/5.10.0/cygwin-thread
/opt/perl/inst/perl-5.10.0-cygwin-thread/lib/5.10.0
/opt/perl/inst/perl-5.10.0-cygwin-thread/lib/site_perl/5.10.0/cygwin-thread
/opt/perl/inst/perl-5.10.0-cygwin-thread/lib/site_perl/5.10.0
.