Promises v1.04 Perl 5 v5.39.5 aarch64-freebsd
- Status
- Pass
- From
- Slaven Rezić
- Dist
-
Promises v1.04
- Platform
- Perl 5 v5.39.5 aarch64-freebsd
- Date
- 2023-12-29 17:01:49
- ID
- f4f45744-a66b-11ee-a62a-6fe86d8775ea
This distribution has been tested as part of the CPAN Testers
project, supporting the Perl programming language. See
http://wiki.cpantesters.org/ for more information or email
questions to cpan-testers-discuss@perl.org
--
Dear Yanick Champoux,
This is a computer-generated report for Promises-1.04
on perl 5.39.5, created by CPAN-Reporter-1.2019.
Thank you for uploading your work to CPAN. Congratulations!
All tests were successful.
Sections of this report:
* Tester comments
* Program output
* Prerequisites
* Environment and other context
------------------------------
TESTER COMMENTS
------------------------------
Additional comments from tester:
none provided
------------------------------
PROGRAM OUTPUT
------------------------------
Output from '/usr/bin/make test':
PERL_DL_NONLAZY=1 "/usr/perl5.39.5/bin/perl5.39.5" "-MExtUtils::Command::MM" "-MTest::Harness" "-e" "undef *Test::Harness::Switches; test_harness(0, 'blib/lib', 'blib/arch')" t/*.t
t/00-compile.t ................... ok
#
# Versions for all modules listed in MYMETA.json (including optional ones):
#
# === Configure Requires ===
#
# Module Want Have
# ------------------- ---- ----
# ExtUtils::MakeMaker any 7.70
#
# === Configure Suggests ===
#
# Module Want Have
# -------- ------- ----
# JSON::PP 2.27300 4.16
#
# === Build Requires ===
#
# Module Want Have
# ------------------- ---- ----
# ExtUtils::MakeMaker any 7.70
#
# === Test Requires ===
#
# Module Want Have
# ------------------- ---- --------
# ExtUtils::MakeMaker any 7.70
# File::Spec any 3.90
# IO::Handle any 1.54
# IPC::Open3 any 1.22
# Test::Exception any 0.43
# Test::Fatal any 0.017
# Test::More 0.89 1.302195
# Test::Pod any 1.52
# Test::Requires any 0.11
# Test::Warn any 0.37
# lib any 0.65
#
# === Test Recommends ===
#
# Module Want Have
# ---------- -------- --------
# CPAN::Meta 2.120900 2.150010
#
# === Runtime Requires ===
#
# Module Want Have
# --------------- ---- -----
# Carp any 1.54
# Data::Dumper any 2.189
# Exporter any 5.77
# Module::Runtime any 0.016
# Scalar::Util any 1.63
# Sub::Attribute any 0.07
# Sub::Exporter any 0.991
# constant any 1.33
# parent any 0.241
# strict any 1.13
# warnings any 1.67
#
t/00-report-prereqs.t ............ ok
t/000-load.t ..................... ok
t/001-basic.t .................... skipped: Test requires module 'AnyEvent' but it's not found
t/002-multiples.t ................ skipped: Test requires module 'AnyEvent' but it's not found
t/003-post-resolve-then.t ........ skipped: Test requires module 'AnyEvent' but it's not found
t/004-error.t .................... skipped: Test requires module 'AnyEvent' but it's not found
t/005-multiples-w-error.t ........ skipped: Test requires module 'AnyEvent' but it's not found
t/006-thenable.t ................. ok
t/007_callable.t ................. skipped: Test requires module 'AE' but it's not found
t/010-collect.t .................. ok
t/011-collect-w-error.t .......... skipped: Test requires module 'AnyEvent' but it's not found
t/012-collect_hash.t ............. skipped: Test requires module 'AnyEvent' but it's not found
t/013-collect_hash-params.t ...... ok
t/013-collect_hash-with-error.t .. skipped: Test requires module 'AnyEvent' but it's not found
t/020-chaining.t ................. skipped: Test requires module 'AnyEvent' but it's not found
t/021-chaining-errors.t .......... ok
t/025-recursion.t ................ skipped: Test requires module 'AnyEvent' but it's not found
t/030-deferred-default.t ......... ok
t/031-deferred-AE.t .............. skipped: Test requires module 'AE' but it's not found
t/031-deferred-io-async.t ........ ok
t/032-deferred-AnyEvent.t ........ skipped: Test requires module 'AnyEvent' but it's not found
t/033-deferred-EV.t .............. skipped: EV is required for this test
t/034-deferred-Mojo.t ............ ok
t/040_finally.t .................. skipped: Test requires module 'AnyEvent' but it's not found
t/045-attributes.t ............... ok
t/050-exceptions-pp.t ............ skipped: Test requires module 'AnyEvent' but it's not found
t/051-exceptions-pp-anyevent.t ... skipped: Test requires module 'AnyEvent' but it's not found
t/052-exceptions-ev-anyevent.t ... skipped: Test requires module 'EV' but it's not found
Mojo::Reactor::Poll: Timer failed: Final
t/053-exceptions-mojo.t .......... ok
t/060-free-refs.t ................ ok
t/070-accepted-rejected.t ........ ok
t/080-deferred-as-sub.t .......... ok
t/090-timeout.t .................. ok
t/late-warning.t ................. ok
t/warnings.t ..................... ok
All tests successful.
Files=36, Tests=70, 6 wallclock secs ( 0.12 usr 0.09 sys + 2.59 cusr 0.59 csys = 3.38 CPU)
Result: PASS
------------------------------
PREREQUISITES
------------------------------
Prerequisite modules loaded:
requires:
Module Need Have
------------------- ----- --------
Carp 0 1.54
constant 0 1.33
Data::Dumper 0 2.189
Exporter 0 5.77
Module::Runtime 0 0.016
parent 0 0.241
perl 5.006 5.039005
Scalar::Util 0 1.63
strict 0 1.13
Sub::Attribute 0 0.07
Sub::Exporter 0 0.991
warnings 0 1.67
build_requires:
Module Need Have
------------------- ----- --------
ExtUtils::MakeMaker 0 7.70
File::Spec 0 3.90
IO::Handle 0 1.54
IPC::Open3 0 1.22
lib 0 0.65
Test::Exception 0 0.43
Test::Fatal 0 0.017
Test::More 0.89 1.302195
Test::Pod 0 1.52
Test::Requires 0 0.11
Test::Warn 0 0.37
configure_requires:
Module Need Have
------------------- ----- --------
ExtUtils::MakeMaker 0 7.70
------------------------------
ENVIRONMENT AND OTHER CONTEXT
------------------------------
Environment variables:
LANG = C.UTF-8
PATH = /usr/local/bin:/usr/bin:/bin:/usr/local/sbin:/usr/sbin:/sbin:/home/cpansand/bin/freebsd14.0:/home/cpansand/bin/sh:/home/cpansand/bin:/usr/games:/home/cpansand/devel:/home/eserte/src/srezic-misc/scripts
PERL5LIB = /home/cpansand/.cpan/build/2023122915/Sub-Attribute-0.07-3/blib/arch:/home/cpansand/.cpan/build/2023122915/Sub-Attribute-0.07-3/blib/lib:/home/cpansand/.cpan/build/2023122915/Class-Trigger-0.15-3/blib/arch:/home/cpansand/.cpan/build/2023122915/Class-Trigger-0.15-3/blib/lib
PERL5OPT =
PERL5_CPANPLUS_IS_RUNNING = 43345
PERL5_CPAN_IS_RUNNING = 43345
PERL5_CPAN_IS_RUNNING_IN_RECURSION = 40351,43345
PERLDOC = -MPod::Perldoc::ToTextOverstrike
PERL_BATCH = yes
PERL_CANARY_STABILITY_NOPROMPT = 1
PERL_CPAN_REPORTER_CONFIG = /var/tmp/cpansmoker-1023/2023122915/cpanreporter_002_config.ini
PERL_EXTUTILS_AUTOINSTALL = --defaultdeps
PERL_USE_UNSAFE_INC = 1
SHELL = /usr/local/bin/zsh
TERM = screen
TMPDIR = /var/tmp/cpansmoker-1023/2023122915
Perl special variables (and OS-specific diagnostics, for MSWin32):
$^X = /usr/perl5.39.5/bin/perl5.39.5
$UID/$EUID = 1023 / 1023
$GID = 1023 1023
$EGID = 1023 1023
Perl module toolchain versions installed:
Module Have
------------------- --------
CPAN 2.36
CPAN::Meta 2.150010
Cwd 3.90
ExtUtils::CBuilder 0.280240
ExtUtils::Command 7.70
ExtUtils::Install 2.22
ExtUtils::MakeMaker 7.70
ExtUtils::Manifest 1.75
ExtUtils::ParseXS 3.51
File::Spec 3.90
JSON 4.10
JSON::PP 4.16
Module::Build 0.4234
Module::Signature 0.88
Parse::CPAN::Meta 2.150010
Test2 1.302195
Test::Harness 3.48
Test::More 1.302195
YAML 1.30
YAML::Syck 1.34
version 0.9930
--
Summary of my perl5 (revision 5 version 39 subversion 5) configuration:
Platform:
osname=freebsd
osvers=14.0-stable
archname=aarch64-freebsd
uname='freebsd cloud9.bbbike.org 14.0-stable freebsd 14.0-stable #0 stable14-ac83f3fa4: mon dec 25 18:44:17 utc 2023 root@cloud9.bbbike.org:usrobjhomeprojectsfreebsd-srcarm64.aarch64sysgeneric arm64 '
config_args='-ds -e -Dprefix=/usr/perl5.39.5 -Dusedevel -Dusemallocwrap=no -Dcf_email=srezic@cpan.org -Doptimize=-O2 -pipe'
hint=recommended
useposix=true
d_sigaction=define
useithreads=undef
usemultiplicity=undef
use64bitint=define
use64bitall=define
uselongdouble=undef
usemymalloc=n
default_inc_excludes_dot=define
Compiler:
cc='cc'
ccflags ='-DHAS_FPSETMASK -DHAS_FLOATINGPOINT_H -DNO_POSIX_2008_LOCALE -fno-strict-aliasing -pipe -fstack-protector-strong -I/usr/local/include'
optimize='-O2 -pipe'
cppflags='-DHAS_FPSETMASK -DHAS_FLOATINGPOINT_H -DNO_POSIX_2008_LOCALE -fno-strict-aliasing -pipe -fstack-protector-strong -I/usr/local/include'
ccversion=''
gccversion='FreeBSD Clang 16.0.6 (https://github.com/llvm/llvm-project.git llvmorg-16.0.6-0-g7cbf1a259152)'
gccosandvers=''
intsize=4
longsize=8
ptrsize=8
doublesize=8
byteorder=12345678
doublekind=3
d_longlong=define
longlongsize=8
d_longdbl=define
longdblsize=16
longdblkind=1
ivtype='long'
ivsize=8
nvtype='double'
nvsize=8
Off_t='off_t'
lseeksize=8
alignbytes=8
prototype=define
Linker and Libraries:
ld='cc'
ldflags ='-Wl,-E -fstack-protector-strong -L/usr/local/lib'
libpth=/usr/lib /usr/local/lib /usr/lib/clang/16/lib
libs=-lpthread -lgdbm -ldl -lm -lcrypt -lutil -lc
perllibs=-lpthread -ldl -lm -lcrypt -lutil -lc
libc=
so=so
useshrplib=false
libperl=libperl.a
gnulibc_version=''
Dynamic Linking:
dlsrc=dl_dlopen.xs
dlext=so
d_dlsymun=undef
ccdlflags=' '
cccdlflags='-DPIC -fPIC'
lddlflags='-shared -L/usr/local/lib -fstack-protector-strong'
Characteristics of this binary (from libperl):
Compile-time options:
HAS_LONG_DOUBLE
HAS_STRTOLD
HAS_TIMES
PERLIO_LAYERS
PERL_COPY_ON_WRITE
PERL_DONT_CREATE_GVSV
PERL_HASH_FUNC_SIPHASH13
PERL_HASH_USE_SBOX32
PERL_OP_PARENT
PERL_PRESERVE_IVUV
PERL_USE_DEVEL
PERL_USE_SAFE_PUTENV
USE_64_BIT_ALL
USE_64_BIT_INT
USE_LARGE_FILES
USE_LOCALE
USE_LOCALE_COLLATE
USE_LOCALE_CTYPE
USE_LOCALE_NUMERIC
USE_LOCALE_TIME
USE_PERLIO
USE_PERL_ATOF
Built under freebsd
Compiled at Dec 26 2023 16:17:54
%ENV:
PERL5LIB="/home/cpansand/.cpan/build/2023122915/Sub-Attribute-0.07-3/blib/arch:/home/cpansand/.cpan/build/2023122915/Sub-Attribute-0.07-3/blib/lib:/home/cpansand/.cpan/build/2023122915/Class-Trigger-0.15-3/blib/arch:/home/cpansand/.cpan/build/2023122915/Class-Trigger-0.15-3/blib/lib"
PERL5OPT=""
PERL5_CPANPLUS_IS_RUNNING="43345"
PERL5_CPAN_IS_RUNNING="43345"
PERL5_CPAN_IS_RUNNING_IN_RECURSION="40351,43345"
PERLDOC="-MPod::Perldoc::ToTextOverstrike"
PERL_BATCH="yes"
PERL_CANARY_STABILITY_NOPROMPT="1"
PERL_CPAN_REPORTER_CONFIG="/var/tmp/cpansmoker-1023/2023122915/cpanreporter_002_config.ini"
PERL_EXTUTILS_AUTOINSTALL="--defaultdeps"
PERL_USE_UNSAFE_INC="1"
@INC:
/home/cpansand/.cpan/build/2023122915/Sub-Attribute-0.07-3/blib/arch
/home/cpansand/.cpan/build/2023122915/Sub-Attribute-0.07-3/blib/lib
/home/cpansand/.cpan/build/2023122915/Class-Trigger-0.15-3/blib/arch
/home/cpansand/.cpan/build/2023122915/Class-Trigger-0.15-3/blib/lib
/usr/perl5.39.5/lib/site_perl/5.39.5/aarch64-freebsd
/usr/perl5.39.5/lib/site_perl/5.39.5
/usr/perl5.39.5/lib/5.39.5/aarch64-freebsd
/usr/perl5.39.5/lib/5.39.5
.