Report for Math-Complex-1.59

Back
From: metabase:user:4bb19ea0-b064-11df-ac73-2d518c32fe74
Subject: PASS Math-Complex-1.59 v5.10.0 GNU/Linux
Date: 2012-03-05T20:08:21Z

This distribution has been tested as part of the CPAN Testers
project, supporting the Perl programming language.  See
http://wiki.cpantesters.org/ for more information or email
questions to cpan-testers-discuss@perl.org


--
Dear Andrew Main (Zefram),

This is a computer-generated report for Math-Complex-1.59
on perl 5.10.0, created by CPAN-Reporter-1.2004.

Thank you for uploading your work to CPAN.  Congratulations!
All tests were successful.

Sections of this report:

    * Tester comments
    * Program output
    * Prerequisites
    * Environment and other context

------------------------------
TESTER COMMENTS
------------------------------

Additional comments from tester:

none provided

------------------------------
PROGRAM OUTPUT
------------------------------

Output from '/usr/bin/make test':

PERL_DL_NONLAZY=1 /usr/bin/perl "-MExtUtils::Command::MM" "-e" "test_harness(0, 'blib/lib', 'blib/arch')" t/*.t
t/Complex.t ....... ok
t/pod-coverage.t .. ok
t/pod.t ........... ok
t/Trig.t .......... ok
t/underbar.t ...... ok
All tests successful.
Files=5, Tests=1235,  2 wallclock secs ( 0.30 usr  0.00 sys +  1.23 cusr  0.08 csys =  1.61 CPU)
Result: PASS

------------------------------
PREREQUISITES
------------------------------

Prerequisite modules loaded:

requires:

    Module              Need Have
    ------------------- ---- ----
    Config              0    0   
    Exporter            0    5.66
    ExtUtils::MakeMaker 0    6.62
    overload            0    1.06
    Scalar::Util        1.11 1.23
    strict              0    1.04
    Test::More          0    0.98
    warnings            0    1.06

build_requires:

    Module              Need Have
    ------------------- ---- ----
    ExtUtils::MakeMaker 0    6.62

configure_requires:

    Module              Need Have
    ------------------- ---- ----
    ExtUtils::MakeMaker 0    6.62


------------------------------
ENVIRONMENT AND OTHER CONTEXT
------------------------------

Environment variables:

    LANG = de_DE.utf8
    LANGUAGE = de_DE.utf8
    LC_ALL = de_DE.utf8
    PATH = /home/stfn/perl5/bin:/usr/local/bin:/usr/bin:/bin:/usr/games
    PERL5LIB = /home/stfn/perl5/lib/perl5/i486-linux-gnu-thread-multi:/home/stfn/perl5/lib/perl5
    PERL5OPT = 
    PERL5_CPANPLUS_IS_RUNNING = 24441
    PERL5_CPAN_IS_RUNNING = 24441
    PERL_LOCAL_LIB_ROOT = /home/stfn/perl5
    PERL_MB_OPT = --install_base /home/stfn/perl5
    PERL_MM_OPT = INSTALL_BASE=/home/stfn/perl5
    SHELL = /bin/bash
    TERM = screen

Perl special variables (and OS-specific diagnostics, for MSWin32):

    $^X = /usr/bin/perl
    $UID/$EUID = 1000 / 1000
    $GID = 1000 1000
    $EGID = 1000 1000

Perl module toolchain versions installed:

    Module              Have    
    ------------------- --------
    CPAN                1.9800  
    CPAN::Meta          2.120630
    Cwd                 3.33    
    ExtUtils::CBuilder  0.280205
    ExtUtils::Command   1.17    
    ExtUtils::Install   1.54    
    ExtUtils::MakeMaker 6.62    
    ExtUtils::Manifest  1.60    
    ExtUtils::ParseXS   3.15    
    File::Spec          3.33    
    JSON                2.53    
    JSON::PP            2.27200 
    Module::Build       0.3800  
    Module::Signature   n/a     
    Parse::CPAN::Meta   1.4402  
    Test::Harness       3.23    
    Test::More          0.98    
    YAML                0.80    
    YAML::Syck          n/a     
    version             0.96    


--

Summary of my perl5 (revision 5 version 10 subversion 0) configuration:
  Platform:
    osname=linux, osvers=2.6.32-5-686, archname=i486-linux-gnu-thread-multi
    uname='linux callisto 2.6.32-5-686 #1 smp mon jun 13 04:13:06 utc 2011 i686 gnulinux '
    config_args='-Dusethreads -Duselargefiles -Dccflags=-DDEBIAN -Dcccdlflags=-fPIC -Darchname=i486-linux-gnu -Dprefix=/usr -Dprivlib=/usr/share/perl/5.10 -Darchlib=/usr/lib/perl/5.10 -Dvendorprefix=/usr -Dvendorlib=/usr/share/perl5 -Dvendorarch=/usr/lib/perl5 -Dsiteprefix=/usr/local -Dsitelib=/usr/local/share/perl/5.10.0 -Dsitearch=/usr/local/lib/perl/5.10.0 -Dman1dir=/usr/share/man/man1 -Dman3dir=/usr/share/man/man3 -Dsiteman1dir=/usr/local/man/man1 -Dsiteman3dir=/usr/local/man/man3 -Dman1ext=1 -Dman3ext=3perl -Dpager=/usr/bin/sensible-pager -Uafs -Ud_csh -Ud_ualarm -Uusesfio -Uusenm -DDEBUGGING=-g -Doptimize=-O2 -Duseshrplib -Dlibperl=libperl.so.5.10.0 -Dd_dosuid -des'
    hint=recommended, useposix=true, d_sigaction=define
    useithreads=define, usemultiplicity=define
    useperlio=define, d_sfio=undef, uselargefiles=define, usesocks=undef
    use64bitint=undef, use64bitall=undef, uselongdouble=undef
    usemymalloc=n, bincompat5005=undef
  Compiler:
    cc='cc', ccflags ='-D_REENTRANT -D_GNU_SOURCE -DDEBIAN -fno-strict-aliasing -pipe -I/usr/local/include -D_LARGEFILE_SOURCE -D_FILE_OFFSET_BITS=64',
    optimize='-O2 -g',
    cppflags='-D_REENTRANT -D_GNU_SOURCE -DDEBIAN -fno-strict-aliasing -pipe -I/usr/local/include'
    ccversion='', gccversion='4.3.2', gccosandvers=''
    intsize=4, longsize=4, ptrsize=4, doublesize=8, byteorder=1234
    d_longlong=define, longlongsize=8, d_longdbl=define, longdblsize=12
    ivtype='long', ivsize=4, nvtype='double', nvsize=8, Off_t='off_t', lseeksize=8
    alignbytes=4, prototype=define
  Linker and Libraries:
    ld='cc', ldflags =' -L/usr/local/lib'
    libpth=/usr/local/lib /lib /usr/lib /usr/lib64
    libs=-lgdbm -lgdbm_compat -ldb -ldl -lm -lpthread -lc -lcrypt
    perllibs=-ldl -lm -lpthread -lc -lcrypt
    libc=/lib/libc-2.7.so, so=so, useshrplib=true, libperl=libperl.so.5.10.0
    gnulibc_version='2.7'
  Dynamic Linking:
    dlsrc=dl_dlopen.xs, dlext=so, d_dlsymun=undef, ccdlflags='-Wl,-E'
    cccdlflags='-fPIC', lddlflags='-shared -O2 -g -L/usr/local/lib'


Characteristics of this binary (from libperl): 
  Compile-time options: MULTIPLICITY PERL_DONT_CREATE_GVSV
                        PERL_IMPLICIT_CONTEXT PERL_MALLOC_WRAP USE_ITHREADS
                        USE_LARGE_FILES USE_PERLIO USE_REENTRANT_API
  Built under linux
  Compiled at Jun 30 2011 20:15:14
  %ENV:
    PERL5LIB="/home/stfn/perl5/lib/perl5/i486-linux-gnu-thread-multi:/home/stfn/perl5/lib/perl5"
    PERL5OPT=""
    PERL5_CPANPLUS_IS_RUNNING="24441"
    PERL5_CPAN_IS_RUNNING="24441"
    PERL_LOCAL_LIB_ROOT="/home/stfn/perl5"
    PERL_MB_OPT="--install_base /home/stfn/perl5"
    PERL_MM_OPT="INSTALL_BASE=/home/stfn/perl5"
  @INC:
    /home/stfn/perl5/lib/perl5/i486-linux-gnu-thread-multi
    /home/stfn/perl5/lib/perl5/i486-linux-gnu-thread-multi
    /home/stfn/perl5/lib/perl5
    /etc/perl
    /usr/local/lib/perl/5.10.0
    /usr/local/share/perl/5.10.0
    /usr/lib/perl5
    /usr/share/perl5
    /usr/lib/perl/5.10
    /usr/share/perl/5.10
    /usr/local/lib/site_perl
    .