Report for DateTime-Event-Recurrence-0.16

Back
From: metabase:user:323dcade-2aae-11df-837a-5e0a49663a4f
Subject: PASS DateTime-Event-Recurrence-0.16 v5.17.3 GNU/Linux
Date: 2012-08-01T06:56:01Z

This distribution has been tested as part of the CPAN Testers
project, supporting the Perl programming language.  See
http://wiki.cpantesters.org/ for more information or email
questions to cpan-testers-discuss@perl.org


--
Dear Flavio Soibelmann Glock,

This is a computer-generated report for DateTime-Event-Recurrence-0.16
on perl 5.17.3, created by CPAN-Reporter-1.2006.

Thank you for uploading your work to CPAN.  Congratulations!
All tests were successful.

Sections of this report:

    * Tester comments
    * Program output
    * Prerequisites
    * Environment and other context

------------------------------
TESTER COMMENTS
------------------------------

Additional comments from tester:

this report is from an automated smoke testing program
and was not reviewed by a human for accuracy

------------------------------
PROGRAM OUTPUT
------------------------------

Output from '/usr/bin/make test':

PERL_DL_NONLAZY=1 /usr/local/bin/perl5.17.3d-asan "-MExtUtils::Command::MM" "-e" "test_harness(0, 'blib/lib', 'blib/arch')" t/*.t
t/00load.t ............ ok
t/01sanity.t .......... ok
t/02next.t ............ ok
t/03offset.t .......... ok
t/04neg_offset.t ...... ok
t/05set.t ............. ok
t/06overflow.t ........ ok
t/07set-2.t ........... ok
t/08stress.t .......... ok
t/09yearly_weekly.t ... ok
t/10weekly_more.t ..... ok
t/11mixed_offset.t .... ok
t/12monthly_weekly.t .. ok
t/13yearly_by_day.t ... ok
All tests successful.
Files=14, Tests=195, 127 wallclock secs ( 0.95 usr  0.03 sys + 124.59 cusr  1.81 csys = 127.38 CPU)
Result: PASS

------------------------------
PREREQUISITES
------------------------------

Prerequisite modules loaded:

requires:

    Module              Need Have   
    ------------------- ---- -------
    DateTime            0.27 0.76   
    DateTime::Set       0.17 0.31   

build_requires:

    Module              Need Have   
    ------------------- ---- -------
    ExtUtils::MakeMaker 0    6.63_02


------------------------------
ENVIRONMENT AND OTHER CONTEXT
------------------------------

Environment variables:

    AUTOMATED_TESTING = 1
    LANG = en_US.UTF-8
    PATH = /home/rurban/bin:/usr/local/bin:/usr/bin:/bin:/usr/local/games:/usr/games
    PERL5LIB = /home/rurban/.cpan/build/DateTime-Set-0.31-RON7IM/blib/arch:/home/rurban/.cpan/build/DateTime-Set-0.31-RON7IM/blib/lib:/home/rurban/.cpan/build/Set-Infinite-0.65-56hmJS/blib/arch:/home/rurban/.cpan/build/Set-Infinite-0.65-56hmJS/blib/lib:/home/rurban/.cpan/build/DateTime-Format-Natural-1.00-QJOtpn/blib/arch:/home/rurban/.cpan/build/DateTime-Format-Natural-1.00-QJOtpn/blib/lib:/home/rurban/.cpan/build/Module-Util-1.08-o5YcmS/blib/arch:/home/rurban/.cpan/build/Module-Util-1.08-o5YcmS/blib/lib:/home/rurban/.cpan/build/boolean-0.28-j52xcX/blib/arch:/home/rurban/.cpan/build/boolean-0.28-j52xcX/blib/lib:/home/rurban/.cpan/build/Test-MockTime-0.12-tv9joG/blib/arch:/home/rurban/.cpan/build/Test-MockTime-0.12-tv9joG/blib/lib
    PERL5OPT = 
    PERL5_CPANPLUS_IS_RUNNING = 25374
    PERL5_CPAN_IS_RUNNING = 25374
    PERL5_CPAN_IS_RUNNING_IN_RECURSION = 22504,25374
    PERL_CR_SMOKER_CURRENT = MooseX-Types-DateTime-MoreCoercions-0.10
    PERL_EXTUTILS_AUTOINSTALL = --defaultdeps
    PERL_MM_USE_DEFAULT = 1
    SHELL = /bin/bash
    TERM = xterm

Perl special variables (and OS-specific diagnostics, for MSWin32):

    $^X = /usr/local/bin/perl5.17.3d-asan
    $UID/$EUID = 1000 / 1000
    $GID = 1000 27 124 125 1000
    $EGID = 1000 27 124 125 1000

Perl module toolchain versions installed:

    Module              Have    
    ------------------- --------
    CPAN                1.9800  
    CPAN::Meta          2.120921
    Cwd                 3.39_02 
    ExtUtils::CBuilder  0.280208
    ExtUtils::Command   1.17    
    ExtUtils::Install   1.58    
    ExtUtils::MakeMaker 6.63_02 
    ExtUtils::Manifest  1.61    
    ExtUtils::ParseXS   3.17    
    File::Spec          3.39_02 
    JSON                2.53    
    JSON::PP            2.27200 
    Module::Build       0.4002  
    Module::Signature   0.68    
    Parse::CPAN::Meta   1.4404  
    Test::Harness       3.25_01 
    Test::More          0.98    
    YAML                0.84    
    YAML::Syck          n/a     
    version             0.99    


--

Summary of my perl5 (revision 5 version 17 subversion 3) configuration:
  Commit id: 5fde9fa4cbe66ffa73af8a18a5042cb511c581a4
  Platform:
    osname=linux, osvers=3.2.0-2-amd64, archname=x86_64-linux-thread-multi-debug-asan
    uname='linux reini 3.2.0-2-amd64 #1 smp mon may 21 17:45:41 utc 2012 x86_64 gnulinux '
    config_args='-de -Dusedevel -Uversiononly -Dinstallman1dir=none -Dinstallman3dir=none -Dinstallsiteman1dir=none -Dinstallsiteman3dir=none -Dmksymlinks -DEBUGGING -Doptimize=-g3 -Duseithreads -D'cc=/usr/src/llvm/r160959/build/Release/bin/clang' -A'ccflags=-faddress-sanitizer' -Aldflags=-faddress-sanitizer -Alddlflags='-shared\ -faddress-sanitizer' -Duseshrplib -Dcf_email='rurban@cpanel.net' -Dperladmin='rurban@cpanel.net' -Duseshrplib'
    hint=recommended, useposix=true, d_sigaction=define
    useithreads=define, usemultiplicity=define
    useperlio=define, d_sfio=undef, uselargefiles=define, usesocks=undef
    use64bitint=define, use64bitall=define, uselongdouble=undef
    usemymalloc=n, bincompat5005=undef
  Compiler:
    cc='/usr/src/llvm/r160959/build/Release/bin/clang', ccflags ='-D_REENTRANT -D_GNU_SOURCE -faddress-sanitizer -DDEBUGGING -fno-strict-aliasing -pipe -fstack-protector -I/usr/local/include -D_LARGEFILE_SOURCE -D_FILE_OFFSET_BITS=64',
    optimize='-g3',
    cppflags='-D_REENTRANT -D_GNU_SOURCE -faddress-sanitizer -DDEBUGGING -fno-strict-aliasing -pipe -fstack-protector -I/usr/local/include'
    ccversion='', gccversion='4.2.1 Compatible Clang 3.2 (trunk 160959)', gccosandvers=''
    intsize=4, longsize=8, ptrsize=8, doublesize=8, byteorder=12345678
    d_longlong=define, longlongsize=8, d_longdbl=define, longdblsize=16
    ivtype='long', ivsize=8, nvtype='double', nvsize=8, Off_t='off_t', lseeksize=8
    alignbytes=8, prototype=define
  Linker and Libraries:
    ld='/usr/src/llvm/r160959/build/Release/bin/clang', ldflags =' -faddress-sanitizer -fstack-protector -L/usr/local/lib'
    libpth=/usr/local/lib /lib/x86_64-linux-gnu /lib/../lib /usr/lib/x86_64-linux-gnu /usr/lib/../lib /lib /usr/lib
    libs=-lnsl -lgdbm -ldb -ldl -lm -lcrypt -lutil -lpthread -lc -lgdbm_compat
    perllibs=-lnsl -ldl -lm -lcrypt -lutil -lpthread -lc
    libc=, so=so, useshrplib=true, libperl=libperl.so
    gnulibc_version='2.13'
  Dynamic Linking:
    dlsrc=dl_dlopen.xs, dlext=so, d_dlsymun=undef, ccdlflags='-Wl,-E -Wl,-rpath,/usr/local/lib/perl5/5.17.3/x86_64-linux-thread-multi-debug-asan/CORE'
    cccdlflags='-fPIC', lddlflags=' -shared -faddress-sanitizer -L/usr/local/lib -fstack-protector'


Characteristics of this binary (from libperl): 
  Compile-time options: DEBUGGING HAS_TIMES MULTIPLICITY PERLIO_LAYERS
                        PERL_DONT_CREATE_GVSV PERL_IMPLICIT_CONTEXT
                        PERL_MALLOC_WRAP PERL_PRESERVE_IVUV
                        PERL_TRACK_MEMPOOL PERL_USE_DEVEL USE_64_BIT_ALL
                        USE_64_BIT_INT USE_ITHREADS USE_LARGE_FILES
                        USE_LOCALE USE_LOCALE_COLLATE USE_LOCALE_CTYPE
                        USE_LOCALE_NUMERIC USE_PERLIO USE_PERL_ATOF
                        USE_REENTRANT_API
  Built under linux
  Compiled at Jul 30 2012 12:10:48
  %ENV:
    PERL5LIB="/home/rurban/.cpan/build/DateTime-Set-0.31-RON7IM/blib/arch:/home/rurban/.cpan/build/DateTime-Set-0.31-RON7IM/blib/lib:/home/rurban/.cpan/build/Set-Infinite-0.65-56hmJS/blib/arch:/home/rurban/.cpan/build/Set-Infinite-0.65-56hmJS/blib/lib:/home/rurban/.cpan/build/DateTime-Format-Natural-1.00-QJOtpn/blib/arch:/home/rurban/.cpan/build/DateTime-Format-Natural-1.00-QJOtpn/blib/lib:/home/rurban/.cpan/build/Module-Util-1.08-o5YcmS/blib/arch:/home/rurban/.cpan/build/Module-Util-1.08-o5YcmS/blib/lib:/home/rurban/.cpan/build/boolean-0.28-j52xcX/blib/arch:/home/rurban/.cpan/build/boolean-0.28-j52xcX/blib/lib:/home/rurban/.cpan/build/Test-MockTime-0.12-tv9joG/blib/arch:/home/rurban/.cpan/build/Test-MockTime-0.12-tv9joG/blib/lib"
    PERL5OPT=""
    PERL5_CPANPLUS_IS_RUNNING="25374"
    PERL5_CPAN_IS_RUNNING="25374"
    PERL5_CPAN_IS_RUNNING_IN_RECURSION="22504,25374"
    PERL_CR_SMOKER_CURRENT="MooseX-Types-DateTime-MoreCoercions-0.10"
    PERL_EXTUTILS_AUTOINSTALL="--defaultdeps"
    PERL_MM_USE_DEFAULT="1"
  @INC:
    /home/rurban/.cpan/build/DateTime-Set-0.31-RON7IM/blib/arch
    /home/rurban/.cpan/build/DateTime-Set-0.31-RON7IM/blib/lib
    /home/rurban/.cpan/build/Set-Infinite-0.65-56hmJS/blib/arch
    /home/rurban/.cpan/build/Set-Infinite-0.65-56hmJS/blib/lib
    /home/rurban/.cpan/build/DateTime-Format-Natural-1.00-QJOtpn/blib/arch
    /home/rurban/.cpan/build/DateTime-Format-Natural-1.00-QJOtpn/blib/lib
    /home/rurban/.cpan/build/Module-Util-1.08-o5YcmS/blib/arch
    /home/rurban/.cpan/build/Module-Util-1.08-o5YcmS/blib/lib
    /home/rurban/.cpan/build/boolean-0.28-j52xcX/blib/arch
    /home/rurban/.cpan/build/boolean-0.28-j52xcX/blib/lib
    /home/rurban/.cpan/build/Test-MockTime-0.12-tv9joG/blib/arch
    /home/rurban/.cpan/build/Test-MockTime-0.12-tv9joG/blib/lib
    /usr/local/lib/perl5/site_perl/5.17.3/x86_64-linux-thread-multi-debug-asan
    /usr/local/lib/perl5/site_perl/5.17.3
    /usr/local/lib/perl5/5.17.3/x86_64-linux-thread-multi-debug-asan
    /usr/local/lib/perl5/5.17.3
    /usr/local/lib/perl5/site_perl/5.17.2
    /usr/local/lib/perl5/site_perl/5.17.1
    /usr/local/lib/perl5/site_perl/5.17.0
    /usr/local/lib/perl5/site_perl/5.17
    /usr/local/lib/perl5/site_perl/5.16.0
    /usr/local/lib/perl5/site_perl/5.15.9
    /usr/local/lib/perl5/site_perl/5.15.8
    /usr/local/lib/perl5/site_perl/5.15.7
    /usr/local/lib/perl5/site_perl/5.15.6
    /usr/local/lib/perl5/site_perl/5.15.5
    /usr/local/lib/perl5/site_perl/5.15.4
    /usr/local/lib/perl5/site_perl/5.14.2
    /usr/local/lib/perl5/site_perl/5.14.1
    /usr/local/lib/perl5/site_perl/5.12.4
    /usr/local/lib/perl5/site_perl/5.10.1
    /usr/local/lib/perl5/site_perl/5.8.9
    /usr/local/lib/perl5/site_perl/5.8.8
    /usr/local/lib/perl5/site_perl/5.8.7
    /usr/local/lib/perl5/site_perl/5.8.6
    /usr/local/lib/perl5/site_perl/5.8.5
    /usr/local/lib/perl5/site_perl/5.8.4
    /usr/local/lib/perl5/site_perl/5.8.3
    /usr/local/lib/perl5/site_perl/5.8.2
    /usr/local/lib/perl5/site_perl/5.8.1
    /usr/local/lib/perl5/site_perl/5.6.2
    /usr/local/lib/perl5/site_perl
    .